Workbook
Name clubl5: Clubs!$B$6:$E$20
Name clubl5: #REF!
Name Clubs: [1]Lists!$A$2:$A$18
Name Clubs: [1]Lists!$A$2:$A$18
Name Clubs: Lists!$A$2:$A$18
Name Edibles: [1]Lists!$F$2:$F$21
Name Edibles: [1]Lists!$F$2:$F$21
Name Edibles: Lists!$F$2:$F$21
Name Fish: #REF!
Name Individuals: #REF!
Name Inedibles: [1]Lists!$I$2:$I$26
Name Inedibles: [1]Lists!$I$2:$I$26
Name Inedibles: Lists!$I$2:$I$26
Name kgList: [1]Lists!$J$2:$AF$261
Name kgList: [1]Lists!$J$2:$AF$261
Name kgList: Lists!$J$2:$AF$261
Name Master: [1]MASTERLIST!$A$5:$E$1000
Name Master: [1]MASTERLIST!$A$5:$E$1000
Name Master: MASTERLIST!$A$5:$E$242
Name Shark: #REF!
Name Status: Lists!$C$2:$C$9

Sheet Lists
A1: Clubs | C1: Status | D1: Scientific Name | E1: Length to measure | F1: Edibles | G1: Scientific Name | H1: Length to measure | I1: Inedibles | K1: length | O1: KgList
A2: Atlantic Angling Club | B2: AAC | C2: Deseased | D2: Diplodus sargus capensis | E2: Fork length | F2: Blacktail | G2: Galeichthys ater | H2: Fork length | I2: Catfish - Sea Black | J2: cm | K2: Blacktail | L2: Galjoen | M2: Kob | N2: Steenbras West Coast | O2: Garrick | P2: Shad | Q2: Redfinger | R2: Shark Copper (Male) | S2: Shark Copper (Female) | T2: Shark Cow / Sevengill | U2: Shark Spotted Gully | V2: Shark Hound Smooth | W2: Shark Soupfin | X2: Guitarfish - Lesser | Y2: Elephantfish | Z2: Ray Blue (Male) | AA2: Ray Blue (Female) | AB2: Ray Bull / Eagle | AC2: Ray Diamond / ButterFly | AD2: Skate Spearnose | AE2: Green Eye Spurdog shark | AF2: Catfish - Sea Black
A3: Benguella | B3: BEN | C3: Ladies Grand Master | F3: Bluefin Gurnard | G3: Galeichthys feliceps | H3: Fork length | I3: Catfish - Sea White | J3: 1
A4: Henties Bay | B4: HEN | C4: Ladies Master | F4: Cape Gurnard | G4: Callorhinchus capensis | H4: Total length | I4: Elephantfish | J4: 2
A5: Mako | B5: MAKO | C5: Ladies Veteran | D5: Dichistius capensis | E5: Total length | F5: Galjoen | G5: Squalus chloroculus | I5: Green Eye Spurdog shark | J5: 3
A6: Namib Park | B6: NPAC | C6: Ladies Senoir | D6: Lichia amia | E6: Fork length | F6: Garrick | G6: Rhinobatos blochii | H6: Total length | I6: Guitarfish - Bluntnose | J6: 4
A7: Okahandja | B7: OKH | C7: Ladies U/21 | F7: Geelbek | G7: Rhinobatos leucospilus | H7: Total length | I7: Guitarfish - Greyspot | J7: 5
A8: Orca Angling Club | B8: ORCA | C8: Ladies U/16 | F8: Grunter - Spotted | G8: Rhinobatos annulatus | H8: Total length | I8: Guitarfish - Lesser | J8: 6
A9: Otjiwarongo | B9: OTJ | C9: Men Grandmasters | D9: Argyrosomus inodorus | E9: Total length | F9: Kob | G9: Dasyatis chrysonota chrysonota | H9: Disc width | I9: Ray Blue (Female) | J9: 7
A10: Penguin | B10: PEN | C10: Men Masters | F10: Lyre Gurnard | G10: Dasyatis chrysonota chrysonota | H10: Disc width | I10: Ray Blue (Male) | J10: 8
A11: Seagulls WHK | B11: SWHK | C11: Men Veterans | F11: Maasbanker | G11: Myliobatus aquila | H11: Disc width | I11: Ray Bull / Eagle | J11: 9
A12: Seagulls WVB | B12: SWVB | C12: Men Senior | F12: Redfinger | G12: Gymnura natalensis | H12: Disc width | I12: Ray Diamond / ButterFly | J12: 10
A13: Skeleton Coast | B13: SKUL | C13: Men U/21 | D13: Pomatomus saltatrix | E13: Fork length | F13: Shad | G13: Pteromylaeus bovinus | H13: Disc width | I13: Ray Duckbill | J13: 11
A14: Steenbras | B14: STEEN | C14: Men U/16 | F14: Steenbras Sand | G14: Carcharhinus brachyurus | H14: Pre-caudal length | I14: Shark Copper (Female) | J14: 12
A15: Walvis Bay | B15: WAL | D15: Lithognathus aureti | E15: Fork length | F15: Steenbras West Coast | G15: Carcharhinus brachyurus | H15: Pre-caudal length | I15: Shark Copper (Male) | J15: 13
A16: Welwitschia | B16: WEL | F16: Steenbras White | G16: Notorynchus cepedianus | H16: Pre-caudal length | I16: Shark Cow / Sevengill | J16: 14
F17: Strepie | G17: Mustelus mustelus | H17: Total length | I17: Shark Hound Smooth | J17: 15
F18: Striped Mullet | G18: Mustelus palumbes | H18: Total length | I18: Shark Hound Whitespotted | J18: 16
F19: Tuna Eastern Little | G19: Galeocerdo cuvier | H19: Pre-caudal length | I19: Shark Ragged Tooth | J19: 17
F20: White Stumpnose | G20: Galeorhinus galeus | H20: Pre-caudal length | I20: Shark Soupfin | J20: 18
F21: Yellowtail amberjack | G21: Triakis megalopterus | H21: Total length | I21: Shark Spotted Gully | J21: 19
G22: Dipturus doutrei | H22: Disc width | I22: Skate - Javelin | J22: 20
G23: Raja clavata | H23: Disc width | I23: Skate - Thornback | J23: 21
G24: Raja alba | H24: Disc width | I24: Skate Spearnose | J24: 23 | K24: 0.3 | Q24: 0
I25: Spiney dogfish Bluntnose | J25: 24 | K25: 0.4 | Q25: 0
I26: Spiney dogfish Spotted | J26: 25 | K26: 0.4 | Q26: 0
I27: Spinner shark - Long nose | J27: 26 | K27: 0.5 | Q27: 0
I28: Tresher Shark | J28: 27 | K28: 0.6 | Q28: 0
J29: 28 | K29: 0.6 | Q29: 0
J30: 29 | K30: 0.7 | Q30: 0
J31: 30 | K31: 0.84160148 | L31: 0.5 | Q31: 0 | AA31: 1.0179249
J32: 31 | K32: 0.9282937 | L32: 0.5 | Q32: 0 | AA32: 1.1324446
J33: 32 | K33: 1.0207335 | L33: 0.6 | N33: 0.7 | Q33: 0 | Z33: 0.95836376 | AA33: 1.2555905
J34: 33 | K34: 1.1191044 | L34: 0.7 | N34: 0.8 | Q34: 0 | Z34: 1.0570748 | AA34: 1.3729856
J35: 34 | K35: 1.22359 | L35: 0.7 | N35: 0.9 | Q35: 0 | Z35: 1.1557858 | AA35: 1.4918184
J36: 35 | K36: 1.3343735 | L36: 0.78195192 | N36: 0.9 | Q36: 0 | Z36: 1.2544969 | AA36: 1.680296
J37: 36 | K37: 1.4516383 | L37: 0.85379096 | N37: 1 | O37: 0.67361769 | Q37: 0 | W37: 1.0020532 | Z37: 1.3532079 | AA37: 1.8414706
J38: 37 | K38: 1.5755678 | L38: 0.92998754 | N38: 1.1 | O38: 0.7258366 | Q38: 0 | W38: 1.0678087 | Z38: 1.451919 | AA38: 2.0136313
J39: 38 | K39: 1.7063452 | L39: 1.0106774 | N39: 1.2 | O39: 0.78054773 | P39: 0.73085122 | Q39: 0 | W39: 1.1335641 | Z39: 1.6569162 | AA39: 2.1960132 | AB39: 0.9628367
J40: 39 | K40: 1.8441537 | L40: 1.0959969 | N40: 1.3 | O40: 0.83779974 | P40: 0.78967185 | Q40: 0 | W40: 1.1993196 | Z40: 1.7998651 | AA40: 2.389526 | AB40: 1.0424834
...

Sheet MASTERLIST
A1: Only complete Black areas on sheet
B2: MASTER ANGLERS LIST
A4: Number | B4: Club | C4: Name | D4: Surname | E4: Status | F4: DOB | G4: Date Today | H4: Age | J4: Gender | K4: ID Number | L4: Nationality
A5: N0001 | B5: Mako | C5: Philip | D5: Swartz | E5: Men U/16 | F5: 40618 | G5: 44561 | H5: =INT(YEARFRAC(F5,G5)) -> 10 | I5: =IF(H5="","Senior",IF(H5>59.999,"Grand Masters",IF(H5>49.999,"Master",IF(H5>39.999,"Veteran",IF(H5>21.999,"Senior",IF(H5>16.999,"U/21","U/16")))))) -> U/16 | J5: Men | L5: Nam
A6: N0844 | B6: Okahandja | C6: Heiko Jnr | D6: Doll | E6: Men U/16 | F6: 40312 | G6: =$G$5 -> 44561 | H6: =INT(YEARFRAC(F6,G6)) -> 11 | I6: =IF(H6="","Senior",IF(H6>59.999,"Grand Masters",IF(H6>49.999,"Master",IF(H6>39.999,"Veteran",IF(H6>21.999,"Senior",IF(H6>16.999,"U/21","U/16")))))) -> U/16 | J6: Men | K6: 75080500042 | L6: Nam
A7: N0531 | B7: Mako | C7: Rudi(Jnr.) | D7: Swartz | E7: Men U/16 | F7: 39066 | G7: =$G$5 -> 44561 | H7: =INT(YEARFRAC(F7,G7)) -> 15 | I7: =IF(H7="","Senior",IF(H7>59.999,"Grand Masters",IF(H7>49.999,"Master",IF(H7>39.999,"Veteran",IF(H7>21.999,"Senior",IF(H7>16.999,"U/21","U/16")))))) -> U/16 | J7: Men | K7: 86111600125 | L7: Nam
A8: N0178 | B8: Penguin | C8: Devon | D8: Burger | E8: Men U/16 | F8: 38698 | G8: =$G$5 -> 44561 | H8: =INT(YEARFRAC(F8,G8)) -> 16 | I8: =IF(H8="","Senior",IF(H8>59.999,"Grand Masters",IF(H8>49.999,"Master",IF(H8>39.999,"Veteran",IF(H8>21.999,"Senior",IF(H8>16.999,"U/21","U/16")))))) -> U/16 | J8: Men | K8: 58112200165 | L8: Nam
A9: N0501 | B9: Otjiwarongo | C9: Otto | D9: Feyerabend | E9: Men U/16 | F9: 38682 | G9: =$G$5 -> 44561 | H9: =INT(YEARFRAC(F9,G9)) -> 16 | I9: =IF(H9="","Senior",IF(H9>59.999,"Grand Masters",IF(H9>49.999,"Master",IF(H9>39.999,"Veteran",IF(H9>21.999,"Senior",IF(H9>16.999,"U/21","U/16")))))) -> U/16 | J9: Men | K9: 91021900583 | L9: Nam
A10: N0774 | B10: Walvis Bay | C10: Francois Jnr | D10: Wolfaardt | E10: Men U/16 | F10: 38434 | G10: =$G$5 -> 44561 | H10: =INT(YEARFRAC(F10,G10)) -> 16 | I10: =IF(H10="","Senior",IF(H10>59.999,"Grand Masters",IF(H10>49.999,"Master",IF(H10>39.999,"Veteran",IF(H10>21.999,"Senior",IF(H10>16.999,"U/21","U/16")))))) -> U/16 | J10: Men | K10: 84102010033 | L10: Nam
A11: N0124 | B11: Walvis Bay | C11: Stefan Jnr | D11: Du Preez | E11: Men U/16 | F11: 38105 | G11: =$G$5 -> 44561 | H11: =INT(YEARFRAC(F11,G11)) -> 17 | I11: =IF(H11="","Senior",IF(H11>59.999,"Grand Masters",IF(H11>49.999,"Master",IF(H11>39.999,"Veteran",IF(H11>21.999,"Senior",IF(H11>16.999,"U/21","U/16")))))) -> U/21 | J11: Men | K11: 67011410031 | L11: Nam
A12: N0307 | B12: Henties Bay | C12: Herman | D12: Krauze | E12: Men U/16 | F12: 38026 | G12: =$G$5 -> 44561 | H12: =INT(YEARFRAC(F12,G12)) -> 17 | I12: =IF(H12="","Senior",IF(H12>59.999,"Grand Masters",IF(H12>49.999,"Master",IF(H12>39.999,"Veteran",IF(H12>21.999,"Senior",IF(H12>16.999,"U/21","U/16")))))) -> U/21 | J12: Men | K12: 80040210723 | L12: Nam
A13: N0177 | B13: Penguin | C13: Corne | D13: Burger | E13: Men U/16 | F13: 37971 | G13: =$G$5 -> 44561 | H13: =INT(YEARFRAC(F13,G13)) -> 18 | I13: =IF(H13="","Senior",IF(H13>59.999,"Grand Masters",IF(H13>49.999,"Master",IF(H13>39.999,"Veteran",IF(H13>21.999,"Senior",IF(H13>16.999,"U/21","U/16")))))) -> U/21 | J13: Men | K13: 83110110075 | L13: Nam
A14: N0495 | B14: Walvis Bay | C14: Eduard | D14: Janse van Rensburg | E14: Men U/16 | F14: 37924 | G14: =$G$5 -> 44561 | H14: =INT(YEARFRAC(F14,G14)) -> 18 | I14: =IF(H14="","Senior",IF(H14>59.999,"Grand Masters",IF(H14>49.999,"Master",IF(H14>39.999,"Veteran",IF(H14>21.999,"Senior",IF(H14>16.999,"U/21","U/16")))))) -> U/21 | J14: Men | K14: 741112500052 | L14: Nam
A15: N0860 | B15: Benguella | C15: Adrian | D15: Steenkamp | E15: Men U/16 | F15: 37877 | G15: =$G$5 -> 44561 | H15: =INT(YEARFRAC(F15,G15)) -> 18 | I15: =IF(H15="","Senior",IF(H15>59.999,"Grand Masters",IF(H15>49.999,"Master",IF(H15>39.999,"Veteran",IF(H15>21.999,"Senior",IF(H15>16.999,"U/21","U/16")))))) -> U/21 | J15: Men | K15: 580818000916 | L15: Nam
A16: N0769 | B16: Atlantic Angling Club | C16: Sven | D16: Welzig | E16: Men U/16 | F16: 37703 | G16: =$G$5 -> 44561 | H16: =INT(YEARFRAC(F16,G16)) -> 18 | I16: =IF(H16="","Senior",IF(H16>59.999,"Grand Masters",IF(H16>49.999,"Master",IF(H16>39.999,"Veteran",IF(H16>21.999,"Senior",IF(H16>16.999,"U/21","U/16")))))) -> U/21 | J16: Men | K16: 78110710131 | L16: Nam
A17: N0644 | B17: Namib Park | C17: Mark | D17: Van Der Merwe | E17: Men U/16 | F17: 37685 | G17: =$G$5 -> 44561 | H17: =INT(YEARFRAC(F17,G17)) -> 18 | I17: =IF(H17="","Senior",IF(H17>59.999,"Grand Masters",IF(H17>49.999,"Master",IF(H17>39.999,"Veteran",IF(H17>21.999,"Senior",IF(H17>16.999,"U/21","U/16")))))) -> U/21 | J17: Men | K17: 68101800654 | L17: Nam
... A24: N0757 | B24: Walvis Bay | C24: Brandon | D24: Grane | E24: Men U/21 | F24: 36728 | G24: =$G$5 -> 44561 | H24: =INT(YEARFRAC(F24,G24)) -> 21 | I24: =IF(H24="","Senior",IF(H24>59.999,"Grand Masters",IF(H24>49.999,"Master",IF(H24>39.999,"Veteran",IF(H24>21.999,"Senior",IF(H24>16.999,"U/21","U/16")))))) -> U/21 | J24: Men | K24: 94112701055 | L24: Nam
A25: N0627 | B25: Walvis Bay | C25: Justin | D25: Smith | E25: =CONCATENATE(J25," ",I25) -> Men U/21 | F25: 36535 | G25: =$G$5 -> 44561 | H25: =INT(YEARFRAC(F25,G25)) -> 21 | I25: =IF(H25="","Senior",IF(H25>59.999,"Grand Masters",IF(H25>49.999,"Master",IF(H25>39.999,"Veteran",IF(H25>21.999,"Senior",IF(H25>16.999,"U/21","U/16")))))) -> U/21 | J25: Men | K25: 77051100327 | L25: Nam
A26: N0687 | B26: Penguin | C26: Barren | D26: Van Es | E26: Men U/21 | F26: 36199 | G26: =$G$5 -> 44561 | H26: =INT(YEARFRAC(F26,G26)) -> 22 | I26: =IF(H26="","Senior",IF(H26>59.999,"Grand Masters",IF(H26>49.999,"Master",IF(H26>39.999,"Veteran",IF(H26>21.999,"Senior",IF(H26>16.999,"U/21","U/16")))))) -> Senior | J26: Men | K26: 80041810260 | L26: Nam
A27: N0790 | B27: Seagull Angling Club Inland | C27: Ivan | D27: Kotze | E27: Men Seniors | F27: 35873 | G27: =$G$5 -> 44561 | H27: =INT(YEARFRAC(F27,G27)) -> 23 | I27: =IF(H27="","Senior",IF(H27>59.999,"Grand Masters",IF(H27>49.999,"Master",IF(H27>39.999,"Veteran",IF(H27>21.999,"Senior",IF(H27>16.999,"U/21","U/16")))))) -> Senior | J27: Men | K27: 69010200140 | L27: Nam
A28: N0729 | B28: Seagull Angling Club Coastal | C28: Gert | D28: Visage | E28: Men Seniors | F28: 35870 | G28: =$G$5 -> 44561 | H28: =INT(YEARFRAC(F28,G28)) -> 23 | I28: =IF(H28="","Senior",IF(H28>59.999,"Grand Masters",IF(H28>49.999,"Master",IF(H28>39.999,"Veteran",IF(H28>21.999,"Senior",IF(H28>16.999,"U/21","U/16")))))) -> Senior | J28: Men | K28: 77090700046 | L28: Nam
A29: N0447 | B29: Seagull Angling Club Inland | C29: Martin | D29: Gouws | E29: Men Seniors | F29: 35431 | G29: =$G$5 -> 44561 | H29: =INT(YEARFRAC(F29,G29)) -> 25 | I29: =IF(H29="","Senior",IF(H29>59.999,"Grand Masters",IF(H29>49.999,"Master",IF(H29>39.999,"Veteran",IF(H29>21.999,"Senior",IF(H29>16.999,"U/21","U/16")))))) -> Senior | J29: Men | K29: 82110110252 | L29: Nam
A30: N0611 | B30: Benguella | C30: Jean | D30: Visser | E30: Men Seniors | F30: 35334 | G30: =$G$5 -> 44561 | H30: =INT(YEARFRAC(F30,G30)) -> 25 | I30: =IF(H30="","Senior",IF(H30>59.999,"Grand Masters",IF(H30>49.999,"Master",IF(H30>39.999,"Veteran",IF(H30>21.999,"Senior",IF(H30>16.999,"U/21","U/16")))))) -> Senior | J30: Men | K30: 82090811250 | L30: Nam
A31: N0792 | B31: Orca Angling Club | C31: Willem | D31: Schickerling | E31: Men Seniors | F31: 34738 | G31: =$G$5 -> 44561 | H31: =INT(YEARFRAC(F31,G31)) -> 26 | I31: =IF(H31="","Senior",IF(H31>59.999,"Grand Masters",IF(H31>49.999,"Master",IF(H31>39.999,"Veteran",IF(H31>21.999,"Senior",IF(H31>16.999,"U/21","U/16")))))) -> Senior | J31: Men | K31: 86111300202 | L31: Nam
A32: N0066 | B32: Welwitschia | C32: Nols | D32: Diedericks | E32: Men Seniors | F32: 34665 | G32: =$G$5 -> 44561 | H32: =INT(YEARFRAC(F32,G32)) -> 27 | I32: =IF(H32="","Senior",IF(H32>59.999,"Grand Masters",IF(H32>49.999,"Master",IF(H32>39.999,"Veteran",IF(H32>21.999,"Senior",IF(H32>16.999,"U/21","U/16")))))) -> Senior | J32: Men | K32: 6303165145089 | L32: SA
A33: N0780 | B33: Steenbras | C33: Tertia | D33: Roos | E33: Ladies Senior | F33: 34529 | G33: =$G$5 -> 44561 | H33: =INT(YEARFRAC(F33,G33)) -> 27 | I33: =IF(H33="","Senior",IF(H33>59.999,"Grand Masters",IF(H33>49.999,"Master",IF(H33>39.999,"Veteran",IF(H33>21.999,"Senior",IF(H33>16.999,"U/21","U/16")))))) -> Senior | J33: Ladies | K33: 81090210930 | L33: Nam
A34: N0122 | B34: Orca Angling Club | C34: Immo | D34: Dresselhaus | E34: Men Seniors | F34: 34401 | G34: =$G$5 -> 44561 | H34: =INT(YEARFRAC(F34,G34)) -> 27 | I34: =IF(H34="","Senior",IF(H34>59.999,"Grand Masters",IF(H34>49.999,"Master",IF(H34>39.999,"Veteran",IF(H34>21.999,"Senior",IF(H34>16.999,"U/21","U/16")))))) -> Senior | J34: Men | K34: 8503141046 | L34: Nam
A35: N0715 | B35: Seagull Angling Club Inland | C35: Gerhard | D35: Van Niekerk | E35: Men Seniors | F35: 34250 | G35: =$G$5 -> 44561 | H35: =INT(YEARFRAC(F35,G35)) -> 28 | I35: =IF(H35="","Senior",IF(H35>59.999,"Grand Masters",IF(H35>49.999,"Master",IF(H35>39.999,"Veteran",IF(H35>21.999,"Senior",IF(H35>16.999,"U/21","U/16")))))) -> Senior | J35: Men | K35: 2071100387 | L35: Nam
A36: N0119 | B36: Orca Angling Club | C36: Joe | D36: Herrman | E36: Men Seniors | F36: 34076 | G36: =$G$5 -> 44561 | H36: =INT(YEARFRAC(F36,G36)) -> 28 | I36: =IF(H36="","Senior",IF(H36>59.999,"Grand Masters",IF(H36>49.999,"Master",IF(H36>39.999,"Veteran",IF(H36>21.999,"Senior",IF(H36>16.999,"U/21","U/16")))))) -> Senior | J36: Men | K36: 79121010722 | L36: Nam
A37: N0279 | B37: Welwitschia | C37: Ras | D37: Van Der Westhuizen | E37: Men Seniors | F37: 34064 | G37: =$G$5 -> 44561 | H37: =INT(YEARFRAC(F37,G37)) -> 28 | I37: =IF(H37="","Senior",IF(H37>59.999,"Grand Masters",IF(H37>49.999,"Master",IF(H37>39.999,"Veteran",IF(H37>21.999,"Senior",IF(H37>16.999,"U/21","U/16")))))) -> Senior | J37: Men | K37: 9304175009080 | L37: SA
A38: N0172 | B38: Benguella | C38: Pieter PJ | D38: Van Wyk | E38: Men Seniors | F38: 33914 | G38: =$G$5 -> 44561 | H38: =INT(YEARFRAC(F38,G38)) -> 29 | I38: =IF(H38="","Senior",IF(H38>59.999,"Grand Masters",IF(H38>49.999,"Master",IF(H38>39.999,"Veteran",IF(H38>21.999,"Senior",IF(H38>16.999,"U/21","U/16")))))) -> Senior | J38: Men | K38: 77091900014 | L38: Nam
A39: N0709 | B39: Henties Bay | C39: Tiaan | D39: Fourie | E39: Men Seniors | F39: 33907 | G39: =$G$5 -> 44561 | H39: =INT(YEARFRAC(F39,G39)) -> 29 | I39: =IF(H39="","Men Senior",IF(H39>59.999,"Grand Masters",IF(H39>49.999,"Master",IF(H39>39.999,"Veteran",IF(H39>21.999,"Senior",IF(H39>16.999,"U/21","U/16")))))) -> Senior | J39: Men | K39: 94030800057 | L39: Nam
A40: N0678 | B40: Steenbras | C40: Jacomien | D40: Heath | E40: Ladies Senior | F40: 33895 | G40: =$G$5 -> 44561 | H40: =INT(YEARFRAC(F40,G40)) -> 29 | I40: =IF(H40="","Senior",IF(H40>59.999,"Grand Masters",IF(H40>49.999,"Master",IF(H40>39.999,"Veteran",IF(H40>21.999,"Senior",IF(H40>16.999,"U/21","U/16")))))) -> Senior | J40: Ladies | K40: 404285877084 | L40: Nam
A41: N0760 | B41: Welwitschia | C41: Daniel | D41: Pretorius | E41: Men Seniors | F41: 33529 | G41: =$G$5 -> 44561 | H41: =INT(YEARFRAC(F41,G41)) -> 30 | I41: =IF(H41="","Senior",IF(H41>59.999,"Grand Masters",IF(H41>49.999,"Master",IF(H41>39.999,"Veteran",IF(H41>21.999,"Senior",IF(H41>16.999,"U/21","U/16")))))) -> Senior | J41: Men | K41: 79041310290 | L41: Nam
A42: N0861 | B42: Benguella | C42: Norman | D42: Campbell | E42: Men Seniors | F42: 33357 | G42: =$G$5 -> 44561 | H42: =INT(YEARFRAC(F42,G42)) -> 30 | I42: =IF(H42="","Senior",IF(H42>59.999,"Grand Masters",IF(H42>49.999,"Master",IF(H42>39.999,"Veteran",IF(H42>21.999,"Senior",IF(H42>16.999,"U/21","U/16")))))) -> Senior | J42: Men | K42: 88062900495 | L42: Nam
A43: N0171 | B43: Penguin | C43: Corne | D43: Van Niekerk | E43: Men Seniors | F43: 33288 | G43: =$G$5 -> 44561 | H43: =INT(YEARFRAC(F43,G43)) -> 30 | I43: =IF(H43="","Senior",IF(H43>59.999,"Grand Masters",IF(H43>49.999,"Master",IF(H43>39.999,"Veteran",IF(H43>21.999,"Senior",IF(H43>16.999,"U/21","U/16")))))) -> Senior | J43: Men | K43: 83102810462 | L43: Nam
A44: N0716 | B44: Seagull Angling Club Inland | C44: Jaco | D44: Wiese | E44: Men Seniors | F44: 33253 | G44: =$G$5 -> 44561 | H44: =INT(YEARFRAC(F44,G44)) -> 30 | I44: =IF(H44="","Senior",IF(H44>59.999,"Grand Masters",IF(H44>49.999,"Master",IF(H44>39.999,"Veteran",IF(H44>21.999,"Senior",IF(H44>16.999,"U/21","U/16")))))) -> Senior | J44: Men | K44: 78042510381 | L44: Nam
A45: N0612 | B45: Okahandja | C45: Armand | D45: Fourie | E45: Men Seniors | F45: 32842 | G45: =$G$5 -> 44561 | H45: =INT(YEARFRAC(F45,G45)) -> 32 | I45: =IF(H45="","Senior",IF(H45>59.999,"Grand Masters",IF(H45>49.999,"Master",IF(H45>39.999,"Veteran",IF(H45>21.999,"Senior",IF(H45>16.999,"U/21","U/16")))))) -> Senior | J45: Men | K45: 74071410310 | L45: Nam
A46: N0546 | B46: Seagull Angling Club Coastal | C46: Tian | D46: Mostert | E46: Men Seniors | F46: 32785 | G46: =$G$5 -> 44561 | H46: =INT(YEARFRAC(F46,G46)) -> 32 | I46: =IF(H46="","Senior",IF(H46>59.999,"Grand Masters",IF(H46>49.999,"Master",IF(H46>39.999,"Veteran",IF(H46>21.999,"Senior",IF(H46>16.999,"U/21","U/16")))))) -> Senior | J46: Men | K46: 81120210607 | L46: Nam
A47: N0257 | B47: Seagull Angling Club Coastal | C47: Lu-Andre | D47: Duvenhage | E47: Men Seniors | F47: 32639 | G47: =$G$5 -> 44561 | H47: =INT(YEARFRAC(F47,G47)) -> 32 | I47: =IF(H47="","Senior",IF(H47>59.999,"Grand Masters",IF(H47>49.999,"Master",IF(H47>39.999,"Veteran",IF(H47>21.999,"Senior",IF(H47>16.999,"U/21","U/16")))))) -> Senior | J47: Men | K47: 60112800327 | L47: Nam
...

Sheet DATA ENTRY
A1: Competition | B1: Date | C1: Venue | D1: ID | E1: Name | F1: Surname | G1: Status | H1: Team | I1: Edibles | J1: Inedibles | K1: length | L1: kg | M1: Points
A2: 2021-NAT-D2 | B2: 44274 | C2: Day 2 | D2: N0875 | E2: =IF(D2="","",VLOOKUP(D2,Master,3,FALSE)) -> Terence | F2: =IF(D2="","",VLOOKUP(D2,Master,4,FALSE)) -> Knowles | G2: =IF(D2="","",VLOOKUP(D2,Master,5,FALSE)) -> Men Seniors/U21 | H2: =IF(D2="","",VLOOKUP(D2,Master,2,FALSE)) -> Welwitschia | L2: =IF(K2="","",IF(I2="",ROUND(HLOOKUP(J2,kgList,K2,FALSE),1),ROUND(HLOOKUP(I2,kgList,K2,FALSE),1))) | M2: =IF(L2="","",IF(COUNTA(I2:J2)>1,"Edible or Inedible",IF(COUNTA(I2)=1,L2*1,IF(COUNTA(J2)=1,L2*1,"ERROR"))))
A3: 2021-NAT-D1 | B3: 44273 | C3: Day 1 | D3: N0119 | E3: =IF(D3="","",VLOOKUP(D3,Master,3,FALSE)) -> Joe | F3: =IF(D3="","",VLOOKUP(D3,Master,4,FALSE)) -> Herrman | G3: =IF(D3="","",VLOOKUP(D3,Master,5,FALSE)) -> Men Seniors | H3: =IF(D3="","",VLOOKUP(D3,Master,2,FALSE)) -> Orca Angling Club | L3: =IF(K3="","",IF(I3="",ROUND(HLOOKUP(J3,kgList,K3,FALSE),1),ROUND(HLOOKUP(I3,kgList,K3,FALSE),1))) | M3: =IF(L3="","",IF(COUNTA(I3:J3)>1,"Edible or Inedible",IF(COUNTA(I3)=1,L3*1,IF(COUNTA(J3)=1,L3*1,"ERROR"))))
A4: 2021-NAT-D1 | B4: 44273 | C4: Day 1 | D4: N0531 | E4: =IF(D4="","",VLOOKUP(D4,Master,3,FALSE)) -> Rudi(Jnr.) | F4: =IF(D4="","",VLOOKUP(D4,Master,4,FALSE)) -> Swartz | G4: =IF(D4="","",VLOOKUP(D4,Master,5,FALSE)) -> Men U/16 | H4: =IF(D4="","",VLOOKUP(D4,Master,2,FALSE)) -> Mako | J4: Shark Copper (Male) | K4: 189 | L4: =IF(K4="","",IF(I4="",ROUND(HLOOKUP(J4,kgList,K4,FALSE),1),ROUND(HLOOKUP(I4,kgList,K4,FALSE),1))) -> 90 | M4: =IF(L4="","",IF(COUNTA(I4:J4)>1,"Edible or Inedible",IF(COUNTA(I4)=1,L4*1,IF(COUNTA(J4)=1,L4*1,"ERROR")))) -> 90
A5: 2021-NAT-D1 | B5: 44273 | C5: Day 1 | D5: N0006 | E5: =IF(D5="","",VLOOKUP(D5,Master,3,FALSE)) -> Nico | F5: =IF(D5="","",VLOOKUP(D5,Master,4,FALSE)) -> Kotze | G5: =IF(D5="","",VLOOKUP(D5,Master,5,FALSE)) -> Men Seniors | H5: =IF(D5="","",VLOOKUP(D5,Master,2,FALSE)) -> Penguin | L5: =IF(K5="","",IF(I5="",ROUND(HLOOKUP(J5,kgList,K5,FALSE),1),ROUND(HLOOKUP(I5,kgList,K5,FALSE),1))) | M5: =IF(L5="","",IF(COUNTA(I5:J5)>1,"Edible or Inedible",IF(COUNTA(I5)=1,L5*1,IF(COUNTA(J5)=1,L5*1,"ERROR"))))
A6: 2021-NAT-D1 | B6: 44273 | C6: Day 1 | D6: N0716 | E6: =IF(D6="","",VLOOKUP(D6,Master,3,FALSE)) -> Jaco | F6: =IF(D6="","",VLOOKUP(D6,Master,4,FALSE)) -> Wiese | G6: =IF(D6="","",VLOOKUP(D6,Master,5,FALSE)) -> Men Seniors | H6: =IF(D6="","",VLOOKUP(D6,Master,2,FALSE)) -> Seagull Angling Club Inland | L6: =IF(K6="","",IF(I6="",ROUND(HLOOKUP(J6,kgList,K6,FALSE),1),ROUND(HLOOKUP(I6,kgList,K6,FALSE),1))) | M6: =IF(L6="","",IF(COUNTA(I6:J6)>1,"Edible or Inedible",IF(COUNTA(I6)=1,L6*1,IF(COUNTA(J6)=1,L6*1,"ERROR"))))
A7: 2021-NAT-D1 | B7: 44273 | C7: Day 1 | D7: N0715 | E7: =IF(D7="","",VLOOKUP(D7,Master,3,FALSE)) -> Gerhard | F7: =IF(D7="","",VLOOKUP(D7,Master,4,FALSE)) -> Van Niekerk | G7: =IF(D7="","",VLOOKUP(D7,Master,5,FALSE)) -> Men Seniors | H7: =IF(D7="","",VLOOKUP(D7,Master,2,FALSE)) -> Seagull Angling Club Inland | L7: =IF(K7="","",IF(I7="",ROUND(HLOOKUP(J7,kgList,K7,FALSE),1),ROUND(HLOOKUP(I7,kgList,K7,FALSE),1))) | M7: =IF(L7="","",IF(COUNTA(I7:J7)>1,"Edible or Inedible",IF(COUNTA(I7)=1,L7*1,IF(COUNTA(J7)=1,L7*1,"ERROR"))))
A8: 2021-NAT-D1 | B8: 44273 | C8: Day 1 | D8: N0729 | E8: =IF(D8="","",VLOOKUP(D8,Master,3,FALSE)) -> Gert | F8: =IF(D8="","",VLOOKUP(D8,Master,4,FALSE)) -> Visage | G8: =IF(D8="","",VLOOKUP(D8,Master,5,FALSE)) -> Men Seniors | H8: =IF(D8="","",VLOOKUP(D8,Master,2,FALSE)) -> Seagull Angling Club Coastal | L8: =IF(K8="","",IF(I8="",ROUND(HLOOKUP(J8,kgList,K8,FALSE),1),ROUND(HLOOKUP(I8,kgList,K8,FALSE),1))) | M8: =IF(L8="","",IF(COUNTA(I8:J8)>1,"Edible or Inedible",IF(COUNTA(I8)=1,L8*1,IF(COUNTA(J8)=1,L8*1,"ERROR"))))
A9: 2021-NAT-D1 | B9: 44273 | C9: Day 1 | D9: N0407 | E9: =IF(D9="","",VLOOKUP(D9,Master,3,FALSE)) -> Renier | F9: =IF(D9="","",VLOOKUP(D9,Master,4,FALSE)) -> Van Zyl | G9: =IF(D9="","",VLOOKUP(D9,Master,5,FALSE)) -> Men Seniors | H9: =IF(D9="","",VLOOKUP(D9,Master,2,FALSE)) -> Seagull Angling Club Coastal | L9: =IF(K9="","",IF(I9="",ROUND(HLOOKUP(J9,kgList,K9,FALSE),1),ROUND(HLOOKUP(I9,kgList,K9,FALSE),1))) | M9: =IF(L9="","",IF(COUNTA(I9:J9)>1,"Edible or Inedible",IF(COUNTA(I9)=1,L9*1,IF(COUNTA(J9)=1,L9*1,"ERROR"))))
A10: 2021-NAT-D1 | B10: 44273 | C10: Day 1 | D10: N0656 | E10: =IF(D10="","",VLOOKUP(D10,Master,3,FALSE)) -> Hannes | F10: =IF(D10="","",VLOOKUP(D10,Master,4,FALSE)) -> DeHaast | G10: =IF(D10="","",VLOOKUP(D10,Master,5,FALSE)) -> Men Seniors | H10: =IF(D10="","",VLOOKUP(D10,Master,2,FALSE)) -> Otjiwarongo | L10: =IF(K10="","",IF(I10="",ROUND(HLOOKUP(J10,kgList,K10,FALSE),1),ROUND(HLOOKUP(I10,kgList,K10,FALSE),1))) | M10: =IF(L10="","",IF(COUNTA(I10:J10)>1,"Edible or Inedible",IF(COUNTA(I10)=1,L10*1,IF(COUNTA(J10)=1,L10*1,"ERROR"))))
A11: 2021-NAT-D1 | B11: 44273 | C11: Day 1 | D11: N0576 | E11: =IF(D11="","",VLOOKUP(D11,Master,3,FALSE)) -> Francois | F11: =IF(D11="","",VLOOKUP(D11,Master,4,FALSE)) -> Du Plessis | G11: =IF(D11="","",VLOOKUP(D11,Master,5,FALSE)) -> Men Seniors | H11: =IF(D11="","",VLOOKUP(D11,Master,2,FALSE)) -> Otjiwarongo | L11: =IF(K11="","",IF(I11="",ROUND(HLOOKUP(J11,kgList,K11,FALSE),1),ROUND(HLOOKUP(I11,kgList,K11,FALSE),1))) | M11: =IF(L11="","",IF(COUNTA(I11:J11)>1,"Edible or Inedible",IF(COUNTA(I11)=1,L11*1,IF(COUNTA(J11)=1,L11*1,"ERROR"))))
A12: 2021-NAT-D1 | B12: 44273 | C12: Day 1 | D12: N0192 | E12: =IF(D12="","",VLOOKUP(D12,Master,3,FALSE)) -> Jan | F12: =IF(D12="","",VLOOKUP(D12,Master,4,FALSE)) -> Heath | G12: =IF(D12="","",VLOOKUP(D12,Master,5,FALSE)) -> Men Seniors | H12: =IF(D12="","",VLOOKUP(D12,Master,2,FALSE)) -> Steenbras | L12: =IF(K12="","",IF(I12="",ROUND(HLOOKUP(J12,kgList,K12,FALSE),1),ROUND(HLOOKUP(I12,kgList,K12,FALSE),1))) | M12: =IF(L12="","",IF(COUNTA(I12:J12)>1,"Edible or Inedible",IF(COUNTA(I12)=1,L12*1,IF(COUNTA(J12)=1,L12*1,"ERROR"))))
A13: 2021-NAT-D1 | B13: 44273 | C13: Day 1 | D13: N0093 | E13: =IF(D13="","",VLOOKUP(D13,Master,3,FALSE)) -> Burger | F13: =IF(D13="","",VLOOKUP(D13,Master,4,FALSE)) -> Van Taak | G13: =IF(D13="","",VLOOKUP(D13,Master,5,FALSE)) -> Men Seniors | H13: =IF(D13="","",VLOOKUP(D13,Master,2,FALSE)) -> Steenbras | L13: =IF(K13="","",IF(I13="",ROUND(HLOOKUP(J13,kgList,K13,FALSE),1),ROUND(HLOOKUP(I13,kgList,K13,FALSE),1))) | M13: =IF(L13="","",IF(COUNTA(I13:J13)>1,"Edible or Inedible",IF(COUNTA(I13)=1,L13*1,IF(COUNTA(J13)=1,L13*1,"ERROR"))))
A14: 2021-NAT-D1 | B14: 44273 | C14: Day 1 | D14: N0086 | E14: =IF(D14="","",VLOOKUP(D14,Master,3,FALSE)) -> Hendrik | F14: =IF(D14="","",VLOOKUP(D14,Master,4,FALSE)) -> Dry | G14: =IF(D14="","",VLOOKUP(D14,Master,5,FALSE)) -> Men Seniors | H14: =IF(D14="","",VLOOKUP(D14,Master,2,FALSE)) -> Mako | L14: =IF(K14="","",IF(I14="",ROUND(HLOOKUP(J14,kgList,K14,FALSE),1),ROUND(HLOOKUP(I14,kgList,K14,FALSE),1))) | M14: =IF(L14="","",IF(COUNTA(I14:J14)>1,"Edible or Inedible",IF(COUNTA(I14)=1,L14*1,IF(COUNTA(J14)=1,L14*1,"ERROR"))))
A15: 2021-NAT-D1 | B15: 44273 | C15: Day 1 | D15: N0598 | E15: =IF(D15="","",VLOOKUP(D15,Master,3,FALSE)) -> Henning | F15: =IF(D15="","",VLOOKUP(D15,Master,4,FALSE)) -> Van Wyk | G15: =IF(D15="","",VLOOKUP(D15,Master,5,FALSE)) -> Men Seniors | H15: =IF(D15="","",VLOOKUP(D15,Master,2,FALSE)) -> Okahandja | L15: =IF(K15="","",IF(I15="",ROUND(HLOOKUP(J15,kgList,K15,FALSE),1),ROUND(HLOOKUP(I15,kgList,K15,FALSE),1))) | M15: =IF(L15="","",IF(COUNTA(I15:J15)>1,"Edible or Inedible",IF(COUNTA(I15)=1,L15*1,IF(COUNTA(J15)=1,L15*1,"ERROR"))))
A16: 2021-NAT-D1 | B16: 44273 | C16: Day 1 | D16: N0855 | E16: =IF(D16="","",VLOOKUP(D16,Master,3,FALSE)) -> Wenzel | F16: =IF(D16="","",VLOOKUP(D16,Master,4,FALSE)) -> Smal | G16: =IF(D16="","",VLOOKUP(D16,Master,5,FALSE)) -> Men Seniors | H16: =IF(D16="","",VLOOKUP(D16,Master,2,FALSE)) -> Welwitschia | L16: =IF(K16="","",IF(I16="",ROUND(HLOOKUP(J16,kgList,K16,FALSE),1),ROUND(HLOOKUP(I16,kgList,K16,FALSE),1))) | M16: =IF(L16="","",IF(COUNTA(I16:J16)>1,"Edible or Inedible",IF(COUNTA(I16)=1,L16*1,IF(COUNTA(J16)=1,L16*1,"ERROR"))))
... A30: 2021-NAT-D2 | B30: 44274 | C30: Day 2 | D30: N0193 | E30: =IF(D30="","",VLOOKUP(D30,Master,3,FALSE)) -> Michael | F30: =IF(D30="","",VLOOKUP(D30,Master,4,FALSE)) -> Durant | G30: =IF(D30="","",VLOOKUP(D30,Master,5,FALSE)) -> Men Seniors | H30: =IF(D30="","",VLOOKUP(D30,Master,2,FALSE)) -> Steenbras | L30: =IF(K30="","",IF(I30="",ROUND(HLOOKUP(J30,kgList,K30,FALSE),1),ROUND(HLOOKUP(I30,kgList,K30,FALSE),1))) | M30: =IF(L30="","",IF(COUNTA(I30:J30)>1,"Edible or Inedible",IF(COUNTA(I30)=1,L30*1,IF(COUNTA(J30)=1,L30*1,"ERROR"))))
A31: 2021-NAT-D1 | B31: 44273 | C31: Day 1 | D31: N0769 | E31: =IF(D31="","",VLOOKUP(D31,Master,3,FALSE)) -> Sven | F31: =IF(D31="","",VLOOKUP(D31,Master,4,FALSE)) -> Welzig | G31: =IF(D31="","",VLOOKUP(D31,Master,5,FALSE)) -> Men U/16 | H31: =IF(D31="","",VLOOKUP(D31,Master,2,FALSE)) -> Atlantic Angling Club | J31: Shark Spotted Gully | K31: 164 | L31: =IF(K31="","",IF(I31="",ROUND(HLOOKUP(J31,kgList,K31,FALSE),1),ROUND(HLOOKUP(I31,kgList,K31,FALSE),1))) -> 23.6 | M31: =IF(L31="","",IF(COUNTA(I31:J31)>1,"Edible or Inedible",IF(COUNTA(I31)=1,L31*1,IF(COUNTA(J31)=1,L31*1,"ERROR")))) -> 23.6
A32: 2021-NAT-D2 | B32: 44274 | C32: Day 2 | D32: N0093 | E32: =IF(D32="","",VLOOKUP(D32,Master,3,FALSE)) -> Burger | F32: =IF(D32="","",VLOOKUP(D32,Master,4,FALSE)) -> Van Taak | G32: =IF(D32="","",VLOOKUP(D32,Master,5,FALSE)) -> Men Seniors | H32: =IF(D32="","",VLOOKUP(D32,Master,2,FALSE)) -> Steenbras | L32: =IF(K32="","",IF(I32="",ROUND(HLOOKUP(J32,kgList,K32,FALSE),1),ROUND(HLOOKUP(I32,kgList,K32,FALSE),1))) | M32: =IF(L32="","",IF(COUNTA(I32:J32)>1,"Edible or Inedible",IF(COUNTA(I32)=1,L32*1,IF(COUNTA(J32)=1,L32*1,"ERROR"))))
A33: 2021-NAT-D2 | B33: 44274 | C33: Day 2 | D33: N0243 | E33: =IF(D33="","",VLOOKUP(D33,Master,3,FALSE)) -> Dirk | F33: =IF(D33="","",VLOOKUP(D33,Master,4,FALSE)) -> Hansen | G33: =IF(D33="","",VLOOKUP(D33,Master,5,FALSE)) -> Men Seniors | H33: =IF(D33="","",VLOOKUP(D33,Master,2,FALSE)) -> Steenbras | L33: =IF(K33="","",IF(I33="",ROUND(HLOOKUP(J33,kgList,K33,FALSE),1),ROUND(HLOOKUP(I33,kgList,K33,FALSE),1))) | M33: =IF(L33="","",IF(COUNTA(I33:J33)>1,"Edible or Inedible",IF(COUNTA(I33)=1,L33*1,IF(COUNTA(J33)=1,L33*1,"ERROR"))))
A34: 2021-NAT-D2 | B34: 44274 | C34: Day 2 | D34: N0816 | E34: =IF(D34="","",VLOOKUP(D34,Master,3,FALSE)) -> Herman | F34: =IF(D34="","",VLOOKUP(D34,Master,4,FALSE)) -> Swanepoel | G34: =IF(D34="","",VLOOKUP(D34,Master,5,FALSE)) -> Men Seniors | H34: =IF(D34="","",VLOOKUP(D34,Master,2,FALSE)) -> Steenbras | L34: =IF(K34="","",IF(I34="",ROUND(HLOOKUP(J34,kgList,K34,FALSE),1),ROUND(HLOOKUP(I34,kgList,K34,FALSE),1))) | M34: =IF(L34="","",IF(COUNTA(I34:J34)>1,"Edible or Inedible",IF(COUNTA(I34)=1,L34*1,IF(COUNTA(J34)=1,L34*1,"ERROR"))))
A35: 2021-NAT-D2 | B35: 44274 | C35: Day 2 | D35: N0026 | E35: =IF(D35="","",VLOOKUP(D35,Master,3,FALSE)) -> Johan | F35: =IF(D35="","",VLOOKUP(D35,Master,4,FALSE)) -> Agenbag | G35: =IF(D35="","",VLOOKUP(D35,Master,5,FALSE)) -> Men Seniors | H35: =IF(D35="","",VLOOKUP(D35,Master,2,FALSE)) -> Henties Bay | L35: =IF(K35="","",IF(I35="",ROUND(HLOOKUP(J35,kgList,K35,FALSE),1),ROUND(HLOOKUP(I35,kgList,K35,FALSE),1))) | M35: =IF(L35="","",IF(COUNTA(I35:J35)>1,"Edible or Inedible",IF(COUNTA(I35)=1,L35*1,IF(COUNTA(J35)=1,L35*1,"ERROR"))))
A36: 2021-NAT-D2 | B36: 44274 | C36: Day 2 | D36: N0612 | E36: =IF(D36="","",VLOOKUP(D36,Master,3,FALSE)) -> Armand | F36: =IF(D36="","",VLOOKUP(D36,Master,4,FALSE)) -> Fourie | G36: =IF(D36="","",VLOOKUP(D36,Master,5,FALSE)) -> Men Seniors | H36: =IF(D36="","",VLOOKUP(D36,Master,2,FALSE)) -> Okahandja | L36: =IF(K36="","",IF(I36="",ROUND(HLOOKUP(J36,kgList,K36,FALSE),1),ROUND(HLOOKUP(I36,kgList,K36,FALSE),1))) | M36: =IF(L36="","",IF(COUNTA(I36:J36)>1,"Edible or Inedible",IF(COUNTA(I36)=1,L36*1,IF(COUNTA(J36)=1,L36*1,"ERROR"))))
A37: 2021-NAT-D3 | B37: 44275 | C37: Day 3 | D37: N0011 | E37: =IF(D37="","",VLOOKUP(D37,Master,3,FALSE)) -> Johan | F37: =IF(D37="","",VLOOKUP(D37,Master,4,FALSE)) -> Mostert | G37: =IF(D37="","",VLOOKUP(D37,Master,5,FALSE)) -> Men Seniors | H37: =IF(D37="","",VLOOKUP(D37,Master,2,FALSE)) -> Atlantic Angling Club | L37: =IF(K37="","",IF(I37="",ROUND(HLOOKUP(J37,kgList,K37,FALSE),1),ROUND(HLOOKUP(I37,kgList,K37,FALSE),1))) | M37: =IF(L37="","",IF(COUNTA(I37:J37)>1,"Edible or Inedible",IF(COUNTA(I37)=1,L37*1,IF(COUNTA(J37)=1,L37*1,"ERROR"))))
A38: 2021-NAT-D3 | B38: 44275 | C38: Day 3 | D38: N0171 | E38: =IF(D38="","",VLOOKUP(D38,Master,3,FALSE)) -> Corne | F38: =IF(D38="","",VLOOKUP(D38,Master,4,FALSE)) -> Van Niekerk | G38: =IF(D38="","",VLOOKUP(D38,Master,5,FALSE)) -> Men Seniors | H38: =IF(D38="","",VLOOKUP(D38,Master,2,FALSE)) -> Penguin | L38: =IF(K38="","",IF(I38="",ROUND(HLOOKUP(J38,kgList,K38,FALSE),1),ROUND(HLOOKUP(I38,kgList,K38,FALSE),1))) | M38: =IF(L38="","",IF(COUNTA(I38:J38)>1,"Edible or Inedible",IF(COUNTA(I38)=1,L38*1,IF(COUNTA(J38)=1,L38*1,"ERROR"))))
A39: 2021-NAT-D3 | B39: 44275 | C39: Day 3 | D39: N0800 | E39: =IF(D39="","",VLOOKUP(D39,Master,3,FALSE)) -> Danie | F39: =IF(D39="","",VLOOKUP(D39,Master,4,FALSE)) -> Van Wyk | G39: =IF(D39="","",VLOOKUP(D39,Master,5,FALSE)) -> Men Seniors | H39: =IF(D39="","",VLOOKUP(D39,Master,2,FALSE)) -> Okahandja | L39: =IF(K39="","",IF(I39="",ROUND(HLOOKUP(J39,kgList,K39,FALSE),1),ROUND(HLOOKUP(I39,kgList,K39,FALSE),1))) | M39: =IF(L39="","",IF(COUNTA(I39:J39)>1,"Edible or Inedible",IF(COUNTA(I39)=1,L39*1,IF(COUNTA(J39)=1,L39*1,"ERROR"))))
A40: 2021-NAT-D3 | B40: 44275 | C40: Day 3 | D40: N0407 | E40: =IF(D40="","",VLOOKUP(D40,Master,3,FALSE)) -> Renier | F40: =IF(D40="","",VLOOKUP(D40,Master,4,FALSE)) -> Van Zyl | G40: =IF(D40="","",VLOOKUP(D40,Master,5,FALSE)) -> Men Seniors | H40: =IF(D40="","",VLOOKUP(D40,Master,2,FALSE)) -> Seagull Angling Club Coastal | L40: =IF(K40="","",IF(I40="",ROUND(HLOOKUP(J40,kgList,K40,FALSE),1),ROUND(HLOOKUP(I40,kgList,K40,FALSE),1))) | M40: =IF(L40="","",IF(COUNTA(I40:J40)>1,"Edible or Inedible",IF(COUNTA(I40)=1,L40*1,IF(COUNTA(J40)=1,L40*1,"ERROR"))))
A41: 2021-NAT-D1 | B41: 44273 | C41: Day 1 | D41: N0815 | E41: =IF(D41="","",VLOOKUP(D41,Master,3,FALSE)) -> Lindie | F41: =IF(D41="","",VLOOKUP(D41,Master,4,FALSE)) -> Barnhard | G41: =IF(D41="","",VLOOKUP(D41,Master,5,FALSE)) -> Ladies Senior | H41: =IF(D41="","",VLOOKUP(D41,Master,2,FALSE)) -> Penguin | L41: =IF(K41="","",IF(I41="",ROUND(HLOOKUP(J41,kgList,K41,FALSE),1),ROUND(HLOOKUP(I41,kgList,K41,FALSE),1))) | M41: =IF(L41="","",IF(COUNTA(I41:J41)>1,"Edible or Inedible",IF(COUNTA(I41)=1,L41*1,IF(COUNTA(J41)=1,L41*1,"ERROR"))))
A42: 2021-NAT-D3 | B42: 44275 | C42: Day 3 | D42: N0086 | E42: =IF(D42="","",VLOOKUP(D42,Master,3,FALSE)) -> Hendrik | F42: =IF(D42="","",VLOOKUP(D42,Master,4,FALSE)) -> Dry | G42: =IF(D42="","",VLOOKUP(D42,Master,5,FALSE)) -> Men Seniors | H42: =IF(D42="","",VLOOKUP(D42,Master,2,FALSE)) -> Mako | L42: =IF(K42="","",IF(I42="",ROUND(HLOOKUP(J42,kgList,K42,FALSE),1),ROUND(HLOOKUP(I42,kgList,K42,FALSE),1))) | M42: =IF(L42="","",IF(COUNTA(I42:J42)>1,"Edible or Inedible",IF(COUNTA(I42)=1,L42*1,IF(COUNTA(J42)=1,L42*1,"ERROR"))))
A43: 2021-NAT-D3 | B43: 44275 | C43: Day 3 | D43: N0783 | E43: =IF(D43="","",VLOOKUP(D43,Master,3,FALSE)) -> Johan | F43: =IF(D43="","",VLOOKUP(D43,Master,4,FALSE)) -> Van Niekerk | G43: =IF(D43="","",VLOOKUP(D43,Master,5,FALSE)) -> Men Seniors | H43: =IF(D43="","",VLOOKUP(D43,Master,2,FALSE)) -> Namib Park | L43: =IF(K43="","",IF(I43="",ROUND(HLOOKUP(J43,kgList,K43,FALSE),1),ROUND(HLOOKUP(I43,kgList,K43,FALSE),1))) | M43: =IF(L43="","",IF(COUNTA(I43:J43)>1,"Edible or Inedible",IF(COUNTA(I43)=1,L43*1,IF(COUNTA(J43)=1,L43*1,"ERROR"))))
... A50: 2021-NAT-D3 | B50: 44275 | C50: Day 3 | D50: N0192 | E50: =IF(D50="","",VLOOKUP(D50,Master,3,FALSE)) -> Jan | F50: =IF(D50="","",VLOOKUP(D50,Master,4,FALSE)) -> Heath | G50: =IF(D50="","",VLOOKUP(D50,Master,5,FALSE)) -> Men Seniors | H50: =IF(D50="","",VLOOKUP(D50,Master,2,FALSE)) -> Steenbras | L50: =IF(K50="","",IF(I50="",ROUND(HLOOKUP(J50,kgList,K50,FALSE),1),ROUND(HLOOKUP(I50,kgList,K50,FALSE),1))) | M50: =IF(L50="","",IF(COUNTA(I50:J50)>1,"Edible or Inedible",IF(COUNTA(I50)=1,L50*1,IF(COUNTA(J50)=1,L50*1,"ERROR"))))
A51: 2021-NAT-D2 | B51: 44274 | C51: Day 2 | D51: N0011 | E51: =IF(D51="","",VLOOKUP(D51,Master,3,FALSE)) -> Johan | F51: =IF(D51="","",VLOOKUP(D51,Master,4,FALSE)) -> Mostert | G51: =IF(D51="","",VLOOKUP(D51,Master,5,FALSE)) -> Men Seniors | H51: =IF(D51="","",VLOOKUP(D51,Master,2,FALSE)) -> Atlantic Angling Club | J51: Shark Copper (Female) | K51: 190 | L51: =IF(K51="","",IF(I51="",ROUND(HLOOKUP(J51,kgList,K51,FALSE),1),ROUND(HLOOKUP(I51,kgList,K51,FALSE),1))) -> 95.9 | M51: =IF(L51="","",IF(COUNTA(I51:J51)>1,"Edible or Inedible",IF(COUNTA(I51)=1,L51*1,IF(COUNTA(J51)=1,L51*1,"ERROR")))) -> 95.9
A52: 2021-NAT-D3 | B52: 44275 | C52: Day 3 | D52: N0020 | E52: =IF(D52="","",VLOOKUP(D52,Master,3,FALSE)) -> Morne | F52: =IF(D52="","",VLOOKUP(D52,Master,4,FALSE)) -> Horn | G52: =IF(D52="","",VLOOKUP(D52,Master,5,FALSE)) -> Men Seniors | H52: =IF(D52="","",VLOOKUP(D52,Master,2,FALSE)) -> Penguin | J52: Shark Copper (Female) | K52: 164 | L52: =IF(K52="","",IF(I52="",ROUND(HLOOKUP(J52,kgList,K52,FALSE),1),ROUND(HLOOKUP(I52,kgList,K52,FALSE),1))) -> 60.4 | M52: =IF(L52="","",IF(COUNTA(I52:J52)>1,"Edible or Inedible",IF(COUNTA(I52)=1,L52*1,IF(COUNTA(J52)=1,L52*1,"ERROR")))) -> 60.4
A53: 2021-NAT-D2 | B53: 44274 | C53: Day 2 | D53: N0014 | E53: =IF(D53="","",VLOOKUP(D53,Master,3,FALSE)) -> Willem | F53: =IF(D53="","",VLOOKUP(D53,Master,4,FALSE)) -> Steyn | G53: =IF(D53="","",VLOOKUP(D53,Master,5,FALSE)) -> Men Seniors | H53: =IF(D53="","",VLOOKUP(D53,Master,2,FALSE)) -> Welwitschia | J53: Shark Copper (Female) | K53: 162 | L53: =IF(K53="","",IF(I53="",ROUND(HLOOKUP(J53,kgList,K53,FALSE),1),ROUND(HLOOKUP(I53,kgList,K53,FALSE),1))) -> 58.2 | M53: =IF(L53="","",IF(COUNTA(I53:J53)>1,"Edible or Inedible",IF(COUNTA(I53)=1,L53*1,IF(COUNTA(J53)=1,L53*1,"ERROR")))) -> 58.2
A54: 2021-NAT-D1 | B54: 44273 | C54: Day 1 | D54: N0190 | E54: =IF(D54="","",VLOOKUP(D54,Master,3,FALSE)) -> Chris Junior | F54: =IF(D54="","",VLOOKUP(D54,Master,4,FALSE)) -> Orffer | G54: =IF(D54="","",VLOOKUP(D54,Master,5,FALSE)) -> Men Seniors | H54: =IF(D54="","",VLOOKUP(D54,Master,2,FALSE)) -> Penguin | J54: Shark Copper (Male) | K54: 160 | L54: =IF(K54="","",IF(I54="",ROUND(HLOOKUP(J54,kgList,K54,FALSE),1),ROUND(HLOOKUP(I54,kgList,K54,FALSE),1))) -> 53.6 | M54: =IF(L54="","",IF(COUNTA(I54:J54)>1,"Edible or Inedible",IF(COUNTA(I54)=1,L54*1,IF(COUNTA(J54)=1,L54*1,"ERROR")))) -> 53.6
A55: 2021-NAT-D2 | B55: 44274 | C55: Day 2 | D55: N0008 | E55: =IF(D55="","",VLOOKUP(D55,Master,3,FALSE)) -> Andre | F55: =IF(D55="","",VLOOKUP(D55,Master,4,FALSE)) -> Coetzee | G55: =IF(D55="","",VLOOKUP(D55,Master,5,FALSE)) -> Men Seniors | H55: =IF(D55="","",VLOOKUP(D55,Master,2,FALSE)) -> Namib Park | J55: Shark Copper (Male) | K55: 157 | L55: =IF(K55="","",IF(I55="",ROUND(HLOOKUP(J55,kgList,K55,FALSE),1),ROUND(HLOOKUP(I55,kgList,K55,FALSE),1))) -> 50.6 | M55: =IF(L55="","",IF(COUNTA(I55:J55)>1,"Edible or Inedible",IF(COUNTA(I55)=1,L55*1,IF(COUNTA(J55)=1,L55*1,"ERROR")))) -> 50.6
A56: 2021-NAT-D1 | B56: 44273 | C56: Day 1 | D56: N0657 | E56: =IF(D56="","",VLOOKUP(D56,Master,3,FALSE)) -> Johannes | F56: =IF(D56="","",VLOOKUP(D56,Master,4,FALSE)) -> Kotze | G56: =IF(D56="","",VLOOKUP(D56,Master,5,FALSE)) -> Men Seniors | H56: =IF(D56="","",VLOOKUP(D56,Master,2,FALSE)) -> Okahandja | J56: Shark Copper (Female) | K56: 150 | L56: =IF(K56="","",IF(I56="",ROUND(HLOOKUP(J56,kgList,K56,FALSE),1),ROUND(HLOOKUP(I56,kgList,K56,FALSE),1))) -> 45.7 | M56: =IF(L56="","",IF(COUNTA(I56:J56)>1,"Edible or Inedible",IF(COUNTA(I56)=1,L56*1,IF(COUNTA(J56)=1,L56*1,"ERROR")))) -> 45.7
A57: 2021-NAT-D1 | B57: 44273 | C57: Day 1 | D57: N0610 | E57: =IF(D57="","",VLOOKUP(D57,Master,3,FALSE)) -> Martinus | F57: =IF(D57="","",VLOOKUP(D57,Master,4,FALSE)) -> Venter | G57: =IF(D57="","",VLOOKUP(D57,Master,5,FALSE)) -> Men Seniors | H57: =IF(D57="","",VLOOKUP(D57,Master,2,FALSE)) -> Otjiwarongo | J57: Shark Cow / Sevengill | K57: 147 | L57: =IF(K57="","",IF(I57="",ROUND(HLOOKUP(J57,kgList,K57,FALSE),1),ROUND(HLOOKUP(I57,kgList,K57,FALSE),1))) -> 42.4 | M57: =IF(L57="","",IF(COUNTA(I57:J57)>1,"Edible or Inedible",IF(COUNTA(I57)=1,L57*1,IF(COUNTA(J57)=1,L57*1,"ERROR")))) -> 42.4
A58: 2021-NAT-D2 | B58: 44274 | C58: Day 2 | D58: N0790 | E58: =IF(D58="","",VLOOKUP(D58,Master,3,FALSE)) -> Ivan | F58: =IF(D58="","",VLOOKUP(D58,Master,4,FALSE)) -> Kotze | G58: =IF(D58="","",VLOOKUP(D58,Master,5,FALSE)) -> Men Seniors | H58: =IF(D58="","",VLOOKUP(D58,Master,2,FALSE)) -> Seagull Angling Club Inland | J58: Shark Copper (Female) | K58: 144 | L58: =IF(K58="","",IF(I58="",ROUND(HLOOKUP(J58,kgList,K58,FALSE),1),ROUND(HLOOKUP(I58,kgList,K58,FALSE),1))) -> 40.2 | M58: =IF(L58="","",IF(COUNTA(I58:J58)>1,"Edible or Inedible",IF(COUNTA(I58)=1,L58*1,IF(COUNTA(J58)=1,L58*1,"ERROR")))) -> 40.2
A59: 2021-NAT-D1 | B59: 44273 | C59: Day 1 | D59: N0611 | E59: =IF(D59="","",VLOOKUP(D59,Master,3,FALSE)) -> Jean | F59: =IF(D59="","",VLOOKUP(D59,Master,4,FALSE)) -> Visser | G59: =IF(D59="","",VLOOKUP(D59,Master,5,FALSE)) -> Men Seniors | H59: =IF(D59="","",VLOOKUP(D59,Master,2,FALSE)) -> Benguella | J59: Shark Cow / Sevengill | K59: 138 | L59: =IF(K59="","",IF(I59="",ROUND(HLOOKUP(J59,kgList,K59,FALSE),1),ROUND(HLOOKUP(I59,kgList,K59,FALSE),1))) -> 34.5 | M59: =IF(L59="","",IF(COUNTA(I59:J59)>1,"Edible or Inedible",IF(COUNTA(I59)=1,L59*1,IF(COUNTA(J59)=1,L59*1,"ERROR")))) -> 34.5
...

Sheet Individuals
D2: INDIVIDUALS NATIONALS | G2: NATIONALS DAY 3
B3: Competition | C3: (Multiple Items) | D3: =$C$4&" "& Individuals!$G$2 -> (All) NATIONALS DAY 3
B4: Status | C4: (All)
B6: ID | C6: Name | D6: Surname | E6: Team | F6: No. Edibles | G6: No. of Inedibles | H6: Total kg | I6: Total Points | J6: League Points (300)
A7: 1 | B7: N0008 | C7: Andre | D7: Coetzee | E7: Namib Park | G7: 13 | H7: 146.2 | I7: 146.2 | J7: 300 | K7: 1
A8: 2 | B8: N0190 | C8: Chris Junior | D8: Orffer | E8: Penguin | G8: 9 | H8: 132.1 | I8: 132.1 | J8: =IF(I8=I7,J7,IF(I8=0,ROUNDDOWN(20,0),J7-K7)) -> 299 | K8: =IF(I8<I7,1,IF(I8=I7,K7+1,0)) -> 1 | M8: 10 | N8: 1 | O8: Atlantic | Q8: x | R8: x
A9: 3 | B9: N0531 | C9: Rudi(Jnr.) | D9: Swartz | E9: Mako | G9: 9 | H9: 131.1 | I9: 131.1 | J9: =IF(I9=I8,J8,IF(I9=0,ROUNDDOWN(20,0),J8-K8)) -> 298 | K9: =IF(I9<I8,1,IF(I9=I8,K8+1,0)) -> 1 | M9: 12 | N9: 2 | O9: Benqualla | Q9: x | R9: x
A10: 4 | B10: N0657 | C10: Johannes | D10: Kotze | E10: Okahandja | G10: 13 | H10: 128.1 | I10: 128.1 | J10: =IF(I10=I9,J9,IF(I10=0,ROUNDDOWN(20,0),J9-K9)) -> 297 | K10: =IF(I10<I9,1,IF(I10=I9,K9+1,0)) -> 1 | M10: 12 | N10: 3 | O10: Hentiesbay | Q10: x | R10: x
A11: 5 | B11: N0588 | C11: Lourens | D11: Fourie | E11: Henties Bay | G11: 10 | H11: 127.7 | I11: 127.7 | J11: =IF(I11=I10,J10,IF(I11=0,ROUNDDOWN(20,0),J10-K10)) -> 296 | K11: =IF(I11<I10,1,IF(I11=I10,K10+1,0)) -> 1 | M11: 9 | N11: 4 | O11: Mako | Q11: x | R11: x
A12: 6 | B12: N0687 | C12: Barren | D12: Van Es | E12: Penguin | G12: 7 | H12: 119.9 | I12: 119.9 | J12: =IF(I12=I11,J11,IF(I12=0,ROUNDDOWN(20,0),J11-K11)) -> 295 | K12: =IF(I12<I11,1,IF(I12=I11,K11+1,0)) -> 1 | M12: 9 | N12: 5 | O12: Namib Park | Q12: x | R12: x
A13: 7 | B13: N0792 | C13: Willem | D13: Schickerling | E13: Orca Angling Club | G13: 9 | H13: 119 | I13: 119 | J13: =IF(I13=I12,J12,IF(I13=0,ROUNDDOWN(20,0),J12-K12)) -> 294 | K13: =IF(I13<I12,1,IF(I13=I12,K12+1,0)) -> 1 | M13: 8 | N13: 6 | O13: Okahandja | Q13: x | R13: x
A14: 8 | B14: N0011 | C14: Johan | D14: Mostert | E14: Atlantic Angling Club | G14: 3 | H14: 117.2 | I14: 117.2 | J14: =IF(I14=I13,J13,IF(I14=0,ROUNDDOWN(20,0),J13-K13)) -> 293 | K14: =IF(I14<I13,1,IF(I14=I13,K13+1,0)) -> 1 | N14: 7 | O14: Orca | Q14: x | R14: x
A15: 9 | B15: N0122 | C15: Immo | D15: Dresselhaus | E15: Orca Angling Club | G15: 9 | H15: 108.7 | I15: 108.7 | J15: =IF(I15=I14,J14,IF(I15=0,ROUNDDOWN(20,0),J14-K14)) -> 292 | K15: =IF(I15<I14,1,IF(I15=I14,K14+1,0)) -> 1 | M15: 8 | N15: 8 | O15: Otjiwaringo | Q15: x | R15: x
A16: 10 | B16: N0663 | C16: Allen | D16: Langenstrassen | E16: Penguin | G16: 10 | H16: 107.2 | I16: 107.2 | J16: =IF(I16=I15,J15,IF(I16=0,ROUNDDOWN(20,0),J15-K15)) -> 291 | K16: =IF(I16<I15,1,IF(I16=I15,K15+1,0)) -> 1 | M16: 13 | N16: 9 | O16: Penquin | Q16: x | R16: x
A17: 11 | B17: N0259 | C17: Henri | D17: Snyman | E17: Penguin | F17: 1 | G17: 10 | H17: 105.5 | I17: 105.5 | J17: =IF(I17=I16,J16,IF(I17=0,ROUNDDOWN(20,0),J16-K16)) -> 290 | K17: =IF(I17<I16,1,IF(I17=I16,K16+1,0)) -> 1 | N17: 10 | O17: Seagulls WHK | Q17: x | R17: x
A18: 12 | B18: N0460 | C18: Jaco | D18: Venter | E18: Atlantic Angling Club | G18: 6 | H18: 103.4 | I18: 103.4 | J18: =IF(I18=I17,J17,IF(I18=0,ROUNDDOWN(20,0),J17-K17)) -> 289 | K18: =IF(I18<I17,1,IF(I18=I17,K17+1,0)) -> 1 | M18: 7 | N18: 11 | O18: Seaguls WVB | Q18: x | R18: x
A19: 13 | B19: N0014 | C19: Willem | D19: Steyn | E19: Welwitschia | G19: 9 | H19: 102.8 | I19: 102.8 | J19: =IF(I19=I18,J18,IF(I19=0,ROUNDDOWN(20,0),J18-K18)) -> 288 | K19: =IF(I19<I18,1,IF(I19=I18,K18+1,0)) -> 1 | M19: 10 | N19: 12 | O19: Steeanbras | Q19: x | R19: x
A20: 14 | B20: N0774 | C20: Francois Jnr | D20: Wolfaardt | E20: Walvis Bay | G20: 14 | H20: 99.6 | I20: 99.6 | J20: =IF(I20=I19,J19,IF(I20=0,ROUNDDOWN(20,0),J19-K19)) -> 287 | K20: =IF(I20<I19,1,IF(I20=I19,K19+1,0)) -> 1 | M20: 14 | N20: 13 | O20: Walvis Bay | Q20: x | R20: x
A21: 15 | B21: N0731 | C21: Maryna | D21: Viljoen | E21: Steenbras | G21: 11 | H21: 97 | I21: 97 | J21: =IF(I21=I20,J20,IF(I21=0,ROUNDDOWN(20,0),J20-K20)) -> 286 | K21: =IF(I21<I20,1,IF(I21=I20,K20+1,0)) -> 1 | M21: 7 | N21: 14 | O21: Welwitchia | Q21: x | R21: x
A22: 16 | B22: N0195 | C22: Louis | D22: Fenaux | E22: Henties Bay | G22: 6 | H22: 96.6 | I22: 96.6 | J22: =IF(I22=I21,J21,IF(I22=0,ROUNDDOWN(20,0),J21-K21)) -> 285 | K22: =IF(I22<I21,1,IF(I22=I21,K21+1,0)) -> 1 | M22: =SUM(M8:M21) -> 119
A23: 17 | B23: N0769 | C23: Sven | D23: Welzig | E23: Atlantic Angling Club | G23: 12 | H23: 94.1 | I23: 94.1 | J23: =IF(I23=I22,J22,IF(I23=0,ROUNDDOWN(20,0),J22-K22)) -> 284 | K23: =IF(I23<I22,1,IF(I23=I22,K22+1,0)) -> 1
A24: 18 | B24: N0050 | C24: Sean | D24: Van Den Heuvel | E24: Seagull Angling Club Inland | G24: 9 | H24: 90.9 | I24: 90.9 | J24: =IF(I24=I23,J23,IF(I24=0,ROUNDDOWN(20,0),J23-K23)) -> 283 | K24: =IF(I24<I23,1,IF(I24=I23,K23+1,0)) -> 1
A25: 19 | B25: N0495 | C25: Eduard | D25: Janse van Rensburg | E25: Walvis Bay | G25: 10 | H25: 88.8 | I25: 88.8 | J25: =IF(I25=I24,J24,IF(I25=0,ROUNDDOWN(20,0),J24-K24)) -> 282 | K25: =IF(I25<I24,1,IF(I25=I24,K24+1,0)) -> 1
A26: 20 | B26: N0790 | C26: Ivan | D26: Kotze | E26: Seagull Angling Club Inland | F26: 1 | G26: 6 | H26: 86.9 | I26: 86.9 | J26: =IF(I26=I25,J25,IF(I26=0,ROUNDDOWN(20,0),J25-K25)) -> 281 | K26: =IF(I26<I25,1,IF(I26=I25,K25+1,0)) -> 1
A27: 21 | B27: N0228 | C27: Corne | D27: Kruger | E27: Orca Angling Club | G27: 10 | H27: 84.8 | I27: 84.8 | J27: =IF(I27=I26,J26,IF(I27=0,ROUNDDOWN(20,0),J26-K26)) -> 280 | K27: =IF(I27<I26,1,IF(I27=I26,K26+1,0)) -> 1
A28: 22 | B28: N0101 | C28: Tertius | D28: Potgieter | E28: Seagull Angling Club Inland | G28: 12 | H28: 84.3 | I28: 84.3 | J28: =IF(I28=I27,J27,IF(I28=0,ROUNDDOWN(20,0),J27-K27)) -> 279 | K28: =IF(I28<I27,1,IF(I28=I27,K27+1,0)) -> 1
A29: 23 | B29: N0802 | C29: Duan | D29: Kotze | E29: Okahandja | G29: 6 | H29: 82.1 | I29: 82.1 | J29: =IF(I29=I28,J28,IF(I29=0,ROUNDDOWN(20,0),J28-K28)) -> 278 | K29: =IF(I29<I28,1,IF(I29=I28,K28+1,0)) -> 1
A30: 24 | B30: N0127 | C30: Kiepie | D30: Burger | E30: Mako | G30: 9 | H30: 81 | I30: 81 | J30: =IF(I30=I29,J29,IF(I30=0,ROUNDDOWN(20,0),J29-K29)) -> 277 | K30: =IF(I30<I29,1,IF(I30=I29,K29+1,0)) -> 1
A31: 25 | B31: N0396 | C31: Raymond | D31: Duvenhage | E31: Walvis Bay | G31: 10 | H31: 79.8 | I31: 79.8 | J31: =IF(I31=I30,J30,IF(I31=0,ROUNDDOWN(20,0),J30-K30)) -> 276 | K31: =IF(I31<I30,1,IF(I31=I30,K30+1,0)) -> 1
A32: 26 | B32: N0709 | C32: Tiaan | D32: Fourie | E32: Henties Bay | F32: 1 | G32: 10 | H32: 79.7 | I32: 79.7 | J32: =IF(I32=I31,J31,IF(I32=0,ROUNDDOWN(20,0),J31-K31)) -> 275 | K32: =IF(I32<I31,1,IF(I32=I31,K31+1,0)) -> 1
A33: 27 | B33: N0580 | C33: Martin | D33: Cordier | E33: Walvis Bay | G33: 8 | H33: 75.2 | I33: 75.2 | J33: =IF(I33=I32,J32,IF(I33=0,ROUNDDOWN(20,0),J32-K32)) -> 274 | K33: =IF(I33<I32,1,IF(I33=I32,K32+1,0)) -> 1
A34: 28 | B34: N0044 | C34: Leon | D34: Krauze | E34: Henties Bay | G34: 11 | H34: 74.3 | I34: 74.3 | J34: =IF(I34=I33,J33,IF(I34=0,ROUNDDOWN(20,0),J33-K33)) -> 273 | K34: =IF(I34<I33,1,IF(I34=I33,K33+1,0)) -> 1
A35: 29 | B35: N0636 | C35: Lydia | D35: Cilliers | E35: Benguella | G35: 9 | H35: 74.1 | I35: 74.1 | J35: =IF(I35=I34,J34,IF(I35=0,ROUNDDOWN(20,0),J34-K34)) -> 272 | K35: =IF(I35<I34,1,IF(I35=I34,K34+1,0)) -> 1
A36: 30 | B36: N0860 | C36: Adrian | D36: Steenkamp | E36: Benguella | G36: 11 | H36: 69 | I36: 69 | J36: =IF(I36=I35,J35,IF(I36=0,ROUNDDOWN(20,0),J35-K35)) -> 271 | K36: =IF(I36<I35,1,IF(I36=I35,K35+1,0)) -> 1
A37: 31 | B37: N0158 | C37: Stephan | D37: Swanepoel | E37: Namib Park | G37: 7 | H37: 66.8 | I37: 66.8 | J37: =IF(I37=I36,J36,IF(I37=0,ROUNDDOWN(20,0),J36-K36)) -> 270 | K37: =IF(I37<I36,1,IF(I37=I36,K36+1,0)) -> 1
A38: 32 | B38: N0800 | C38: Danie | D38: Van Wyk | E38: Okahandja | G38: 4 | H38: 66.6 | I38: 66.6 | J38: =IF(I38=I37,J37,IF(I38=0,ROUNDDOWN(20,0),J37-K37)) -> 269 | K38: =IF(I38<I37,1,IF(I38=I37,K37+1,0)) -> 1
A39: 33 | B39: N0129 | C39: Pieter | D39: Van Aarde | E39: Seagull Angling Club Coastal | G39: 9 | H39: 66.2 | I39: 66.2 | J39: =IF(I39=I38,J38,IF(I39=0,ROUNDDOWN(20,0),J38-K38)) -> 268 | K39: =IF(I39<I38,1,IF(I39=I38,K38+1,0)) -> 1
A40: 34 | B40: N0143 | C40: Andre | D40: Aggenbag | E40: Welwitschia | G40: 5 | H40: 63.7 | I40: 63.7 | J40: =IF(I40=I39,J39,IF(I40=0,ROUNDDOWN(20,0),J39-K39)) -> 267 | K40: =IF(I40<I39,1,IF(I40=I39,K39+1,0)) -> 1
A41: 35 | B41: N0150 | C41: Lindie | D41: Krauze | E41: Henties Bay | F41: 1 | G41: 12 | H41: 63.5 | I41: 63.5 | J41: =IF(I41=I40,J40,IF(I41=0,ROUNDDOWN(20,0),J40-K40)) -> 266 | K41: =IF(I41<I40,1,IF(I41=I40,K40+1,0)) -> 1
A42: 36 | B42: N0013 | C42: Roger | D42: Boon | E42: Namib Park | G42: 10 | H42: 62.7 | I42: 62.7 | J42: =IF(I42=I41,J41,IF(I42=0,ROUNDDOWN(20,0),J41-K41)) -> 265 | K42: =IF(I42<I41,1,IF(I42=I41,K41+1,0)) -> 1
...

Sheet TOP6
B2: TOP 6 ANGLERS | D2: =Individuals!D3 -> (All) NATIONALS DAY 3
A4: ID | B4: Name | C4: Surname | D4: Status | E4: Club | F4: No. Edibles | G4: No. Inedibles | H4: Sum of kg | I4: Sum of Points | J4: League Points | K4: kg Top6 | L4: Top 6 Points
E5: Atlantic Angling Club | G5: 3 | H5: 117.2 | I5: 117.2 | K5: =SUBTOTAL(9,I5:I10) -> 454.2 | L5: =IF(H5>0,J5,0)+IF(H6>0,J6,0)+IF(H7>0,J7,0)+IF(H8>0,J8,0)+IF(H9>0,J9,0)+IF(H10>0,J10,0) -> 0 | M5: a | N5: b | O5: Copy data from Individuals
E6: Atlantic Angling Club | G6: 7 | H6: 110 | I6: 110 | M6: a | O6: Mombakkies not counting towards top6 points
E7: Atlantic Angling Club | G7: 17 | H7: 108.5 | I7: 108.5 | M7: a
E8: Atlantic Angling Club | F8: 1 | G8: 6 | H8: 56.3 | I8: 56.3 | M8: a
E9: Atlantic Angling Club | G9: 5 | H9: 32.2 | I9: 32.2 | M9: a
E10: Atlantic Angling Club | F10: 1 | G10: 4 | H10: 30 | I10: 30 | M10: a
E11: Benguella | G11: 10 | H11: 92.2 | I11: 92.2 | K11: =SUBTOTAL(9,I11:I16) -> 258 | L11: =IF(H11>0,J11,0)+IF(H12>0,J12,0)+IF(H13>0,J13,0)+IF(H14>0,J14,0)+IF(H15>0,J15,0)+IF(H16>0,J16,0) -> 0 | M11: a | N11: b
E12: Benguella | G12: 6 | H12: 49 | I12: 49 | M12: a
E13: Benguella | G13: 2 | H13: 48.6 | I13: 48.6 | M13: a
E14: Benguella | G14: 6 | H14: 34.5 | I14: 34.5 | M14: a
E15: Benguella | G15: 5 | H15: 18.6 | I15: 18.6 | M15: a
E16: Benguella | F16: 1 | G16: 2 | H16: 15.1 | I16: 15.1 | M16: a
E17: Henties Bay | G17: 18 | H17: 165.9 | I17: 165.9 | K17: =SUBTOTAL(9,I17:I22) -> 754.9 | L17: =IF(H17>0,J17,0)+IF(H18>0,J18,0)+IF(H19>0,J19,0)+IF(H20>0,J20,0)+IF(H21>0,J21,0)+IF(H22>0,J22,0) -> 0 | M17: a | N17: b
E18: Henties Bay | F18: 1 | G18: 18 | H18: 161.2 | I18: 161.2 | M18: a
E19: Henties Bay | G19: 15 | H19: 155.2 | I19: 155.2 | M19: a
E20: Henties Bay | G20: 20 | H20: 150.2 | I20: 150.2 | M20: a
E21: Henties Bay | G21: 12 | H21: 62.8 | I21: 62.8 | M21: a
E22: Henties Bay | G22: 4 | H22: 59.6 | I22: 59.6 | M22: a
E23: Mako | G23: 10 | H23: 97 | I23: 97 | K23: =IF(H23>0,H23,0)+IF(H24>0,H24,0)+IF(H25>0,H25,0)+IF(H26>0,H26,0)+IF(H27>0,H27,0)+IF(H28>0,H28,0) -> 425.6 | L23: =IF(H23>0,J23,0)+IF(H24>0,J24,0)+IF(H25>0,J25,0)+IF(H26>0,J26,0)+IF(H27>0,J27,0)+IF(H28>0,J28,0) -> 0 | M23: a | N23: b
E24: Mako | G24: 13 | H24: 93.9 | I24: 93.9 | M24: a
E25: Mako | G25: 7 | H25: 67.3 | I25: 67.3 | M25: a
E26: Mako | G26: 9 | H26: 65.5 | I26: 65.5 | M26: a
E27: Mako | G27: 8 | H27: 52.5 | I27: 52.5 | M27: a
E28: Mako | G28: 10 | H28: 49.4 | I28: 49.4 | M28: a
E29: Namib Park | F29: 1 | G29: 15 | H29: 158.1 | I29: 158.1 | K29: =IF(H29>0,H29,0)+IF(H30>0,H30,0)+IF(H31>0,H31,0)+IF(H32>0,H32,0)+IF(H33>0,H33,0)+IF(H34>0,H34,0) -> 489.1 | L29: =IF(H29>0,J29,0)+IF(H30>0,J30,0)+IF(H31>0,J31,0)+IF(H32>0,J32,0)+IF(H33>0,J33,0)+IF(H34>0,J34,0) -> 0 | M29: a | N29: b
E30: Namib Park | G30: 11 | H30: 88.6 | I30: 88.6 | M30: a
E31: Namib Park | G31: 12 | H31: 72.4 | I31: 72.4 | M31: a
E32: Namib Park | G32: 7 | H32: 66.8 | I32: 66.8 | M32: a
E33: Namib Park | G33: 8 | H33: 62 | I33: 62 | M33: a
E34: Namib Park | G34: 6 | H34: 41.2 | I34: 41.2 | M34: a
E35: Okahandja | G35: 17 | H35: 182.4 | I35: 182.4 | K35: =IF(H35>0,H35,0)+IF(H36>0,H36,0)+IF(H37>0,H37,0)+IF(H38>0,H38,0)+IF(H39>0,H39,0)+IF(H40>0,H40,0) -> 479.2 | L35: =IF(H35>0,J35,0)+IF(H36>0,J36,0)+IF(H37>0,J37,0)+IF(H38>0,J38,0)+IF(H39>0,J39,0)+IF(H40>0,J40,0) -> 0 | M35: a | N35: b
E36: Okahandja | G36: 7 | H36: 87.2 | I36: 87.2 | M36: a
E37: Okahandja | G37: 6 | H37: 71.4 | I37: 71.4 | M37: a
E38: Okahandja | G38: 6 | H38: 63.5 | I38: 63.5 | M38: a
E39: Okahandja | G39: 6 | H39: 41.4 | I39: 41.4 | M39: a
E40: Okahandja | G40: 2 | H40: 33.3 | I40: 33.3 | M40: a
E41: Orca Angling Club | G41: 13 | H41: 174.1 | I41: 174.1 | K41: =IF(H41>0,H41,0)+IF(H42>0,H42,0)+IF(H43>0,H43,0)+IF(H44>0,H44,0)+IF(H45>0,H45,0)+IF(H46>0,H46,0) -> 655 | L41: =IF(H41>0,J41,0)+IF(H42>0,J42,0)+IF(H43>0,J43,0)+IF(H44>0,J44,0)+IF(H45>0,J45,0)+IF(H46>0,J46,0) -> 0 | M41: a | N41: b
E42: Orca Angling Club | G42: 13 | H42: 129.3 | I42: 129.3 | M42: a
...

Sheet Clubs
A2: CLUB POSITION | C2: =Individuals!G2 -> NATIONALS DAY 3
C4: =C2 -> NATIONALS DAY 3
B5: Team | C5: Top 6 kg | D5: Top 6 Points | E5: Club Points
A6: 1 | B6: ='TOP6'!E17 -> Henties Bay | C6: ='TOP6'!K17 -> 754.9 | D6: ='TOP6'!L17 -> 0 | E6: 49 | F6: 1
A7: 2 | B7: ='TOP6'!E53 -> Penguin | C7: ='TOP6'!K53 -> 722.8 | D7: ='TOP6'!L53 -> 0 | E7: 50 | F7: 2
A8: 3 | B8: ='TOP6'!E41 -> Orca Angling Club | C8: ='TOP6'!K41 -> 655 | D8: ='TOP6'!L41 -> 0 | E8: 46 | F8: 3
A9: 4 | B9: ='TOP6'!E77 -> Walvis Bay | C9: ='TOP6'!K77 -> 624.4 | D9: ='TOP6'!L77 -> 0 | E9: 45 | F9: 4
A10: 5 | B10: ='TOP6'!E29 -> Namib Park | C10: ='TOP6'!K29 -> 489.1 | D10: ='TOP6'!L29 -> 0 | E10: 44 | F10: 5
A11: 6 | B11: ='TOP6'!E35 -> Okahandja | C11: ='TOP6'!K35 -> 479.2 | D11: ='TOP6'!L35 -> 0 | E11: 42 | F11: 6
A12: 7 | B12: ='TOP6'!E5 -> Atlantic Angling Club | C12: ='TOP6'!K5 -> 454.2 | D12: ='TOP6'!L5 -> 0 | E12: 48 | F12: 7
A13: 8 | B13: ='TOP6'!E23 -> Mako | C13: ='TOP6'!K23 -> 425.6 | D13: ='TOP6'!L23 -> 0 | E13: 47 | F13: 8
A14: 9 | B14: ='TOP6'!E59 -> Seagulls Whk | C14: ='TOP6'!K59 -> 421.3 | D14: ='TOP6'!L59 -> 0 | E14: 38 | F14: 9
A15: 10 | B15: ='TOP6'!E85 -> Welwitschia | C15: ='TOP6'!K85 -> 343.6 | D15: ='TOP6'!L85 -> 0 | E15: 39 | F15: 10
A16: 11 | B16: ='TOP6'!E47 -> Otjiwarongo | C16: ='TOP6'!K47 -> 323.5 | D16: ='TOP6'!L47 -> 0 | E16: 40 | F16: 11
A17: 12 | B17: ='TOP6'!E11 -> Benguella | C17: ='TOP6'!K11 -> 258 | D17: ='TOP6'!L11 -> 0 | E17: 41 | F17: 12
A18: 13 | B18: ='TOP6'!E65 -> Seagulls WVB | C18: ='TOP6'!K65 -> 257.7 | D18: ='TOP6'!L65 -> 0 | E18: 43 | F18: 13
A19: 14 | B19: ='TOP6'!E71 -> Steenbras | C19: ='TOP6'!K71 -> 213.7 | D19: ='TOP6'!L71 -> 0 | E19: 37 | F19: 14
A20: 15
C22: Total 2021 | F22: 1st Interclub | I22: 2nd Interclub | L22: 3rd interclub | O22: 4th interclub | R22: 5th interclub
B23: Team | C23: Top 6 kg | D23: Top 6 Points | E23: Club Points | F23: Top 6 kg | G23: Top 6 Points | H23: Club Points | I23: Top 6 kg | J23: Top 6 Points | K23: Club Points | L23: Top 6 kg | M23: Top 6 Points | N23: Club Points | O23: Top 6 kg | P23: Top 6 Points | Q23: Club Points | R23: Top 6 kg | S23: Top 6 Points | T23: Club Points
A24: 1 | B24: =B6 -> Henties Bay | C24: =SUM(F24,I24,L24,O24,R24) -> 754.9 | D24: =SUM(G24,J24,M24,P24,S24) -> 0 | E24: =SUM(H24,K24,N24,Q24,T24) -> 49 | F24: =C6 -> 754.9 | G24: =D6 -> 0 | H24: =E6 -> 49
A25: 2 | B25: =B7 -> Penguin | C25: =SUM(F25,I25,L25,O25,R25) -> 722.8 | D25: =SUM(G25,J25,M25,P25,S25) -> 0 | E25: =SUM(H25,K25,N25,Q25,T25) -> 50 | F25: =C7 -> 722.8 | G25: =D7 -> 0 | H25: =E7 -> 50
A26: 3 | B26: =B8 -> Orca Angling Club | C26: =SUM(F26,I26,L26,O26,R26) -> 655 | D26: =SUM(G26,J26,M26,P26,S26) -> 0 | E26: =SUM(H26,K26,N26,Q26,T26) -> 46 | F26: =C8 -> 655 | G26: =D8 -> 0 | H26: =E8 -> 46
A27: 4 | B27: =B9 -> Walvis Bay | C27: =SUM(F27,I27,L27,O27,R27) -> 624.4 | D27: =SUM(G27,J27,M27,P27,S27) -> 0 | E27: =SUM(H27,K27,N27,Q27,T27) -> 45 | F27: =C9 -> 624.4 | G27: =D9 -> 0 | H27: =E9 -> 45
A28: 5 | B28: =B10 -> Namib Park | C28: =SUM(F28,I28,L28,O28,R28) -> 489.1 | D28: =SUM(G28,J28,M28,P28,S28) -> 0 | E28: =SUM(H28,K28,N28,Q28,T28) -> 44 | F28: =C10 -> 489.1 | G28: =D10 -> 0 | H28: =E10 -> 44
A29: 6 | B29: =B11 -> Okahandja | C29: =SUM(F29,I29,L29,O29,R29) -> 479.2 | D29: =SUM(G29,J29,M29,P29,S29) -> 0 | E29: =SUM(H29,K29,N29,Q29,T29) -> 42 | F29: =C11 -> 479.2 | G29: =D11 -> 0 | H29: =E11 -> 42
A30: 7 | B30: =B12 -> Atlantic Angling Club | C30: =SUM(F30,I30,L30,O30,R30) -> 454.2 | D30: =SUM(G30,J30,M30,P30,S30) -> 0 | E30: =SUM(H30,K30,N30,Q30,T30) -> 48 | F30: =C12 -> 454.2 | G30: =D12 -> 0 | H30: =E12 -> 48
A31: 8 | B31: =B13 -> Mako | C31: =SUM(F31,I31,L31,O31,R31) -> 425.6 | D31: =SUM(G31,J31,M31,P31,S31) -> 0 | E31: =SUM(H31,K31,N31,Q31,T31) -> 47 | F31: =C13 -> 425.6 | G31: =D13 -> 0 | H31: =E13 -> 47
A32: 9 | B32: =B14 -> Seagulls Whk | C32: =SUM(F32,I32,L32,O32,R32) -> 421.3 | D32: =SUM(G32,J32,M32,P32,S32) -> 0 | E32: =SUM(H32,K32,N32,Q32,T32) -> 38 | F32: =C14 -> 421.3 | G32: =D14 -> 0 | H32: =E14 -> 38
A33: 10 | B33: =B15 -> Welwitschia | C33: =SUM(F33,I33,L33,O33,R33) -> 343.6 | D33: =SUM(G33,J33,M33,P33,S33) -> 0 | E33: =SUM(H33,K33,N33,Q33,T33) -> 39 | F33: =C15 -> 343.6 | G33: =D15 -> 0 | H33: =E15 -> 39
A34: 11 | B34: =B16 -> Otjiwarongo | C34: =SUM(F34,I34,L34,O34,R34) -> 323.5 | D34: =SUM(G34,J34,M34,P34,S34) -> 0 | E34: =SUM(H34,K34,N34,Q34,T34) -> 40 | F34: =C16 -> 323.5 | G34: =D16 -> 0 | H34: =E16 -> 40
A35: 12 | B35: =B17 -> Benguella | C35: =SUM(F35,I35,L35,O35,R35) -> 258 | D35: =SUM(G35,J35,M35,P35,S35) -> 0 | E35: =SUM(H35,K35,N35,Q35,T35) -> 41 | F35: =C17 -> 258 | G35: =D17 -> 0 | H35: =E17 -> 41
... A37: 14 | B37: =B19 -> Steenbras | C37: =SUM(F37,I37,L37,O37,R37) -> 213.7 | D37: =SUM(G37,J37,M37,P37,S37) -> 0 | E37: =SUM(H37,K37,N37,Q37,T37) -> 37 | F37: =C19 -> 213.7 | G37: =D19 -> 0 | H37: =E19 -> 37
A38: 15 | C38: =SUM(F38,I38,L38,O38,R38) -> 0 | D38: =SUM(G38,J38,M38,P38,S38) -> 0 | E38: =SUM(H38,K38,N38,Q38,T38) -> 0

Sheet MenSenior
A2: Competition | B2: (Multiple Items) | C2: =$B$3&" "& Individuals!$D$3 -> (Multiple Items) (All) NATIONALS DAY 3
A3: Status | B3: (Multiple Items) | D3: LEAGUE
A5: ID | B5: Name | C5: Surname | D5: Team | E5: No. Edibles | F5: No. of Inedibles | G5: Total kg | H5: Total Points | I5: Category Points (200)
A6: N0008 | B6: Andre | C6: Coetzee | D6: Namib Park | F6: 13 | G6: 146.2 | H6: 146.2 | I6: 200 | J6: 1
A7: N0190 | B7: Chris Junior | C7: Orffer | D7: Penguin | F7: 9 | G7: 132.1 | H7: 132.1 | I7: =IF(H7=H6,I6,IF(H7=0,ROUNDDOWN(20,0),I6-J6)) -> 199 | J7: =IF(H7<H6,1,IF(H7=H6,J6+1,0)) -> 1 | N7: 1 | O7: Atlantic | Q7: x | R7: x
A8: N0657 | B8: Johannes | C8: Kotze | D8: Okahandja | F8: 13 | G8: 128.1 | H8: 128.1 | I8: =IF(H8=H7,I7,IF(H8=0,ROUNDDOWN(20,0),I7-J7)) -> 198 | J8: =IF(H8<H7,1,IF(H8=H7,J7+1,0)) -> 1 | N8: 2 | O8: Benqualla | Q8: x | R8: x
A9: N0588 | B9: Lourens | C9: Fourie | D9: Henties Bay | F9: 10 | G9: 127.7 | H9: 127.7 | I9: =IF(H9=H8,I8,IF(H9=0,ROUNDDOWN(20,0),I8-J8)) -> 197 | J9: =IF(H9<H8,1,IF(H9=H8,J8+1,0)) -> 1 | N9: 3 | O9: Hentiesbay | Q9: x | R9: x
