Workbook
Name clubl5: Clubs!$B$6:$E$20
Name clubl5: #REF!
Name Clubs: [1]Lists!$A$2:$A$18
Name Clubs: [1]Lists!$A$2:$A$18
Name Clubs: Lists!$A$2:$A$18
Name Edibles: [1]Lists!$F$2:$F$21
Name Edibles: [1]Lists!$F$2:$F$21
Name Edibles: Lists!$F$2:$F$21
Name Fish: #REF!
Name Individuals: #REF!
Name Inedibles: [1]Lists!$I$2:$I$26
Name Inedibles: [1]Lists!$I$2:$I$26
Name Inedibles: Lists!$I$2:$I$26
Name kgList: [1]Lists!$J$2:$AF$261
Name kgList: [1]Lists!$J$2:$AF$261
Name kgList: Lists!$J$2:$AF$261
Name Master: [1]MASTERLIST!$A$5:$E$1000
Name Master: [1]MASTERLIST!$A$5:$E$1000
Name Master: MASTERLIST!$A$5:$E$242
Name Shark: #REF!
Name Status: Lists!$C$2:$C$9

Sheet Lists
A1: Clubs | C1: Status | D1: Scientific Name | E1: Length to measure | F1: Edibles | G1: Scientific Name | H1: Length to measure | I1: Inedibles | K1: length | O1: KgList
A2: Atlantic Angling Club | B2: AAC | C2: Deseased | D2: Diplodus sargus capensis | E2: Fork length | F2: Blacktail | G2: Galeichthys ater | H2: Fork length | I2: Catfish - Sea Black | J2: cm | K2: Blacktail | L2: Galjoen | M2: Kob | N2: Steenbras West Coast | O2: Garrick | P2: Shad | Q2: Redfinger | R2: Shark Copper (Male) | S2: Shark Copper (Female) | T2: Shark Cow / Sevengill | U2: Shark Spotted Gully | V2: Shark Hound Smooth | W2: Shark Soupfin | X2: Guitarfish - Lesser | Y2: Elephantfish | Z2: Ray Blue (Male) | AA2: Ray Blue (Female) | AB2: Ray Bull / Eagle | AC2: Ray Diamond / ButterFly | AD2: Skate Spearnose | AE2: Green Eye Spurdog shark | AF2: Catfish - Sea Black
A3: Benguella | B3: BEN | C3: Ladies Grand Master | F3: Bluefin Gurnard | G3: Galeichthys feliceps | H3: Fork length | I3: Catfish - Sea White | J3: 1
A4: Henties Bay | B4: HEN | C4: Ladies Master | F4: Cape Gurnard | G4: Callorhinchus capensis | H4: Total length | I4: Elephantfish | J4: 2
A5: Mako | B5: MAKO | C5: Ladies Veteran | D5: Dichistius capensis | E5: Total length | F5: Galjoen | G5: Squalus chloroculus | I5: Green Eye Spurdog shark | J5: 3
A6: Namib Park | B6: NPAC | C6: Ladies Senoir | D6: Lichia amia | E6: Fork length | F6: Garrick | G6: Rhinobatos blochii | H6: Total length | I6: Guitarfish - Bluntnose | J6: 4
A7: Okahandja | B7: OKH | C7: Ladies U/21 | F7: Geelbek | G7: Rhinobatos leucospilus | H7: Total length | I7: Guitarfish - Greyspot | J7: 5
A8: Orca Angling Club | B8: ORCA | C8: Ladies U/16 | F8: Grunter - Spotted | G8: Rhinobatos annulatus | H8: Total length | I8: Guitarfish - Lesser | J8: 6
A9: Otjiwarongo | B9: OTJ | C9: Men Grandmasters | D9: Argyrosomus inodorus | E9: Total length | F9: Kob | G9: Dasyatis chrysonota chrysonota | H9: Disc width | I9: Ray Blue (Female) | J9: 7
A10: Penguin | B10: PEN | C10: Men Masters | F10: Lyre Gurnard | G10: Dasyatis chrysonota chrysonota | H10: Disc width | I10: Ray Blue (Male) | J10: 8
A11: Seagulls WHK | B11: SWHK | C11: Men Veterans | F11: Maasbanker | G11: Myliobatus aquila | H11: Disc width | I11: Ray Bull / Eagle | J11: 9
A12: Seagulls WVB | B12: SWVB | C12: Men Senior | F12: Redfinger | G12: Gymnura natalensis | H12: Disc width | I12: Ray Diamond / ButterFly | J12: 10
A13: Skeleton Coast | B13: SKUL | C13: Men U/21 | D13: Pomatomus saltatrix | E13: Fork length | F13: Shad | G13: Pteromylaeus bovinus | H13: Disc width | I13: Ray Duckbill | J13: 11
A14: Steenbras | B14: STEEN | C14: Men U/16 | F14: Steenbras Sand | G14: Carcharhinus brachyurus | H14: Pre-caudal length | I14: Shark Copper (Female) | J14: 12
A15: Walvis Bay | B15: WAL | D15: Lithognathus aureti | E15: Fork length | F15: Steenbras West Coast | G15: Carcharhinus brachyurus | H15: Pre-caudal length | I15: Shark Copper (Male) | J15: 13
A16: Welwitschia | B16: WEL | F16: Steenbras White | G16: Notorynchus cepedianus | H16: Pre-caudal length | I16: Shark Cow / Sevengill | J16: 14
F17: Strepie | G17: Mustelus mustelus | H17: Total length | I17: Shark Hound Smooth | J17: 15
F18: Striped Mullet | G18: Mustelus palumbes | H18: Total length | I18: Shark Hound Whitespotted | J18: 16
F19: Tuna Eastern Little | G19: Galeocerdo cuvier | H19: Pre-caudal length | I19: Shark Ragged Tooth | J19: 17
F20: White Stumpnose | G20: Galeorhinus galeus | H20: Pre-caudal length | I20: Shark Soupfin | J20: 18
F21: Yellowtail amberjack | G21: Triakis megalopterus | H21: Total length | I21: Shark Spotted Gully | J21: 19
G22: Dipturus doutrei | H22: Disc width | I22: Skate - Javelin | J22: 20
G23: Raja clavata | H23: Disc width | I23: Skate - Thornback | J23: 21
G24: Raja alba | H24: Disc width | I24: Skate Spearnose | J24: 23 | K24: 0.3 | Q24: 0
I25: Spiney dogfish Bluntnose | J25: 24 | K25: 0.4 | Q25: 0
I26: Spiney dogfish Spotted | J26: 25 | K26: 0.4 | Q26: 0
I27: Spinner shark - Long nose | J27: 26 | K27: 0.5 | Q27: 0
I28: Tresher Shark | J28: 27 | K28: 0.6 | Q28: 0
J29: 28 | K29: 0.6 | Q29: 0
J30: 29 | K30: 0.7 | Q30: 0
J31: 30 | K31: 0.84160148 | L31: 0.5 | Q31: 0 | AA31: 1.0179249
J32: 31 | K32: 0.9282937 | L32: 0.5 | Q32: 0 | AA32: 1.1324446
J33: 32 | K33: 1.0207335 | L33: 0.6 | N33: 0.7 | Q33: 0 | Z33: 0.95836376 | AA33: 1.2555905
J34: 33 | K34: 1.1191044 | L34: 0.7 | N34: 0.8 | Q34: 0 | Z34: 1.0570748 | AA34: 1.3729856
J35: 34 | K35: 1.22359 | L35: 0.7 | N35: 0.9 | Q35: 0 | Z35: 1.1557858 | AA35: 1.4918184
J36: 35 | K36: 1.3343735 | L36: 0.78195192 | N36: 0.9 | Q36: 0 | Z36: 1.2544969 | AA36: 1.680296
J37: 36 | K37: 1.4516383 | L37: 0.85379096 | N37: 1 | O37: 0.67361769 | Q37: 0 | W37: 1.0020532 | Z37: 1.3532079 | AA37: 1.8414706
J38: 37 | K38: 1.5755678 | L38: 0.92998754 | N38: 1.1 | O38: 0.7258366 | Q38: 0 | W38: 1.0678087 | Z38: 1.451919 | AA38: 2.0136313
J39: 38 | K39: 1.7063452 | L39: 1.0106774 | N39: 1.2 | O39: 0.78054773 | P39: 0.73085122 | Q39: 0 | W39: 1.1335641 | Z39: 1.6569162 | AA39: 2.1960132 | AB39: 0.9628367
J40: 39 | K40: 1.8441537 | L40: 1.0959969 | N40: 1.3 | O40: 0.83779974 | P40: 0.78967185 | Q40: 0 | W40: 1.1993196 | Z40: 1.7998651 | AA40: 2.389526 | AB40: 1.0424834
J41: 40 | K41: 1.9891765 | L41: 1.1860826 | M41: 0.65065738 | N41: 1.4 | O41: 0.89764092 | P41: 0.85155591 | Q41: 0 | W41: 1.2650751 | Z41: 1.9505771 | AA41: 2.5945375 | AB41: 1.127331 | AF41: 0.98692061
J42: 41 | K42: 2.1415966 | L42: 1.2810715 | M42: 0.70137925 | N42: 1.5 | O42: 0.96011925 | P42: 0.91658036 | Q42: 0 | W42: 1.3308306 | Z42: 2.1102279 | AA42: 2.8114178 | AB42: 1.2234013 | AF42: 1.0649112
J43: 42 | K43: 2.3015972 | L43: 1.3811013 | M43: 0.75468867 | N43: 1.6 | O43: 1.0252824 | P43: 0.9848592 | Q43: 0 | W43: 1.396586 | Z43: 2.2786218 | AA43: 3.0405392 | AB43: 1.3194716 | AF43: 1.1469608
J44: 43 | K44: 2.4693612 | L44: 1.4863098 | M44: 0.81065132 | N44: 1.7 | O44: 1.0931776 | P44: 1.0563972 | Q44: 0 | W44: 1.4623415 | Z44: 2.4560121 | AA44: 3.2822764 | AB44: 1.4155418 | AF44: 1.2331764
J45: 44 | K45: 2.6450717 | L45: 1.5968352 | M45: 0.86933292 | N45: 1.8 | O45: 1.1638519 | P45: 1.1313064 | Q45: 0 | R45: 0.9695481 | S45: 0.96756273 | W45: 1.596075 | Z45: 2.6426535 | AA45: 3.5370064 | AB45: 1.5078594 | AF45: 1.3236652
J46: 45 | K46: 2.8289115 | L46: 1.7128163 | M46: 0.93079926 | N46: 1.9 | O46: 1.237352 | P46: 1.2096634 | Q46: 0 | R46: 1.0404588 | S46: 1.0376029 | W46: 1.6844899 | Z46: 2.8388018 | AA46: 3.8051084 | AB46: 1.6151878 | AF46: 1.4185347
J47: 46 | K47: 3.0210635 | L47: 1.8343922 | M47: 0.9951162 | N47: 2.1 | O47: 1.3137244 | P47: 1.2915452 | Q47: 0 | R47: 1.1148248 | S47: 1.1110052 | W47: 1.7842344 | Z47: 3.0447136 | AA47: 4.0869636 | AB47: 1.7 | AF47: 1.5178926
J48: 47 | K48: 3.2217107 | L48: 1.9617021 | M48: 1.0623496 | N48: 2.2 | O48: 1.3930151 | P48: 1.3770283 | Q48: 0 | R48: 1.1927338 | S48: 1.1878527 | W48: 1.8839789 | Z48: 3.2606469 | AA48: 4.3829555 | AB48: 1.8 | AF48: 1.6218466
J49: 48 | K49: 3.4310357 | L49: 2.0948861 | M49: 1.1325656 | N49: 2.4 | O49: 1.4752701 | P49: 1.4661896 | Q49: 0 | R49: 1.2742739 | S49: 1.2682285 | W49: 1.9530418 | Z49: 3.4868606 | AA49: 4.6934697 | AB49: 2 | AC49: 0.96047262 | AF49: 1.7305048
J50: 49 | L50: 2.2340841 | M50: 1.20583 | N50: 2.5 | O50: 1.5605349 | P50: 1.5591058 | Q50: 0 | R50: 1.3595333 | S50: 1.3522162 | W50: 2.0487272 | Z50: 3.7236145 | AA50: 5.0188938 | AB50: 2.1 | AC50: 1.0285084 | AF50: 1.8439754
J51: 50 | L51: 2.3794367 | M51: 1.2822089 | N51: 2.7 | O51: 1.6488549 | P51: 1.6558534 | Q51: 0 | R51: 1.4486005 | S51: 1.4398992 | W51: 2.1470246 | Y51: 0.99625 | Z51: 3.9711696 | AA51: 5.3596174 | AB51: 2.2 | AC51: 1.0965443 | AD51: 1 | AF51: 1.9623668
J52: 51 | L52: 2.5310848 | M52: 1.3617686 | N52: 2.8 | O52: 1.7402751 | P52: 1.756509 | Q52: 0 | R52: 1.5415644 | S52: 1.5313614 | W52: 2.2435806 | Y52: 1.0572285 | Z52: 4.2297878 | AA52: 5.7160322 | AB52: 2.4 | AC52: 1.1645801 | AD52: 1.1 | AF52: 2.0857875
J53: 52 | L53: 2.6891695 | M53: 1.4445752 | N53: 3 | O53: 1.8348403 | P53: 1.8611493 | Q53: 0 | R53: 1.6385139 | S53: 1.6266868 | W53: 2.340572 | Y53: 1.1206458 | Z53: 4.499732 | AA53: 6.0885318 | AB53: 2.5 | AC53: 1.2266098 | AD53: 1.1 | AF53: 2.2143462
J54: 53 | L54: 2.8538324 | M54: 1.5306949 | N54: 3.1 | O54: 1.9325953 | P54: 1.9698509 | Q54: 0 | R54: 1.7395385 | S54: 1.7259596 | T54: 1.0148951 | W54: 2.457758 | Y54: 1.1865497 | Z54: 4.7812662 | AA54: 6.4775119 | AB54: 2.7 | AC54: 1.3060911 | AD54: 1.2 | AF54: 2.348152
J55: 54 | L55: 3.0252152 | M55: 1.620194 | N55: 3.3 | O55: 2.0335842 | P55: 2.0826902 | Q55: 0 | R55: 1.8447276 | S55: 1.829264 | T55: 1.1726034 | W55: 2.5666711 | Y55: 1.2549881 | Z55: 5.074655 | AA55: 6.8833698 | AB55: 2.8 | AC55: 1.3855723 | AD55: 1.3 | AF55: 2.4873137
J56: 55 | L56: 3.2034603 | M56: 1.7131388 | N56: 3.5 | O56: 2.1378513 | P56: 2.1997437 | Q56: 0 | R56: 1.954171 | S56: 1.9366847 | T56: 1.3303117 | W56: 2.6755841 | Y56: 1.3260087 | Z56: 5.3801642 | AA56: 7.306505 | AB56: 3 | AC56: 1.4650536 | AD56: 1.3 | AF56: 2.6319408
J57: 56 | L57: 3.3887099 | M57: 1.8095958 | N57: 3.7 | O57: 2.2454404 | P57: 2.3210879 | Q57: 0 | R57: 2.0679586 | S57: 2.0483062 | T57: 1.48802 | W57: 2.7844972 | Y57: 1.3996595 | Z57: 5.6980605 | AA57: 7.7473187 | AB57: 3.2 | AC57: 1.5 | AD57: 1.4 | AF57: 2.7821425
J58: 57 | L58: 3.581107 | M58: 1.9096314 | N58: 3.9 | O58: 2.3563953 | P58: 2.4467992 | Q58: 0 | R58: 2.1861809 | S58: 2.1642134 | T58: 1.6457283 | W58: 2.9096408 | Y58: 1.4759882 | Z58: 6.0286114 | AA58: 8.206214 | AB58: 3.3 | AC58: 1.6 | AD58: 1.5 | AF58: 2.9380285
J59: 58 | L59: 3.7807947 | M59: 2.013312 | N59: 4.1 | O59: 2.4707594 | P59: 2.5769541 | Q59: 0 | R59: 2.3089281 | S59: 2.2844915 | T59: 1.8034366 | W59: 3.0185539 | Y59: 1.5550426 | Z59: 6.3720854 | AA59: 8.6835958 | AB59: 3.5 | AC59: 1.7 | AD59: 1.6 | AF59: 3.0997085
J60: 59 | L60: 3.9879162 | M60: 2.1207042 | N60: 4.3 | O60: 2.5885759 | P60: 2.7116289 | Q60: 0 | R60: 2.436291 | S60: 2.4092255 | T60: 1.9611449 | W60: 3.1323361 | Y60: 1.6368706 | Z60: 6.7287518 | AA60: 9.1798708 | AB60: 3.7 | AC60: 1.8 | AD60: 1.7 | AF60: 3.2672923
J61: 60 | L61: 4.2026154 | M61: 2.2318746 | N61: 4.5 | O61: 2.7098879 | P61: 2.8509 | Q61: 0 | R61: 2.5683605 | S61: 2.5385008 | T61: 2.1188532 | W61: 3.2461184 | Y61: 1.72152 | Z61: 7.0988808 | AA61: 9.6954474 | AB61: 3.9 | AC61: 1.9 | AD61: 1.8 | AF61: 3.4408899
J62: 61 | L62: 4.4250363 | M62: 2.3468897 | N62: 4.8 | O62: 2.8347383 | P62: 2.9948437 | Q62: 0 | R62: 2.7052277 | S62: 2.6724029 | T62: 2.2765615 | W62: 3.3599006 | Y62: 1.8090386 | Z62: 7.4827434 | AA62: 10.230736 | AB62: 4.1 | AC62: 2 | AD62: 1.9 | AF62: 3.6206116
J63: 62 | L63: 4.655323 | M63: 2.4658163 | N63: 5 | O63: 2.9631697 | P63: 3.1435364 | Q63: 0 | R63: 2.846984 | S63: 2.8110174 | T63: 2.4342698 | W63: 3.5362877 | Y63: 1.8994742 | Z63: 7.8806116 | AA63: 10.786148 | AB63: 4.3 | AC63: 2.1 | AD63: 2 | AF63: 3.8065677
J64: 63 | L64: 4.8936202 | M64: 2.5887211 | N64: 5.2 | O64: 3.0952246 | P64: 3.2970543 | Q64: 0 | R64: 2.9937209 | S64: 2.9544303 | T64: 2.5919781 | W64: 3.670007 | Y64: 1.9928746 | Z64: 8.292758 | AA64: 11.362097 | AB64: 4.5 | AC64: 2.2 | AD64: 2.1 | AF64: 3.9988686
J65: 64 | L65: 5.1400728 | M65: 2.7156707 | N65: 5.5 | O65: 3.2309452 | P65: 3.4554736 | Q65: 0 | R65: 3.1455303 | S65: 3.1027275 | T65: 2.7496864 | W65: 3.8037262 | X65: 0.90796475 | Y65: 2.0892877 | Z65: 8.7194561 | AA65: 11.958999 | AB65: 4.7 | AC65: 2.3 | AD65: 2.2 | AF65: 4.1976249
J66: 65 | L66: 5.3948258 | M66: 2.8467321 | N66: 5.7 | O66: 3.3703738 | P66: 3.6188707 | Q66: 0 | R66: 3.3025039 | S66: 3.255995 | T66: 2.9073947 | U66: 0.98816706 | W66: 3.9374454 | X66: 0.95381995 | Y66: 2.1887612 | Z66: 9.1609804 | AA66: 12.577271 | AB66: 5 | AC66: 2.4 | AD66: 2.3 | AF66: 4.4029474
J67: 66 | L67: 5.6580246 | M67: 2.9819719 | N67: 6 | O67: 3.513552 | P67: 3.7873216 | Q67: 0 | R67: 3.4647341 | S67: 3.4143192 | T67: 3.0659975 | U67: 1.0413009 | W67: 4.0711646 | X67: 0.99967514 | Y67: 2.2913431 | Z67: 9.6176059 | AA67: 13.217331 | AB67: 5.2 | AC67: 2.6 | AD67: 2.4 | AE67: 0.98816706 | AF67: 4.6149469
J68: 67 | L68: 5.9298149 | M68: 3.1214572 | N68: 6.3 | O68: 3.6605219 | P68: 3.9609027 | Q68: 0 | R68: 3.6323132 | S68: 3.5777865 | T68: 3.2210225 | U68: 1.0964278 | W68: 4.2048838 | X68: 1.0502458 | Y68: 2.3970811 | Z68: 10.089609 | AA68: 13.879599 | AB68: 5.5 | AC68: 2.7 | AD68: 2.5 | AE68: 1.0413009 | AF68: 4.8337346
J69: 68 | L69: 6.2103426 | M69: 3.2652548 | N69: 6.6 | O69: 3.8113247 | P69: 4.13969 | Q69: 0 | R69: 3.8053337 | S69: 3.7464834 | T69: 3.3814141 | U69: 1.150226 | V69: 0.95651425 | W69: 4.3813469 | X69: 1.0913855 | Y69: 2.506023 | Z69: 10.577265 | AA69: 14.564497 | AB69: 5.7 | AC69: 2.8 | AD69: 2.6 | AE69: 1.0964278 | AF69: 5.0594215
J70: 69 | L70: 6.4997539 | M70: 3.4134317 | N70: 6.8 | O70: 3.9660021 | P70: 4.3237597 | Q70: 0 | R70: 3.9838885 | S70: 3.9204967 | T70: 3.5472749 | U70: 1.2043564 | V70: 1.0066815 | W70: 4.5322616 | X70: 1.1531485 | Y70: 2.6182167 | Z70: 11.080853 | AA70: 15.272449 | AB70: 6 | AC70: 2.9 | AD70: 2.7 | AE70: 1.150226 | AF70: 5.292119
J71: 70 | L71: 6.7981953 | M71: 3.5660549 | N71: 7.1 | O71: 4.1245951 | P71: 4.5131879 | Q71: 0 | R71: 4.1680704 | S71: 4.0999131 | T71: 3.6959363 | U71: 1.2584868 | V71: 1.0587008 | W71: 4.6831764 | X71: 1.2149115 | Y71: 2.73371 | Z71: 11.600651 | AA71: 16.003879 | AB71: 6.2 | AC71: 3 | AD71: 2.9 | AE71: 1.2043564 | AF71: 5.5319385
J72: 71 | L72: 7.1058134 | M72: 3.7231914 | N72: 7.5 | O72: 4.2871449 | P72: 4.7080508 | Q72: 0 | R72: 4.3579727 | S72: 4.2848197 | T72: 3.8536446 | U72: 1.3126172 | V72: 1.1126128 | W72: 4.8340911 | X72: 1.2766744 | Y72: 2.8525507 | Z72: 12.136937 | AA72: 16.759214 | AB72: 6.5 | AC72: 3.2 | AD72: 3.0333333 | AE72: 1.2584868 | AF72: 5.7789915
J73: 72 | L73: 7.4227552 | M73: 3.8849083 | N73: 7.8 | O73: 4.4536924 | P73: 4.9084243 | Q73: 0 | R73: 4.5536886 | S73: 4.4753036 | T73: 4.0787066 | U73: 1.3667476 | V73: 1.1684581 | W73: 4.9850058 | X73: 1.3384374 | Y73: 2.9747866 | Z73: 12.689992 | AA73: 17.538883 | AB73: 6.8 | AC73: 3.3 | AD73: 3.1833333 | AE73: 1.3126172 | AF73: 6.0333897
J74: 73 | L74: 7.749168 | M74: 4.0512727 | N74: 8.1 | O74: 4.6242783 | P74: 5.1143846 | Q74: 0 | R74: 4.7553117 | S74: 4.6714521 | T74: 4.2588662 | U74: 1.420878 | V74: 1.2262778 | W74: 5.1359205 | X74: 1.4002003 | Y74: 3.1004655 | Z74: 13.260095 | AA74: 18.343314 | AB74: 7.1 | AC74: 3.5 | AD74: 3.3333333 | AE74: 1.3667476 | AF74: 6.295245
J75: 74 | L75: 8.085199 | M75: 4.2223518 | N75: 8.4 | O75: 4.7989431 | P75: 5.3260076 | Q75: 0 | R75: 4.9629357 | S75: 4.8733524 | T75: 4.4502514 | U75: 1.4750084 | V75: 1.2861131 | W75: 5.2868353 | X75: 1.4619633 | Y75: 3.2296353 | Z75: 13.847528 | AA75: 19.172938 | AB75: 7.4 | AC75: 3.6 | AD75: 3.4833333 | AE75: 1.420878 | AF75: 6.5646692
J76: 75 | L76: 8.4309962 | M76: 4.3982127 | N76: 8.8 | O76: 4.9777274 | P76: 5.5433694 | Q76: 0 | R76: 5.1766545 | S76: 5.0810922 | T76: 4.6631007 | U76: 1.6144539 | V76: 1.3429456 | W76: 5.4994146 | X76: 1.5237263 | Y76: 3.3623437 | Z76: 14.452573 | AA76: 20.028189 | AB76: 7.7 | AC76: 3.4 | AD76: 3.6333333 | AE76: 1.4750084 | AF76: 6.8417744
J77: 76 | L77: 8.7867073 | M77: 4.5789227 | N77: 9.1 | O77: 5.1606714 | P77: 5.766546 | Q77: 0 | R77: 5.396562 | S77: 5.2947591 | T77: 4.8616406 | U77: 1.6970227 | V77: 1.4007777 | W77: 5.6710067 | X77: 1.5854892 | Y77: 3.4986387 | Z77: 15.075513 | AA77: 20.909501 | AB77: 8 | AC77: 3.5 | AD77: 3.7833333 | AE77: 1.6144539 | AF77: 7.1266728
J78: 77 | L78: 9.1524805 | M78: 4.7645489 | N78: 9.5 | O78: 5.3478152 | P78: 5.9956134 | Q78: 0 | R78: 5.6227527 | S78: 5.5144408 | T78: 5.0637579 | U78: 1.7938107 | V78: 1.4586098 | W78: 5.8425987 | X78: 1.6472522 | Y78: 3.638568 | Z78: 15.716631 | AA78: 21.817308 | AB78: 8.4 | AC78: 3.6 | AD78: 3.9333333 | AE78: 1.6970227 | AF78: 7.4194767
J79: 78 | L79: 9.5284643 | M79: 4.9551588 | N79: 9.8 | O79: 5.5391989 | P79: 6.2306474 | Q79: 0 | R79: 5.8553208 | S79: 5.7402253 | T79: 5.2658751 | U79: 1.8905986 | V79: 1.5164419 | W79: 6.0141908 | X79: 1.7090152 | Y79: 3.7821794 | Z79: 16.37621 | AA79: 22.752047 | AB79: 8.7 | AD79: 4 | AE79: 1.7938107 | AF79: 7.7202985
J80: 79 | L80: 9.9148072 | M80: 5.1508197 | N80: 10.2 | O80: 5.7348622 | P80: 6.4717241 | Q80: 0 | R80: 6.094361 | S80: 5.9722006 | T80: 5.4679924 | U80: 1.9294637 | V80: 1.574274 | W80: 6.1857829 | X80: 1.7707781 | Y80: 3.9295208 | Z80: 17.054536 | AA80: 23.714158 | AB80: 9 | AD80: 4.2333333 | AE80: 1.8905986 | AF80: 8.0292507
J81: 80 | L81: 10.311658 | M81: 5.3515988 | N81: 10.6 | O81: 5.934845 | P81: 6.7189192 | Q81: 0 | R81: 6.339968 | S81: 6.2104549 | T81: 5.7667845 | U81: 2.0141958 | V81: 1.6898047 | W81: 6.3573749 | X81: 1.8325411 | Y81: 4.08064 | Z81: 17.751894 | AA81: 24.704079 | AB81: 9.4 | AD81: 4.3833333 | AE81: 1.9294637 | AF81: 8.3464461
J82: 81 | L82: 10.719166 | M82: 5.5575636 | N82: 11 | O82: 6.1391867 | P82: 6.9723088 | Q82: 0 | R82: 6.5922368 | S82: 6.4550763 | T82: 6.0066099 | U82: 2.1018921 | V82: 1.7668696 | W82: 6.574302 | X82: 1.894304 | Y82: 4.2355848 | Z82: 18.46857 | AA82: 25.722253 | AB82: 9.8 | AD82: 4.6 | AE82: 2.0141958 | AF82: 8.6719973
J83: 82 | L83: 11.137481 | M83: 5.7687816 | N83: 11.4 | O83: 6.3479269 | P83: 7.2319687 | Q83: 0 | R83: 6.8512624 | S83: 6.7061534 | T83: 6.2532818 | U83: 2.19226 | V83: 1.853551 | W83: 6.7307824 | X83: 1.9922866 | Y83: 4.394403 | Z83: 19.204851 | AA83: 26.769121 | AB83: 10.1 | AD83: 4.7 | AE83: 2.1018921 | AF83: 9.0060172
J84: 83 | L84: 11.566751 | M84: 5.9853202 | N84: 11.8 | O84: 6.5611047 | P84: 7.4979748 | Q84: 0 | R84: 7.1171401 | S84: 6.9637746 | T84: 6.5069086 | U84: 2.2853466 | V84: 1.9222952 | W84: 6.957007 | X84: 2.0705804 | Y84: 4.5571424 | Z84: 19.961023 | AA84: 27.845127 | AB84: 10.5 | AD84: 4.9 | AE84: 2.19226 | AF84: 9.3486188
J85: 84 | L85: 12.007128 | M85: 6.2072468 | N85: 12.2 | O85: 6.7787594 | P85: 7.7704028 | Q85: 0 | R85: 7.3899653 | S85: 7.2280286 | T85: 6.7675991 | U85: 2.3811997 | V85: 2.0100813 | W85: 7.1529907 | X85: 2.1509578 | Y85: 4.7238509 | Z85: 20.737376 | AA85: 28.950717 | AB85: 10.9 | AD85: 5.1 | AE85: 2.2853466 | AF85: 9.6999153
J86: 85 | L86: 12.458759 | M86: 6.4346291 | N86: 12.7 | O86: 7.0009301 | P86: 8.0493286 | Q86: 0 | R86: 7.6698337 | S86: 7.4990041 | T86: 7.0354623 | U86: 2.4798669 | V86: 2.0950389 | W86: 7.3520779 | X86: 2.2334485 | Y86: 4.8945762 | Z86: 21.534198 | AA86: 30.086337 | AB86: 11.3 | AD86: 5.3 | AE86: 2.3811997 | AF86: 10.06002
J87: 86 | L87: 12.921797 | M87: 6.6675346 | N87: 13.1 | O87: 7.2276555 | P87: 8.334828 | Q87: 0 | R87: 7.956841 | S87: 7.7767901 | T87: 7.3106078 | U87: 2.5813965 | V87: 2.1825302 | W87: 7.5490962 | X87: 2.3180822 | Y87: 5.0693663 | Z87: 22.351778 | AA87: 31.252436 | AB87: 11.7 | AD87: 5.5 | AE87: 2.4798669 | AF87: 10.429046
J88: 87 | L88: 13.396391 | M88: 6.9060309 | N88: 13.6 | O88: 7.4589746 | Q88: 0 | R88: 8.251083 | S88: 8.0614753 | T88: 7.5931453 | U88: 2.6858365 | V88: 2.2726002 | W88: 7.7466316 | X88: 2.4048887 | Y88: 5.2482689 | Z88: 23.190405 | AA88: 32.449462 | AB88: 12.1 | AD88: 5.7 | AE88: 2.5813965 | AF88: 10.807106
J89: 88 | L89: 13.882692 | M89: 7.1501855 | N89: 14 | O89: 7.694926 | Q89: 0 | R89: 8.5526559 | S89: 8.3531491 | T89: 7.8831852 | U89: 2.7932356 | V89: 2.3652937 | W89: 7.9441671 | X89: 2.4938978 | Y89: 5.4313318 | Z89: 24.050372 | AA89: 33.677867 | AB89: 12.6 | AD89: 5.9 | AE89: 2.6858365 | AF89: 11.194315
J90: 89 | L90: 14.38085 | M90: 7.4000662 | N90: 14.5 | O90: 7.9355482 | Q90: 0 | R90: 8.8616558 | S90: 8.6519006 | T90: 8.1808378 | U90: 2.9036427 | V90: 2.4606562 | W90: 8.1796944 | X90: 2.5851395 | Y90: 5.6186029 | Z90: 24.931968 | AA90: 34.938101 | AB90: 13 | AD90: 6.1 | AE90: 2.7932356 | AF90: 11.590786
J91: 90 | L91: 14.891018 | M91: 7.6557407 | N91: 15 | O91: 8.1808797 | Q91: 0 | R91: 9.1781791 | S91: 8.957819 | T91: 8.4862143 | U91: 3.0171066 | V91: 2.5587331 | W91: 8.4 | X91: 2.6786436 | Y91: 5.81013 | Z91: 25.835486 | AA91: 36.230619 | AB91: 13.5 | AD91: 6.3 | AE91: 2.9036427 | AF91: 11.996632
J92: 91 | M92: 7.9172766 | N92: 15.5 | O92: 8.4309587 | Q92: 0 | R92: 9.5023225 | S92: 9.2709939 | T92: 8.7994257 | U92: 3.1336766 | V92: 2.6595703 | W92: 8.6 | X92: 2.7744403 | Y92: 6.0059609 | Z92: 26.761218 | AA92: 37.555875 | AB92: 13.9 | AD92: 6.6 | AE92: 3.0171066 | AF92: 12.411968
J93: 92 | M93: 8.1847418 | N93: 16 | O93: 8.6858234 | Q93: 0 | R93: 9.8341824 | S93: 9.5915148 | T93: 9.1205838 | U93: 3.2534023 | V93: 2.7632139 | W93: 8.8 | X93: 2.8725596 | Y93: 6.2061434 | Z93: 27.709457 | AA93: 38.914324 | AB93: 14.4 | AD93: 6.8 | AE93: 3.1336766 | AF93: 12.836908
J94: 93 | M94: 8.4582039 | N94: 16.5 | O94: 8.945512 | Q94: 0 | R94: 10.173856 | S94: 9.9194714 | T94: 9.4498004 | U94: 3.3763334 | V94: 2.8697102 | W94: 9.1 | X94: 2.9730316 | Y94: 6.4107253 | Z94: 28.680497 | AA94: 40.306424 | AB94: 14.9 | AD94: 7 | AE94: 3.2534023 | AF94: 13.271564
J95: 94 | M95: 8.7377308 | N95: 17 | O95: 9.2100623 | Q95: 0 | R95: 10.52144 | S95: 10.254953 | T95: 9.7871878 | U95: 3.5025198 | V95: 2.9791058 | W95: 9.3 | X95: 3.0758867 | Y95: 6.6197545 | Z95: 29.674632 | AA95: 41.732633 | AB95: 15.4 | AD95: 7.3 | AE95: 3.3763334 | AF95: 13.716053
J96: 95 | M96: 9.0233904 | N96: 17.6 | O96: 9.4795122 | Q96: 0 | R96: 10.877031 | S96: 10.59805 | T96: 10.132859 | U96: 3.6320117 | V96: 3.0914474 | W96: 9.5 | X96: 3.1811549 | Y96: 6.8332787 | Z96: 30.692157 | AA96: 43.19341 | AB96: 15.9 | AD96: 7.5 | AE96: 3.5025198 | AF96: 14.170487
J97: 96 | M97: 9.3152504 | N97: 18.1 | O97: 9.7538995 | Q97: 0 | R97: 11.240727 | S97: 10.948853 | T97: 10.486926 | U97: 3.7648597 | V97: 3.2067822 | W97: 9.8 | X97: 3.2888667 | Y97: 7.0513459 | Z97: 31.733367 | AA97: 44.689217 | AB97: 16.4 | AD97: 7.8 | AE97: 3.6320117 | AF97: 14.634982
J98: 97 | M98: 9.6133789 | N98: 18.7 | O98: 10.033262 | Q98: 0 | R98: 11.612626 | S98: 11.307451 | T98: 10.849503 | U98: 3.9011142 | V98: 3.3251575 | W98: 10 | X98: 3.3990525 | Y98: 7.2740038 | Z98: 32.798558 | AA98: 46.220514 | AB98: 16.9 | AD98: 8 | AE98: 3.7648597 | AF98: 15.109651
J99: 98 | M99: 9.9178436 | N99: 19.2 | O99: 10.317636 | Q99: 0 | R99: 11.992824 | S99: 11.673934 | T99: 11.220704 | U99: 4.0408262 | V99: 3.4466208 | W99: 10.2 | X99: 3.5117426 | Y99: 7.5013002 | Z99: 33.888026 | AA99: 47.787766 | AB99: 17.5 | AD99: 8.3 | AE99: 3.9011142 | AF99: 15.594609
J100: 99 | M100: 10.228713 | N100: 19.8 | O100: 10.607061 | Q100: 0 | R100: 12.38142 | S100: 12.048393 | T100: 11.600641 | U100: 4.1840468 | V100: 3.57122 | W100: 10.5 | X100: 3.6269676 | Y100: 7.733283 | Z100: 35.00207 | AA100: 49.391436 | AB100: 18 | AD100: 8.6 | AE100: 4.0408262 | AF100: 16.089972
...

Sheet MASTERLIST
A1: Only complete Black areas on sheet
B2: MASTER ANGLERS LIST
A4: Number | B4: Club | C4: Name | D4: Surname | E4: Status | F4: DOB | G4: Date Today | H4: Age | J4: Gender | K4: ID Number | L4: Nationality
A5: N0001 | B5: Mako | C5: Philip | D5: Swartz | E5: Men U/16 | F5: 40618 | G5: 44561 | H5: =INT(YEARFRAC(F5,G5)) -> 10 | I5: =IF(H5="","Senior",IF(H5>59.999,"Grand Masters",IF(H5>49.999,"Master",IF(H5>39.999,"Veteran",IF(H5>21.999,"Senior",IF(H5>16.999,"U/21","U/16")))))) -> U/16 | J5: Men | L5: Nam
A6: N0844 | B6: Okahandja | C6: Heiko Jnr | D6: Doll | E6: Men U/16 | F6: 40312 | G6: =$G$5 -> 44561 | H6: =INT(YEARFRAC(F6,G6)) -> 11 | I6: =IF(H6="","Senior",IF(H6>59.999,"Grand Masters",IF(H6>49.999,"Master",IF(H6>39.999,"Veteran",IF(H6>21.999,"Senior",IF(H6>16.999,"U/21","U/16")))))) -> U/16 | J6: Men | K6: 75080500042 | L6: Nam
A7: N0531 | B7: Mako | C7: Rudi(Jnr.) | D7: Swartz | E7: Men U/16 | F7: 39066 | G7: =$G$5 -> 44561 | H7: =INT(YEARFRAC(F7,G7)) -> 15 | I7: =IF(H7="","Senior",IF(H7>59.999,"Grand Masters",IF(H7>49.999,"Master",IF(H7>39.999,"Veteran",IF(H7>21.999,"Senior",IF(H7>16.999,"U/21","U/16")))))) -> U/16 | J7: Men | K7: 86111600125 | L7: Nam
A8: N0178 | B8: Penguin | C8: Devon | D8: Burger | E8: Men U/16 | F8: 38698 | G8: =$G$5 -> 44561 | H8: =INT(YEARFRAC(F8,G8)) -> 16 | I8: =IF(H8="","Senior",IF(H8>59.999,"Grand Masters",IF(H8>49.999,"Master",IF(H8>39.999,"Veteran",IF(H8>21.999,"Senior",IF(H8>16.999,"U/21","U/16")))))) -> U/16 | J8: Men | K8: 58112200165 | L8: Nam
A9: N0501 | B9: Otjiwarongo | C9: Otto | D9: Feyerabend | E9: Men U/16 | F9: 38682 | G9: =$G$5 -> 44561 | H9: =INT(YEARFRAC(F9,G9)) -> 16 | I9: =IF(H9="","Senior",IF(H9>59.999,"Grand Masters",IF(H9>49.999,"Master",IF(H9>39.999,"Veteran",IF(H9>21.999,"Senior",IF(H9>16.999,"U/21","U/16")))))) -> U/16 | J9: Men | K9: 91021900583 | L9: Nam
A10: N0774 | B10: Walvis Bay | C10: Francois Jnr | D10: Wolfaardt | E10: Men U/16 | F10: 38434 | G10: =$G$5 -> 44561 | H10: =INT(YEARFRAC(F10,G10)) -> 16 | I10: =IF(H10="","Senior",IF(H10>59.999,"Grand Masters",IF(H10>49.999,"Master",IF(H10>39.999,"Veteran",IF(H10>21.999,"Senior",IF(H10>16.999,"U/21","U/16")))))) -> U/16 | J10: Men | K10: 84102010033 | L10: Nam
A11: N0124 | B11: Walvis Bay | C11: Stefan Jnr | D11: Du Preez | E11: Men U/16 | F11: 38105 | G11: =$G$5 -> 44561 | H11: =INT(YEARFRAC(F11,G11)) -> 17 | I11: =IF(H11="","Senior",IF(H11>59.999,"Grand Masters",IF(H11>49.999,"Master",IF(H11>39.999,"Veteran",IF(H11>21.999,"Senior",IF(H11>16.999,"U/21","U/16")))))) -> U/21 | J11: Men | K11: 67011410031 | L11: Nam
A12: N0307 | B12: Henties Bay | C12: Herman | D12: Krauze | E12: Men U/16 | F12: 38026 | G12: =$G$5 -> 44561 | H12: =INT(YEARFRAC(F12,G12)) -> 17 | I12: =IF(H12="","Senior",IF(H12>59.999,"Grand Masters",IF(H12>49.999,"Master",IF(H12>39.999,"Veteran",IF(H12>21.999,"Senior",IF(H12>16.999,"U/21","U/16")))))) -> U/21 | J12: Men | K12: 80040210723 | L12: Nam
A13: N0177 | B13: Penguin | C13: Corne | D13: Burger | E13: Men U/16 | F13: 37971 | G13: =$G$5 -> 44561 | H13: =INT(YEARFRAC(F13,G13)) -> 18 | I13: =IF(H13="","Senior",IF(H13>59.999,"Grand Masters",IF(H13>49.999,"Master",IF(H13>39.999,"Veteran",IF(H13>21.999,"Senior",IF(H13>16.999,"U/21","U/16")))))) -> U/21 | J13: Men | K13: 83110110075 | L13: Nam
A14: N0495 | B14: Walvis Bay | C14: Eduard | D14: Janse van Rensburg | E14: Men U/16 | F14: 37924 | G14: =$G$5 -> 44561 | H14: =INT(YEARFRAC(F14,G14)) -> 18 | I14: =IF(H14="","Senior",IF(H14>59.999,"Grand Masters",IF(H14>49.999,"Master",IF(H14>39.999,"Veteran",IF(H14>21.999,"Senior",IF(H14>16.999,"U/21","U/16")))))) -> U/21 | J14: Men | K14: 741112500052 | L14: Nam
A15: N0860 | B15: Benguella | C15: Adrian | D15: Steenkamp | E15: Men U/16 | F15: 37877 | G15: =$G$5 -> 44561 | H15: =INT(YEARFRAC(F15,G15)) -> 18 | I15: =IF(H15="","Senior",IF(H15>59.999,"Grand Masters",IF(H15>49.999,"Master",IF(H15>39.999,"Veteran",IF(H15>21.999,"Senior",IF(H15>16.999,"U/21","U/16")))))) -> U/21 | J15: Men | K15: 580818000916 | L15: Nam
A16: N0769 | B16: Atlantic Angling Club | C16: Sven | D16: Welzig | E16: Men U/16 | F16: 37703 | G16: =$G$5 -> 44561 | H16: =INT(YEARFRAC(F16,G16)) -> 18 | I16: =IF(H16="","Senior",IF(H16>59.999,"Grand Masters",IF(H16>49.999,"Master",IF(H16>39.999,"Veteran",IF(H16>21.999,"Senior",IF(H16>16.999,"U/21","U/16")))))) -> U/21 | J16: Men | K16: 78110710131 | L16: Nam
A17: N0644 | B17: Namib Park | C17: Mark | D17: Van Der Merwe | E17: Men U/16 | F17: 37685 | G17: =$G$5 -> 44561 | H17: =INT(YEARFRAC(F17,G17)) -> 18 | I17: =IF(H17="","Senior",IF(H17>59.999,"Grand Masters",IF(H17>49.999,"Master",IF(H17>39.999,"Veteran",IF(H17>21.999,"Senior",IF(H17>16.999,"U/21","U/16")))))) -> U/21 | J17: Men | K17: 68101800654 | L17: Nam
... A24: N0757 | B24: Walvis Bay | C24: Brandon | D24: Grane | E24: Men U/21 | F24: 36728 | G24: =$G$5 -> 44561 | H24: =INT(YEARFRAC(F24,G24)) -> 21 | I24: =IF(H24="","Senior",IF(H24>59.999,"Grand Masters",IF(H24>49.999,"Master",IF(H24>39.999,"Veteran",IF(H24>21.999,"Senior",IF(H24>16.999,"U/21","U/16")))))) -> U/21 | J24: Men | K24: 94112701055 | L24: Nam
A25: N0627 | B25: Walvis Bay | C25: Justin | D25: Smith | E25: =CONCATENATE(J25," ",I25) -> Men U/21 | F25: 36535 | G25: =$G$5 -> 44561 | H25: =INT(YEARFRAC(F25,G25)) -> 21 | I25: =IF(H25="","Senior",IF(H25>59.999,"Grand Masters",IF(H25>49.999,"Master",IF(H25>39.999,"Veteran",IF(H25>21.999,"Senior",IF(H25>16.999,"U/21","U/16")))))) -> U/21 | J25: Men | K25: 77051100327 | L25: Nam
A26: N0687 | B26: Penguin | C26: Barren | D26: Van Es | E26: Men U/21 | F26: 36199 | G26: =$G$5 -> 44561 | H26: =INT(YEARFRAC(F26,G26)) -> 22 | I26: =IF(H26="","Senior",IF(H26>59.999,"Grand Masters",IF(H26>49.999,"Master",IF(H26>39.999,"Veteran",IF(H26>21.999,"Senior",IF(H26>16.999,"U/21","U/16")))))) -> Senior | J26: Men | K26: 80041810260 | L26: Nam
A27: N0790 | B27: Seagull Angling Club Inland | C27: Ivan | D27: Kotze | E27: Men Seniors | F27: 35873 | G27: =$G$5 -> 44561 | H27: =INT(YEARFRAC(F27,G27)) -> 23 | I27: =IF(H27="","Senior",IF(H27>59.999,"Grand Masters",IF(H27>49.999,"Master",IF(H27>39.999,"Veteran",IF(H27>21.999,"Senior",IF(H27>16.999,"U/21","U/16")))))) -> Senior | J27: Men | K27: 69010200140 | L27: Nam
A28: N0729 | B28: Seagull Angling Club Coastal | C28: Gert | D28: Visage | E28: Men Seniors | F28: 35870 | G28: =$G$5 -> 44561 | H28: =INT(YEARFRAC(F28,G28)) -> 23 | I28: =IF(H28="","Senior",IF(H28>59.999,"Grand Masters",IF(H28>49.999,"Master",IF(H28>39.999,"Veteran",IF(H28>21.999,"Senior",IF(H28>16.999,"U/21","U/16")))))) -> Senior | J28: Men | K28: 77090700046 | L28: Nam
A29: N0447 | B29: Seagull Angling Club Inland | C29: Martin | D29: Gouws | E29: Men Seniors | F29: 35431 | G29: =$G$5 -> 44561 | H29: =INT(YEARFRAC(F29,G29)) -> 25 | I29: =IF(H29="","Senior",IF(H29>59.999,"Grand Masters",IF(H29>49.999,"Master",IF(H29>39.999,"Veteran",IF(H29>21.999,"Senior",IF(H29>16.999,"U/21","U/16")))))) -> Senior | J29: Men | K29: 82110110252 | L29: Nam
A30: N0611 | B30: Benguella | C30: Jean | D30: Visser | E30: Men Seniors | F30: 35334 | G30: =$G$5 -> 44561 | H30: =INT(YEARFRAC(F30,G30)) -> 25 | I30: =IF(H30="","Senior",IF(H30>59.999,"Grand Masters",IF(H30>49.999,"Master",IF(H30>39.999,"Veteran",IF(H30>21.999,"Senior",IF(H30>16.999,"U/21","U/16")))))) -> Senior | J30: Men | K30: 82090811250 | L30: Nam
A31: N0792 | B31: Orca Angling Club | C31: Willem | D31: Schickerling | E31: Men Seniors | F31: 34738 | G31: =$G$5 -> 44561 | H31: =INT(YEARFRAC(F31,G31)) -> 26 | I31: =IF(H31="","Senior",IF(H31>59.999,"Grand Masters",IF(H31>49.999,"Master",IF(H31>39.999,"Veteran",IF(H31>21.999,"Senior",IF(H31>16.999,"U/21","U/16")))))) -> Senior | J31: Men | K31: 86111300202 | L31: Nam
A32: N0066 | B32: Welwitschia | C32: Nols | D32: Diedericks | E32: Men Seniors | F32: 34665 | G32: =$G$5 -> 44561 | H32: =INT(YEARFRAC(F32,G32)) -> 27 | I32: =IF(H32="","Senior",IF(H32>59.999,"Grand Masters",IF(H32>49.999,"Master",IF(H32>39.999,"Veteran",IF(H32>21.999,"Senior",IF(H32>16.999,"U/21","U/16")))))) -> Senior | J32: Men | K32: 6303165145089 | L32: SA
A33: N0780 | B33: Steenbras | C33: Tertia | D33: Roos | E33: Ladies Senior | F33: 34529 | G33: =$G$5 -> 44561 | H33: =INT(YEARFRAC(F33,G33)) -> 27 | I33: =IF(H33="","Senior",IF(H33>59.999,"Grand Masters",IF(H33>49.999,"Master",IF(H33>39.999,"Veteran",IF(H33>21.999,"Senior",IF(H33>16.999,"U/21","U/16")))))) -> Senior | J33: Ladies | K33: 81090210930 | L33: Nam
A34: N0122 | B34: Orca Angling Club | C34: Immo | D34: Dresselhaus | E34: Men Seniors | F34: 34401 | G34: =$G$5 -> 44561 | H34: =INT(YEARFRAC(F34,G34)) -> 27 | I34: =IF(H34="","Senior",IF(H34>59.999,"Grand Masters",IF(H34>49.999,"Master",IF(H34>39.999,"Veteran",IF(H34>21.999,"Senior",IF(H34>16.999,"U/21","U/16")))))) -> Senior | J34: Men | K34: 8503141046 | L34: Nam
A35: N0715 | B35: Seagull Angling Club Inland | C35: Gerhard | D35: Van Niekerk | E35: Men Seniors | F35: 34250 | G35: =$G$5 -> 44561 | H35: =INT(YEARFRAC(F35,G35)) -> 28 | I35: =IF(H35="","Senior",IF(H35>59.999,"Grand Masters",IF(H35>49.999,"Master",IF(H35>39.999,"Veteran",IF(H35>21.999,"Senior",IF(H35>16.999,"U/21","U/16")))))) -> Senior | J35: Men | K35: 2071100387 | L35: Nam
A36: N0119 | B36: Orca Angling Club | C36: Joe | D36: Herrman | E36: Men Seniors | F36: 34076 | G36: =$G$5 -> 44561 | H36: =INT(YEARFRAC(F36,G36)) -> 28 | I36: =IF(H36="","Senior",IF(H36>59.999,"Grand Masters",IF(H36>49.999,"Master",IF(H36>39.999,"Veteran",IF(H36>21.999,"Senior",IF(H36>16.999,"U/21","U/16")))))) -> Senior | J36: Men | K36: 79121010722 | L36: Nam
A37: N0279 | B37: Welwitschia | C37: Ras | D37: Van Der Westhuizen | E37: Men Seniors | F37: 34064 | G37: =$G$5 -> 44561 | H37: =INT(YEARFRAC(F37,G37)) -> 28 | I37: =IF(H37="","Senior",IF(H37>59.999,"Grand Masters",IF(H37>49.999,"Master",IF(H37>39.999,"Veteran",IF(H37>21.999,"Senior",IF(H37>16.999,"U/21","U/16")))))) -> Senior | J37: Men | K37: 9304175009080 | L37: SA
A38: N0172 | B38: Benguella | C38: Pieter PJ | D38: Van Wyk | E38: Men Seniors | F38: 33914 | G38: =$G$5 -> 44561 | H38: =INT(YEARFRAC(F38,G38)) -> 29 | I38: =IF(H38="","Senior",IF(H38>59.999,"Grand Masters",IF(H38>49.999,"Master",IF(H38>39.999,"Veteran",IF(H38>21.999,"Senior",IF(H38>16.999,"U/21","U/16")))))) -> Senior | J38: Men | K38: 77091900014 | L38: Nam
A39: N0709 | B39: Henties Bay | C39: Tiaan | D39: Fourie | E39: Men Seniors | F39: 33907 | G39: =$G$5 -> 44561 | H39: =INT(YEARFRAC(F39,G39)) -> 29 | I39: =IF(H39="","Men Senior",IF(H39>59.999,"Grand Masters",IF(H39>49.999,"Master",IF(H39>39.999,"Veteran",IF(H39>21.999,"Senior",IF(H39>16.999,"U/21","U/16")))))) -> Senior | J39: Men | K39: 94030800057 | L39: Nam
A40: N0678 | B40: Steenbras | C40: Jacomien | D40: Heath | E40: Ladies Senior | F40: 33895 | G40: =$G$5 -> 44561 | H40: =INT(YEARFRAC(F40,G40)) -> 29 | I40: =IF(H40="","Senior",IF(H40>59.999,"Grand Masters",IF(H40>49.999,"Master",IF(H40>39.999,"Veteran",IF(H40>21.999,"Senior",IF(H40>16.999,"U/21","U/16")))))) -> Senior | J40: Ladies | K40: 404285877084 | L40: Nam
A41: N0760 | B41: Welwitschia | C41: Daniel | D41: Pretorius | E41: Men Seniors | F41: 33529 | G41: =$G$5 -> 44561 | H41: =INT(YEARFRAC(F41,G41)) -> 30 | I41: =IF(H41="","Senior",IF(H41>59.999,"Grand Masters",IF(H41>49.999,"Master",IF(H41>39.999,"Veteran",IF(H41>21.999,"Senior",IF(H41>16.999,"U/21","U/16")))))) -> Senior | J41: Men | K41: 79041310290 | L41: Nam
A42: N0861 | B42: Benguella | C42: Norman | D42: Campbell | E42: Men Seniors | F42: 33357 | G42: =$G$5 -> 44561 | H42: =INT(YEARFRAC(F42,G42)) -> 30 | I42: =IF(H42="","Senior",IF(H42>59.999,"Grand Masters",IF(H42>49.999,"Master",IF(H42>39.999,"Veteran",IF(H42>21.999,"Senior",IF(H42>16.999,"U/21","U/16")))))) -> Senior | J42: Men | K42: 88062900495 | L42: Nam
A43: N0171 | B43: Penguin | C43: Corne | D43: Van Niekerk | E43: Men Seniors | F43: 33288 | G43: =$G$5 -> 44561 | H43: =INT(YEARFRAC(F43,G43)) -> 30 | I43: =IF(H43="","Senior",IF(H43>59.999,"Grand Masters",IF(H43>49.999,"Master",IF(H43>39.999,"Veteran",IF(H43>21.999,"Senior",IF(H43>16.999,"U/21","U/16")))))) -> Senior | J43: Men | K43: 83102810462 | L43: Nam
A44: N0716 | B44: Seagull Angling Club Inland | C44: Jaco | D44: Wiese | E44: Men Seniors | F44: 33253 | G44: =$G$5 -> 44561 | H44: =INT(YEARFRAC(F44,G44)) -> 30 | I44: =IF(H44="","Senior",IF(H44>59.999,"Grand Masters",IF(H44>49.999,"Master",IF(H44>39.999,"Veteran",IF(H44>21.999,"Senior",IF(H44>16.999,"U/21","U/16")))))) -> Senior | J44: Men | K44: 78042510381 | L44: Nam
A45: N0612 | B45: Okahandja | C45: Armand | D45: Fourie | E45: Men Seniors | F45: 32842 | G45: =$G$5 -> 44561 | H45: =INT(YEARFRAC(F45,G45)) -> 32 | I45: =IF(H45="","Senior",IF(H45>59.999,"Grand Masters",IF(H45>49.999,"Master",IF(H45>39.999,"Veteran",IF(H45>21.999,"Senior",IF(H45>16.999,"U/21","U/16")))))) -> Senior | J45: Men | K45: 74071410310 | L45: Nam
A46: N0546 | B46: Seagull Angling Club Coastal | C46: Tian | D46: Mostert | E46: Men Seniors | F46: 32785 | G46: =$G$5 -> 44561 | H46: =INT(YEARFRAC(F46,G46)) -> 32 | I46: =IF(H46="","Senior",IF(H46>59.999,"Grand Masters",IF(H46>49.999,"Master",IF(H46>39.999,"Veteran",IF(H46>21.999,"Senior",IF(H46>16.999,"U/21","U/16")))))) -> Senior | J46: Men | K46: 81120210607 | L46: Nam
A47: N0257 | B47: Seagull Angling Club Coastal | C47: Lu-Andre | D47: Duvenhage | E47: Men Seniors | F47: 32639 | G47: =$G$5 -> 44561 | H47: =INT(YEARFRAC(F47,G47)) -> 32 | I47: =IF(H47="","Senior",IF(H47>59.999,"Grand Masters",IF(H47>49.999,"Master",IF(H47>39.999,"Veteran",IF(H47>21.999,"Senior",IF(H47>16.999,"U/21","U/16")))))) -> Senior | J47: Men | K47: 60112800327 | L47: Nam
A48: N0800 | B48: Okahandja | C48: Danie | D48: Van Wyk | E48: Men Seniors | F48: 32628 | G48: =$G$5 -> 44561 | H48: =INT(YEARFRAC(F48,G48)) -> 32 | I48: =IF(H48="","Senior",IF(H48>59.999,"Grand Masters",IF(H48>49.999,"Master",IF(H48>39.999,"Veteran",IF(H48>21.999,"Senior",IF(H48>16.999,"U/21","U/16")))))) -> Senior | J48: Men | K48: 92110600470 | L48: Nam
A49: N0190 | B49: Penguin | C49: Chris Junior | D49: Orffer | E49: Men Seniors | F49: 32554 | G49: =$G$5 -> 44561 | H49: =INT(YEARFRAC(F49,G49)) -> 32 | I49: =IF(H49="","Senior",IF(H49>59.999,"Grand Masters",IF(H49>49.999,"Master",IF(H49>39.999,"Veteran",IF(H49>21.999,"Senior",IF(H49>16.999,"U/21","U/16")))))) -> Senior | J49: Men | K49: 67090810054 | L49: Nam
A50: N0228 | B50: Orca Angling Club | C50: Corne | D50: Kruger | E50: Men Seniors | F50: 32467 | G50: =$G$5 -> 44561 | H50: =INT(YEARFRAC(F50,G50)) -> 33 | I50: =IF(H50="","Senior",IF(H50>59.999,"Grand Masters",IF(H50>49.999,"Master",IF(H50>39.999,"Veteran",IF(H50>21.999,"Senior",IF(H50>16.999,"U/21","U/16")))))) -> Senior | J50: Men | K50: 20031216 | L50: Nam
A51: N0056 | B51: Orca Angling Club | C51: Alec | D51: Landers | E51: Men Seniors | F51: 32459 | G51: =$G$5 -> 44561 | H51: =INT(YEARFRAC(F51,G51)) -> 33 | I51: =IF(H51="","Senior",IF(H51>59.999,"Grand Masters",IF(H51>49.999,"Master",IF(H51>39.999,"Veteran",IF(H51>21.999,"Senior",IF(H51>16.999,"U/21","U/16")))))) -> Senior | J51: Men | K51: 200512/12 | L51: Nam
A52: N0129 | B52: Seagull Angling Club Coastal | C52: Pieter | D52: Van Aarde | E52: Men Seniors | F52: 32323 | G52: =$G$5 -> 44561 | H52: =INT(YEARFRAC(F52,G52)) -> 33 | I52: =IF(H52="","Senior",IF(H52>59.999,"Grand Masters",IF(H52>49.999,"Master",IF(H52>39.999,"Veteran",IF(H52>21.999,"Senior",IF(H52>16.999,"U/21","U/16")))))) -> Senior | J52: Men | K52: 73113010117 | L52: Nam
A53: N0849 | B53: Namib Park | C53: Ryno | D53: Enslin | E53: Men Seniors | F53: 32125 | G53: =$G$5 -> 44561 | H53: =INT(YEARFRAC(F53,G53)) -> 34 | I53: =IF(H53="","Senior",IF(H53>59.999,"Grand Masters",IF(H53>49.999,"Master",IF(H53>39.999,"Veteran",IF(H53>21.999,"Senior",IF(H53>16.999,"U/21","U/16")))))) -> Senior | J53: Men | K53: 89021500132 | L53: Nam
A54: N0731 | B54: Steenbras | C54: Maryna | D54: Viljoen | E54: Ladies Senior | F54: 32033 | G54: =$G$5 -> 44561 | H54: =INT(YEARFRAC(F54,G54)) -> 34 | I54: =IF(H54="","Senior",IF(H54>59.999,"Grand Masters",IF(H54>49.999,"Master",IF(H54>39.999,"Veteran",IF(H54>21.999,"Senior",IF(H54>16.999,"U/21","U/16")))))) -> Senior | J54: Ladies | K54: 64040900294 | L54: Nam
A55: N0850 | B55: Namib Park | C55: Wanda | D55: Enslin | E55: Ladies Senior | F55: 32014 | G55: =$G$5 -> 44561 | H55: =INT(YEARFRAC(F55,G55)) -> 34 | I55: =IF(H55="","Senior",IF(H55>59.999,"Grand Masters",IF(H55>49.999,"Master",IF(H55>39.999,"Veteran",IF(H55>21.999,"Senior",IF(H55>16.999,"U/21","U/16")))))) -> Senior | J55: Ladies | K55: 83021210813 | L55: Nam
A56: N0855 | B56: Welwitschia | C56: Wenzel | D56: Smal | E56: Men Seniors | F56: 31744 | G56: =$G$5 -> 44561 | H56: =INT(YEARFRAC(F56,G56)) -> 35 | I56: =IF(H56="","Senior",IF(H56>59.999,"Grand Masters",IF(H56>49.999,"Master",IF(H56>39.999,"Veteran",IF(H56>21.999,"Senior",IF(H56>16.999,"U/21","U/16")))))) -> Senior | J56: Men | K56: 19791012 | L56: Belg
A57: N0007 | B57: Orca Angling Club | C57: Brian | D57: Curtis | E57: Men Seniors | F57: 31732 | G57: =$G$5 -> 44561 | H57: =INT(YEARFRAC(F57,G57)) -> 35 | I57: =IF(H57="","Senior",IF(H57>59.999,"Grand Masters",IF(H57>49.999,"Master",IF(H57>39.999,"Veteran",IF(H57>21.999,"Senior",IF(H57>16.999,"U/21","U/16")))))) -> Senior | J57: Men | K57: 68090600050 | L57: Nam
A58: N0093 | B58: Steenbras | C58: Burger | D58: Van Taak | E58: Men Seniors | F58: 31729 | G58: =$G$5 -> 44561 | H58: =INT(YEARFRAC(F58,G58)) -> 35 | I58: =IF(H58="","Senior",IF(H58>59.999,"Grand Masters",IF(H58>49.999,"Master",IF(H58>39.999,"Veteran",IF(H58>21.999,"Senior",IF(H58>16.999,"U/21","U/16")))))) -> Senior | J58: Men | K58: 70070200386 | L58: Nam
A59: N0118 | B59: Namib Park | C59: Olaf | D59: Coetzee | E59: Men Seniors | F59: 31285 | G59: =$G$5 -> 44561 | H59: =INT(YEARFRAC(F59,G59)) -> 36 | I59: =IF(H59="","Senior",IF(H59>59.999,"Grand Masters",IF(H59>49.999,"Master",IF(H59>39.999,"Veteran",IF(H59>21.999,"Senior",IF(H59>16.999,"U/21","U/16")))))) -> Senior | J59: Men | K59: 73070510264 | L59: Nam
A60: N0779 | B60: Steenbras | C60: Wallace | D60: Shepperson | E60: Men Seniors | F60: 31284 | G60: =$G$5 -> 44561 | H60: =INT(YEARFRAC(F60,G60)) -> 36 | I60: =IF(H60="","Senior",IF(H60>59.999,"Grand Masters",IF(H60>49.999,"Master",IF(H60>39.999,"Veteran",IF(H60>21.999,"Senior",IF(H60>16.999,"U/21","U/16")))))) -> Senior | J60: Men | K60: 88112000395 | L60: Nam
A61: N0101 | B61: Seagull Angling Club Inland | C61: Tertius | D61: Potgieter | E61: Men Seniors | F61: 31120 | G61: =$G$5 -> 44561 | H61: =INT(YEARFRAC(F61,G61)) -> 36 | I61: =IF(H61="","Senior",IF(H61>59.999,"Grand Masters",IF(H61>49.999,"Master",IF(H61>39.999,"Veteran",IF(H61>21.999,"Senior",IF(H61>16.999,"U/21","U/16")))))) -> Senior | J61: Men | K61: 70092600638 | L61: Nam
A62: N0011 | B62: Atlantic Angling Club | C62: Johan | D62: Mostert | E62: Men Seniors | F62: 30975 | G62: =$G$5 -> 44561 | H62: =INT(YEARFRAC(F62,G62)) -> 37 | I62: =IF(H62="","Senior",IF(H62>59.999,"Grand Masters",IF(H62>49.999,"Master",IF(H62>39.999,"Veteran",IF(H62>21.999,"Senior",IF(H62>16.999,"U/21","U/16")))))) -> Senior | J62: Men | K62: 82082310337 | L62: Nam
A63: N0816 | B63: Steenbras | C63: Herman | D63: Swanepoel | E63: Men Seniors | F63: 30877 | G63: =$G$5 -> 44561 | H63: =INT(YEARFRAC(F63,G63)) -> 37 | I63: =IF(H63="","Senior",IF(H63>59.999,"Grand Masters",IF(H63>49.999,"Master",IF(H63>39.999,"Veteran",IF(H63>21.999,"Senior",IF(H63>16.999,"U/21","U/16")))))) -> Senior | J63: Men | K63: 77042910297 | L63: Nam
... A118: N0867 | B118: Walvis Bay | C118: Andre | D118: Bezuidehout | E118: Men Seniors | F118: 26271 | G118: =$G$5 -> 44561 | H118: =INT(YEARFRAC(F118,G118)) -> 50 | I118: =IF(H118="","Senior",IF(H118>59.999,"Grand Masters",IF(H118>49.999,"Master",IF(H118>39.999,"Veteran",IF(H118>21.999,"Senior",IF(H118>16.999,"U/21","U/16")))))) -> Master | J118: Men | K118: 8306285140086 | L118: SA
A119: N0234 | B119: Atlantic Angling Club | C119: Henning | D119: Du Plessis | E119: Men Seniors | F119: 25837 | G119: =$G$5 -> 44561 | H119: =INT(YEARFRAC(F119,G119)) -> 51 | I119: =IF(H119="","Senior",IF(H119>59.999,"Grand Masters",IF(H119>49.999,"Master",IF(H119>39.999,"Veteran",IF(H119>21.999,"Senior",IF(H119>16.999,"U/21","U/16")))))) -> Master | J119: Men | K119: 0201200381 | L119: Nam
A120: N0208 | B120: Atlantic Angling Club | C120: Adri | D120: Roets | E120: Men Seniors | F120: 25751 | G120: =$G$5 -> 44561 | H120: =INT(YEARFRAC(F120,G120)) -> 51 | I120: =IF(H120="","Senior",IF(H120>59.999,"Grand Masters",IF(H120>49.999,"Master",IF(H120>39.999,"Veteran",IF(H120>21.999,"Senior",IF(H120>16.999,"U/21","U/16")))))) -> Master | J120: Men | K120: 98031900035 | L120: Nam
A121: N0583 | B121: Atlantic Angling Club | C121: Karmen | D121: Mynhardt | E121: Ladies Senior | F121: 25594 | G121: =$G$5 -> 44561 | H121: =INT(YEARFRAC(F121,G121)) -> 51 | I121: =IF(H121="","Senior",IF(H121>59.999,"Grand Masters",IF(H121>49.999,"Master",IF(H121>39.999,"Veteran",IF(H121>21.999,"Senior",IF(H121>16.999,"U/21","U/16")))))) -> Master | J121: Ladies | K121: 81090210930 | L121: Nam
A122: N0460 | B122: Atlantic Angling Club | C122: Jaco | D122: Venter | E122: Men Seniors | F122: 25253 | G122: =$G$5 -> 44561 | H122: =INT(YEARFRAC(F122,G122)) -> 52 | I122: =IF(H122="","Senior",IF(H122>59.999,"Grand Masters",IF(H122>49.999,"Master",IF(H122>39.999,"Veteran",IF(H122>21.999,"Senior",IF(H122>16.999,"U/21","U/16")))))) -> Master | J122: Men | K122: 89043000307 | L122: Nam
A123: N0070 | B123: Seagull Angling Club Coastal | C123: Herbert | D123: Van Niekerk | E123: Men Seniors | F123: 25205 | G123: =$G$5 -> 44561 | H123: =INT(YEARFRAC(F123,G123)) -> 52 | I123: =IF(H123="","Senior",IF(H123>59.999,"Grand Masters",IF(H123>49.999,"Master",IF(H123>39.999,"Veteran",IF(H123>21.999,"Senior",IF(H123>16.999,"U/21","U/16")))))) -> Master | J123: Men | K123: 7604120008083 | L123: SA
A124: N0026 | B124: Henties Bay | C124: Johan | D124: Agenbag | E124: Men Seniors | F124: 25129 | G124: =$G$5 -> 44561 | H124: =INT(YEARFRAC(F124,G124)) -> 53 | I124: =IF(H124="","Senior",IF(H124>59.999,"Grand Masters",IF(H124>49.999,"Master",IF(H124>39.999,"Veteran",IF(H124>21.999,"Senior",IF(H124>16.999,"U/21","U/16")))))) -> Master | J124: Men | K124: 84071410407 | L124: Nam
A125: N0588 | B125: Henties Bay | C125: Lourens | D125: Fourie | E125: Men Seniors | F125: 25087 | G125: =$G$5 -> 44561 | H125: =INT(YEARFRAC(F125,G125)) -> 53 | I125: =IF(H125="","Men Senior",IF(H125>59.999,"Grand Masters",IF(H125>49.999,"Master",IF(H125>39.999,"Veteran",IF(H125>21.999,"Senior",IF(H125>16.999,"U/21","U/16")))))) -> Master | J125: Men | K125: 7604120008083 | L125: SA
A126: N0073 | B126: Benguella | C126: Marina | D126: Kruger | E126: Ladies Senior | F126: 24725 | G126: =$G$5 -> 44561 | H126: =INT(YEARFRAC(F126,G126)) -> 54 | I126: =IF(H126="","Senior",IF(H126>59.999,"Grand Masters",IF(H126>49.999,"Master",IF(H126>39.999,"Veteran",IF(H126>21.999,"Senior",IF(H126>16.999,"U/21","U/16")))))) -> Master | J126: Ladies | K126: 8111180023084 | L126: SA
A127: N0515 | B127: Henties Bay | C127: Johan | D127: Burger | E127: Men Seniors | F127: 24723 | G127: =$G$5 -> 44561 | H127: =INT(YEARFRAC(F127,G127)) -> 54 | I127: =IF(H127="","Men Senior",IF(H127>59.999,"Grand Masters",IF(H127>49.999,"Master",IF(H127>39.999,"Veteran",IF(H127>21.999,"Senior",IF(H127>16.999,"U/21","U/16")))))) -> Master | J127: Men | K127: 20101014 | L127: Nam
A128: N0013 | B128: Namib Park | C128: Roger | D128: Boon | E128: Men Seniors | F128: 24486 | G128: =$G$5 -> 44561 | H128: =INT(YEARFRAC(F128,G128)) -> 54 | I128: =IF(H128="","Senior",IF(H128>59.999,"Grand Masters",IF(H128>49.999,"Master",IF(H128>39.999,"Veteran",IF(H128>21.999,"Senior",IF(H128>16.999,"U/21","U/16")))))) -> Master | J128: Men | K128: 87121400030 | L128: Nam
A129: N0461 | B129: Atlantic Angling Club | C129: Andries | D129: Burger | E129: Men Seniors | F129: 24440 | G129: =$G$5 -> 44561 | H129: =INT(YEARFRAC(F129,G129)) -> 55 | I129: =IF(H129="","Senior",IF(H129>59.999,"Grand Masters",IF(H129>49.999,"Master",IF(H129>39.999,"Veteran",IF(H129>21.999,"Senior",IF(H129>16.999,"U/21","U/16")))))) -> Master | J129: Men | K129: 87082500076 | L129: Nam
A130: N0192 | B130: Steenbras | C130: Jan | D130: Heath | E130: Men Seniors | F130: 23476 | G130: =$G$5 -> 44561 | H130: =INT(YEARFRAC(F130,G130)) -> 57 | I130: =IF(H130="","Senior",IF(H130>59.999,"Grand Masters",IF(H130>49.999,"Master",IF(H130>39.999,"Veteran",IF(H130>21.999,"Senior",IF(H130>16.999,"U/21","U/16")))))) -> Master | J130: Men | K130: 86112800373 | L130: Nam
A131: N0030 | B131: Benguella | C131: Etienne | D131: Stipp | E131: Men Seniors | F131: 23374 | G131: =$G$5 -> 44561 | H131: =INT(YEARFRAC(F131,G131)) -> 58 | I131: =IF(H131="","Senior",IF(H131>59.999,"Grand Masters",IF(H131>49.999,"Master",IF(H131>39.999,"Veteran",IF(H131>21.999,"Senior",IF(H131>16.999,"U/21","U/16")))))) -> Master | J131: Men | K131: 19930919 | L131: Nam
A132: N0095 | B132: Henties Bay | C132: Simen | D132: Andersen | E132: Men Seniors | F132: 23086 | G132: =$G$5 -> 44561 | H132: =INT(YEARFRAC(F132,G132)) -> 58 | I132: =IF(H132="","Senior",IF(H132>59.999,"Grand Masters",IF(H132>49.999,"Master",IF(H132>39.999,"Veteran",IF(H132>21.999,"Senior",IF(H132>16.999,"U/21","U/16")))))) -> Master | J132: Men | K132: 91042900108 | L132: Nam
A133: N0041 | B133: Walvis Bay | C133: Terence | D133: Clark | E133: Men Seniors | F133: 22712 | G133: =$G$5 -> 44561 | H133: =INT(YEARFRAC(F133,G133)) -> 59 | I133: =IF(H133="","Senior",IF(H133>59.999,"Grand Masters",IF(H133>49.999,"Master",IF(H133>39.999,"Veteran",IF(H133>21.999,"Senior",IF(H133>16.999,"U/21","U/16")))))) -> Master | J133: Men | K133: 7112045083082 | L133: Nam
A134: N0162 | B134: Namib Park | C134: Coennie | D134: Steyn | E134: Men Seniors | F134: 22248 | G134: =$G$5 -> 44561 | H134: =INT(YEARFRAC(F134,G134)) -> 61 | I134: =IF(H134="","Senior",IF(H134>59.999,"Grand Masters",IF(H134>49.999,"Master",IF(H134>39.999,"Veteran",IF(H134>21.999,"Senior",IF(H134>16.999,"U/21","U/16")))))) -> Grand Masters | J134: Men | K134: 78110610137 | L134: Nam
A135: N0008 | B135: Namib Park | C135: Andre | D135: Coetzee | E135: Men Seniors | F135: 21511 | G135: =$G$5 -> 44561 | H135: =INT(YEARFRAC(F135,G135)) -> 63 | I135: =IF(H135="","Senior",IF(H135>59.999,"Grand Masters",IF(H135>49.999,"Master",IF(H135>39.999,"Veteran",IF(H135>21.999,"Senior",IF(H135>16.999,"U/21","U/16")))))) -> Grand Masters | J135: Men | K135: 00121600084 | L135: NAM
A136: N0023 | B136: Atlantic Angling Club | C136: Jörg | D136: Walter | E136: Men Seniors | F136: 21415 | G136: =$G$5 -> 44561 | H136: =INT(YEARFRAC(F136,G136)) -> 63 | I136: =IF(H136="","Senior",IF(H136>59.999,"Grand Masters",IF(H136>49.999,"Master",IF(H136>39.999,"Veteran",IF(H136>21.999,"Senior",IF(H136>16.999,"U/21","U/16")))))) -> Grand Masters | J136: Men | K136: 20010220 | L136: Nam
A137: N0091 | B137: Benguella | C137: Deon | D137: Jacobs | E137: Men Seniors | F137: 19577 | G137: =$G$5 -> 44561 | H137: =INT(YEARFRAC(F137,G137)) -> 68 | I137: =IF(H137="","Senior",IF(H137>59.999,"Grand Masters",IF(H137>49.999,"Master",IF(H137>39.999,"Veteran",IF(H137>21.999,"Senior",IF(H137>16.999,"U/21","U/16")))))) -> Grand Masters | J137: Men
E138: =IF(C138="NEW NAME","",CONCATENATE(J138," ",I138))
E139: =IF(C139="NEW NAME","",CONCATENATE(J139," ",I139)) | K139: 67091010035 | L139: Nam

Sheet DATA ENTRY
A1: Competition | B1: Date | C1: Venue | D1: ID | E1: Name | F1: Surname | G1: Status | H1: Team | I1: Edibles | J1: Inedibles | K1: length | L1: kg | M1: Points
A2: 2021-NAT-D2 | B2: 44274 | C2: Day 2 | D2: N0875 | E2: =IF(D2="","",VLOOKUP(D2,Master,3,FALSE)) -> Terence | F2: =IF(D2="","",VLOOKUP(D2,Master,4,FALSE)) -> Knowles | G2: =IF(D2="","",VLOOKUP(D2,Master,5,FALSE)) -> Men Seniors/U21 | H2: =IF(D2="","",VLOOKUP(D2,Master,2,FALSE)) -> Welwitschia | L2: =IF(K2="","",IF(I2="",ROUND(HLOOKUP(J2,kgList,K2,FALSE),1),ROUND(HLOOKUP(I2,kgList,K2,FALSE),1))) | M2: =IF(L2="","",IF(COUNTA(I2:J2)>1,"Edible or Inedible",IF(COUNTA(I2)=1,L2*1,IF(COUNTA(J2)=1,L2*1,"ERROR"))))
A3: 2021-NAT-D1 | B3: 44273 | C3: Day 1 | D3: N0119 | E3: =IF(D3="","",VLOOKUP(D3,Master,3,FALSE)) -> Joe | F3: =IF(D3="","",VLOOKUP(D3,Master,4,FALSE)) -> Herrman | G3: =IF(D3="","",VLOOKUP(D3,Master,5,FALSE)) -> Men Seniors | H3: =IF(D3="","",VLOOKUP(D3,Master,2,FALSE)) -> Orca Angling Club | L3: =IF(K3="","",IF(I3="",ROUND(HLOOKUP(J3,kgList,K3,FALSE),1),ROUND(HLOOKUP(I3,kgList,K3,FALSE),1))) | M3: =IF(L3="","",IF(COUNTA(I3:J3)>1,"Edible or Inedible",IF(COUNTA(I3)=1,L3*1,IF(COUNTA(J3)=1,L3*1,"ERROR"))))
A4: 2021-NAT-D1 | B4: 44273 | C4: Day 1 | D4: N0531 | E4: =IF(D4="","",VLOOKUP(D4,Master,3,FALSE)) -> Rudi(Jnr.) | F4: =IF(D4="","",VLOOKUP(D4,Master,4,FALSE)) -> Swartz | G4: =IF(D4="","",VLOOKUP(D4,Master,5,FALSE)) -> Men U/16 | H4: =IF(D4="","",VLOOKUP(D4,Master,2,FALSE)) -> Mako | J4: Shark Copper (Male) | K4: 189 | L4: =IF(K4="","",IF(I4="",ROUND(HLOOKUP(J4,kgList,K4,FALSE),1),ROUND(HLOOKUP(I4,kgList,K4,FALSE),1))) -> 90 | M4: =IF(L4="","",IF(COUNTA(I4:J4)>1,"Edible or Inedible",IF(COUNTA(I4)=1,L4*1,IF(COUNTA(J4)=1,L4*1,"ERROR")))) -> 90
A5: 2021-NAT-D1 | B5: 44273 | C5: Day 1 | D5: N0006 | E5: =IF(D5="","",VLOOKUP(D5,Master,3,FALSE)) -> Nico | F5: =IF(D5="","",VLOOKUP(D5,Master,4,FALSE)) -> Kotze | G5: =IF(D5="","",VLOOKUP(D5,Master,5,FALSE)) -> Men Seniors | H5: =IF(D5="","",VLOOKUP(D5,Master,2,FALSE)) -> Penguin | L5: =IF(K5="","",IF(I5="",ROUND(HLOOKUP(J5,kgList,K5,FALSE),1),ROUND(HLOOKUP(I5,kgList,K5,FALSE),1))) | M5: =IF(L5="","",IF(COUNTA(I5:J5)>1,"Edible or Inedible",IF(COUNTA(I5)=1,L5*1,IF(COUNTA(J5)=1,L5*1,"ERROR"))))
A6: 2021-NAT-D1 | B6: 44273 | C6: Day 1 | D6: N0716 | E6: =IF(D6="","",VLOOKUP(D6,Master,3,FALSE)) -> Jaco | F6: =IF(D6="","",VLOOKUP(D6,Master,4,FALSE)) -> Wiese | G6: =IF(D6="","",VLOOKUP(D6,Master,5,FALSE)) -> Men Seniors | H6: =IF(D6="","",VLOOKUP(D6,Master,2,FALSE)) -> Seagull Angling Club Inland | L6: =IF(K6="","",IF(I6="",ROUND(HLOOKUP(J6,kgList,K6,FALSE),1),ROUND(HLOOKUP(I6,kgList,K6,FALSE),1))) | M6: =IF(L6="","",IF(COUNTA(I6:J6)>1,"Edible or Inedible",IF(COUNTA(I6)=1,L6*1,IF(COUNTA(J6)=1,L6*1,"ERROR"))))
A7: 2021-NAT-D1 | B7: 44273 | C7: Day 1 | D7: N0715 | E7: =IF(D7="","",VLOOKUP(D7,Master,3,FALSE)) -> Gerhard | F7: =IF(D7="","",VLOOKUP(D7,Master,4,FALSE)) -> Van Niekerk | G7: =IF(D7="","",VLOOKUP(D7,Master,5,FALSE)) -> Men Seniors | H7: =IF(D7="","",VLOOKUP(D7,Master,2,FALSE)) -> Seagull Angling Club Inland | L7: =IF(K7="","",IF(I7="",ROUND(HLOOKUP(J7,kgList,K7,FALSE),1),ROUND(HLOOKUP(I7,kgList,K7,FALSE),1))) | M7: =IF(L7="","",IF(COUNTA(I7:J7)>1,"Edible or Inedible",IF(COUNTA(I7)=1,L7*1,IF(COUNTA(J7)=1,L7*1,"ERROR"))))
A8: 2021-NAT-D1 | B8: 44273 | C8: Day 1 | D8: N0729 | E8: =IF(D8="","",VLOOKUP(D8,Master,3,FALSE)) -> Gert | F8: =IF(D8="","",VLOOKUP(D8,Master,4,FALSE)) -> Visage | G8: =IF(D8="","",VLOOKUP(D8,Master,5,FALSE)) -> Men Seniors | H8: =IF(D8="","",VLOOKUP(D8,Master,2,FALSE)) -> Seagull Angling Club Coastal | L8: =IF(K8="","",IF(I8="",ROUND(HLOOKUP(J8,kgList,K8,FALSE),1),ROUND(HLOOKUP(I8,kgList,K8,FALSE),1))) | M8: =IF(L8="","",IF(COUNTA(I8:J8)>1,"Edible or Inedible",IF(COUNTA(I8)=1,L8*1,IF(COUNTA(J8)=1,L8*1,"ERROR"))))
A9: 2021-NAT-D1 | B9: 44273 | C9: Day 1 | D9: N0407 | E9: =IF(D9="","",VLOOKUP(D9,Master,3,FALSE)) -> Renier | F9: =IF(D9="","",VLOOKUP(D9,Master,4,FALSE)) -> Van Zyl | G9: =IF(D9="","",VLOOKUP(D9,Master,5,FALSE)) -> Men Seniors | H9: =IF(D9="","",VLOOKUP(D9,Master,2,FALSE)) -> Seagull Angling Club Coastal | L9: =IF(K9="","",IF(I9="",ROUND(HLOOKUP(J9,kgList,K9,FALSE),1),ROUND(HLOOKUP(I9,kgList,K9,FALSE),1))) | M9: =IF(L9="","",IF(COUNTA(I9:J9)>1,"Edible or Inedible",IF(COUNTA(I9)=1,L9*1,IF(COUNTA(J9)=1,L9*1,"ERROR"))))
A10: 2021-NAT-D1 | B10: 44273 | C10: Day 1 | D10: N0656 | E10: =IF(D10="","",VLOOKUP(D10,Master,3,FALSE)) -> Hannes | F10: =IF(D10="","",VLOOKUP(D10,Master,4,FALSE)) -> DeHaast | G10: =IF(D10="","",VLOOKUP(D10,Master,5,FALSE)) -> Men Seniors | H10: =IF(D10="","",VLOOKUP(D10,Master,2,FALSE)) -> Otjiwarongo | L10: =IF(K10="","",IF(I10="",ROUND(HLOOKUP(J10,kgList,K10,FALSE),1),ROUND(HLOOKUP(I10,kgList,K10,FALSE),1))) | M10: =IF(L10="","",IF(COUNTA(I10:J10)>1,"Edible or Inedible",IF(COUNTA(I10)=1,L10*1,IF(COUNTA(J10)=1,L10*1,"ERROR"))))
A11: 2021-NAT-D1 | B11: 44273 | C11: Day 1 | D11: N0576 | E11: =IF(D11="","",VLOOKUP(D11,Master,3,FALSE)) -> Francois | F11: =IF(D11="","",VLOOKUP(D11,Master,4,FALSE)) -> Du Plessis | G11: =IF(D11="","",VLOOKUP(D11,Master,5,FALSE)) -> Men Seniors | H11: =IF(D11="","",VLOOKUP(D11,Master,2,FALSE)) -> Otjiwarongo | L11: =IF(K11="","",IF(I11="",ROUND(HLOOKUP(J11,kgList,K11,FALSE),1),ROUND(HLOOKUP(I11,kgList,K11,FALSE),1))) | M11: =IF(L11="","",IF(COUNTA(I11:J11)>1,"Edible or Inedible",IF(COUNTA(I11)=1,L11*1,IF(COUNTA(J11)=1,L11*1,"ERROR"))))
A12: 2021-NAT-D1 | B12: 44273 | C12: Day 1 | D12: N0192 | E12: =IF(D12="","",VLOOKUP(D12,Master,3,FALSE)) -> Jan | F12: =IF(D12="","",VLOOKUP(D12,Master,4,FALSE)) -> Heath | G12: =IF(D12="","",VLOOKUP(D12,Master,5,FALSE)) -> Men Seniors | H12: =IF(D12="","",VLOOKUP(D12,Master,2,FALSE)) -> Steenbras | L12: =IF(K12="","",IF(I12="",ROUND(HLOOKUP(J12,kgList,K12,FALSE),1),ROUND(HLOOKUP(I12,kgList,K12,FALSE),1))) | M12: =IF(L12="","",IF(COUNTA(I12:J12)>1,"Edible or Inedible",IF(COUNTA(I12)=1,L12*1,IF(COUNTA(J12)=1,L12*1,"ERROR"))))
A13: 2021-NAT-D1 | B13: 44273 | C13: Day 1 | D13: N0093 | E13: =IF(D13="","",VLOOKUP(D13,Master,3,FALSE)) -> Burger | F13: =IF(D13="","",VLOOKUP(D13,Master,4,FALSE)) -> Van Taak | G13: =IF(D13="","",VLOOKUP(D13,Master,5,FALSE)) -> Men Seniors | H13: =IF(D13="","",VLOOKUP(D13,Master,2,FALSE)) -> Steenbras | L13: =IF(K13="","",IF(I13="",ROUND(HLOOKUP(J13,kgList,K13,FALSE),1),ROUND(HLOOKUP(I13,kgList,K13,FALSE),1))) | M13: =IF(L13="","",IF(COUNTA(I13:J13)>1,"Edible or Inedible",IF(COUNTA(I13)=1,L13*1,IF(COUNTA(J13)=1,L13*1,"ERROR"))))
A14: 2021-NAT-D1 | B14: 44273 | C14: Day 1 | D14: N0086 | E14: =IF(D14="","",VLOOKUP(D14,Master,3,FALSE)) -> Hendrik | F14: =IF(D14="","",VLOOKUP(D14,Master,4,FALSE)) -> Dry | G14: =IF(D14="","",VLOOKUP(D14,Master,5,FALSE)) -> Men Seniors | H14: =IF(D14="","",VLOOKUP(D14,Master,2,FALSE)) -> Mako | L14: =IF(K14="","",IF(I14="",ROUND(HLOOKUP(J14,kgList,K14,FALSE),1),ROUND(HLOOKUP(I14,kgList,K14,FALSE),1))) | M14: =IF(L14="","",IF(COUNTA(I14:J14)>1,"Edible or Inedible",IF(COUNTA(I14)=1,L14*1,IF(COUNTA(J14)=1,L14*1,"ERROR"))))
A15: 2021-NAT-D1 | B15: 44273 | C15: Day 1 | D15: N0598 | E15: =IF(D15="","",VLOOKUP(D15,Master,3,FALSE)) -> Henning | F15: =IF(D15="","",VLOOKUP(D15,Master,4,FALSE)) -> Van Wyk | G15: =IF(D15="","",VLOOKUP(D15,Master,5,FALSE)) -> Men Seniors | H15: =IF(D15="","",VLOOKUP(D15,Master,2,FALSE)) -> Okahandja | L15: =IF(K15="","",IF(I15="",ROUND(HLOOKUP(J15,kgList,K15,FALSE),1),ROUND(HLOOKUP(I15,kgList,K15,FALSE),1))) | M15: =IF(L15="","",IF(COUNTA(I15:J15)>1,"Edible or Inedible",IF(COUNTA(I15)=1,L15*1,IF(COUNTA(J15)=1,L15*1,"ERROR"))))
A16: 2021-NAT-D1 | B16: 44273 | C16: Day 1 | D16: N0855 | E16: =IF(D16="","",VLOOKUP(D16,Master,3,FALSE)) -> Wenzel | F16: =IF(D16="","",VLOOKUP(D16,Master,4,FALSE)) -> Smal | G16: =IF(D16="","",VLOOKUP(D16,Master,5,FALSE)) -> Men Seniors | H16: =IF(D16="","",VLOOKUP(D16,Master,2,FALSE)) -> Welwitschia | L16: =IF(K16="","",IF(I16="",ROUND(HLOOKUP(J16,kgList,K16,FALSE),1),ROUND(HLOOKUP(I16,kgList,K16,FALSE),1))) | M16: =IF(L16="","",IF(COUNTA(I16:J16)>1,"Edible or Inedible",IF(COUNTA(I16)=1,L16*1,IF(COUNTA(J16)=1,L16*1,"ERROR"))))
... A30: 2021-NAT-D2 | B30: 44274 | C30: Day 2 | D30: N0193 | E30: =IF(D30="","",VLOOKUP(D30,Master,3,FALSE)) -> Michael | F30: =IF(D30="","",VLOOKUP(D30,Master,4,FALSE)) -> Durant | G30: =IF(D30="","",VLOOKUP(D30,Master,5,FALSE)) -> Men Seniors | H30: =IF(D30="","",VLOOKUP(D30,Master,2,FALSE)) -> Steenbras | L30: =IF(K30="","",IF(I30="",ROUND(HLOOKUP(J30,kgList,K30,FALSE),1),ROUND(HLOOKUP(I30,kgList,K30,FALSE),1))) | M30: =IF(L30="","",IF(COUNTA(I30:J30)>1,"Edible or Inedible",IF(COUNTA(I30)=1,L30*1,IF(COUNTA(J30)=1,L30*1,"ERROR"))))
A31: 2021-NAT-D1 | B31: 44273 | C31: Day 1 | D31: N0769 | E31: =IF(D31="","",VLOOKUP(D31,Master,3,FALSE)) -> Sven | F31: =IF(D31="","",VLOOKUP(D31,Master,4,FALSE)) -> Welzig | G31: =IF(D31="","",VLOOKUP(D31,Master,5,FALSE)) -> Men U/16 | H31: =IF(D31="","",VLOOKUP(D31,Master,2,FALSE)) -> Atlantic Angling Club | J31: Shark Spotted Gully | K31: 164 | L31: =IF(K31="","",IF(I31="",ROUND(HLOOKUP(J31,kgList,K31,FALSE),1),ROUND(HLOOKUP(I31,kgList,K31,FALSE),1))) -> 23.6 | M31: =IF(L31="","",IF(COUNTA(I31:J31)>1,"Edible or Inedible",IF(COUNTA(I31)=1,L31*1,IF(COUNTA(J31)=1,L31*1,"ERROR")))) -> 23.6
A32: 2021-NAT-D2 | B32: 44274 | C32: Day 2 | D32: N0093 | E32: =IF(D32="","",VLOOKUP(D32,Master,3,FALSE)) -> Burger | F32: =IF(D32="","",VLOOKUP(D32,Master,4,FALSE)) -> Van Taak | G32: =IF(D32="","",VLOOKUP(D32,Master,5,FALSE)) -> Men Seniors | H32: =IF(D32="","",VLOOKUP(D32,Master,2,FALSE)) -> Steenbras | L32: =IF(K32="","",IF(I32="",ROUND(HLOOKUP(J32,kgList,K32,FALSE),1),ROUND(HLOOKUP(I32,kgList,K32,FALSE),1))) | M32: =IF(L32="","",IF(COUNTA(I32:J32)>1,"Edible or Inedible",IF(COUNTA(I32)=1,L32*1,IF(COUNTA(J32)=1,L32*1,"ERROR"))))
A33: 2021-NAT-D2 | B33: 44274 | C33: Day 2 | D33: N0243 | E33: =IF(D33="","",VLOOKUP(D33,Master,3,FALSE)) -> Dirk | F33: =IF(D33="","",VLOOKUP(D33,Master,4,FALSE)) -> Hansen | G33: =IF(D33="","",VLOOKUP(D33,Master,5,FALSE)) -> Men Seniors | H33: =IF(D33="","",VLOOKUP(D33,Master,2,FALSE)) -> Steenbras | L33: =IF(K33="","",IF(I33="",ROUND(HLOOKUP(J33,kgList,K33,FALSE),1),ROUND(HLOOKUP(I33,kgList,K33,FALSE),1))) | M33: =IF(L33="","",IF(COUNTA(I33:J33)>1,"Edible or Inedible",IF(COUNTA(I33)=1,L33*1,IF(COUNTA(J33)=1,L33*1,"ERROR"))))
A34: 2021-NAT-D2 | B34: 44274 | C34: Day 2 | D34: N0816 | E34: =IF(D34="","",VLOOKUP(D34,Master,3,FALSE)) -> Herman | F34: =IF(D34="","",VLOOKUP(D34,Master,4,FALSE)) -> Swanepoel | G34: =IF(D34="","",VLOOKUP(D34,Master,5,FALSE)) -> Men Seniors | H34: =IF(D34="","",VLOOKUP(D34,Master,2,FALSE)) -> Steenbras | L34: =IF(K34="","",IF(I34="",ROUND(HLOOKUP(J34,kgList,K34,FALSE),1),ROUND(HLOOKUP(I34,kgList,K34,FALSE),1))) | M34: =IF(L34="","",IF(COUNTA(I34:J34)>1,"Edible or Inedible",IF(COUNTA(I34)=1,L34*1,IF(COUNTA(J34)=1,L34*1,"ERROR"))))
A35: 2021-NAT-D2 | B35: 44274 | C35: Day 2 | D35: N0026 | E35: =IF(D35="","",VLOOKUP(D35,Master,3,FALSE)) -> Johan | F35: =IF(D35="","",VLOOKUP(D35,Master,4,FALSE)) -> Agenbag | G35: =IF(D35="","",VLOOKUP(D35,Master,5,FALSE)) -> Men Seniors | H35: =IF(D35="","",VLOOKUP(D35,Master,2,FALSE)) -> Henties Bay | L35: =IF(K35="","",IF(I35="",ROUND(HLOOKUP(J35,kgList,K35,FALSE),1),ROUND(HLOOKUP(I35,kgList,K35,FALSE),1))) | M35: =IF(L35="","",IF(COUNTA(I35:J35)>1,"Edible or Inedible",IF(COUNTA(I35)=1,L35*1,IF(COUNTA(J35)=1,L35*1,"ERROR"))))
A36: 2021-NAT-D2 | B36: 44274 | C36: Day 2 | D36: N0612 | E36: =IF(D36="","",VLOOKUP(D36,Master,3,FALSE)) -> Armand | F36: =IF(D36="","",VLOOKUP(D36,Master,4,FALSE)) -> Fourie | G36: =IF(D36="","",VLOOKUP(D36,Master,5,FALSE)) -> Men Seniors | H36: =IF(D36="","",VLOOKUP(D36,Master,2,FALSE)) -> Okahandja | L36: =IF(K36="","",IF(I36="",ROUND(HLOOKUP(J36,kgList,K36,FALSE),1),ROUND(HLOOKUP(I36,kgList,K36,FALSE),1))) | M36: =IF(L36="","",IF(COUNTA(I36:J36)>1,"Edible or Inedible",IF(COUNTA(I36)=1,L36*1,IF(COUNTA(J36)=1,L36*1,"ERROR"))))
A37: 2021-NAT-D3 | B37: 44275 | C37: Day 3 | D37: N0011 | E37: =IF(D37="","",VLOOKUP(D37,Master,3,FALSE)) -> Johan | F37: =IF(D37="","",VLOOKUP(D37,Master,4,FALSE)) -> Mostert | G37: =IF(D37="","",VLOOKUP(D37,Master,5,FALSE)) -> Men Seniors | H37: =IF(D37="","",VLOOKUP(D37,Master,2,FALSE)) -> Atlantic Angling Club | L37: =IF(K37="","",IF(I37="",ROUND(HLOOKUP(J37,kgList,K37,FALSE),1),ROUND(HLOOKUP(I37,kgList,K37,FALSE),1))) | M37: =IF(L37="","",IF(COUNTA(I37:J37)>1,"Edible or Inedible",IF(COUNTA(I37)=1,L37*1,IF(COUNTA(J37)=1,L37*1,"ERROR"))))
A38: 2021-NAT-D3 | B38: 44275 | C38: Day 3 | D38: N0171 | E38: =IF(D38="","",VLOOKUP(D38,Master,3,FALSE)) -> Corne | F38: =IF(D38="","",VLOOKUP(D38,Master,4,FALSE)) -> Van Niekerk | G38: =IF(D38="","",VLOOKUP(D38,Master,5,FALSE)) -> Men Seniors | H38: =IF(D38="","",VLOOKUP(D38,Master,2,FALSE)) -> Penguin | L38: =IF(K38="","",IF(I38="",ROUND(HLOOKUP(J38,kgList,K38,FALSE),1),ROUND(HLOOKUP(I38,kgList,K38,FALSE),1))) | M38: =IF(L38="","",IF(COUNTA(I38:J38)>1,"Edible or Inedible",IF(COUNTA(I38)=1,L38*1,IF(COUNTA(J38)=1,L38*1,"ERROR"))))
A39: 2021-NAT-D3 | B39: 44275 | C39: Day 3 | D39: N0800 | E39: =IF(D39="","",VLOOKUP(D39,Master,3,FALSE)) -> Danie | F39: =IF(D39="","",VLOOKUP(D39,Master,4,FALSE)) -> Van Wyk | G39: =IF(D39="","",VLOOKUP(D39,Master,5,FALSE)) -> Men Seniors | H39: =IF(D39="","",VLOOKUP(D39,Master,2,FALSE)) -> Okahandja | L39: =IF(K39="","",IF(I39="",ROUND(HLOOKUP(J39,kgList,K39,FALSE),1),ROUND(HLOOKUP(I39,kgList,K39,FALSE),1))) | M39: =IF(L39="","",IF(COUNTA(I39:J39)>1,"Edible or Inedible",IF(COUNTA(I39)=1,L39*1,IF(COUNTA(J39)=1,L39*1,"ERROR"))))
A40: 2021-NAT-D3 | B40: 44275 | C40: Day 3 | D40: N0407 | E40: =IF(D40="","",VLOOKUP(D40,Master,3,FALSE)) -> Renier | F40: =IF(D40="","",VLOOKUP(D40,Master,4,FALSE)) -> Van Zyl | G40: =IF(D40="","",VLOOKUP(D40,Master,5,FALSE)) -> Men Seniors | H40: =IF(D40="","",VLOOKUP(D40,Master,2,FALSE)) -> Seagull Angling Club Coastal | L40: =IF(K40="","",IF(I40="",ROUND(HLOOKUP(J40,kgList,K40,FALSE),1),ROUND(HLOOKUP(I40,kgList,K40,FALSE),1))) | M40: =IF(L40="","",IF(COUNTA(I40:J40)>1,"Edible or Inedible",IF(COUNTA(I40)=1,L40*1,IF(COUNTA(J40)=1,L40*1,"ERROR"))))
A41: 2021-NAT-D1 | B41: 44273 | C41: Day 1 | D41: N0815 | E41: =IF(D41="","",VLOOKUP(D41,Master,3,FALSE)) -> Lindie | F41: =IF(D41="","",VLOOKUP(D41,Master,4,FALSE)) -> Barnhard | G41: =IF(D41="","",VLOOKUP(D41,Master,5,FALSE)) -> Ladies Senior | H41: =IF(D41="","",VLOOKUP(D41,Master,2,FALSE)) -> Penguin | L41: =IF(K41="","",IF(I41="",ROUND(HLOOKUP(J41,kgList,K41,FALSE),1),ROUND(HLOOKUP(I41,kgList,K41,FALSE),1))) | M41: =IF(L41="","",IF(COUNTA(I41:J41)>1,"Edible or Inedible",IF(COUNTA(I41)=1,L41*1,IF(COUNTA(J41)=1,L41*1,"ERROR"))))
A42: 2021-NAT-D3 | B42: 44275 | C42: Day 3 | D42: N0086 | E42: =IF(D42="","",VLOOKUP(D42,Master,3,FALSE)) -> Hendrik | F42: =IF(D42="","",VLOOKUP(D42,Master,4,FALSE)) -> Dry | G42: =IF(D42="","",VLOOKUP(D42,Master,5,FALSE)) -> Men Seniors | H42: =IF(D42="","",VLOOKUP(D42,Master,2,FALSE)) -> Mako | L42: =IF(K42="","",IF(I42="",ROUND(HLOOKUP(J42,kgList,K42,FALSE),1),ROUND(HLOOKUP(I42,kgList,K42,FALSE),1))) | M42: =IF(L42="","",IF(COUNTA(I42:J42)>1,"Edible or Inedible",IF(COUNTA(I42)=1,L42*1,IF(COUNTA(J42)=1,L42*1,"ERROR"))))
A43: 2021-NAT-D3 | B43: 44275 | C43: Day 3 | D43: N0783 | E43: =IF(D43="","",VLOOKUP(D43,Master,3,FALSE)) -> Johan | F43: =IF(D43="","",VLOOKUP(D43,Master,4,FALSE)) -> Van Niekerk | G43: =IF(D43="","",VLOOKUP(D43,Master,5,FALSE)) -> Men Seniors | H43: =IF(D43="","",VLOOKUP(D43,Master,2,FALSE)) -> Namib Park | L43: =IF(K43="","",IF(I43="",ROUND(HLOOKUP(J43,kgList,K43,FALSE),1),ROUND(HLOOKUP(I43,kgList,K43,FALSE),1))) | M43: =IF(L43="","",IF(COUNTA(I43:J43)>1,"Edible or Inedible",IF(COUNTA(I43)=1,L43*1,IF(COUNTA(J43)=1,L43*1,"ERROR"))))
... A50: 2021-NAT-D3 | B50: 44275 | C50: Day 3 | D50: N0192 | E50: =IF(D50="","",VLOOKUP(D50,Master,3,FALSE)) -> Jan | F50: =IF(D50="","",VLOOKUP(D50,Master,4,FALSE)) -> Heath | G50: =IF(D50="","",VLOOKUP(D50,Master,5,FALSE)) -> Men Seniors | H50: =IF(D50="","",VLOOKUP(D50,Master,2,FALSE)) -> Steenbras | L50: =IF(K50="","",IF(I50="",ROUND(HLOOKUP(J50,kgList,K50,FALSE),1),ROUND(HLOOKUP(I50,kgList,K50,FALSE),1))) | M50: =IF(L50="","",IF(COUNTA(I50:J50)>1,"Edible or Inedible",IF(COUNTA(I50)=1,L50*1,IF(COUNTA(J50)=1,L50*1,"ERROR"))))
A51: 2021-NAT-D2 | B51: 44274 | C51: Day 2 | D51: N0011 | E51: =IF(D51="","",VLOOKUP(D51,Master,3,FALSE)) -> Johan | F51: =IF(D51="","",VLOOKUP(D51,Master,4,FALSE)) -> Mostert | G51: =IF(D51="","",VLOOKUP(D51,Master,5,FALSE)) -> Men Seniors | H51: =IF(D51="","",VLOOKUP(D51,Master,2,FALSE)) -> Atlantic Angling Club | J51: Shark Copper (Female) | K51: 190 | L51: =IF(K51="","",IF(I51="",ROUND(HLOOKUP(J51,kgList,K51,FALSE),1),ROUND(HLOOKUP(I51,kgList,K51,FALSE),1))) -> 95.9 | M51: =IF(L51="","",IF(COUNTA(I51:J51)>1,"Edible or Inedible",IF(COUNTA(I51)=1,L51*1,IF(COUNTA(J51)=1,L51*1,"ERROR")))) -> 95.9
A52: 2021-NAT-D3 | B52: 44275 | C52: Day 3 | D52: N0020 | E52: =IF(D52="","",VLOOKUP(D52,Master,3,FALSE)) -> Morne | F52: =IF(D52="","",VLOOKUP(D52,Master,4,FALSE)) -> Horn | G52: =IF(D52="","",VLOOKUP(D52,Master,5,FALSE)) -> Men Seniors | H52: =IF(D52="","",VLOOKUP(D52,Master,2,FALSE)) -> Penguin | J52: Shark Copper (Female) | K52: 164 | L52: =IF(K52="","",IF(I52="",ROUND(HLOOKUP(J52,kgList,K52,FALSE),1),ROUND(HLOOKUP(I52,kgList,K52,FALSE),1))) -> 60.4 | M52: =IF(L52="","",IF(COUNTA(I52:J52)>1,"Edible or Inedible",IF(COUNTA(I52)=1,L52*1,IF(COUNTA(J52)=1,L52*1,"ERROR")))) -> 60.4
A53: 2021-NAT-D2 | B53: 44274 | C53: Day 2 | D53: N0014 | E53: =IF(D53="","",VLOOKUP(D53,Master,3,FALSE)) -> Willem | F53: =IF(D53="","",VLOOKUP(D53,Master,4,FALSE)) -> Steyn | G53: =IF(D53="","",VLOOKUP(D53,Master,5,FALSE)) -> Men Seniors | H53: =IF(D53="","",VLOOKUP(D53,Master,2,FALSE)) -> Welwitschia | J53: Shark Copper (Female) | K53: 162 | L53: =IF(K53="","",IF(I53="",ROUND(HLOOKUP(J53,kgList,K53,FALSE),1),ROUND(HLOOKUP(I53,kgList,K53,FALSE),1))) -> 58.2 | M53: =IF(L53="","",IF(COUNTA(I53:J53)>1,"Edible or Inedible",IF(COUNTA(I53)=1,L53*1,IF(COUNTA(J53)=1,L53*1,"ERROR")))) -> 58.2
A54: 2021-NAT-D1 | B54: 44273 | C54: Day 1 | D54: N0190 | E54: =IF(D54="","",VLOOKUP(D54,Master,3,FALSE)) -> Chris Junior | F54: =IF(D54="","",VLOOKUP(D54,Master,4,FALSE)) -> Orffer | G54: =IF(D54="","",VLOOKUP(D54,Master,5,FALSE)) -> Men Seniors | H54: =IF(D54="","",VLOOKUP(D54,Master,2,FALSE)) -> Penguin | J54: Shark Copper (Male) | K54: 160 | L54: =IF(K54="","",IF(I54="",ROUND(HLOOKUP(J54,kgList,K54,FALSE),1),ROUND(HLOOKUP(I54,kgList,K54,FALSE),1))) -> 53.6 | M54: =IF(L54="","",IF(COUNTA(I54:J54)>1,"Edible or Inedible",IF(COUNTA(I54)=1,L54*1,IF(COUNTA(J54)=1,L54*1,"ERROR")))) -> 53.6
A55: 2021-NAT-D2 | B55: 44274 | C55: Day 2 | D55: N0008 | E55: =IF(D55="","",VLOOKUP(D55,Master,3,FALSE)) -> Andre | F55: =IF(D55="","",VLOOKUP(D55,Master,4,FALSE)) -> Coetzee | G55: =IF(D55="","",VLOOKUP(D55,Master,5,FALSE)) -> Men Seniors | H55: =IF(D55="","",VLOOKUP(D55,Master,2,FALSE)) -> Namib Park | J55: Shark Copper (Male) | K55: 157 | L55: =IF(K55="","",IF(I55="",ROUND(HLOOKUP(J55,kgList,K55,FALSE),1),ROUND(HLOOKUP(I55,kgList,K55,FALSE),1))) -> 50.6 | M55: =IF(L55="","",IF(COUNTA(I55:J55)>1,"Edible or Inedible",IF(COUNTA(I55)=1,L55*1,IF(COUNTA(J55)=1,L55*1,"ERROR")))) -> 50.6
A56: 2021-NAT-D1 | B56: 44273 | C56: Day 1 | D56: N0657 | E56: =IF(D56="","",VLOOKUP(D56,Master,3,FALSE)) -> Johannes | F56: =IF(D56="","",VLOOKUP(D56,Master,4,FALSE)) -> Kotze | G56: =IF(D56="","",VLOOKUP(D56,Master,5,FALSE)) -> Men Seniors | H56: =IF(D56="","",VLOOKUP(D56,Master,2,FALSE)) -> Okahandja | J56: Shark Copper (Female) | K56: 150 | L56: =IF(K56="","",IF(I56="",ROUND(HLOOKUP(J56,kgList,K56,FALSE),1),ROUND(HLOOKUP(I56,kgList,K56,FALSE),1))) -> 45.7 | M56: =IF(L56="","",IF(COUNTA(I56:J56)>1,"Edible or Inedible",IF(COUNTA(I56)=1,L56*1,IF(COUNTA(J56)=1,L56*1,"ERROR")))) -> 45.7
A57: 2021-NAT-D1 | B57: 44273 | C57: Day 1 | D57: N0610 | E57: =IF(D57="","",VLOOKUP(D57,Master,3,FALSE)) -> Martinus | F57: =IF(D57="","",VLOOKUP(D57,Master,4,FALSE)) -> Venter | G57: =IF(D57="","",VLOOKUP(D57,Master,5,FALSE)) -> Men Seniors | H57: =IF(D57="","",VLOOKUP(D57,Master,2,FALSE)) -> Otjiwarongo | J57: Shark Cow / Sevengill | K57: 147 | L57: =IF(K57="","",IF(I57="",ROUND(HLOOKUP(J57,kgList,K57,FALSE),1),ROUND(HLOOKUP(I57,kgList,K57,FALSE),1))) -> 42.4 | M57: =IF(L57="","",IF(COUNTA(I57:J57)>1,"Edible or Inedible",IF(COUNTA(I57)=1,L57*1,IF(COUNTA(J57)=1,L57*1,"ERROR")))) -> 42.4
A58: 2021-NAT-D2 | B58: 44274 | C58: Day 2 | D58: N0790 | E58: =IF(D58="","",VLOOKUP(D58,Master,3,FALSE)) -> Ivan | F58: =IF(D58="","",VLOOKUP(D58,Master,4,FALSE)) -> Kotze | G58: =IF(D58="","",VLOOKUP(D58,Master,5,FALSE)) -> Men Seniors | H58: =IF(D58="","",VLOOKUP(D58,Master,2,FALSE)) -> Seagull Angling Club Inland | J58: Shark Copper (Female) | K58: 144 | L58: =IF(K58="","",IF(I58="",ROUND(HLOOKUP(J58,kgList,K58,FALSE),1),ROUND(HLOOKUP(I58,kgList,K58,FALSE),1))) -> 40.2 | M58: =IF(L58="","",IF(COUNTA(I58:J58)>1,"Edible or Inedible",IF(COUNTA(I58)=1,L58*1,IF(COUNTA(J58)=1,L58*1,"ERROR")))) -> 40.2
A59: 2021-NAT-D1 | B59: 44273 | C59: Day 1 | D59: N0611 | E59: =IF(D59="","",VLOOKUP(D59,Master,3,FALSE)) -> Jean | F59: =IF(D59="","",VLOOKUP(D59,Master,4,FALSE)) -> Visser | G59: =IF(D59="","",VLOOKUP(D59,Master,5,FALSE)) -> Men Seniors | H59: =IF(D59="","",VLOOKUP(D59,Master,2,FALSE)) -> Benguella | J59: Shark Cow / Sevengill | K59: 138 | L59: =IF(K59="","",IF(I59="",ROUND(HLOOKUP(J59,kgList,K59,FALSE),1),ROUND(HLOOKUP(I59,kgList,K59,FALSE),1))) -> 34.5 | M59: =IF(L59="","",IF(COUNTA(I59:J59)>1,"Edible or Inedible",IF(COUNTA(I59)=1,L59*1,IF(COUNTA(J59)=1,L59*1,"ERROR")))) -> 34.5
A60: 2021-NAT-D1 | B60: 44273 | C60: Day 1 | D60: N0792 | E60: =IF(D60="","",VLOOKUP(D60,Master,3,FALSE)) -> Willem | F60: =IF(D60="","",VLOOKUP(D60,Master,4,FALSE)) -> Schickerling | G60: =IF(D60="","",VLOOKUP(D60,Master,5,FALSE)) -> Men Seniors | H60: =IF(D60="","",VLOOKUP(D60,Master,2,FALSE)) -> Orca Angling Club | J60: Shark Cow / Sevengill | K60: 137 | L60: =IF(K60="","",IF(I60="",ROUND(HLOOKUP(J60,kgList,K60,FALSE),1),ROUND(HLOOKUP(I60,kgList,K60,FALSE),1))) -> 33.7 | M60: =IF(L60="","",IF(COUNTA(I60:J60)>1,"Edible or Inedible",IF(COUNTA(I60)=1,L60*1,IF(COUNTA(J60)=1,L60*1,"ERROR")))) -> 33.7
A61: 2021-NAT-D2 | B61: 44274 | C61: Day 2 | D61: N0112 | E61: =IF(D61="","",VLOOKUP(D61,Master,3,FALSE)) -> Danie | F61: =IF(D61="","",VLOOKUP(D61,Master,4,FALSE)) -> Van Zyl | G61: =IF(D61="","",VLOOKUP(D61,Master,5,FALSE)) -> Men Seniors | H61: =IF(D61="","",VLOOKUP(D61,Master,2,FALSE)) -> Okahandja | J61: Shark Copper (Male) | K61: 137 | L61: =IF(K61="","",IF(I61="",ROUND(HLOOKUP(J61,kgList,K61,FALSE),1),ROUND(HLOOKUP(I61,kgList,K61,FALSE),1))) -> 33.1 | M61: =IF(L61="","",IF(COUNTA(I61:J61)>1,"Edible or Inedible",IF(COUNTA(I61)=1,L61*1,IF(COUNTA(J61)=1,L61*1,"ERROR")))) -> 33.1
A62: 2021-NAT-D1 | B62: 44273 | C62: Day 1 | D62: N0779 | E62: =IF(D62="","",VLOOKUP(D62,Master,3,FALSE)) -> Wallace | F62: =IF(D62="","",VLOOKUP(D62,Master,4,FALSE)) -> Shepperson | G62: =IF(D62="","",VLOOKUP(D62,Master,5,FALSE)) -> Men Seniors | H62: =IF(D62="","",VLOOKUP(D62,Master,2,FALSE)) -> Steenbras | J62: Shark Cow / Sevengill | K62: 136 | L62: =IF(K62="","",IF(I62="",ROUND(HLOOKUP(J62,kgList,K62,FALSE),1),ROUND(HLOOKUP(I62,kgList,K62,FALSE),1))) -> 32.9 | M62: =IF(L62="","",IF(COUNTA(I62:J62)>1,"Edible or Inedible",IF(COUNTA(I62)=1,L62*1,IF(COUNTA(J62)=1,L62*1,"ERROR")))) -> 32.9
... A65: 2021-NAT-D3 | B65: 44275 | C65: Day 3 | D65: N0020 | E65: =IF(D65="","",VLOOKUP(D65,Master,3,FALSE)) -> Morne | F65: =IF(D65="","",VLOOKUP(D65,Master,4,FALSE)) -> Horn | G65: =IF(D65="","",VLOOKUP(D65,Master,5,FALSE)) -> Men Seniors | H65: =IF(D65="","",VLOOKUP(D65,Master,2,FALSE)) -> Penguin | J65: Shark Cow / Sevengill | K65: 132 | L65: =IF(K65="","",IF(I65="",ROUND(HLOOKUP(J65,kgList,K65,FALSE),1),ROUND(HLOOKUP(I65,kgList,K65,FALSE),1))) -> 29.8 | M65: =IF(L65="","",IF(COUNTA(I65:J65)>1,"Edible or Inedible",IF(COUNTA(I65)=1,L65*1,IF(COUNTA(J65)=1,L65*1,"ERROR")))) -> 29.8
A66: 2021-NAT-D2 | B66: 44274 | C66: Day 2 | D66: N0697 | E66: =IF(D66="","",VLOOKUP(D66,Master,3,FALSE)) -> Annelien | F66: =IF(D66="","",VLOOKUP(D66,Master,4,FALSE)) -> Langenstrassen | G66: =IF(D66="","",VLOOKUP(D66,Master,5,FALSE)) -> Ladies Senior | H66: =IF(D66="","",VLOOKUP(D66,Master,2,FALSE)) -> Penguin | L66: =IF(K66="","",IF(I66="",ROUND(HLOOKUP(J66,kgList,K66,FALSE),1),ROUND(HLOOKUP(I66,kgList,K66,FALSE),1))) | M66: =IF(L66="","",IF(COUNTA(I66:J66)>1,"Edible or Inedible",IF(COUNTA(I66)=1,L66*1,IF(COUNTA(J66)=1,L66*1,"ERROR"))))
A67: 2021-NAT-D2 | B67: 44274 | C67: Day 2 | D67: N0588 | E67: =IF(D67="","",VLOOKUP(D67,Master,3,FALSE)) -> Lourens | F67: =IF(D67="","",VLOOKUP(D67,Master,4,FALSE)) -> Fourie | G67: =IF(D67="","",VLOOKUP(D67,Master,5,FALSE)) -> Men Seniors | H67: =IF(D67="","",VLOOKUP(D67,Master,2,FALSE)) -> Henties Bay | J67: Shark Cow / Sevengill | K67: 128 | L67: =IF(K67="","",IF(I67="",ROUND(HLOOKUP(J67,kgList,K67,FALSE),1),ROUND(HLOOKUP(I67,kgList,K67,FALSE),1))) -> 26.9 | M67: =IF(L67="","",IF(COUNTA(I67:J67)>1,"Edible or Inedible",IF(COUNTA(I67)=1,L67*1,IF(COUNTA(J67)=1,L67*1,"ERROR")))) -> 26.9
A68: 2021-NAT-D1 | B68: 44273 | C68: Day 1 | D68: N0573 | E68: =IF(D68="","",VLOOKUP(D68,Master,3,FALSE)) -> Rinus | F68: =IF(D68="","",VLOOKUP(D68,Master,4,FALSE)) -> Van Der Westhuizen | G68: =IF(D68="","",VLOOKUP(D68,Master,5,FALSE)) -> Men Seniors | H68: =IF(D68="","",VLOOKUP(D68,Master,2,FALSE)) -> Otjiwarongo | J68: Shark Cow / Sevengill | K68: 127 | L68: =IF(K68="","",IF(I68="",ROUND(HLOOKUP(J68,kgList,K68,FALSE),1),ROUND(HLOOKUP(I68,kgList,K68,FALSE),1))) -> 26.3 | M68: =IF(L68="","",IF(COUNTA(I68:J68)>1,"Edible or Inedible",IF(COUNTA(I68)=1,L68*1,IF(COUNTA(J68)=1,L68*1,"ERROR")))) -> 26.3
A69: 2021-NAT-D1 | B69: 44273 | C69: Day 1 | D69: N0195 | E69: =IF(D69="","",VLOOKUP(D69,Master,3,FALSE)) -> Louis | F69: =IF(D69="","",VLOOKUP(D69,Master,4,FALSE)) -> Fenaux | G69: =IF(D69="","",VLOOKUP(D69,Master,5,FALSE)) -> Men Seniors | H69: =IF(D69="","",VLOOKUP(D69,Master,2,FALSE)) -> Henties Bay | J69: Shark Cow / Sevengill | K69: 127 | L69: =IF(K69="","",IF(I69="",ROUND(HLOOKUP(J69,kgList,K69,FALSE),1),ROUND(HLOOKUP(I69,kgList,K69,FALSE),1))) -> 26.3 | M69: =IF(L69="","",IF(COUNTA(I69:J69)>1,"Edible or Inedible",IF(COUNTA(I69)=1,L69*1,IF(COUNTA(J69)=1,L69*1,"ERROR")))) -> 26.3
A70: 2021-NAT-D1 | B70: 44273 | C70: Day 1 | D70: N0460 | E70: =IF(D70="","",VLOOKUP(D70,Master,3,FALSE)) -> Jaco | F70: =IF(D70="","",VLOOKUP(D70,Master,4,FALSE)) -> Venter | G70: =IF(D70="","",VLOOKUP(D70,Master,5,FALSE)) -> Men Seniors | H70: =IF(D70="","",VLOOKUP(D70,Master,2,FALSE)) -> Atlantic Angling Club | J70: Shark Cow / Sevengill | K70: 125 | L70: =IF(K70="","",IF(I70="",ROUND(HLOOKUP(J70,kgList,K70,FALSE),1),ROUND(HLOOKUP(I70,kgList,K70,FALSE),1))) -> 24.9 | M70: =IF(L70="","",IF(COUNTA(I70:J70)>1,"Edible or Inedible",IF(COUNTA(I70)=1,L70*1,IF(COUNTA(J70)=1,L70*1,"ERROR")))) -> 24.9
A71: 2021-NAT-D1 | B71: 44273 | C71: Day 1 | D71: N0540 | E71: =IF(D71="","",VLOOKUP(D71,Master,3,FALSE)) -> Murray | F71: =IF(D71="","",VLOOKUP(D71,Master,4,FALSE)) -> Lewis | G71: =IF(D71="","",VLOOKUP(D71,Master,5,FALSE)) -> Men Seniors | H71: =IF(D71="","",VLOOKUP(D71,Master,2,FALSE)) -> Mako | J71: Shark Cow / Sevengill | K71: 124 | L71: =IF(K71="","",IF(I71="",ROUND(HLOOKUP(J71,kgList,K71,FALSE),1),ROUND(HLOOKUP(I71,kgList,K71,FALSE),1))) -> 24.3 | M71: =IF(L71="","",IF(COUNTA(I71:J71)>1,"Edible or Inedible",IF(COUNTA(I71)=1,L71*1,IF(COUNTA(J71)=1,L71*1,"ERROR")))) -> 24.3
A72: 2021-NAT-D1 | B72: 44273 | C72: Day 1 | D72: N0050 | E72: =IF(D72="","",VLOOKUP(D72,Master,3,FALSE)) -> Sean | F72: =IF(D72="","",VLOOKUP(D72,Master,4,FALSE)) -> Van Den Heuvel | G72: =IF(D72="","",VLOOKUP(D72,Master,5,FALSE)) -> Men Seniors | H72: =IF(D72="","",VLOOKUP(D72,Master,2,FALSE)) -> Seagull Angling Club Inland | J72: Skate Spearnose | K72: 137 | L72: =IF(K72="","",IF(I72="",ROUND(HLOOKUP(J72,kgList,K72,FALSE),1),ROUND(HLOOKUP(I72,kgList,K72,FALSE),1))) -> 24 | M72: =IF(L72="","",IF(COUNTA(I72:J72)>1,"Edible or Inedible",IF(COUNTA(I72)=1,L72*1,IF(COUNTA(J72)=1,L72*1,"ERROR")))) -> 24
A73: 2021-NAT-D2 | B73: 44274 | C73: Day 2 | D73: N0121 | E73: =IF(D73="","",VLOOKUP(D73,Master,3,FALSE)) -> Lezelle | F73: =IF(D73="","",VLOOKUP(D73,Master,4,FALSE)) -> Smit | G73: =IF(D73="","",VLOOKUP(D73,Master,5,FALSE)) -> Ladies Senior | H73: =IF(D73="","",VLOOKUP(D73,Master,2,FALSE)) -> Benguella | L73: =IF(K73="","",IF(I73="",ROUND(HLOOKUP(J73,kgList,K73,FALSE),1),ROUND(HLOOKUP(I73,kgList,K73,FALSE),1))) | M73: =IF(L73="","",IF(COUNTA(I73:J73)>1,"Edible or Inedible",IF(COUNTA(I73)=1,L73*1,IF(COUNTA(J73)=1,L73*1,"ERROR"))))
A74: 2021-NAT-D3 | B74: 44275 | C74: Day 3 | D74: N0050 | E74: =IF(D74="","",VLOOKUP(D74,Master,3,FALSE)) -> Sean | F74: =IF(D74="","",VLOOKUP(D74,Master,4,FALSE)) -> Van Den Heuvel | G74: =IF(D74="","",VLOOKUP(D74,Master,5,FALSE)) -> Men Seniors | H74: =IF(D74="","",VLOOKUP(D74,Master,2,FALSE)) -> Seagull Angling Club Inland | J74: Shark Cow / Sevengill | K74: 123 | L74: =IF(K74="","",IF(I74="",ROUND(HLOOKUP(J74,kgList,K74,FALSE),1),ROUND(HLOOKUP(I74,kgList,K74,FALSE),1))) -> 23.6 | M74: =IF(L74="","",IF(COUNTA(I74:J74)>1,"Edible or Inedible",IF(COUNTA(I74)=1,L74*1,IF(COUNTA(J74)=1,L74*1,"ERROR")))) -> 23.6
A75: 2021-NAT-D1 | B75: 44273 | C75: Day 1 | D75: N0101 | E75: =IF(D75="","",VLOOKUP(D75,Master,3,FALSE)) -> Tertius | F75: =IF(D75="","",VLOOKUP(D75,Master,4,FALSE)) -> Potgieter | G75: =IF(D75="","",VLOOKUP(D75,Master,5,FALSE)) -> Men Seniors | H75: =IF(D75="","",VLOOKUP(D75,Master,2,FALSE)) -> Seagull Angling Club Inland | J75: Shark Spotted Gully | K75: 163 | L75: =IF(K75="","",IF(I75="",ROUND(HLOOKUP(J75,kgList,K75,FALSE),1),ROUND(HLOOKUP(I75,kgList,K75,FALSE),1))) -> 23.1 | M75: =IF(L75="","",IF(COUNTA(I75:J75)>1,"Edible or Inedible",IF(COUNTA(I75)=1,L75*1,IF(COUNTA(J75)=1,L75*1,"ERROR")))) -> 23.1
A76: 2021-NAT-D1 | B76: 44273 | C76: Day 1 | D76: N0460 | E76: =IF(D76="","",VLOOKUP(D76,Master,3,FALSE)) -> Jaco | F76: =IF(D76="","",VLOOKUP(D76,Master,4,FALSE)) -> Venter | G76: =IF(D76="","",VLOOKUP(D76,Master,5,FALSE)) -> Men Seniors | H76: =IF(D76="","",VLOOKUP(D76,Master,2,FALSE)) -> Atlantic Angling Club | J76: Shark Cow / Sevengill | K76: 122 | L76: =IF(K76="","",IF(I76="",ROUND(HLOOKUP(J76,kgList,K76,FALSE),1),ROUND(HLOOKUP(I76,kgList,K76,FALSE),1))) -> 23 | M76: =IF(L76="","",IF(COUNTA(I76:J76)>1,"Edible or Inedible",IF(COUNTA(I76)=1,L76*1,IF(COUNTA(J76)=1,L76*1,"ERROR")))) -> 23
A77: 2021-NAT-D1 | B77: 44273 | C77: Day 1 | D77: N0228 | E77: =IF(D77="","",VLOOKUP(D77,Master,3,FALSE)) -> Corne | F77: =IF(D77="","",VLOOKUP(D77,Master,4,FALSE)) -> Kruger | G77: =IF(D77="","",VLOOKUP(D77,Master,5,FALSE)) -> Men Seniors | H77: =IF(D77="","",VLOOKUP(D77,Master,2,FALSE)) -> Orca Angling Club | J77: Shark Spotted Gully | K77: 162 | L77: =IF(K77="","",IF(I77="",ROUND(HLOOKUP(J77,kgList,K77,FALSE),1),ROUND(HLOOKUP(I77,kgList,K77,FALSE),1))) -> 22.7 | M77: =IF(L77="","",IF(COUNTA(I77:J77)>1,"Edible or Inedible",IF(COUNTA(I77)=1,L77*1,IF(COUNTA(J77)=1,L77*1,"ERROR")))) -> 22.7
A78: 2021-NAT-D1 | B78: 44273 | C78: Day 1 | D78: N0124 | E78: =IF(D78="","",VLOOKUP(D78,Master,3,FALSE)) -> Stefan Jnr | F78: =IF(D78="","",VLOOKUP(D78,Master,4,FALSE)) -> Du Preez | G78: =IF(D78="","",VLOOKUP(D78,Master,5,FALSE)) -> Men U/16 | H78: =IF(D78="","",VLOOKUP(D78,Master,2,FALSE)) -> Walvis Bay | J78: Shark Spotted Gully | K78: 154 | L78: =IF(K78="","",IF(I78="",ROUND(HLOOKUP(J78,kgList,K78,FALSE),1),ROUND(HLOOKUP(I78,kgList,K78,FALSE),1))) -> 19.1 | M78: =IF(L78="","",IF(COUNTA(I78:J78)>1,"Edible or Inedible",IF(COUNTA(I78)=1,L78*1,IF(COUNTA(J78)=1,L78*1,"ERROR")))) -> 19.1
A79: 2021-NAT-D3 | B79: 44275 | C79: Day 3 | D79: N0119 | E79: =IF(D79="","",VLOOKUP(D79,Master,3,FALSE)) -> Joe | F79: =IF(D79="","",VLOOKUP(D79,Master,4,FALSE)) -> Herrman | G79: =IF(D79="","",VLOOKUP(D79,Master,5,FALSE)) -> Men Seniors | H79: =IF(D79="","",VLOOKUP(D79,Master,2,FALSE)) -> Orca Angling Club | J79: Shark Spotted Gully | K79: 162 | L79: =IF(K79="","",IF(I79="",ROUND(HLOOKUP(J79,kgList,K79,FALSE),1),ROUND(HLOOKUP(I79,kgList,K79,FALSE),1))) -> 22.7 | M79: =IF(L79="","",IF(COUNTA(I79:J79)>1,"Edible or Inedible",IF(COUNTA(I79)=1,L79*1,IF(COUNTA(J79)=1,L79*1,"ERROR")))) -> 22.7
A80: 2021-NAT-D3 | B80: 44275 | C80: Day 3 | D80: N0100 | E80: =IF(D80="","",VLOOKUP(D80,Master,3,FALSE)) -> Werner | F80: =IF(D80="","",VLOOKUP(D80,Master,4,FALSE)) -> Van Riet | G80: =IF(D80="","",VLOOKUP(D80,Master,5,FALSE)) -> Men Seniors | H80: =IF(D80="","",VLOOKUP(D80,Master,2,FALSE)) -> Walvis Bay | J80: Shark Spotted Gully | K80: 161 | L80: =IF(K80="","",IF(I80="",ROUND(HLOOKUP(J80,kgList,K80,FALSE),1),ROUND(HLOOKUP(I80,kgList,K80,FALSE),1))) -> 22.2 | M80: =IF(L80="","",IF(COUNTA(I80:J80)>1,"Edible or Inedible",IF(COUNTA(I80)=1,L80*1,IF(COUNTA(J80)=1,L80*1,"ERROR")))) -> 22.2
A81: 2021-NAT-D1 | B81: 44273 | C81: Day 1 | D81: N0145 | E81: =IF(D81="","",VLOOKUP(D81,Master,3,FALSE)) -> Hennie | F81: =IF(D81="","",VLOOKUP(D81,Master,4,FALSE)) -> Roets | G81: =IF(D81="","",VLOOKUP(D81,Master,5,FALSE)) -> Men Seniors | H81: =IF(D81="","",VLOOKUP(D81,Master,2,FALSE)) -> Atlantic Angling Club | J81: Shark Cow / Sevengill | K81: 120 | L81: =IF(K81="","",IF(I81="",ROUND(HLOOKUP(J81,kgList,K81,FALSE),1),ROUND(HLOOKUP(I81,kgList,K81,FALSE),1))) -> 21.8 | M81: =IF(L81="","",IF(COUNTA(I81:J81)>1,"Edible or Inedible",IF(COUNTA(I81)=1,L81*1,IF(COUNTA(J81)=1,L81*1,"ERROR")))) -> 21.8
A82: 2021-NAT-D1 | B82: 44273 | C82: Day 1 | D82: N0243 | E82: =IF(D82="","",VLOOKUP(D82,Master,3,FALSE)) -> Dirk | F82: =IF(D82="","",VLOOKUP(D82,Master,4,FALSE)) -> Hansen | G82: =IF(D82="","",VLOOKUP(D82,Master,5,FALSE)) -> Men Seniors | H82: =IF(D82="","",VLOOKUP(D82,Master,2,FALSE)) -> Steenbras | J82: Skate Spearnose | K82: 133 | L82: =IF(K82="","",IF(I82="",ROUND(HLOOKUP(J82,kgList,K82,FALSE),1),ROUND(HLOOKUP(I82,kgList,K82,FALSE),1))) -> 21.8 | M82: =IF(L82="","",IF(COUNTA(I82:J82)>1,"Edible or Inedible",IF(COUNTA(I82)=1,L82*1,IF(COUNTA(J82)=1,L82*1,"ERROR")))) -> 21.8
A83: 2021-NAT-D2 | B83: 44274 | C83: Day 2 | D83: N0190 | E83: =IF(D83="","",VLOOKUP(D83,Master,3,FALSE)) -> Chris Junior | F83: =IF(D83="","",VLOOKUP(D83,Master,4,FALSE)) -> Orffer | G83: =IF(D83="","",VLOOKUP(D83,Master,5,FALSE)) -> Men Seniors | H83: =IF(D83="","",VLOOKUP(D83,Master,2,FALSE)) -> Penguin | J83: Shark Spotted Gully | K83: 160 | L83: =IF(K83="","",IF(I83="",ROUND(HLOOKUP(J83,kgList,K83,FALSE),1),ROUND(HLOOKUP(I83,kgList,K83,FALSE),1))) -> 21.7 | M83: =IF(L83="","",IF(COUNTA(I83:J83)>1,"Edible or Inedible",IF(COUNTA(I83)=1,L83*1,IF(COUNTA(J83)=1,L83*1,"ERROR")))) -> 21.7
A84: 2021-NAT-D1 | B84: 44273 | C84: Day 1 | D84: N0127 | E84: =IF(D84="","",VLOOKUP(D84,Master,3,FALSE)) -> Kiepie | F84: =IF(D84="","",VLOOKUP(D84,Master,4,FALSE)) -> Burger | G84: =IF(D84="","",VLOOKUP(D84,Master,5,FALSE)) -> Men Seniors | H84: =IF(D84="","",VLOOKUP(D84,Master,2,FALSE)) -> Mako | J84: Shark Spotted Gully | K84: 159 | L84: =IF(K84="","",IF(I84="",ROUND(HLOOKUP(J84,kgList,K84,FALSE),1),ROUND(HLOOKUP(I84,kgList,K84,FALSE),1))) -> 21.3 | M84: =IF(L84="","",IF(COUNTA(I84:J84)>1,"Edible or Inedible",IF(COUNTA(I84)=1,L84*1,IF(COUNTA(J84)=1,L84*1,"ERROR")))) -> 21.3
A85: 2021-NAT-D1 | B85: 44273 | C85: Day 1 | D85: N0802 | E85: =IF(D85="","",VLOOKUP(D85,Master,3,FALSE)) -> Duan | F85: =IF(D85="","",VLOOKUP(D85,Master,4,FALSE)) -> Kotze | G85: =IF(D85="","",VLOOKUP(D85,Master,5,FALSE)) -> Men Seniors | H85: =IF(D85="","",VLOOKUP(D85,Master,2,FALSE)) -> Okahandja | J85: Skate Spearnose | K85: 132 | L85: =IF(K85="","",IF(I85="",ROUND(HLOOKUP(J85,kgList,K85,FALSE),1),ROUND(HLOOKUP(I85,kgList,K85,FALSE),1))) -> 21.2 | M85: =IF(L85="","",IF(COUNTA(I85:J85)>1,"Edible or Inedible",IF(COUNTA(I85)=1,L85*1,IF(COUNTA(J85)=1,L85*1,"ERROR")))) -> 21.2
A86: 2021-NAT-D2 | B86: 44274 | C86: Day 2 | D86: N0583 | E86: =IF(D86="","",VLOOKUP(D86,Master,3,FALSE)) -> Karmen | F86: =IF(D86="","",VLOOKUP(D86,Master,4,FALSE)) -> Mynhardt | G86: =IF(D86="","",VLOOKUP(D86,Master,5,FALSE)) -> Ladies Senior | H86: =IF(D86="","",VLOOKUP(D86,Master,2,FALSE)) -> Atlantic Angling Club | L86: =IF(K86="","",IF(I86="",ROUND(HLOOKUP(J86,kgList,K86,FALSE),1),ROUND(HLOOKUP(I86,kgList,K86,FALSE),1))) | M86: =IF(L86="","",IF(COUNTA(I86:J86)>1,"Edible or Inedible",IF(COUNTA(I86)=1,L86*1,IF(COUNTA(J86)=1,L86*1,"ERROR"))))
A87: 2021-NAT-D1 | B87: 44273 | C87: Day 1 | D87: N0460 | E87: =IF(D87="","",VLOOKUP(D87,Master,3,FALSE)) -> Jaco | F87: =IF(D87="","",VLOOKUP(D87,Master,4,FALSE)) -> Venter | G87: =IF(D87="","",VLOOKUP(D87,Master,5,FALSE)) -> Men Seniors | H87: =IF(D87="","",VLOOKUP(D87,Master,2,FALSE)) -> Atlantic Angling Club | J87: Shark Spotted Gully | K87: 158 | L87: =IF(K87="","",IF(I87="",ROUND(HLOOKUP(J87,kgList,K87,FALSE),1),ROUND(HLOOKUP(I87,kgList,K87,FALSE),1))) -> 20.8 | M87: =IF(L87="","",IF(COUNTA(I87:J87)>1,"Edible or Inedible",IF(COUNTA(I87)=1,L87*1,IF(COUNTA(J87)=1,L87*1,"ERROR")))) -> 20.8
A88: 2021-NAT-D2 | B88: 44274 | C88: Day 2 | D88: N0588 | E88: =IF(D88="","",VLOOKUP(D88,Master,3,FALSE)) -> Lourens | F88: =IF(D88="","",VLOOKUP(D88,Master,4,FALSE)) -> Fourie | G88: =IF(D88="","",VLOOKUP(D88,Master,5,FALSE)) -> Men Seniors | H88: =IF(D88="","",VLOOKUP(D88,Master,2,FALSE)) -> Henties Bay | J88: Shark Spotted Gully | K88: 158 | L88: =IF(K88="","",IF(I88="",ROUND(HLOOKUP(J88,kgList,K88,FALSE),1),ROUND(HLOOKUP(I88,kgList,K88,FALSE),1))) -> 20.8 | M88: =IF(L88="","",IF(COUNTA(I88:J88)>1,"Edible or Inedible",IF(COUNTA(I88)=1,L88*1,IF(COUNTA(J88)=1,L88*1,"ERROR")))) -> 20.8
A89: 2021-NAT-D1 | B89: 44273 | C89: Day 1 | D89: N0644 | E89: =IF(D89="","",VLOOKUP(D89,Master,3,FALSE)) -> Mark | F89: =IF(D89="","",VLOOKUP(D89,Master,4,FALSE)) -> Van Der Merwe | G89: =IF(D89="","",VLOOKUP(D89,Master,5,FALSE)) -> Men U/16 | H89: =IF(D89="","",VLOOKUP(D89,Master,2,FALSE)) -> Namib Park | J89: Ray Bull / Eagle | K89: 84 | L89: =IF(K89="","",IF(I89="",ROUND(HLOOKUP(J89,kgList,K89,FALSE),1),ROUND(HLOOKUP(I89,kgList,K89,FALSE),1))) -> 10.9 | M89: =IF(L89="","",IF(COUNTA(I89:J89)>1,"Edible or Inedible",IF(COUNTA(I89)=1,L89*1,IF(COUNTA(J89)=1,L89*1,"ERROR")))) -> 10.9
A90: 2021-NAT-D1 | B90: 44273 | C90: Day 1 | D90: N0257 | E90: =IF(D90="","",VLOOKUP(D90,Master,3,FALSE)) -> Lu-Andre | F90: =IF(D90="","",VLOOKUP(D90,Master,4,FALSE)) -> Duvenhage | G90: =IF(D90="","",VLOOKUP(D90,Master,5,FALSE)) -> Men Seniors | H90: =IF(D90="","",VLOOKUP(D90,Master,2,FALSE)) -> Seagull Angling Club Coastal | J90: Skate Spearnose | K90: 131 | L90: =IF(K90="","",IF(I90="",ROUND(HLOOKUP(J90,kgList,K90,FALSE),1),ROUND(HLOOKUP(I90,kgList,K90,FALSE),1))) -> 20.8 | M90: =IF(L90="","",IF(COUNTA(I90:J90)>1,"Edible or Inedible",IF(COUNTA(I90)=1,L90*1,IF(COUNTA(J90)=1,L90*1,"ERROR")))) -> 20.8
A91: 2021-NAT-D2 | B91: 44274 | C91: Day 2 | D91: N0006 | E91: =IF(D91="","",VLOOKUP(D91,Master,3,FALSE)) -> Nico | F91: =IF(D91="","",VLOOKUP(D91,Master,4,FALSE)) -> Kotze | G91: =IF(D91="","",VLOOKUP(D91,Master,5,FALSE)) -> Men Seniors | H91: =IF(D91="","",VLOOKUP(D91,Master,2,FALSE)) -> Penguin | J91: Shark Cow / Sevengill | K91: 118 | L91: =IF(K91="","",IF(I91="",ROUND(HLOOKUP(J91,kgList,K91,FALSE),1),ROUND(HLOOKUP(I91,kgList,K91,FALSE),1))) -> 20.6 | M91: =IF(L91="","",IF(COUNTA(I91:J91)>1,"Edible or Inedible",IF(COUNTA(I91)=1,L91*1,IF(COUNTA(J91)=1,L91*1,"ERROR")))) -> 20.6
A92: 2021-NAT-D3 | B92: 44275 | C92: Day 3 | D92: N0006 | E92: =IF(D92="","",VLOOKUP(D92,Master,3,FALSE)) -> Nico | F92: =IF(D92="","",VLOOKUP(D92,Master,4,FALSE)) -> Kotze | G92: =IF(D92="","",VLOOKUP(D92,Master,5,FALSE)) -> Men Seniors | H92: =IF(D92="","",VLOOKUP(D92,Master,2,FALSE)) -> Penguin | J92: Shark Spotted Gully | K92: 157 | L92: =IF(K92="","",IF(I92="",ROUND(HLOOKUP(J92,kgList,K92,FALSE),1),ROUND(HLOOKUP(I92,kgList,K92,FALSE),1))) -> 20.4 | M92: =IF(L92="","",IF(COUNTA(I92:J92)>1,"Edible or Inedible",IF(COUNTA(I92)=1,L92*1,IF(COUNTA(J92)=1,L92*1,"ERROR")))) -> 20.4
A93: 2021-NAT-D1 | B93: 44273 | C93: Day 1 | D93: N0178 | E93: =IF(D93="","",VLOOKUP(D93,Master,3,FALSE)) -> Devon | F93: =IF(D93="","",VLOOKUP(D93,Master,4,FALSE)) -> Burger | G93: =IF(D93="","",VLOOKUP(D93,Master,5,FALSE)) -> Men U/16 | H93: =IF(D93="","",VLOOKUP(D93,Master,2,FALSE)) -> Penguin | J93: Shark Hound Smooth | K93: 89 | L93: =IF(K93="","",IF(I93="",ROUND(HLOOKUP(J93,kgList,K93,FALSE),1),ROUND(HLOOKUP(I93,kgList,K93,FALSE),1))) -> 2.5 | M93: =IF(L93="","",IF(COUNTA(I93:J93)>1,"Edible or Inedible",IF(COUNTA(I93)=1,L93*1,IF(COUNTA(J93)=1,L93*1,"ERROR")))) -> 2.5
A94: 2021-NAT-D2 | B94: 44274 | C94: Day 2 | D94: N0780 | E94: =IF(D94="","",VLOOKUP(D94,Master,3,FALSE)) -> Tertia | F94: =IF(D94="","",VLOOKUP(D94,Master,4,FALSE)) -> Roos | G94: =IF(D94="","",VLOOKUP(D94,Master,5,FALSE)) -> Ladies Senior | H94: =IF(D94="","",VLOOKUP(D94,Master,2,FALSE)) -> Steenbras | L94: =IF(K94="","",IF(I94="",ROUND(HLOOKUP(J94,kgList,K94,FALSE),1),ROUND(HLOOKUP(I94,kgList,K94,FALSE),1))) | M94: =IF(L94="","",IF(COUNTA(I94:J94)>1,"Edible or Inedible",IF(COUNTA(I94)=1,L94*1,IF(COUNTA(J94)=1,L94*1,"ERROR"))))
A95: 2021-NAT-D3 | B95: 44275 | C95: Day 3 | D95: N0657 | E95: =IF(D95="","",VLOOKUP(D95,Master,3,FALSE)) -> Johannes | F95: =IF(D95="","",VLOOKUP(D95,Master,4,FALSE)) -> Kotze | G95: =IF(D95="","",VLOOKUP(D95,Master,5,FALSE)) -> Men Seniors | H95: =IF(D95="","",VLOOKUP(D95,Master,2,FALSE)) -> Okahandja | J95: Shark Spotted Gully | K95: 157 | L95: =IF(K95="","",IF(I95="",ROUND(HLOOKUP(J95,kgList,K95,FALSE),1),ROUND(HLOOKUP(I95,kgList,K95,FALSE),1))) -> 20.4 | M95: =IF(L95="","",IF(COUNTA(I95:J95)>1,"Edible or Inedible",IF(COUNTA(I95)=1,L95*1,IF(COUNTA(J95)=1,L95*1,"ERROR")))) -> 20.4
A96: 2021-NAT-D3 | B96: 44275 | C96: Day 3 | D96: N0709 | E96: =IF(D96="","",VLOOKUP(D96,Master,3,FALSE)) -> Tiaan | F96: =IF(D96="","",VLOOKUP(D96,Master,4,FALSE)) -> Fourie | G96: =IF(D96="","",VLOOKUP(D96,Master,5,FALSE)) -> Men Seniors | H96: =IF(D96="","",VLOOKUP(D96,Master,2,FALSE)) -> Henties Bay | J96: Shark Spotted Gully | K96: 157 | L96: =IF(K96="","",IF(I96="",ROUND(HLOOKUP(J96,kgList,K96,FALSE),1),ROUND(HLOOKUP(I96,kgList,K96,FALSE),1))) -> 20.4 | M96: =IF(L96="","",IF(COUNTA(I96:J96)>1,"Edible or Inedible",IF(COUNTA(I96)=1,L96*1,IF(COUNTA(J96)=1,L96*1,"ERROR")))) -> 20.4
A97: 2021-NAT-D1 | B97: 44273 | C97: Day 1 | D97: N0026 | E97: =IF(D97="","",VLOOKUP(D97,Master,3,FALSE)) -> Johan | F97: =IF(D97="","",VLOOKUP(D97,Master,4,FALSE)) -> Agenbag | G97: =IF(D97="","",VLOOKUP(D97,Master,5,FALSE)) -> Men Seniors | H97: =IF(D97="","",VLOOKUP(D97,Master,2,FALSE)) -> Henties Bay | J97: Skate Spearnose | K97: 130 | L97: =IF(K97="","",IF(I97="",ROUND(HLOOKUP(J97,kgList,K97,FALSE),1),ROUND(HLOOKUP(I97,kgList,K97,FALSE),1))) -> 20.3 | M97: =IF(L97="","",IF(COUNTA(I97:J97)>1,"Edible or Inedible",IF(COUNTA(I97)=1,L97*1,IF(COUNTA(J97)=1,L97*1,"ERROR")))) -> 20.3
A98: 2021-NAT-D1 | B98: 44273 | C98: Day 1 | D98: N0122 | E98: =IF(D98="","",VLOOKUP(D98,Master,3,FALSE)) -> Immo | F98: =IF(D98="","",VLOOKUP(D98,Master,4,FALSE)) -> Dresselhaus | G98: =IF(D98="","",VLOOKUP(D98,Master,5,FALSE)) -> Men Seniors | H98: =IF(D98="","",VLOOKUP(D98,Master,2,FALSE)) -> Orca Angling Club | J98: Shark Cow / Sevengill | K98: 117 | L98: =IF(K98="","",IF(I98="",ROUND(HLOOKUP(J98,kgList,K98,FALSE),1),ROUND(HLOOKUP(I98,kgList,K98,FALSE),1))) -> 20.1 | M98: =IF(L98="","",IF(COUNTA(I98:J98)>1,"Edible or Inedible",IF(COUNTA(I98)=1,L98*1,IF(COUNTA(J98)=1,L98*1,"ERROR")))) -> 20.1
A99: 2021-NAT-D1 | B99: 44273 | C99: Day 1 | D99: N0100 | E99: =IF(D99="","",VLOOKUP(D99,Master,3,FALSE)) -> Werner | F99: =IF(D99="","",VLOOKUP(D99,Master,4,FALSE)) -> Van Riet | G99: =IF(D99="","",VLOOKUP(D99,Master,5,FALSE)) -> Men Seniors | H99: =IF(D99="","",VLOOKUP(D99,Master,2,FALSE)) -> Walvis Bay | J99: Shark Cow / Sevengill | K99: 117 | L99: =IF(K99="","",IF(I99="",ROUND(HLOOKUP(J99,kgList,K99,FALSE),1),ROUND(HLOOKUP(I99,kgList,K99,FALSE),1))) -> 20.1 | M99: =IF(L99="","",IF(COUNTA(I99:J99)>1,"Edible or Inedible",IF(COUNTA(I99)=1,L99*1,IF(COUNTA(J99)=1,L99*1,"ERROR")))) -> 20.1
A100: 2021-NAT-D1 | B100: 44273 | C100: Day 1 | D100: N0162 | E100: =IF(D100="","",VLOOKUP(D100,Master,3,FALSE)) -> Coennie | F100: =IF(D100="","",VLOOKUP(D100,Master,4,FALSE)) -> Steyn | G100: =IF(D100="","",VLOOKUP(D100,Master,5,FALSE)) -> Men Seniors | H100: =IF(D100="","",VLOOKUP(D100,Master,2,FALSE)) -> Namib Park | J100: Shark Spotted Gully | K100: 156 | L100: =IF(K100="","",IF(I100="",ROUND(HLOOKUP(J100,kgList,K100,FALSE),1),ROUND(HLOOKUP(I100,kgList,K100,FALSE),1))) -> 19.9 | M100: =IF(L100="","",IF(COUNTA(I100:J100)>1,"Edible or Inedible",IF(COUNTA(I100)=1,L100*1,IF(COUNTA(J100)=1,L100*1,"ERROR")))) -> 19.9
A101: 2021-NAT-D1 | B101: 44273 | C101: Day 1 | D101: N0849 | E101: =IF(D101="","",VLOOKUP(D101,Master,3,FALSE)) -> Ryno | F101: =IF(D101="","",VLOOKUP(D101,Master,4,FALSE)) -> Enslin | G101: =IF(D101="","",VLOOKUP(D101,Master,5,FALSE)) -> Men Seniors | H101: =IF(D101="","",VLOOKUP(D101,Master,2,FALSE)) -> Namib Park | J101: Shark Spotted Gully | K101: 156 | L101: =IF(K101="","",IF(I101="",ROUND(HLOOKUP(J101,kgList,K101,FALSE),1),ROUND(HLOOKUP(I101,kgList,K101,FALSE),1))) -> 19.9 | M101: =IF(L101="","",IF(COUNTA(I101:J101)>1,"Edible or Inedible",IF(COUNTA(I101)=1,L101*1,IF(COUNTA(J101)=1,L101*1,"ERROR")))) -> 19.9
A102: 2021-NAT-D1 | B102: 44273 | C102: Day 1 | D102: N0800 | E102: =IF(D102="","",VLOOKUP(D102,Master,3,FALSE)) -> Danie | F102: =IF(D102="","",VLOOKUP(D102,Master,4,FALSE)) -> Van Wyk | G102: =IF(D102="","",VLOOKUP(D102,Master,5,FALSE)) -> Men Seniors | H102: =IF(D102="","",VLOOKUP(D102,Master,2,FALSE)) -> Okahandja | J102: Shark Spotted Gully | K102: 156 | L102: =IF(K102="","",IF(I102="",ROUND(HLOOKUP(J102,kgList,K102,FALSE),1),ROUND(HLOOKUP(I102,kgList,K102,FALSE),1))) -> 19.9 | M102: =IF(L102="","",IF(COUNTA(I102:J102)>1,"Edible or Inedible",IF(COUNTA(I102)=1,L102*1,IF(COUNTA(J102)=1,L102*1,"ERROR")))) -> 19.9
A103: 2021-NAT-D1 | B103: 44273 | C103: Day 1 | D103: N0802 | E103: =IF(D103="","",VLOOKUP(D103,Master,3,FALSE)) -> Duan | F103: =IF(D103="","",VLOOKUP(D103,Master,4,FALSE)) -> Kotze | G103: =IF(D103="","",VLOOKUP(D103,Master,5,FALSE)) -> Men Seniors | H103: =IF(D103="","",VLOOKUP(D103,Master,2,FALSE)) -> Okahandja | J103: Shark Spotted Gully | K103: 156 | L103: =IF(K103="","",IF(I103="",ROUND(HLOOKUP(J103,kgList,K103,FALSE),1),ROUND(HLOOKUP(I103,kgList,K103,FALSE),1))) -> 19.9 | M103: =IF(L103="","",IF(COUNTA(I103:J103)>1,"Edible or Inedible",IF(COUNTA(I103)=1,L103*1,IF(COUNTA(J103)=1,L103*1,"ERROR")))) -> 19.9
A104: 2021-NAT-D1 | B104: 44273 | C104: Day 1 | D104: N0709 | E104: =IF(D104="","",VLOOKUP(D104,Master,3,FALSE)) -> Tiaan | F104: =IF(D104="","",VLOOKUP(D104,Master,4,FALSE)) -> Fourie | G104: =IF(D104="","",VLOOKUP(D104,Master,5,FALSE)) -> Men Seniors | H104: =IF(D104="","",VLOOKUP(D104,Master,2,FALSE)) -> Henties Bay | J104: Shark Spotted Gully | K104: 156 | L104: =IF(K104="","",IF(I104="",ROUND(HLOOKUP(J104,kgList,K104,FALSE),1),ROUND(HLOOKUP(I104,kgList,K104,FALSE),1))) -> 19.9 | M104: =IF(L104="","",IF(COUNTA(I104:J104)>1,"Edible or Inedible",IF(COUNTA(I104)=1,L104*1,IF(COUNTA(J104)=1,L104*1,"ERROR")))) -> 19.9
A105: 2021-NAT-D2 | B105: 44274 | C105: Day 2 | D105: N0143 | E105: =IF(D105="","",VLOOKUP(D105,Master,3,FALSE)) -> Andre | F105: =IF(D105="","",VLOOKUP(D105,Master,4,FALSE)) -> Aggenbag | G105: =IF(D105="","",VLOOKUP(D105,Master,5,FALSE)) -> Men Seniors | H105: =IF(D105="","",VLOOKUP(D105,Master,2,FALSE)) -> Welwitschia | J105: Shark Spotted Gully | K105: 156 | L105: =IF(K105="","",IF(I105="",ROUND(HLOOKUP(J105,kgList,K105,FALSE),1),ROUND(HLOOKUP(I105,kgList,K105,FALSE),1))) -> 19.9 | M105: =IF(L105="","",IF(COUNTA(I105:J105)>1,"Edible or Inedible",IF(COUNTA(I105)=1,L105*1,IF(COUNTA(J105)=1,L105*1,"ERROR")))) -> 19.9
A106: 2021-NAT-D2 | B106: 44274 | C106: Day 2 | D106: N0588 | E106: =IF(D106="","",VLOOKUP(D106,Master,3,FALSE)) -> Lourens | F106: =IF(D106="","",VLOOKUP(D106,Master,4,FALSE)) -> Fourie | G106: =IF(D106="","",VLOOKUP(D106,Master,5,FALSE)) -> Men Seniors | H106: =IF(D106="","",VLOOKUP(D106,Master,2,FALSE)) -> Henties Bay | J106: Shark Spotted Gully | K106: 156 | L106: =IF(K106="","",IF(I106="",ROUND(HLOOKUP(J106,kgList,K106,FALSE),1),ROUND(HLOOKUP(I106,kgList,K106,FALSE),1))) -> 19.9 | M106: =IF(L106="","",IF(COUNTA(I106:J106)>1,"Edible or Inedible",IF(COUNTA(I106)=1,L106*1,IF(COUNTA(J106)=1,L106*1,"ERROR")))) -> 19.9
A107: 2021-NAT-D3 | B107: 44275 | C107: Day 3 | D107: N0583 | E107: =IF(D107="","",VLOOKUP(D107,Master,3,FALSE)) -> Karmen | F107: =IF(D107="","",VLOOKUP(D107,Master,4,FALSE)) -> Mynhardt | G107: =IF(D107="","",VLOOKUP(D107,Master,5,FALSE)) -> Ladies Senior | H107: =IF(D107="","",VLOOKUP(D107,Master,2,FALSE)) -> Atlantic Angling Club | L107: =IF(K107="","",IF(I107="",ROUND(HLOOKUP(J107,kgList,K107,FALSE),1),ROUND(HLOOKUP(I107,kgList,K107,FALSE),1))) | M107: =IF(L107="","",IF(COUNTA(I107:J107)>1,"Edible or Inedible",IF(COUNTA(I107)=1,L107*1,IF(COUNTA(J107)=1,L107*1,"ERROR"))))
A108: 2021-NAT-D1 | B108: 44273 | C108: Day 1 | D108: N0177 | E108: =IF(D108="","",VLOOKUP(D108,Master,3,FALSE)) -> Corne | F108: =IF(D108="","",VLOOKUP(D108,Master,4,FALSE)) -> Burger | G108: =IF(D108="","",VLOOKUP(D108,Master,5,FALSE)) -> Men U/16 | H108: =IF(D108="","",VLOOKUP(D108,Master,2,FALSE)) -> Penguin | J108: Shark Hound Smooth | K108: 130 | L108: =IF(K108="","",IF(I108="",ROUND(HLOOKUP(J108,kgList,K108,FALSE),1),ROUND(HLOOKUP(I108,kgList,K108,FALSE),1))) -> 9.3 | M108: =IF(L108="","",IF(COUNTA(I108:J108)>1,"Edible or Inedible",IF(COUNTA(I108)=1,L108*1,IF(COUNTA(J108)=1,L108*1,"ERROR")))) -> 9.3
A109: 2021-NAT-D2 | B109: 44274 | C109: Day 2 | D109: N0687 | E109: =IF(D109="","",VLOOKUP(D109,Master,3,FALSE)) -> Barren | F109: =IF(D109="","",VLOOKUP(D109,Master,4,FALSE)) -> Van Es | G109: =IF(D109="","",VLOOKUP(D109,Master,5,FALSE)) -> Men U/21 | H109: =IF(D109="","",VLOOKUP(D109,Master,2,FALSE)) -> Penguin | J109: Shark Copper (Female) | K109: 165 | L109: =IF(K109="","",IF(I109="",ROUND(HLOOKUP(J109,kgList,K109,FALSE),1),ROUND(HLOOKUP(I109,kgList,K109,FALSE),1))) -> 61.6 | M109: =IF(L109="","",IF(COUNTA(I109:J109)>1,"Edible or Inedible",IF(COUNTA(I109)=1,L109*1,IF(COUNTA(J109)=1,L109*1,"ERROR")))) -> 61.6
A110: 2021-NAT-D1 | B110: 44273 | C110: Day 1 | D110: N0704 | E110: =IF(D110="","",VLOOKUP(D110,Master,3,FALSE)) -> Kay | F110: =IF(D110="","",VLOOKUP(D110,Master,4,FALSE)) -> Bachran | G110: =IF(D110="","",VLOOKUP(D110,Master,5,FALSE)) -> Men U/21 | H110: =IF(D110="","",VLOOKUP(D110,Master,2,FALSE)) -> Atlantic Angling Club | J110: Shark Spotted Gully | K110: 168 | L110: =IF(K110="","",IF(I110="",ROUND(HLOOKUP(J110,kgList,K110,FALSE),1),ROUND(HLOOKUP(I110,kgList,K110,FALSE),1))) -> 25.7 | M110: =IF(L110="","",IF(COUNTA(I110:J110)>1,"Edible or Inedible",IF(COUNTA(I110)=1,L110*1,IF(COUNTA(J110)=1,L110*1,"ERROR")))) -> 25.7
A111: 2021-NAT-D1 | B111: 44273 | C111: Day 1 | D111: N0495 | E111: =IF(D111="","",VLOOKUP(D111,Master,3,FALSE)) -> Eduard | F111: =IF(D111="","",VLOOKUP(D111,Master,4,FALSE)) -> Janse van Rensburg | G111: =IF(D111="","",VLOOKUP(D111,Master,5,FALSE)) -> Men U/16 | H111: =IF(D111="","",VLOOKUP(D111,Master,2,FALSE)) -> Walvis Bay | J111: Shark Spotted Gully | K111: 151 | L111: =IF(K111="","",IF(I111="",ROUND(HLOOKUP(J111,kgList,K111,FALSE),1),ROUND(HLOOKUP(I111,kgList,K111,FALSE),1))) -> 17.8 | M111: =IF(L111="","",IF(COUNTA(I111:J111)>1,"Edible or Inedible",IF(COUNTA(I111)=1,L111*1,IF(COUNTA(J111)=1,L111*1,"ERROR")))) -> 17.8
A112: 2021-NAT-D1 | B112: 44273 | C112: Day 1 | D112: N0108 | E112: =IF(D112="","",VLOOKUP(D112,Master,3,FALSE)) -> Dian | F112: =IF(D112="","",VLOOKUP(D112,Master,4,FALSE)) -> Neethling | G112: =IF(D112="","",VLOOKUP(D112,Master,5,FALSE)) -> Men U/21 | H112: =IF(D112="","",VLOOKUP(D112,Master,2,FALSE)) -> Walvis Bay | J112: Shark Spotted Gully | K112: 150 | L112: =IF(K112="","",IF(I112="",ROUND(HLOOKUP(J112,kgList,K112,FALSE),1),ROUND(HLOOKUP(I112,kgList,K112,FALSE),1))) -> 17.4 | M112: =IF(L112="","",IF(COUNTA(I112:J112)>1,"Edible or Inedible",IF(COUNTA(I112)=1,L112*1,IF(COUNTA(J112)=1,L112*1,"ERROR")))) -> 17.4
A113: 2021-NAT-D1 | B113: 44273 | C113: Day 1 | D113: N0122 | E113: =IF(D113="","",VLOOKUP(D113,Master,3,FALSE)) -> Immo | F113: =IF(D113="","",VLOOKUP(D113,Master,4,FALSE)) -> Dresselhaus | G113: =IF(D113="","",VLOOKUP(D113,Master,5,FALSE)) -> Men Seniors | H113: =IF(D113="","",VLOOKUP(D113,Master,2,FALSE)) -> Orca Angling Club | J113: Skate Spearnose | K113: 129 | L113: =IF(K113="","",IF(I113="",ROUND(HLOOKUP(J113,kgList,K113,FALSE),1),ROUND(HLOOKUP(I113,kgList,K113,FALSE),1))) -> 19.7 | M113: =IF(L113="","",IF(COUNTA(I113:J113)>1,"Edible or Inedible",IF(COUNTA(I113)=1,L113*1,IF(COUNTA(J113)=1,L113*1,"ERROR")))) -> 19.7
A114: 2021-NAT-D1 | B114: 44273 | C114: Day 1 | D114: N0143 | E114: =IF(D114="","",VLOOKUP(D114,Master,3,FALSE)) -> Andre | F114: =IF(D114="","",VLOOKUP(D114,Master,4,FALSE)) -> Aggenbag | G114: =IF(D114="","",VLOOKUP(D114,Master,5,FALSE)) -> Men Seniors | H114: =IF(D114="","",VLOOKUP(D114,Master,2,FALSE)) -> Welwitschia | J114: Skate Spearnose | K114: 129 | L114: =IF(K114="","",IF(I114="",ROUND(HLOOKUP(J114,kgList,K114,FALSE),1),ROUND(HLOOKUP(I114,kgList,K114,FALSE),1))) -> 19.7 | M114: =IF(L114="","",IF(COUNTA(I114:J114)>1,"Edible or Inedible",IF(COUNTA(I114)=1,L114*1,IF(COUNTA(J114)=1,L114*1,"ERROR")))) -> 19.7
A115: 2021-NAT-D2 | B115: 44274 | C115: Day 2 | D115: N0460 | E115: =IF(D115="","",VLOOKUP(D115,Master,3,FALSE)) -> Jaco | F115: =IF(D115="","",VLOOKUP(D115,Master,4,FALSE)) -> Venter | G115: =IF(D115="","",VLOOKUP(D115,Master,5,FALSE)) -> Men Seniors | H115: =IF(D115="","",VLOOKUP(D115,Master,2,FALSE)) -> Atlantic Angling Club | J115: Ray Bull / Eagle | K115: 102 | L115: =IF(K115="","",IF(I115="",ROUND(HLOOKUP(J115,kgList,K115,FALSE),1),ROUND(HLOOKUP(I115,kgList,K115,FALSE),1))) -> 19.7 | M115: =IF(L115="","",IF(COUNTA(I115:J115)>1,"Edible or Inedible",IF(COUNTA(I115)=1,L115*1,IF(COUNTA(J115)=1,L115*1,"ERROR")))) -> 19.7
A116: 2021-NAT-D1 | B116: 44273 | C116: Day 1 | D116: N0709 | E116: =IF(D116="","",VLOOKUP(D116,Master,3,FALSE)) -> Tiaan | F116: =IF(D116="","",VLOOKUP(D116,Master,4,FALSE)) -> Fourie | G116: =IF(D116="","",VLOOKUP(D116,Master,5,FALSE)) -> Men Seniors | H116: =IF(D116="","",VLOOKUP(D116,Master,2,FALSE)) -> Henties Bay | J116: Shark Spotted Gully | K116: 155 | L116: =IF(K116="","",IF(I116="",ROUND(HLOOKUP(J116,kgList,K116,FALSE),1),ROUND(HLOOKUP(I116,kgList,K116,FALSE),1))) -> 19.5 | M116: =IF(L116="","",IF(COUNTA(I116:J116)>1,"Edible or Inedible",IF(COUNTA(I116)=1,L116*1,IF(COUNTA(J116)=1,L116*1,"ERROR")))) -> 19.5
A117: 2021-NAT-D3 | B117: 44275 | C117: Day 3 | D117: N0792 | E117: =IF(D117="","",VLOOKUP(D117,Master,3,FALSE)) -> Willem | F117: =IF(D117="","",VLOOKUP(D117,Master,4,FALSE)) -> Schickerling | G117: =IF(D117="","",VLOOKUP(D117,Master,5,FALSE)) -> Men Seniors | H117: =IF(D117="","",VLOOKUP(D117,Master,2,FALSE)) -> Orca Angling Club | J117: Shark Spotted Gully | K117: 155 | L117: =IF(K117="","",IF(I117="",ROUND(HLOOKUP(J117,kgList,K117,FALSE),1),ROUND(HLOOKUP(I117,kgList,K117,FALSE),1))) -> 19.5 | M117: =IF(L117="","",IF(COUNTA(I117:J117)>1,"Edible or Inedible",IF(COUNTA(I117)=1,L117*1,IF(COUNTA(J117)=1,L117*1,"ERROR")))) -> 19.5
A118: 2021-NAT-D3 | B118: 44275 | C118: Day 3 | D118: N0118 | E118: =IF(D118="","",VLOOKUP(D118,Master,3,FALSE)) -> Olaf | F118: =IF(D118="","",VLOOKUP(D118,Master,4,FALSE)) -> Coetzee | G118: =IF(D118="","",VLOOKUP(D118,Master,5,FALSE)) -> Men Seniors | H118: =IF(D118="","",VLOOKUP(D118,Master,2,FALSE)) -> Namib Park | J118: Shark Spotted Gully | K118: 155 | L118: =IF(K118="","",IF(I118="",ROUND(HLOOKUP(J118,kgList,K118,FALSE),1),ROUND(HLOOKUP(I118,kgList,K118,FALSE),1))) -> 19.5 | M118: =IF(L118="","",IF(COUNTA(I118:J118)>1,"Edible or Inedible",IF(COUNTA(I118)=1,L118*1,IF(COUNTA(J118)=1,L118*1,"ERROR")))) -> 19.5
A119: 2021-NAT-D3 | B119: 44275 | C119: Day 3 | D119: N0709 | E119: =IF(D119="","",VLOOKUP(D119,Master,3,FALSE)) -> Tiaan | F119: =IF(D119="","",VLOOKUP(D119,Master,4,FALSE)) -> Fourie | G119: =IF(D119="","",VLOOKUP(D119,Master,5,FALSE)) -> Men Seniors | H119: =IF(D119="","",VLOOKUP(D119,Master,2,FALSE)) -> Henties Bay | J119: Shark Spotted Gully | K119: 155 | L119: =IF(K119="","",IF(I119="",ROUND(HLOOKUP(J119,kgList,K119,FALSE),1),ROUND(HLOOKUP(I119,kgList,K119,FALSE),1))) -> 19.5 | M119: =IF(L119="","",IF(COUNTA(I119:J119)>1,"Edible or Inedible",IF(COUNTA(I119)=1,L119*1,IF(COUNTA(J119)=1,L119*1,"ERROR")))) -> 19.5
... A129: 2021-NAT-D1 | B129: 44273 | C129: Day 1 | D129: N0800 | E129: =IF(D129="","",VLOOKUP(D129,Master,3,FALSE)) -> Danie | F129: =IF(D129="","",VLOOKUP(D129,Master,4,FALSE)) -> Van Wyk | G129: =IF(D129="","",VLOOKUP(D129,Master,5,FALSE)) -> Men Seniors | H129: =IF(D129="","",VLOOKUP(D129,Master,2,FALSE)) -> Okahandja | J129: Shark Spotted Gully | K129: 153 | L129: =IF(K129="","",IF(I129="",ROUND(HLOOKUP(J129,kgList,K129,FALSE),1),ROUND(HLOOKUP(I129,kgList,K129,FALSE),1))) -> 18.6 | M129: =IF(L129="","",IF(COUNTA(I129:J129)>1,"Edible or Inedible",IF(COUNTA(I129)=1,L129*1,IF(COUNTA(J129)=1,L129*1,"ERROR")))) -> 18.6
A130: 2021-NAT-D3 | B130: 44275 | C130: Day 3 | D130: N0850 | E130: =IF(D130="","",VLOOKUP(D130,Master,3,FALSE)) -> Wanda | F130: =IF(D130="","",VLOOKUP(D130,Master,4,FALSE)) -> Enslin | G130: =IF(D130="","",VLOOKUP(D130,Master,5,FALSE)) -> Ladies Senior | H130: =IF(D130="","",VLOOKUP(D130,Master,2,FALSE)) -> Namib Park | L130: =IF(K130="","",IF(I130="",ROUND(HLOOKUP(J130,kgList,K130,FALSE),1),ROUND(HLOOKUP(I130,kgList,K130,FALSE),1))) | M130: =IF(L130="","",IF(COUNTA(I130:J130)>1,"Edible or Inedible",IF(COUNTA(I130)=1,L130*1,IF(COUNTA(J130)=1,L130*1,"ERROR"))))
...

Sheet Individuals
D2: INDIVIDUALS NATIONALS | G2: NATIONALS DAY 3
B3: Competition | C3: (Multiple Items) | D3: =$C$4&" "& Individuals!$G$2 -> (All) NATIONALS DAY 3
B4: Status | C4: (All)
B6: ID | C6: Name | D6: Surname | E6: Team | F6: No. Edibles | G6: No. of Inedibles | H6: Total kg | I6: Total Points | J6: League Points (300)
A7: 1 | B7: N0008 | C7: Andre | D7: Coetzee | E7: Namib Park | G7: 13 | H7: 146.2 | I7: 146.2 | J7: 300 | K7: 1
A8: 2 | B8: N0190 | C8: Chris Junior | D8: Orffer | E8: Penguin | G8: 9 | H8: 132.1 | I8: 132.1 | J8: =IF(I8=I7,J7,IF(I8=0,ROUNDDOWN(20,0),J7-K7)) -> 299 | K8: =IF(I8<I7,1,IF(I8=I7,K7+1,0)) -> 1 | M8: 10 | N8: 1 | O8: Atlantic | Q8: x | R8: x
A9: 3 | B9: N0531 | C9: Rudi(Jnr.) | D9: Swartz | E9: Mako | G9: 9 | H9: 131.1 | I9: 131.1 | J9: =IF(I9=I8,J8,IF(I9=0,ROUNDDOWN(20,0),J8-K8)) -> 298 | K9: =IF(I9<I8,1,IF(I9=I8,K8+1,0)) -> 1 | M9: 12 | N9: 2 | O9: Benqualla | Q9: x | R9: x
A10: 4 | B10: N0657 | C10: Johannes | D10: Kotze | E10: Okahandja | G10: 13 | H10: 128.1 | I10: 128.1 | J10: =IF(I10=I9,J9,IF(I10=0,ROUNDDOWN(20,0),J9-K9)) -> 297 | K10: =IF(I10<I9,1,IF(I10=I9,K9+1,0)) -> 1 | M10: 12 | N10: 3 | O10: Hentiesbay | Q10: x | R10: x
A11: 5 | B11: N0588 | C11: Lourens | D11: Fourie | E11: Henties Bay | G11: 10 | H11: 127.7 | I11: 127.7 | J11: =IF(I11=I10,J10,IF(I11=0,ROUNDDOWN(20,0),J10-K10)) -> 296 | K11: =IF(I11<I10,1,IF(I11=I10,K10+1,0)) -> 1 | M11: 9 | N11: 4 | O11: Mako | Q11: x | R11: x
A12: 6 | B12: N0687 | C12: Barren | D12: Van Es | E12: Penguin | G12: 7 | H12: 119.9 | I12: 119.9 | J12: =IF(I12=I11,J11,IF(I12=0,ROUNDDOWN(20,0),J11-K11)) -> 295 | K12: =IF(I12<I11,1,IF(I12=I11,K11+1,0)) -> 1 | M12: 9 | N12: 5 | O12: Namib Park | Q12: x | R12: x
A13: 7 | B13: N0792 | C13: Willem | D13: Schickerling | E13: Orca Angling Club | G13: 9 | H13: 119 | I13: 119 | J13: =IF(I13=I12,J12,IF(I13=0,ROUNDDOWN(20,0),J12-K12)) -> 294 | K13: =IF(I13<I12,1,IF(I13=I12,K12+1,0)) -> 1 | M13: 8 | N13: 6 | O13: Okahandja | Q13: x | R13: x
A14: 8 | B14: N0011 | C14: Johan | D14: Mostert | E14: Atlantic Angling Club | G14: 3 | H14: 117.2 | I14: 117.2 | J14: =IF(I14=I13,J13,IF(I14=0,ROUNDDOWN(20,0),J13-K13)) -> 293 | K14: =IF(I14<I13,1,IF(I14=I13,K13+1,0)) -> 1 | N14: 7 | O14: Orca | Q14: x | R14: x
A15: 9 | B15: N0122 | C15: Immo | D15: Dresselhaus | E15: Orca Angling Club | G15: 9 | H15: 108.7 | I15: 108.7 | J15: =IF(I15=I14,J14,IF(I15=0,ROUNDDOWN(20,0),J14-K14)) -> 292 | K15: =IF(I15<I14,1,IF(I15=I14,K14+1,0)) -> 1 | M15: 8 | N15: 8 | O15: Otjiwaringo | Q15: x | R15: x
A16: 10 | B16: N0663 | C16: Allen | D16: Langenstrassen | E16: Penguin | G16: 10 | H16: 107.2 | I16: 107.2 | J16: =IF(I16=I15,J15,IF(I16=0,ROUNDDOWN(20,0),J15-K15)) -> 291 | K16: =IF(I16<I15,1,IF(I16=I15,K15+1,0)) -> 1 | M16: 13 | N16: 9 | O16: Penquin | Q16: x | R16: x
A17: 11 | B17: N0259 | C17: Henri | D17: Snyman | E17: Penguin | F17: 1 | G17: 10 | H17: 105.5 | I17: 105.5 | J17: =IF(I17=I16,J16,IF(I17=0,ROUNDDOWN(20,0),J16-K16)) -> 290 | K17: =IF(I17<I16,1,IF(I17=I16,K16+1,0)) -> 1 | N17: 10 | O17: Seagulls WHK | Q17: x | R17: x
A18: 12 | B18: N0460 | C18: Jaco | D18: Venter | E18: Atlantic Angling Club | G18: 6 | H18: 103.4 | I18: 103.4 | J18: =IF(I18=I17,J17,IF(I18=0,ROUNDDOWN(20,0),J17-K17)) -> 289 | K18: =IF(I18<I17,1,IF(I18=I17,K17+1,0)) -> 1 | M18: 7 | N18: 11 | O18: Seaguls WVB | Q18: x | R18: x
A19: 13 | B19: N0014 | C19: Willem | D19: Steyn | E19: Welwitschia | G19: 9 | H19: 102.8 | I19: 102.8 | J19: =IF(I19=I18,J18,IF(I19=0,ROUNDDOWN(20,0),J18-K18)) -> 288 | K19: =IF(I19<I18,1,IF(I19=I18,K18+1,0)) -> 1 | M19: 10 | N19: 12 | O19: Steeanbras | Q19: x | R19: x
A20: 14 | B20: N0774 | C20: Francois Jnr | D20: Wolfaardt | E20: Walvis Bay | G20: 14 | H20: 99.6 | I20: 99.6 | J20: =IF(I20=I19,J19,IF(I20=0,ROUNDDOWN(20,0),J19-K19)) -> 287 | K20: =IF(I20<I19,1,IF(I20=I19,K19+1,0)) -> 1 | M20: 14 | N20: 13 | O20: Walvis Bay | Q20: x | R20: x
A21: 15 | B21: N0731 | C21: Maryna | D21: Viljoen | E21: Steenbras | G21: 11 | H21: 97 | I21: 97 | J21: =IF(I21=I20,J20,IF(I21=0,ROUNDDOWN(20,0),J20-K20)) -> 286 | K21: =IF(I21<I20,1,IF(I21=I20,K20+1,0)) -> 1 | M21: 7 | N21: 14 | O21: Welwitchia | Q21: x | R21: x
A22: 16 | B22: N0195 | C22: Louis | D22: Fenaux | E22: Henties Bay | G22: 6 | H22: 96.6 | I22: 96.6 | J22: =IF(I22=I21,J21,IF(I22=0,ROUNDDOWN(20,0),J21-K21)) -> 285 | K22: =IF(I22<I21,1,IF(I22=I21,K21+1,0)) -> 1 | M22: =SUM(M8:M21) -> 119
A23: 17 | B23: N0769 | C23: Sven | D23: Welzig | E23: Atlantic Angling Club | G23: 12 | H23: 94.1 | I23: 94.1 | J23: =IF(I23=I22,J22,IF(I23=0,ROUNDDOWN(20,0),J22-K22)) -> 284 | K23: =IF(I23<I22,1,IF(I23=I22,K22+1,0)) -> 1
A24: 18 | B24: N0050 | C24: Sean | D24: Van Den Heuvel | E24: Seagull Angling Club Inland | G24: 9 | H24: 90.9 | I24: 90.9 | J24: =IF(I24=I23,J23,IF(I24=0,ROUNDDOWN(20,0),J23-K23)) -> 283 | K24: =IF(I24<I23,1,IF(I24=I23,K23+1,0)) -> 1
A25: 19 | B25: N0495 | C25: Eduard | D25: Janse van Rensburg | E25: Walvis Bay | G25: 10 | H25: 88.8 | I25: 88.8 | J25: =IF(I25=I24,J24,IF(I25=0,ROUNDDOWN(20,0),J24-K24)) -> 282 | K25: =IF(I25<I24,1,IF(I25=I24,K24+1,0)) -> 1
A26: 20 | B26: N0790 | C26: Ivan | D26: Kotze | E26: Seagull Angling Club Inland | F26: 1 | G26: 6 | H26: 86.9 | I26: 86.9 | J26: =IF(I26=I25,J25,IF(I26=0,ROUNDDOWN(20,0),J25-K25)) -> 281 | K26: =IF(I26<I25,1,IF(I26=I25,K25+1,0)) -> 1
A27: 21 | B27: N0228 | C27: Corne | D27: Kruger | E27: Orca Angling Club | G27: 10 | H27: 84.8 | I27: 84.8 | J27: =IF(I27=I26,J26,IF(I27=0,ROUNDDOWN(20,0),J26-K26)) -> 280 | K27: =IF(I27<I26,1,IF(I27=I26,K26+1,0)) -> 1
A28: 22 | B28: N0101 | C28: Tertius | D28: Potgieter | E28: Seagull Angling Club Inland | G28: 12 | H28: 84.3 | I28: 84.3 | J28: =IF(I28=I27,J27,IF(I28=0,ROUNDDOWN(20,0),J27-K27)) -> 279 | K28: =IF(I28<I27,1,IF(I28=I27,K27+1,0)) -> 1
A29: 23 | B29: N0802 | C29: Duan | D29: Kotze | E29: Okahandja | G29: 6 | H29: 82.1 | I29: 82.1 | J29: =IF(I29=I28,J28,IF(I29=0,ROUNDDOWN(20,0),J28-K28)) -> 278 | K29: =IF(I29<I28,1,IF(I29=I28,K28+1,0)) -> 1
A30: 24 | B30: N0127 | C30: Kiepie | D30: Burger | E30: Mako | G30: 9 | H30: 81 | I30: 81 | J30: =IF(I30=I29,J29,IF(I30=0,ROUNDDOWN(20,0),J29-K29)) -> 277 | K30: =IF(I30<I29,1,IF(I30=I29,K29+1,0)) -> 1
A31: 25 | B31: N0396 | C31: Raymond | D31: Duvenhage | E31: Walvis Bay | G31: 10 | H31: 79.8 | I31: 79.8 | J31: =IF(I31=I30,J30,IF(I31=0,ROUNDDOWN(20,0),J30-K30)) -> 276 | K31: =IF(I31<I30,1,IF(I31=I30,K30+1,0)) -> 1
A32: 26 | B32: N0709 | C32: Tiaan | D32: Fourie | E32: Henties Bay | F32: 1 | G32: 10 | H32: 79.7 | I32: 79.7 | J32: =IF(I32=I31,J31,IF(I32=0,ROUNDDOWN(20,0),J31-K31)) -> 275 | K32: =IF(I32<I31,1,IF(I32=I31,K31+1,0)) -> 1
A33: 27 | B33: N0580 | C33: Martin | D33: Cordier | E33: Walvis Bay | G33: 8 | H33: 75.2 | I33: 75.2 | J33: =IF(I33=I32,J32,IF(I33=0,ROUNDDOWN(20,0),J32-K32)) -> 274 | K33: =IF(I33<I32,1,IF(I33=I32,K32+1,0)) -> 1
A34: 28 | B34: N0044 | C34: Leon | D34: Krauze | E34: Henties Bay | G34: 11 | H34: 74.3 | I34: 74.3 | J34: =IF(I34=I33,J33,IF(I34=0,ROUNDDOWN(20,0),J33-K33)) -> 273 | K34: =IF(I34<I33,1,IF(I34=I33,K33+1,0)) -> 1
A35: 29 | B35: N0636 | C35: Lydia | D35: Cilliers | E35: Benguella | G35: 9 | H35: 74.1 | I35: 74.1 | J35: =IF(I35=I34,J34,IF(I35=0,ROUNDDOWN(20,0),J34-K34)) -> 272 | K35: =IF(I35<I34,1,IF(I35=I34,K34+1,0)) -> 1
A36: 30 | B36: N0860 | C36: Adrian | D36: Steenkamp | E36: Benguella | G36: 11 | H36: 69 | I36: 69 | J36: =IF(I36=I35,J35,IF(I36=0,ROUNDDOWN(20,0),J35-K35)) -> 271 | K36: =IF(I36<I35,1,IF(I36=I35,K35+1,0)) -> 1
A37: 31 | B37: N0158 | C37: Stephan | D37: Swanepoel | E37: Namib Park | G37: 7 | H37: 66.8 | I37: 66.8 | J37: =IF(I37=I36,J36,IF(I37=0,ROUNDDOWN(20,0),J36-K36)) -> 270 | K37: =IF(I37<I36,1,IF(I37=I36,K36+1,0)) -> 1
A38: 32 | B38: N0800 | C38: Danie | D38: Van Wyk | E38: Okahandja | G38: 4 | H38: 66.6 | I38: 66.6 | J38: =IF(I38=I37,J37,IF(I38=0,ROUNDDOWN(20,0),J37-K37)) -> 269 | K38: =IF(I38<I37,1,IF(I38=I37,K37+1,0)) -> 1
A39: 33 | B39: N0129 | C39: Pieter | D39: Van Aarde | E39: Seagull Angling Club Coastal | G39: 9 | H39: 66.2 | I39: 66.2 | J39: =IF(I39=I38,J38,IF(I39=0,ROUNDDOWN(20,0),J38-K38)) -> 268 | K39: =IF(I39<I38,1,IF(I39=I38,K38+1,0)) -> 1
A40: 34 | B40: N0143 | C40: Andre | D40: Aggenbag | E40: Welwitschia | G40: 5 | H40: 63.7 | I40: 63.7 | J40: =IF(I40=I39,J39,IF(I40=0,ROUNDDOWN(20,0),J39-K39)) -> 267 | K40: =IF(I40<I39,1,IF(I40=I39,K39+1,0)) -> 1
A41: 35 | B41: N0150 | C41: Lindie | D41: Krauze | E41: Henties Bay | F41: 1 | G41: 12 | H41: 63.5 | I41: 63.5 | J41: =IF(I41=I40,J40,IF(I41=0,ROUNDDOWN(20,0),J40-K40)) -> 266 | K41: =IF(I41<I40,1,IF(I41=I40,K40+1,0)) -> 1
A42: 36 | B42: N0013 | C42: Roger | D42: Boon | E42: Namib Park | G42: 10 | H42: 62.7 | I42: 62.7 | J42: =IF(I42=I41,J41,IF(I42=0,ROUNDDOWN(20,0),J41-K41)) -> 265 | K42: =IF(I42<I41,1,IF(I42=I41,K41+1,0)) -> 1
A43: 37 | B43: N0108 | C43: Dian | D43: Neethling | E43: Walvis Bay | G43: 8 | H43: 62.5 | I43: 62.5 | J43: =IF(I43=I42,J42,IF(I43=0,ROUNDDOWN(20,0),J42-K42)) -> 264 | K43: =IF(I43<I42,1,IF(I43=I42,K42+1,0)) -> 1
A44: 38 | B44: N0540 | C44: Murray | D44: Lewis | E44: Mako | G44: 5 | H44: 61.7 | I44: 61.7 | J44: =IF(I44=I43,J43,IF(I44=0,ROUNDDOWN(20,0),J43-K43)) -> 263 | K44: =IF(I44<I43,1,IF(I44=I43,K43+1,0)) -> 1
A45: 39 | B45: N0112 | C45: Danie | D45: Van Zyl | E45: Okahandja | G45: 5 | H45: 61.2 | I45: 61.2 | J45: =IF(I45=I44,J44,IF(I45=0,ROUNDDOWN(20,0),J44-K44)) -> 262 | K45: =IF(I45<I44,1,IF(I45=I44,K44+1,0)) -> 1
A46: 40 | B46: N0006 | C46: Nico | D46: Kotze | E46: Penguin | G46: 6 | H46: 60.5 | I46: 60.5 | J46: =IF(I46=I45,J45,IF(I46=0,ROUNDDOWN(20,0),J45-K45)) -> 261 | K46: =IF(I46<I45,1,IF(I46=I45,K45+1,0)) -> 1
A47: 41 | B47: N0069 | C47: Maritz | D47: Jansen Van Vuuren | E47: Otjiwarongo | G47: 5 | H47: 58.1 | I47: 58.1 | J47: =IF(I47=I46,J46,IF(I47=0,ROUNDDOWN(20,0),J46-K46)) -> 260 | K47: =IF(I47<I46,1,IF(I47=I46,K46+1,0)) -> 1
A48: 42 | B48: N0849 | C48: Ryno | D48: Enslin | E48: Namib Park | G48: 7 | H48: 57.7 | I48: 57.7 | J48: =IF(I48=I47,J47,IF(I48=0,ROUNDDOWN(20,0),J47-K47)) -> 259 | K48: =IF(I48<I47,1,IF(I48=I47,K47+1,0)) -> 1
A49: 43 | B49: N0208 | C49: Adri | D49: Roets | E49: Atlantic Angling Club | G49: 9 | H49: 57.2 | I49: 57.2 | J49: =IF(I49=I48,J48,IF(I49=0,ROUNDDOWN(20,0),J48-K48)) -> 258 | K49: =IF(I49<I48,1,IF(I49=I48,K48+1,0)) -> 1
A50: 44 | B50: N0546 | C50: Tian | D50: Mostert | E50: Seagull Angling Club Coastal | G50: 10 | H50: 56.1 | I50: 56.1 | J50: =IF(I50=I49,J49,IF(I50=0,ROUNDDOWN(20,0),J49-K49)) -> 257 | K50: =IF(I50<I49,1,IF(I50=I49,K49+1,0)) -> 1
A51: 45 | B51: N0697 | C51: Annelien | D51: Langenstrassen | E51: Penguin | G51: 7 | H51: 56 | I51: 56 | J51: =IF(I51=I50,J50,IF(I51=0,ROUNDDOWN(20,0),J50-K50)) -> 256 | K51: =IF(I51<I50,1,IF(I51=I50,K50+1,0)) -> 1
A52: 46 | B52: N0145 | C52: Hennie | D52: Roets | E52: Atlantic Angling Club | F52: 1 | G52: 5 | H52: 54.9 | I52: 54.9 | J52: =IF(I52=I51,J51,IF(I52=0,ROUNDDOWN(20,0),J51-K51)) -> 255 | K52: =IF(I52<I51,1,IF(I52=I51,K51+1,0)) -> 1
A53: 47 | B53: N0031 | C53: Emil | D53: Prinsloo | E53: Orca Angling Club | G53: 7 | H53: 54.3 | I53: 54.3 | J53: =IF(I53=I52,J52,IF(I53=0,ROUNDDOWN(20,0),J52-K52)) -> 254 | K53: =IF(I53<I52,1,IF(I53=I52,K52+1,0)) -> 1
A54: 48 | B54: N0124 | C54: Stefan Jnr | D54: Du Preez | E54: Walvis Bay | F54: 1 | G54: 4 | H54: 53.8 | I54: 53.8 | J54: =IF(I54=I53,J53,IF(I54=0,ROUNDDOWN(20,0),J53-K53)) -> 253 | K54: =IF(I54<I53,1,IF(I54=I53,K53+1,0)) -> 1
A55: 49 | B55: N0610 | C55: Martinus | D55: Venter | E55: Otjiwarongo | G55: 3 | H55: 52.3 | I55: 52.3 | J55: =IF(I55=I54,J54,IF(I55=0,ROUNDDOWN(20,0),J54-K54)) -> 252 | K55: =IF(I55<I54,1,IF(I55=I54,K54+1,0)) -> 1
A56: 50 | B56: N0573 | C56: Rinus | D56: Van Der Westhuizen | E56: Otjiwarongo | G56: 7 | H56: 51.9 | I56: 51.9 | J56: =IF(I56=I55,J55,IF(I56=0,ROUNDDOWN(20,0),J55-K55)) -> 251 | K56: =IF(I56<I55,1,IF(I56=I55,K55+1,0)) -> 1
A57: 51 | B57: N0024 | C57: Andrew | D57: Van Der Westhuizen | E57: Mako | G57: 6 | H57: 51.3 | I57: 51.3 | J57: =IF(I57=I56,J56,IF(I57=0,ROUNDDOWN(20,0),J56-K56)) -> 250 | K57: =IF(I57<I56,1,IF(I57=I56,K56+1,0)) -> 1
A58: 52 | B58: N0177 | C58: Corne | D58: Burger | E58: Penguin | F58: 1 | G58: 7 | H58: 49.1 | I58: 49.1 | J58: =IF(I58=I57,J57,IF(I58=0,ROUNDDOWN(20,0),J57-K57)) -> 249 | K58: =IF(I58<I57,1,IF(I58=I57,K57+1,0)) -> 1
A59: 53 | B59: N0867 | C59: Andre | D59: Bezuidehout | E59: Walvis Bay | G59: 8 | H59: 49 | I59: 49 | J59: =IF(I59=I58,J58,IF(I59=0,ROUNDDOWN(20,0),J58-K58)) -> 248 | K59: =IF(I59<I58,1,IF(I59=I58,K58+1,0)) -> 1
A60: 54 | B60: N0730 | C60: Wikus | D60: Viljoen | E60: Steenbras | F60: 1 | G60: 5 | H60: 48.9 | I60: 48.9 | J60: =IF(I60=I59,J59,IF(I60=0,ROUNDDOWN(20,0),J59-K59)) -> 247 | K60: =IF(I60<I59,1,IF(I60=I59,K59+1,0)) -> 1
A61: 55 | B61: N0178 | C61: Devon | D61: Burger | E61: Penguin | G61: 6 | H61: 47.2 | I61: 47.2 | J61: =IF(I61=I60,J60,IF(I61=0,ROUNDDOWN(20,0),J60-K60)) -> 246 | K61: =IF(I61<I60,1,IF(I61=I60,K60+1,0)) -> 1
A62: 56 | B62: N0100 | C62: Werner | D62: Van Riet | E62: Walvis Bay | G62: 4 | H62: 46.3 | I62: 46.3 | J62: =IF(I62=I61,J61,IF(I62=0,ROUNDDOWN(20,0),J61-K61)) -> 245 | K62: =IF(I62<I61,1,IF(I62=I61,K61+1,0)) -> 1
A63: 57 | B63: N0073 | C63: Marina | D63: Kruger | E63: Benguella | F63: 2 | G63: 6 | H63: 46.2 | I63: 46.2 | J63: =IF(I63=I62,J62,IF(I63=0,ROUNDDOWN(20,0),J62-K62)) -> 244 | K63: =IF(I63<I62,1,IF(I63=I62,K62+1,0)) -> 1
A64: 58 | B64: N0583 | C64: Karmen | D64: Mynhardt | E64: Atlantic Angling Club | G64: 6 | H64: 45.8 | I64: 45.8 | J64: =IF(I64=I63,J63,IF(I64=0,ROUNDDOWN(20,0),J63-K63)) -> 243 | K64: =IF(I64<I63,1,IF(I64=I63,K63+1,0)) -> 1
A65: 59 | B65: N0667 | C65: Nadine | D65: Downing | E65: Henties Bay | F65: 1 | G65: 8 | H65: 45.7 | I65: 45.7 | J65: =IF(I65=I64,J64,IF(I65=0,ROUNDDOWN(20,0),J64-K64)) -> 242 | K65: =IF(I65<I64,1,IF(I65=I64,K64+1,0)) -> 1
A66: 60 | B66: N0007 | C66: Brian | D66: Curtis | E66: Orca Angling Club | G66: 5 | H66: 45.6 | I66: 45.6 | J66: =IF(I66=I65,J65,IF(I66=0,ROUNDDOWN(20,0),J65-K65)) -> 241 | K66: =IF(I66<I65,1,IF(I66=I65,K65+1,0)) -> 1
A67: 61 | B67: N0622 | C67: Flippie | D67: Scheepers | E67: Walvis Bay | G67: 6 | H67: 45.5 | I67: 45.5 | J67: =IF(I67=I66,J66,IF(I67=0,ROUNDDOWN(20,0),J66-K66)) -> 240 | K67: =IF(I67<I66,1,IF(I67=I66,K66+1,0)) -> 1
A68: 62 | B68: N0066 | C68: Nols | D68: Diedericks | E68: Welwitschia | G68: 7 | H68: 44.1 | I68: 44.1 | J68: =IF(I68=I67,J67,IF(I68=0,ROUNDDOWN(20,0),J67-K67)) -> 239 | K68: =IF(I68<I67,1,IF(I68=I67,K67+1,0)) -> 1
A69: 63 | B69: N0193 | C69: Michael | D69: Durant | E69: Steenbras | F69: 1 | G69: 4 | H69: 43.8 | I69: 43.8 | J69: =IF(I69=I68,J68,IF(I69=0,ROUNDDOWN(20,0),J68-K68)) -> 238 | K69: =IF(I69<I68,1,IF(I69=I68,K68+1,0)) -> 1
A70: 64 | B70: N0118 | C70: Olaf | D70: Coetzee | E70: Namib Park | G70: 6 | H70: 43.6 | I70: 43.6 | J70: =IF(I70=I69,J69,IF(I70=0,ROUNDDOWN(20,0),J69-K69)) -> 237 | K70: =IF(I70<I69,1,IF(I70=I69,K69+1,0)) -> 1
A71: 65 | B71: N0254 | C71: Grant | D71: Knight | E71: Penguin | G71: 7 | H71: 43.1 | I71: 43.1 | J71: =IF(I71=I70,J70,IF(I71=0,ROUNDDOWN(20,0),J70-K70)) -> 236 | K71: =IF(I71<I70,1,IF(I71=I70,K70+1,0)) -> 1
A72: 66 | B72: N0409 | C72: Andre-Louis | D72: Stipp | E72: Benguella | G72: 5 | H72: 42.7 | I72: 42.7 | J72: =IF(I72=I71,J71,IF(I72=0,ROUNDDOWN(20,0),J71-K71)) -> 235 | K72: =IF(I72<I71,1,IF(I72=I71,K71+1,0)) -> 1
A73: 67 | B73: N0257 | C73: Lu-Andre | D73: Duvenhage | E73: Seagull Angling Club Coastal | G73: 4 | H73: 42.5 | I73: 42.5 | J73: =IF(I73=I72,J72,IF(I73=0,ROUNDDOWN(20,0),J72-K72)) -> 234 | K73: =IF(I73<I72,1,IF(I73=I72,K72+1,0)) -> 1
A74: 68 | B74: N0307 | C74: Herman | D74: Krauze | E74: Henties Bay | G74: 8 | H74: 42.3 | I74: 42.3 | J74: =IF(I74=I73,J73,IF(I74=0,ROUNDDOWN(20,0),J73-K73)) -> 233 | K74: =IF(I74<I73,1,IF(I74=I73,K73+1,0)) -> 1
A75: 69 | B75: N0779 | C75: Wallace | D75: Shepperson | E75: Steenbras | G75: 4 | H75: 41.8 | I75: 41.8 | J75: =IF(I75=I74,J74,IF(I75=0,ROUNDDOWN(20,0),J74-K74)) -> 232 | K75: =IF(I75<I74,1,IF(I75=I74,K74+1,0)) -> 1
A76: 70 | B76: N0095 | C76: Simen | D76: Andersen | E76: Henties Bay | G76: 7 | H76: 40.4 | I76: 40.4 | J76: =IF(I76=I75,J75,IF(I76=0,ROUNDDOWN(20,0),J75-K75)) -> 231 | K76: =IF(I76<I75,1,IF(I76=I75,K75+1,0)) -> 1
A77: 71 | B77: N0283 | C77: Kevin | D77: Page | E77: Penguin | G77: 7 | H77: 40 | I77: 40 | J77: =IF(I77=I76,J76,IF(I77=0,ROUNDDOWN(20,0),J76-K76)) -> 230 | K77: =IF(I77<I76,1,IF(I77=I76,K76+1,0)) -> 1
A78: 72 | B78: N0399 | C78: Org | D78: Van Rensburg | E78: Otjiwarongo | G78: 6 | H78: 39.4 | I78: 39.4 | J78: =IF(I78=I77,J77,IF(I78=0,ROUNDDOWN(20,0),J77-K77)) -> 229 | K78: =IF(I78<I77,1,IF(I78=I77,K77+1,0)) -> 1
A79: 73 | B79: N0148 | C79: Gunther | D79: Krauer | E79: Walvis Bay | G79: 5 | H79: 38.9 | I79: 38.9 | J79: =IF(I79=I78,J78,IF(I79=0,ROUNDDOWN(20,0),J78-K78)) -> 228 | K79: =IF(I79<I78,1,IF(I79=I78,K78+1,0)) -> 1
A80: 74 | B80: N0162 | C80: Coennie | D80: Steyn | E80: Namib Park | G80: 4 | H80: 38 | I80: 38 | J80: =IF(I80=I79,J79,IF(I80=0,ROUNDDOWN(20,0),J79-K79)) -> 227 | K80: =IF(I80<I79,1,IF(I80=I79,K79+1,0)) -> 1
A81: 75 | B81: N0627 | C81: Justin | D81: Smith | E81: Walvis Bay | G81: 4 | H81: 35.8 | I81: 35.8 | J81: =IF(I81=I80,J80,IF(I81=0,ROUNDDOWN(20,0),J80-K80)) -> 226 | K81: =IF(I81<I80,1,IF(I81=I80,K80+1,0)) -> 1
A82: 76 | B82: N0180 | C82: Elaine | D82: Vorster | E82: Henties Bay | F82: 2 | G82: 3 | H82: 35.6 | I82: 35.6 | J82: =IF(I82=I81,J81,IF(I82=0,ROUNDDOWN(20,0),J81-K81)) -> 225 | K82: =IF(I82<I81,1,IF(I82=I81,K81+1,0)) -> 1
A83: 77 | B83: N0035 | C83: Johan | D83: Van Wyk | E83: Mako | G83: 3 | H83: 35.3 | I83: 35.3 | J83: =IF(I83=I82,J82,IF(I83=0,ROUNDDOWN(20,0),J82-K82)) -> 224 | K83: =IF(I83<I82,1,IF(I83=I82,K82+1,0)) -> 1
A84: 78 | B84: N0496 | C84: Rudi | D84: Swartz | E84: Mako | G84: 6 | H84: 35.3 | I84: 35.3 | J84: =IF(I84=I83,J83,IF(I84=0,ROUNDDOWN(20,0),J83-K83)) -> 224 | K84: =IF(I84<I83,1,IF(I84=I83,K83+1,0)) -> 2
A85: 79 | B85: N0611 | C85: Jean | D85: Visser | E85: Benguella | G85: 1 | H85: 34.5 | I85: 34.5 | J85: =IF(I85=I84,J84,IF(I85=0,ROUNDDOWN(20,0),J84-K84)) -> 222 | K85: =IF(I85<I84,1,IF(I85=I84,K84+1,0)) -> 1
A86: 80 | B86: N0279 | C86: Ras | D86: Van Der Westhuizen | E86: Welwitschia | G86: 4 | H86: 34.2 | I86: 34.2 | J86: =IF(I86=I85,J85,IF(I86=0,ROUNDDOWN(20,0),J85-K85)) -> 221 | K86: =IF(I86<I85,1,IF(I86=I85,K85+1,0)) -> 1
A87: 81 | B87: N0041 | C87: Terence | D87: Clark | E87: Walvis Bay | G87: 3 | H87: 31.8 | I87: 31.8 | J87: =IF(I87=I86,J86,IF(I87=0,ROUNDDOWN(20,0),J86-K86)) -> 220 | K87: =IF(I87<I86,1,IF(I87=I86,K86+1,0)) -> 1
A88: 82 | B88: N0757 | C88: Brandon | D88: Grane | E88: Walvis Bay | G88: 5 | H88: 31.6 | I88: 31.6 | J88: =IF(I88=I87,J87,IF(I88=0,ROUNDDOWN(20,0),J87-K87)) -> 219 | K88: =IF(I88<I87,1,IF(I88=I87,K87+1,0)) -> 1
A89: 83 | B89: N0019 | C89: Johan | D89: Visser | E89: Mako | G89: 5 | H89: 30.5 | I89: 30.5 | J89: =IF(I89=I88,J88,IF(I89=0,ROUNDDOWN(20,0),J88-K88)) -> 218 | K89: =IF(I89<I88,1,IF(I89=I88,K88+1,0)) -> 1
A90: 84 | B90: N0819 | C90: Krynauw | D90: Bouer | E90: Walvis Bay | G90: 3 | H90: 26 | I90: 26 | J90: =IF(I90=I89,J89,IF(I90=0,ROUNDDOWN(20,0),J89-K89)) -> 217 | K90: =IF(I90<I89,1,IF(I90=I89,K89+1,0)) -> 1
A91: 85 | B91: N0704 | C91: Kay | D91: Bachran | E91: Atlantic Angling Club | G91: 1 | H91: 25.7 | I91: 25.7 | J91: =IF(I91=I90,J90,IF(I91=0,ROUNDDOWN(20,0),J90-K90)) -> 216 | K91: =IF(I91<I90,1,IF(I91=I90,K90+1,0)) -> 1
A92: 86 | B92: N0026 | C92: Johan | D92: Agenbag | E92: Henties Bay | G92: 2 | H92: 25.1 | I92: 25.1 | J92: =IF(I92=I91,J91,IF(I92=0,ROUNDDOWN(20,0),J91-K91)) -> 215 | K92: =IF(I92<I91,1,IF(I92=I91,K91+1,0)) -> 1
A93: 87 | B93: N0783 | C93: Johan | D93: Van Niekerk | E93: Namib Park | G93: 5 | H93: 25 | I93: 25 | J93: =IF(I93=I92,J92,IF(I93=0,ROUNDDOWN(20,0),J92-K92)) -> 214 | K93: =IF(I93<I92,1,IF(I93=I92,K92+1,0)) -> 1
A94: 88 | B94: N0515 | C94: Johan | D94: Burger | E94: Henties Bay | G94: 3 | H94: 24.6 | I94: 24.6 | J94: =IF(I94=I93,J93,IF(I94=0,ROUNDDOWN(20,0),J93-K93)) -> 213 | K94: =IF(I94<I93,1,IF(I94=I93,K93+1,0)) -> 1
... A96: 90 | B96: N0644 | C96: Mark | D96: Van Der Merwe | E96: Namib Park | G96: 4 | H96: 24.3 | I96: 24.3 | J96: =IF(I96=I95,J95,IF(I96=0,ROUNDDOWN(20,0),J95-K95)) -> 211 | K96: =IF(I96<I95,1,IF(I96=I95,K95+1,0)) -> 1
A97: 91 | B97: N0850 | C97: Wanda | D97: Enslin | E97: Namib Park | F97: 1 | G97: 6 | H97: 24 | I97: 24 | J97: =IF(I97=I96,J96,IF(I97=0,ROUNDDOWN(20,0),J96-K96)) -> 210 | K97: =IF(I97<I96,1,IF(I97=I96,K96+1,0)) -> 1
A98: 92 | B98: N0121 | C98: Lezelle | D98: Smit | E98: Benguella | G98: 2 | H98: 23.7 | I98: 23.7 | J98: =IF(I98=I97,J97,IF(I98=0,ROUNDDOWN(20,0),J97-K97)) -> 209 | K98: =IF(I98<I97,1,IF(I98=I97,K97+1,0)) -> 1
A99: 93 | B99: N0461 | C99: Andries | D99: Burger | E99: Atlantic Angling Club | F99: 1 | G99: 3 | H99: 23.6 | I99: 23.6 | J99: =IF(I99=I98,J98,IF(I99=0,ROUNDDOWN(20,0),J98-K98)) -> 208 | K99: =IF(I99<I98,1,IF(I99=I98,K98+1,0)) -> 1
A100: 94 | B100: N0001 | C100: Philip | D100: Swartz | E100: Mako | G100: 5 | H100: 23.5 | I100: 23.5 | J100: =IF(I100=I99,J99,IF(I100=0,ROUNDDOWN(20,0),J99-K99)) -> 207 | K100: =IF(I100<I99,1,IF(I100=I99,K99+1,0)) -> 1
A101: 95 | B101: N0255 | C101: Heiko | D101: Doll | E101: Okahandja | G101: 2 | H101: 22.3 | I101: 22.3 | J101: =IF(I101=I100,J100,IF(I101=0,ROUNDDOWN(20,0),J100-K100)) -> 206 | K101: =IF(I101<I100,1,IF(I101=I100,K100+1,0)) -> 1
A102: 96 | B102: N0243 | C102: Dirk | D102: Hansen | E102: Steenbras | G102: 1 | H102: 21.8 | I102: 21.8 | J102: =IF(I102=I101,J101,IF(I102=0,ROUNDDOWN(20,0),J101-K101)) -> 205 | K102: =IF(I102<I101,1,IF(I102=I101,K101+1,0)) -> 1
A103: 97 | B103: N0091 | C103: Deon | D103: Jacobs | E103: Benguella | G103: 4 | H103: 21.7 | I103: 21.7 | J103: =IF(I103=I102,J102,IF(I103=0,ROUNDDOWN(20,0),J102-K102)) -> 204 | K103: =IF(I103<I102,1,IF(I103=I102,K102+1,0)) -> 1
...

Sheet TOP6
B2: TOP 6 ANGLERS | D2: =Individuals!D3 -> (All) NATIONALS DAY 3
A4: ID | B4: Name | C4: Surname | D4: Status | E4: Club | F4: No. Edibles | G4: No. Inedibles | H4: Sum of kg | I4: Sum of Points | J4: League Points | K4: kg Top6 | L4: Top 6 Points
E5: Atlantic Angling Club | G5: 3 | H5: 117.2 | I5: 117.2 | K5: =SUBTOTAL(9,I5:I10) -> 454.2 | L5: =IF(H5>0,J5,0)+IF(H6>0,J6,0)+IF(H7>0,J7,0)+IF(H8>0,J8,0)+IF(H9>0,J9,0)+IF(H10>0,J10,0) -> 0 | M5: a | N5: b | O5: Copy data from Individuals
E6: Atlantic Angling Club | G6: 7 | H6: 110 | I6: 110 | M6: a | O6: Mombakkies not counting towards top6 points
E7: Atlantic Angling Club | G7: 17 | H7: 108.5 | I7: 108.5 | M7: a
E8: Atlantic Angling Club | F8: 1 | G8: 6 | H8: 56.3 | I8: 56.3 | M8: a
E9: Atlantic Angling Club | G9: 5 | H9: 32.2 | I9: 32.2 | M9: a
E10: Atlantic Angling Club | F10: 1 | G10: 4 | H10: 30 | I10: 30 | M10: a
E11: Benguella | G11: 10 | H11: 92.2 | I11: 92.2 | K11: =SUBTOTAL(9,I11:I16) -> 258 | L11: =IF(H11>0,J11,0)+IF(H12>0,J12,0)+IF(H13>0,J13,0)+IF(H14>0,J14,0)+IF(H15>0,J15,0)+IF(H16>0,J16,0) -> 0 | M11: a | N11: b
E12: Benguella | G12: 6 | H12: 49 | I12: 49 | M12: a
E13: Benguella | G13: 2 | H13: 48.6 | I13: 48.6 | M13: a
E14: Benguella | G14: 6 | H14: 34.5 | I14: 34.5 | M14: a
E15: Benguella | G15: 5 | H15: 18.6 | I15: 18.6 | M15: a
E16: Benguella | F16: 1 | G16: 2 | H16: 15.1 | I16: 15.1 | M16: a
E17: Henties Bay | G17: 18 | H17: 165.9 | I17: 165.9 | K17: =SUBTOTAL(9,I17:I22) -> 754.9 | L17: =IF(H17>0,J17,0)+IF(H18>0,J18,0)+IF(H19>0,J19,0)+IF(H20>0,J20,0)+IF(H21>0,J21,0)+IF(H22>0,J22,0) -> 0 | M17: a | N17: b
E18: Henties Bay | F18: 1 | G18: 18 | H18: 161.2 | I18: 161.2 | M18: a
E19: Henties Bay | G19: 15 | H19: 155.2 | I19: 155.2 | M19: a
E20: Henties Bay | G20: 20 | H20: 150.2 | I20: 150.2 | M20: a
E21: Henties Bay | G21: 12 | H21: 62.8 | I21: 62.8 | M21: a
E22: Henties Bay | G22: 4 | H22: 59.6 | I22: 59.6 | M22: a
E23: Mako | G23: 10 | H23: 97 | I23: 97 | K23: =IF(H23>0,H23,0)+IF(H24>0,H24,0)+IF(H25>0,H25,0)+IF(H26>0,H26,0)+IF(H27>0,H27,0)+IF(H28>0,H28,0) -> 425.6 | L23: =IF(H23>0,J23,0)+IF(H24>0,J24,0)+IF(H25>0,J25,0)+IF(H26>0,J26,0)+IF(H27>0,J27,0)+IF(H28>0,J28,0) -> 0 | M23: a | N23: b
E24: Mako | G24: 13 | H24: 93.9 | I24: 93.9 | M24: a
E25: Mako | G25: 7 | H25: 67.3 | I25: 67.3 | M25: a
E26: Mako | G26: 9 | H26: 65.5 | I26: 65.5 | M26: a
E27: Mako | G27: 8 | H27: 52.5 | I27: 52.5 | M27: a
E28: Mako | G28: 10 | H28: 49.4 | I28: 49.4 | M28: a
E29: Namib Park | F29: 1 | G29: 15 | H29: 158.1 | I29: 158.1 | K29: =IF(H29>0,H29,0)+IF(H30>0,H30,0)+IF(H31>0,H31,0)+IF(H32>0,H32,0)+IF(H33>0,H33,0)+IF(H34>0,H34,0) -> 489.1 | L29: =IF(H29>0,J29,0)+IF(H30>0,J30,0)+IF(H31>0,J31,0)+IF(H32>0,J32,0)+IF(H33>0,J33,0)+IF(H34>0,J34,0) -> 0 | M29: a | N29: b
E30: Namib Park | G30: 11 | H30: 88.6 | I30: 88.6 | M30: a
E31: Namib Park | G31: 12 | H31: 72.4 | I31: 72.4 | M31: a
E32: Namib Park | G32: 7 | H32: 66.8 | I32: 66.8 | M32: a
E33: Namib Park | G33: 8 | H33: 62 | I33: 62 | M33: a
E34: Namib Park | G34: 6 | H34: 41.2 | I34: 41.2 | M34: a
E35: Okahandja | G35: 17 | H35: 182.4 | I35: 182.4 | K35: =IF(H35>0,H35,0)+IF(H36>0,H36,0)+IF(H37>0,H37,0)+IF(H38>0,H38,0)+IF(H39>0,H39,0)+IF(H40>0,H40,0) -> 479.2 | L35: =IF(H35>0,J35,0)+IF(H36>0,J36,0)+IF(H37>0,J37,0)+IF(H38>0,J38,0)+IF(H39>0,J39,0)+IF(H40>0,J40,0) -> 0 | M35: a | N35: b
E36: Okahandja | G36: 7 | H36: 87.2 | I36: 87.2 | M36: a
E37: Okahandja | G37: 6 | H37: 71.4 | I37: 71.4 | M37: a
E38: Okahandja | G38: 6 | H38: 63.5 | I38: 63.5 | M38: a
E39: Okahandja | G39: 6 | H39: 41.4 | I39: 41.4 | M39: a
E40: Okahandja | G40: 2 | H40: 33.3 | I40: 33.3 | M40: a
E41: Orca Angling Club | G41: 13 | H41: 174.1 | I41: 174.1 | K41: =IF(H41>0,H41,0)+IF(H42>0,H42,0)+IF(H43>0,H43,0)+IF(H44>0,H44,0)+IF(H45>0,H45,0)+IF(H46>0,H46,0) -> 655 | L41: =IF(H41>0,J41,0)+IF(H42>0,J42,0)+IF(H43>0,J43,0)+IF(H44>0,J44,0)+IF(H45>0,J45,0)+IF(H46>0,J46,0) -> 0 | M41: a | N41: b
E42: Orca Angling Club | G42: 13 | H42: 129.3 | I42: 129.3 | M42: a
E43: Orca Angling Club | G43: 15 | H43: 123.4 | I43: 123.4 | M43: a
E44: Orca Angling Club | F44: 1 | G44: 11 | H44: 92.9 | I44: 92.9 | M44: a
E45: Orca Angling Club | G45: 11 | H45: 81.6 | I45: 81.6 | M45: a
E46: Orca Angling Club | F46: 3 | G46: 6 | H46: 53.7 | I46: 53.7 | M46: a
E47: Otjiwarongo | G47: 7 | H47: 85 | I47: 85 | K47: =IF(H47>0,H47,0)+IF(H48>0,H48,0)+IF(H49>0,H49,0)+IF(H50>0,H50,0)+IF(H51>0,H51,0)+IF(H52>0,H52,0) -> 323.5 | L47: =IF(H47>0,J47,0)+IF(H48>0,J48,0)+IF(H49>0,J49,0)+IF(H50>0,J50,0)+IF(H51>0,J51,0)+IF(H52>0,J52,0) -> 0 | M47: a | N47: b
E48: Otjiwarongo | G48: 6 | H48: 62.4 | I48: 62.4 | M48: a
E49: Otjiwarongo | G49: 8 | H49: 57.5 | I49: 57.5 | M49: a
E50: Otjiwarongo | G50: 7 | H50: 41.7 | I50: 41.7 | M50: a
E51: Otjiwarongo | G51: 6 | H51: 39.4 | I51: 39.4 | M51: a
E52: Otjiwarongo | G52: 4 | H52: 37.5 | I52: 37.5 | M52: a
E53: Penguin | F53: 1 | G53: 10 | H53: 151.2 | I53: 151.2 | K53: =IF(H53>0,H53,0)+IF(H54>0,H54,0)+IF(H55>0,H55,0)+IF(H56>0,H56,0)+IF(H57>0,H57,0)+IF(H58>0,H58,0) -> 722.8 | L53: =IF(H53>0,J53,0)+IF(H54>0,J54,0)+IF(H55>0,J55,0)+IF(H56>0,J56,0)+IF(H57>0,J57,0)+IF(H58>0,J58,0) -> 0 | M53: a | N53: b
E54: Penguin | F54: 1 | G54: 14 | H54: 136.7 | I54: 136.7 | M54: a
E55: Penguin | G55: 12 | H55: 127.3 | I55: 127.3 | M55: a
E56: Penguin | F56: 1 | G56: 7 | H56: 120.5 | I56: 120.5 | M56: a
E57: Penguin | G57: 14 | H57: 96.5 | I57: 96.5 | M57: a
E58: Penguin | G58: 9 | H58: 90.6 | I58: 90.6 | M58: a
E59: Seagulls Whk | G59: 14 | H59: 133.2 | I59: 133.2 | K59: =IF(H59>0,H59,0)+IF(H60>0,H60,0)+IF(H61>0,H61,0)+IF(H62>0,H62,0)+IF(H63>0,H63,0)+IF(H64>0,H64,0) -> 421.3 | L59: =IF(H59>0,J59,0)+IF(H60>0,J60,0)+IF(H61>0,J61,0)+IF(H62>0,J62,0)+IF(H63>0,J63,0)+IF(H64>0,J64,0) -> 0 | M59: a | N59: b
E60: Seagulls Whk | G60: 19 | H60: 132 | I60: 132 | M60: a
E61: Seagulls Whk | F61: 1 | G61: 7 | H61: 91 | I61: 91 | M61: a
E62: Seagulls Whk | G62: 3 | H62: 30.3 | I62: 30.3 | M62: a
E63: Seagulls Whk | G63: 4 | H63: 24.3 | I63: 24.3 | M63: a
E64: Seagulls Whk | G64: 2 | H64: 10.5 | I64: 10.5 | M64: a
E65: Seagulls WVB | G65: 10 | H65: 78 | I65: 78 | K65: =IF(H65>0,H65,0)+IF(H66>0,H66,0)+IF(H67>0,H67,0)+IF(H68>0,H68,0)+IF(H69>0,H69,0)+IF(H70>0,H70,0) -> 257.7 | L65: =IF(H65>0,J65,0)+IF(H66>0,J66,0)+IF(H67>0,J67,0)+IF(H68>0,J68,0)+IF(H69>0,J69,0)+IF(H70>0,J70,0) -> 0 | M65: a | N65: b
E66: Seagulls WVB | G66: 12 | H66: 68.2 | I66: 68.2 | M66: a
E67: Seagulls WVB | G67: 6 | H67: 50.3 | I67: 50.3 | M67: a
E68: Seagulls WVB | F68: 1 | G68: 3 | H68: 28.1 | I68: 28.1 | M68: a
E69: Seagulls WVB | G69: 2 | H69: 19.5 | I69: 19.5 | M69: a
E70: Seagulls WVB | G70: 3 | H70: 13.6 | I70: 13.6 | M70: a
E71: Steenbras | F71: 1 | G71: 6 | H71: 67.6 | I71: 67.6 | K71: =IF(H71>0,H71,0)+IF(H72>0,H72,0)+IF(H73>0,H73,0)+IF(H74>0,H74,0)+IF(H75>0,H75,0)+IF(H76>0,H76,0) -> 213.7 | L71: =IF(H71>0,J71,0)+IF(H72>0,J72,0)+IF(H73>0,J73,0)+IF(H74>0,J74,0)+IF(H75>0,J75,0)+IF(H76>0,J76,0) -> 0 | M71: a | N71: b
E72: Steenbras | F72: 1 | G72: 8 | H72: 64.6 | I72: 64.6 | M72: a
E73: Steenbras | G73: 4 | H73: 41.8 | I73: 41.8 | M73: a
E74: Steenbras | G74: 3 | H74: 32.3 | I74: 32.3 | M74: a
E75: Steenbras | G75: 1 | H75: 6.2 | I75: 6.2 | M75: a
E76: Steenbras | G76: 1 | H76: 1.2 | I76: 1.2 | M76: a
E77: Walvis Bay | G77: 18 | H77: 155.2 | I77: 155.2 | K77: =IF(H77>0,H77,0)+IF(H78>0,H78,0)+IF(H79>0,H79,0)+IF(H80>0,H80,0)+IF(H81>0,H81,0)+IF(H82>0,H82,0) -> 624.4 | L77: =IF(H77>0,J77,0)+IF(H78>0,J78,0)+IF(H79>0,J79,0)+IF(H80>0,J80,0)+IF(H81>0,J81,0)+IF(H82>0,J82,0) -> 0 | M77: a | N77: b
E78: Walvis Bay | G78: 12 | H78: 140.5 | I78: 140.5 | M78: a
E79: Walvis Bay | G79: 12 | H79: 104 | I79: 104 | M79: a
E80: Walvis Bay | G80: 10 | H80: 100 | I80: 100 | M80: a
E81: Walvis Bay | G81: 11 | H81: 62.5 | I81: 62.5 | M81: a
E82: Walvis Bay | G82: 8 | H82: 62.2 | I82: 62.2 | M82: a
A83: N0148 | B83: Gunther | C83: Krauer | D83: Men Veteran | E83: Walvis Bay | H83: 0 | I83: 0 | J83: 48
A84: N0627 | B84: Justin | C84: Smith | D84: Men U/21 | E84: Walvis Bay | H84: 0 | I84: 0 | J84: 48
E85: Welwitschia | G85: 11 | H85: 112.4 | I85: 112.4 | K85: =IF(H85>0,H85,0)+IF(H86>0,H86,0)+IF(H87>0,H87,0)+IF(H88>0,H88,0)+IF(H89>0,H89,0)+IF(H90>0,H90,0) -> 343.6 | L85: =IF(H85>0,J85,0)+IF(H86>0,J86,0)+IF(H87>0,J87,0)+IF(H88>0,J88,0)+IF(H89>0,J89,0)+IF(H90>0,J90,0) -> 0 | M85: a | N85: b
E86: Welwitschia | G86: 11 | H86: 83.9 | I86: 83.9 | M86: a
E87: Welwitschia | F87: 1 | G87: 6 | H87: 74.2 | I87: 74.2 | M87: a
E88: Welwitschia | G88: 5 | H88: 36.2 | I88: 36.2 | M88: a
E89: Welwitschia | G89: 5 | H89: 24.4 | I89: 24.4 | M89: a
E90: Welwitschia | G90: 3 | H90: 12.5 | I90: 12.5 | M90: a

Sheet Clubs
A2: CLUB POSITION | C2: =Individuals!G2 -> NATIONALS DAY 3
C4: =C2 -> NATIONALS DAY 3
B5: Team | C5: Top 6 kg | D5: Top 6 Points | E5: Club Points
A6: 1 | B6: ='TOP6'!E17 -> Henties Bay | C6: ='TOP6'!K17 -> 754.9 | D6: ='TOP6'!L17 -> 0 | E6: 49 | F6: 1
A7: 2 | B7: ='TOP6'!E53 -> Penguin | C7: ='TOP6'!K53 -> 722.8 | D7: ='TOP6'!L53 -> 0 | E7: 50 | F7: 2
A8: 3 | B8: ='TOP6'!E41 -> Orca Angling Club | C8: ='TOP6'!K41 -> 655 | D8: ='TOP6'!L41 -> 0 | E8: 46 | F8: 3
A9: 4 | B9: ='TOP6'!E77 -> Walvis Bay | C9: ='TOP6'!K77 -> 624.4 | D9: ='TOP6'!L77 -> 0 | E9: 45 | F9: 4
A10: 5 | B10: ='TOP6'!E29 -> Namib Park | C10: ='TOP6'!K29 -> 489.1 | D10: ='TOP6'!L29 -> 0 | E10: 44 | F10: 5
A11: 6 | B11: ='TOP6'!E35 -> Okahandja | C11: ='TOP6'!K35 -> 479.2 | D11: ='TOP6'!L35 -> 0 | E11: 42 | F11: 6
A12: 7 | B12: ='TOP6'!E5 -> Atlantic Angling Club | C12: ='TOP6'!K5 -> 454.2 | D12: ='TOP6'!L5 -> 0 | E12: 48 | F12: 7
A13: 8 | B13: ='TOP6'!E23 -> Mako | C13: ='TOP6'!K23 -> 425.6 | D13: ='TOP6'!L23 -> 0 | E13: 47 | F13: 8
A14: 9 | B14: ='TOP6'!E59 -> Seagulls Whk | C14: ='TOP6'!K59 -> 421.3 | D14: ='TOP6'!L59 -> 0 | E14: 38 | F14: 9
A15: 10 | B15: ='TOP6'!E85 -> Welwitschia | C15: ='TOP6'!K85 -> 343.6 | D15: ='TOP6'!L85 -> 0 | E15: 39 | F15: 10
A16: 11 | B16: ='TOP6'!E47 -> Otjiwarongo | C16: ='TOP6'!K47 -> 323.5 | D16: ='TOP6'!L47 -> 0 | E16: 40 | F16: 11
A17: 12 | B17: ='TOP6'!E11 -> Benguella | C17: ='TOP6'!K11 -> 258 | D17: ='TOP6'!L11 -> 0 | E17: 41 | F17: 12
A18: 13 | B18: ='TOP6'!E65 -> Seagulls WVB | C18: ='TOP6'!K65 -> 257.7 | D18: ='TOP6'!L65 -> 0 | E18: 43 | F18: 13
A19: 14 | B19: ='TOP6'!E71 -> Steenbras | C19: ='TOP6'!K71 -> 213.7 | D19: ='TOP6'!L71 -> 0 | E19: 37 | F19: 14
A20: 15
C22: Total 2021 | F22: 1st Interclub | I22: 2nd Interclub | L22: 3rd interclub | O22: 4th interclub | R22: 5th interclub
B23: Team | C23: Top 6 kg | D23: Top 6 Points | E23: Club Points | F23: Top 6 kg | G23: Top 6 Points | H23: Club Points | I23: Top 6 kg | J23: Top 6 Points | K23: Club Points | L23: Top 6 kg | M23: Top 6 Points | N23: Club Points | O23: Top 6 kg | P23: Top 6 Points | Q23: Club Points | R23: Top 6 kg | S23: Top 6 Points | T23: Club Points
A24: 1 | B24: =B6 -> Henties Bay | C24: =SUM(F24,I24,L24,O24,R24) -> 754.9 | D24: =SUM(G24,J24,M24,P24,S24) -> 0 | E24: =SUM(H24,K24,N24,Q24,T24) -> 49 | F24: =C6 -> 754.9 | G24: =D6 -> 0 | H24: =E6 -> 49
A25: 2 | B25: =B7 -> Penguin | C25: =SUM(F25,I25,L25,O25,R25) -> 722.8 | D25: =SUM(G25,J25,M25,P25,S25) -> 0 | E25: =SUM(H25,K25,N25,Q25,T25) -> 50 | F25: =C7 -> 722.8 | G25: =D7 -> 0 | H25: =E7 -> 50
A26: 3 | B26: =B8 -> Orca Angling Club | C26: =SUM(F26,I26,L26,O26,R26) -> 655 | D26: =SUM(G26,J26,M26,P26,S26) -> 0 | E26: =SUM(H26,K26,N26,Q26,T26) -> 46 | F26: =C8 -> 655 | G26: =D8 -> 0 | H26: =E8 -> 46
A27: 4 | B27: =B9 -> Walvis Bay | C27: =SUM(F27,I27,L27,O27,R27) -> 624.4 | D27: =SUM(G27,J27,M27,P27,S27) -> 0 | E27: =SUM(H27,K27,N27,Q27,T27) -> 45 | F27: =C9 -> 624.4 | G27: =D9 -> 0 | H27: =E9 -> 45
A28: 5 | B28: =B10 -> Namib Park | C28: =SUM(F28,I28,L28,O28,R28) -> 489.1 | D28: =SUM(G28,J28,M28,P28,S28) -> 0 | E28: =SUM(H28,K28,N28,Q28,T28) -> 44 | F28: =C10 -> 489.1 | G28: =D10 -> 0 | H28: =E10 -> 44
A29: 6 | B29: =B11 -> Okahandja | C29: =SUM(F29,I29,L29,O29,R29) -> 479.2 | D29: =SUM(G29,J29,M29,P29,S29) -> 0 | E29: =SUM(H29,K29,N29,Q29,T29) -> 42 | F29: =C11 -> 479.2 | G29: =D11 -> 0 | H29: =E11 -> 42
A30: 7 | B30: =B12 -> Atlantic Angling Club | C30: =SUM(F30,I30,L30,O30,R30) -> 454.2 | D30: =SUM(G30,J30,M30,P30,S30) -> 0 | E30: =SUM(H30,K30,N30,Q30,T30) -> 48 | F30: =C12 -> 454.2 | G30: =D12 -> 0 | H30: =E12 -> 48
A31: 8 | B31: =B13 -> Mako | C31: =SUM(F31,I31,L31,O31,R31) -> 425.6 | D31: =SUM(G31,J31,M31,P31,S31) -> 0 | E31: =SUM(H31,K31,N31,Q31,T31) -> 47 | F31: =C13 -> 425.6 | G31: =D13 -> 0 | H31: =E13 -> 47
A32: 9 | B32: =B14 -> Seagulls Whk | C32: =SUM(F32,I32,L32,O32,R32) -> 421.3 | D32: =SUM(G32,J32,M32,P32,S32) -> 0 | E32: =SUM(H32,K32,N32,Q32,T32) -> 38 | F32: =C14 -> 421.3 | G32: =D14 -> 0 | H32: =E14 -> 38
A33: 10 | B33: =B15 -> Welwitschia | C33: =SUM(F33,I33,L33,O33,R33) -> 343.6 | D33: =SUM(G33,J33,M33,P33,S33) -> 0 | E33: =SUM(H33,K33,N33,Q33,T33) -> 39 | F33: =C15 -> 343.6 | G33: =D15 -> 0 | H33: =E15 -> 39
A34: 11 | B34: =B16 -> Otjiwarongo | C34: =SUM(F34,I34,L34,O34,R34) -> 323.5 | D34: =SUM(G34,J34,M34,P34,S34) -> 0 | E34: =SUM(H34,K34,N34,Q34,T34) -> 40 | F34: =C16 -> 323.5 | G34: =D16 -> 0 | H34: =E16 -> 40
A35: 12 | B35: =B17 -> Benguella | C35: =SUM(F35,I35,L35,O35,R35) -> 258 | D35: =SUM(G35,J35,M35,P35,S35) -> 0 | E35: =SUM(H35,K35,N35,Q35,T35) -> 41 | F35: =C17 -> 258 | G35: =D17 -> 0 | H35: =E17 -> 41
... A37: 14 | B37: =B19 -> Steenbras | C37: =SUM(F37,I37,L37,O37,R37) -> 213.7 | D37: =SUM(G37,J37,M37,P37,S37) -> 0 | E37: =SUM(H37,K37,N37,Q37,T37) -> 37 | F37: =C19 -> 213.7 | G37: =D19 -> 0 | H37: =E19 -> 37
A38: 15 | C38: =SUM(F38,I38,L38,O38,R38) -> 0 | D38: =SUM(G38,J38,M38,P38,S38) -> 0 | E38: =SUM(H38,K38,N38,Q38,T38) -> 0

Sheet MenSenior
A2: Competition | B2: (Multiple Items) | C2: =$B$3&" "& Individuals!$D$3 -> (Multiple Items) (All) NATIONALS DAY 3
A3: Status | B3: (Multiple Items) | D3: LEAGUE
A5: ID | B5: Name | C5: Surname | D5: Team | E5: No. Edibles | F5: No. of Inedibles | G5: Total kg | H5: Total Points | I5: Category Points (200)
A6: N0008 | B6: Andre | C6: Coetzee | D6: Namib Park | F6: 13 | G6: 146.2 | H6: 146.2 | I6: 200 | J6: 1
A7: N0190 | B7: Chris Junior | C7: Orffer | D7: Penguin | F7: 9 | G7: 132.1 | H7: 132.1 | I7: =IF(H7=H6,I6,IF(H7=0,ROUNDDOWN(20,0),I6-J6)) -> 199 | J7: =IF(H7<H6,1,IF(H7=H6,J6+1,0)) -> 1 | N7: 1 | O7: Atlantic | Q7: x | R7: x
A8: N0657 | B8: Johannes | C8: Kotze | D8: Okahandja | F8: 13 | G8: 128.1 | H8: 128.1 | I8: =IF(H8=H7,I7,IF(H8=0,ROUNDDOWN(20,0),I7-J7)) -> 198 | J8: =IF(H8<H7,1,IF(H8=H7,J7+1,0)) -> 1 | N8: 2 | O8: Benqualla | Q8: x | R8: x
A9: N0588 | B9: Lourens | C9: Fourie | D9: Henties Bay | F9: 10 | G9: 127.7 | H9: 127.7 | I9: =IF(H9=H8,I8,IF(H9=0,ROUNDDOWN(20,0),I8-J8)) -> 197 | J9: =IF(H9<H8,1,IF(H9=H8,J8+1,0)) -> 1 | N9: 3 | O9: Hentiesbay | Q9: x | R9: x
A10: N0792 | B10: Willem | C10: Schickerling | D10: Orca Angling Club | F10: 9 | G10: 119 | H10: 119 | I10: =IF(H10=H9,I9,IF(H10=0,ROUNDDOWN(20,0),I9-J9)) -> 196 | J10: =IF(H10<H9,1,IF(H10=H9,J9+1,0)) -> 1 | N10: 4 | O10: Mako | Q10: x | R10: x
A11: N0011 | B11: Johan | C11: Mostert | D11: Atlantic Angling Club | F11: 3 | G11: 117.2 | H11: 117.2 | I11: =IF(H11=H10,I10,IF(H11=0,ROUNDDOWN(20,0),I10-J10)) -> 195 | J11: =IF(H11<H10,1,IF(H11=H10,J10+1,0)) -> 1 | N11: 5 | O11: Namibpark | Q11: x | R11: x
A12: N0122 | B12: Immo | C12: Dresselhaus | D12: Orca Angling Club | F12: 9 | G12: 108.7 | H12: 108.7 | I12: =IF(H12=H11,I11,IF(H12=0,ROUNDDOWN(20,0),I11-J11)) -> 194 | J12: =IF(H12<H11,1,IF(H12=H11,J11+1,0)) -> 1 | N12: 6 | O12: Okahndja | Q12: x | R12: x
A13: N0663 | B13: Allen | C13: Langenstrassen | D13: Penguin | F13: 10 | G13: 107.2 | H13: 107.2 | I13: =IF(H13=H12,I12,IF(H13=0,ROUNDDOWN(20,0),I12-J12)) -> 193 | J13: =IF(H13<H12,1,IF(H13=H12,J12+1,0)) -> 1 | N13: 7 | O13: orca | Q13: x | R13: x
A14: N0259 | B14: Henri | C14: Snyman | D14: Penguin | E14: 1 | F14: 10 | G14: 105.5 | H14: 105.5 | I14: =IF(H14=H13,I13,IF(H14=0,ROUNDDOWN(20,0),I13-J13)) -> 192 | J14: =IF(H14<H13,1,IF(H14=H13,J13+1,0)) -> 1 | N14: 8 | O14: Otjiwaringo | Q14: x | R14: x
A15: N0460 | B15: Jaco | C15: Venter | D15: Atlantic Angling Club | F15: 6 | G15: 103.4 | H15: 103.4 | I15: =IF(H15=H14,I14,IF(H15=0,ROUNDDOWN(20,0),I14-J14)) -> 191 | J15: =IF(H15<H14,1,IF(H15=H14,J14+1,0)) -> 1 | N15: 9 | O15: Penquin | Q15: x | R15: x
A16: N0014 | B16: Willem | C16: Steyn | D16: Welwitschia | F16: 9 | G16: 102.8 | H16: 102.8 | I16: =IF(H16=H15,I15,IF(H16=0,ROUNDDOWN(20,0),I15-J15)) -> 190 | J16: =IF(H16<H15,1,IF(H16=H15,J15+1,0)) -> 1 | N16: 10 | O16: Seagulls whk | Q16: x | R16: x
A17: N0195 | B17: Louis | C17: Fenaux | D17: Henties Bay | F17: 6 | G17: 96.6 | H17: 96.6 | I17: =IF(H17=H16,I16,IF(H17=0,ROUNDDOWN(20,0),I16-J16)) -> 189 | J17: =IF(H17<H16,1,IF(H17=H16,J16+1,0)) -> 1 | N17: 11 | O17: Seaguls coast | Q17: x | R17: x
A18: N0050 | B18: Sean | C18: Van Den Heuvel | D18: Seagull Angling Club Inland | F18: 9 | G18: 90.9 | H18: 90.9 | I18: =IF(H18=H17,I17,IF(H18=0,ROUNDDOWN(20,0),I17-J17)) -> 188 | J18: =IF(H18<H17,1,IF(H18=H17,J17+1,0)) -> 1 | N18: 12 | O18: Steeanbras | Q18: x | R18: x
A19: N0790 | B19: Ivan | C19: Kotze | D19: Seagull Angling Club Inland | E19: 1 | F19: 6 | G19: 86.9 | H19: 86.9 | I19: =IF(H19=H18,I18,IF(H19=0,ROUNDDOWN(20,0),I18-J18)) -> 187 | J19: =IF(H19<H18,1,IF(H19=H18,J18+1,0)) -> 1 | N19: 13 | O19: Walvis | Q19: x | R19: x
A20: N0228 | B20: Corne | C20: Kruger | D20: Orca Angling Club | F20: 10 | G20: 84.8 | H20: 84.8 | I20: =IF(H20=H19,I19,IF(H20=0,ROUNDDOWN(20,0),I19-J19)) -> 186 | J20: =IF(H20<H19,1,IF(H20=H19,J19+1,0)) -> 1 | N20: 14 | O20: Welwitchia | Q20: x | R20: x
A21: N0101 | B21: Tertius | C21: Potgieter | D21: Seagull Angling Club Inland | F21: 12 | G21: 84.3 | H21: 84.3 | I21: =IF(H21=H20,I20,IF(H21=0,ROUNDDOWN(20,0),I20-J20)) -> 185 | J21: =IF(H21<H20,1,IF(H21=H20,J20+1,0)) -> 1
A22: N0802 | B22: Duan | C22: Kotze | D22: Okahandja | F22: 6 | G22: 82.1 | H22: 82.1 | I22: =IF(H22=H21,I21,IF(H22=0,ROUNDDOWN(20,0),I21-J21)) -> 184 | J22: =IF(H22<H21,1,IF(H22=H21,J21+1,0)) -> 1
A23: N0127 | B23: Kiepie | C23: Burger | D23: Mako | F23: 9 | G23: 81 | H23: 81 | I23: =IF(H23=H22,I22,IF(H23=0,ROUNDDOWN(20,0),I22-J22)) -> 183 | J23: =IF(H23<H22,1,IF(H23=H22,J22+1,0)) -> 1
A24: N0396 | B24: Raymond | C24: Duvenhage | D24: Walvis Bay | F24: 10 | G24: 79.8 | H24: 79.8 | I24: =IF(H24=H23,I23,IF(H24=0,ROUNDDOWN(20,0),I23-J23)) -> 182 | J24: =IF(H24<H23,1,IF(H24=H23,J23+1,0)) -> 1
A25: N0709 | B25: Tiaan | C25: Fourie | D25: Henties Bay | E25: 1 | F25: 10 | G25: 79.7 | H25: 79.7 | I25: =IF(H25=H24,I24,IF(H25=0,ROUNDDOWN(20,0),I24-J24)) -> 181 | J25: =IF(H25<H24,1,IF(H25=H24,J24+1,0)) -> 1
A26: N0580 | B26: Martin | C26: Cordier | D26: Walvis Bay | F26: 8 | G26: 75.2 | H26: 75.2 | I26: =IF(H26=H25,I25,IF(H26=0,ROUNDDOWN(20,0),I25-J25)) -> 180 | J26: =IF(H26<H25,1,IF(H26=H25,J25+1,0)) -> 1
A27: N0044 | B27: Leon | C27: Krauze | D27: Henties Bay | F27: 11 | G27: 74.3 | H27: 74.3 | I27: =IF(H27=H26,I26,IF(H27=0,ROUNDDOWN(20,0),I26-J26)) -> 179 | J27: =IF(H27<H26,1,IF(H27=H26,J26+1,0)) -> 1
A28: N0158 | B28: Stephan | C28: Swanepoel | D28: Namib Park | F28: 7 | G28: 66.8 | H28: 66.8 | I28: =IF(H28=H27,I27,IF(H28=0,ROUNDDOWN(20,0),I27-J27)) -> 178 | J28: =IF(H28<H27,1,IF(H28=H27,J27+1,0)) -> 1
A29: N0800 | B29: Danie | C29: Van Wyk | D29: Okahandja | F29: 4 | G29: 66.6 | H29: 66.6 | I29: =IF(H29=H28,I28,IF(H29=0,ROUNDDOWN(20,0),I28-J28)) -> 177 | J29: =IF(H29<H28,1,IF(H29=H28,J28+1,0)) -> 1
A30: N0129 | B30: Pieter | C30: Van Aarde | D30: Seagull Angling Club Coastal | F30: 9 | G30: 66.2 | H30: 66.2 | I30: =IF(H30=H29,I29,IF(H30=0,ROUNDDOWN(20,0),I29-J29)) -> 176 | J30: =IF(H30<H29,1,IF(H30=H29,J29+1,0)) -> 1
A31: N0143 | B31: Andre | C31: Aggenbag | D31: Welwitschia | F31: 5 | G31: 63.7 | H31: 63.7 | I31: =IF(H31=H30,I30,IF(H31=0,ROUNDDOWN(20,0),I30-J30)) -> 175 | J31: =IF(H31<H30,1,IF(H31=H30,J30+1,0)) -> 1
A32: N0013 | B32: Roger | C32: Boon | D32: Namib Park | F32: 10 | G32: 62.7 | H32: 62.7 | I32: =IF(H32=H31,I31,IF(H32=0,ROUNDDOWN(20,0),I31-J31)) -> 174 | J32: =IF(H32<H31,1,IF(H32=H31,J31+1,0)) -> 1
A33: N0540 | B33: Murray | C33: Lewis | D33: Mako | F33: 5 | G33: 61.7 | H33: 61.7 | I33: =IF(H33=H32,I32,IF(H33=0,ROUNDDOWN(20,0),I32-J32)) -> 173 | J33: =IF(H33<H32,1,IF(H33=H32,J32+1,0)) -> 1
A34: N0112 | B34: Danie | C34: Van Zyl | D34: Okahandja | F34: 5 | G34: 61.2 | H34: 61.2 | I34: =IF(H34=H33,I33,IF(H34=0,ROUNDDOWN(20,0),I33-J33)) -> 172 | J34: =IF(H34<H33,1,IF(H34=H33,J33+1,0)) -> 1
A35: N0006 | B35: Nico | C35: Kotze | D35: Penguin | F35: 6 | G35: 60.5 | H35: 60.5 | I35: =IF(H35=H34,I34,IF(H35=0,ROUNDDOWN(20,0),I34-J34)) -> 171 | J35: =IF(H35<H34,1,IF(H35=H34,J34+1,0)) -> 1
A36: N0069 | B36: Maritz | C36: Jansen Van Vuuren | D36: Otjiwarongo | F36: 5 | G36: 58.1 | H36: 58.1 | I36: =IF(H36=H35,I35,IF(H36=0,ROUNDDOWN(20,0),I35-J35)) -> 170 | J36: =IF(H36<H35,1,IF(H36=H35,J35+1,0)) -> 1
A37: N0849 | B37: Ryno | C37: Enslin | D37: Namib Park | F37: 7 | G37: 57.7 | H37: 57.7 | I37: =IF(H37=H36,I36,IF(H37=0,ROUNDDOWN(20,0),I36-J36)) -> 169 | J37: =IF(H37<H36,1,IF(H37=H36,J36+1,0)) -> 1
... A39: N0546 | B39: Tian | C39: Mostert | D39: Seagull Angling Club Coastal | F39: 10 | G39: 56.1 | H39: 56.1 | I39: =IF(H39=H38,I38,IF(H39=0,ROUNDDOWN(20,0),I38-J38)) -> 167 | J39: =IF(H39<H38,1,IF(H39=H38,J38+1,0)) -> 1
A40: N0145 | B40: Hennie | C40: Roets | D40: Atlantic Angling Club | E40: 1 | F40: 5 | G40: 54.9 | H40: 54.9 | I40: =IF(H40=H39,I39,IF(H40=0,ROUNDDOWN(20,0),I39-J39)) -> 166 | J40: =IF(H40<H39,1,IF(H40=H39,J39+1,0)) -> 1
A41: N0031 | B41: Emil | C41: Prinsloo | D41: Orca Angling Club | F41: 7 | G41: 54.3 | H41: 54.3 | I41: =IF(H41=H40,I40,IF(H41=0,ROUNDDOWN(20,0),I40-J40)) -> 165 | J41: =IF(H41<H40,1,IF(H41=H40,J40+1,0)) -> 1
A42: N0610 | B42: Martinus | C42: Venter | D42: Otjiwarongo | F42: 3 | G42: 52.3 | H42: 52.3 | I42: =IF(H42=H41,I41,IF(H42=0,ROUNDDOWN(20,0),I41-J41)) -> 164 | J42: =IF(H42<H41,1,IF(H42=H41,J41+1,0)) -> 1
A43: N0573 | B43: Rinus | C43: Van Der Westhuizen | D43: Otjiwarongo | F43: 7 | G43: 51.9 | H43: 51.9 | I43: =IF(H43=H42,I42,IF(H43=0,ROUNDDOWN(20,0),I42-J42)) -> 163 | J43: =IF(H43<H42,1,IF(H43=H42,J42+1,0)) -> 1
A44: N0024 | B44: Andrew | C44: Van Der Westhuizen | D44: Mako | F44: 6 | G44: 51.3 | H44: 51.3 | I44: =IF(H44=H43,I43,IF(H44=0,ROUNDDOWN(20,0),I43-J43)) -> 162 | J44: =IF(H44<H43,1,IF(H44=H43,J43+1,0)) -> 1
A45: N0867 | B45: Andre | C45: Bezuidehout | D45: Walvis Bay | F45: 8 | G45: 49 | H45: 49 | I45: =IF(H45=H44,I44,IF(H45=0,ROUNDDOWN(20,0),I44-J44)) -> 161 | J45: =IF(H45<H44,1,IF(H45=H44,J44+1,0)) -> 1
A46: N0730 | B46: Wikus | C46: Viljoen | D46: Steenbras | E46: 1 | F46: 5 | G46: 48.9 | H46: 48.9 | I46: =IF(H46=H45,I45,IF(H46=0,ROUNDDOWN(20,0),I45-J45)) -> 160 | J46: =IF(H46<H45,1,IF(H46=H45,J45+1,0)) -> 1
A47: N0100 | B47: Werner | C47: Van Riet | D47: Walvis Bay | F47: 4 | G47: 46.3 | H47: 46.3 | I47: =IF(H47=H46,I46,IF(H47=0,ROUNDDOWN(20,0),I46-J46)) -> 159 | J47: =IF(H47<H46,1,IF(H47=H46,J46+1,0)) -> 1
A48: N0007 | B48: Brian | C48: Curtis | D48: Orca Angling Club | F48: 5 | G48: 45.6 | H48: 45.6 | I48: =IF(H48=H47,I47,IF(H48=0,ROUNDDOWN(20,0),I47-J47)) -> 158 | J48: =IF(H48<H47,1,IF(H48=H47,J47+1,0)) -> 1
A49: N0622 | B49: Flippie | C49: Scheepers | D49: Walvis Bay | F49: 6 | G49: 45.5 | H49: 45.5 | I49: =IF(H49=H48,I48,IF(H49=0,ROUNDDOWN(20,0),I48-J48)) -> 157 | J49: =IF(H49<H48,1,IF(H49=H48,J48+1,0)) -> 1
A50: N0066 | B50: Nols | C50: Diedericks | D50: Welwitschia | F50: 7 | G50: 44.1 | H50: 44.1 | I50: =IF(H50=H49,I49,IF(H50=0,ROUNDDOWN(20,0),I49-J49)) -> 156 | J50: =IF(H50<H49,1,IF(H50=H49,J49+1,0)) -> 1
A51: N0193 | B51: Michael | C51: Durant | D51: Steenbras | E51: 1 | F51: 4 | G51: 43.8 | H51: 43.8 | I51: =IF(H51=H50,I50,IF(H51=0,ROUNDDOWN(20,0),I50-J50)) -> 155 | J51: =IF(H51<H50,1,IF(H51=H50,J50+1,0)) -> 1
A52: N0118 | B52: Olaf | C52: Coetzee | D52: Namib Park | F52: 6 | G52: 43.6 | H52: 43.6 | I52: =IF(H52=H51,I51,IF(H52=0,ROUNDDOWN(20,0),I51-J51)) -> 154 | J52: =IF(H52<H51,1,IF(H52=H51,J51+1,0)) -> 1
A53: N0254 | B53: Grant | C53: Knight | D53: Penguin | F53: 7 | G53: 43.1 | H53: 43.1 | I53: =IF(H53=H52,I52,IF(H53=0,ROUNDDOWN(20,0),I52-J52)) -> 153 | J53: =IF(H53<H52,1,IF(H53=H52,J52+1,0)) -> 1
A54: N0409 | B54: Andre-Louis | C54: Stipp | D54: Benguella | F54: 5 | G54: 42.7 | H54: 42.7 | I54: =IF(H54=H53,I53,IF(H54=0,ROUNDDOWN(20,0),I53-J53)) -> 152 | J54: =IF(H54<H53,1,IF(H54=H53,J53+1,0)) -> 1
A55: N0257 | B55: Lu-Andre | C55: Duvenhage | D55: Seagull Angling Club Coastal | F55: 4 | G55: 42.5 | H55: 42.5 | I55: =IF(H55=H54,I54,IF(H55=0,ROUNDDOWN(20,0),I54-J54)) -> 151 | J55: =IF(H55<H54,1,IF(H55=H54,J54+1,0)) -> 1
A56: N0779 | B56: Wallace | C56: Shepperson | D56: Steenbras | F56: 4 | G56: 41.8 | H56: 41.8 | I56: =IF(H56=H55,I55,IF(H56=0,ROUNDDOWN(20,0),I55-J55)) -> 150 | J56: =IF(H56<H55,1,IF(H56=H55,J55+1,0)) -> 1
A57: N0095 | B57: Simen | C57: Andersen | D57: Henties Bay | F57: 7 | G57: 40.4 | H57: 40.4 | I57: =IF(H57=H56,I56,IF(H57=0,ROUNDDOWN(20,0),I56-J56)) -> 149 | J57: =IF(H57<H56,1,IF(H57=H56,J56+1,0)) -> 1
A58: N0399 | B58: Org | C58: Van Rensburg | D58: Otjiwarongo | F58: 6 | G58: 39.4 | H58: 39.4 | I58: =IF(H58=H57,I57,IF(H58=0,ROUNDDOWN(20,0),I57-J57)) -> 148 | J58: =IF(H58<H57,1,IF(H58=H57,J57+1,0)) -> 1
A59: N0148 | B59: Gunther | C59: Krauer | D59: Walvis Bay | F59: 5 | G59: 38.9 | H59: 38.9 | I59: =IF(H59=H58,I58,IF(H59=0,ROUNDDOWN(20,0),I58-J58)) -> 147 | J59: =IF(H59<H58,1,IF(H59=H58,J58+1,0)) -> 1
A60: N0162 | B60: Coennie | C60: Steyn | D60: Namib Park | F60: 4 | G60: 38 | H60: 38 | I60: =IF(H60=H59,I59,IF(H60=0,ROUNDDOWN(20,0),I59-J59)) -> 146 | J60: =IF(H60<H59,1,IF(H60=H59,J59+1,0)) -> 1
A61: N0496 | B61: Rudi | C61: Swartz | D61: Mako | F61: 6 | G61: 35.3 | H61: 35.3 | I61: =IF(H61=H60,I60,IF(H61=0,ROUNDDOWN(20,0),I60-J60)) -> 145 | J61: =IF(H61<H60,1,IF(H61=H60,J60+1,0)) -> 1
A62: N0035 | B62: Johan | C62: Van Wyk | D62: Mako | F62: 3 | G62: 35.3 | H62: 35.3 | I62: =IF(H62=H61,I61,IF(H62=0,ROUNDDOWN(20,0),I61-J61)) -> 145 | J62: =IF(H62<H61,1,IF(H62=H61,J61+1,0)) -> 2
A63: N0611 | B63: Jean | C63: Visser | D63: Benguella | F63: 1 | G63: 34.5 | H63: 34.5 | I63: =IF(H63=H62,I62,IF(H63=0,ROUNDDOWN(20,0),I62-J62)) -> 143 | J63: =IF(H63<H62,1,IF(H63=H62,J62+1,0)) -> 1
... A70: N0056 | B70: Alec | C70: Landers | D70: Orca Angling Club | F70: 5 | G70: 24.5 | H70: 24.5 | I70: =IF(H70=H69,I69,IF(H70=0,ROUNDDOWN(20,0),I69-J69)) -> 136 | J70: =IF(H70<H69,1,IF(H70=H69,J69+1,0)) -> 1
A71: N0461 | B71: Andries | C71: Burger | D71: Atlantic Angling Club | E71: 1 | F71: 3 | G71: 23.6 | H71: 23.6 | I71: =IF(H71=H70,I70,IF(H71=0,ROUNDDOWN(20,0),I70-J70)) -> 135 | J71: =IF(H71<H70,1,IF(H71=H70,J70+1,0)) -> 1
A72: N0255 | B72: Heiko | C72: Doll | D72: Okahandja | F72: 2 | G72: 22.3 | H72: 22.3 | I72: =IF(H72=H71,I71,IF(H72=0,ROUNDDOWN(20,0),I71-J71)) -> 134 | J72: =IF(H72<H71,1,IF(H72=H71,J71+1,0)) -> 1
A73: N0243 | B73: Dirk | C73: Hansen | D73: Steenbras | F73: 1 | G73: 21.8 | H73: 21.8 | I73: =IF(H73=H72,I72,IF(H73=0,ROUNDDOWN(20,0),I72-J72)) -> 133 | J73: =IF(H73<H72,1,IF(H73=H72,J72+1,0)) -> 1
A74: N0091 | B74: Deon | C74: Jacobs | D74: Benguella | F74: 4 | G74: 21.7 | H74: 21.7 | I74: =IF(H74=H73,I73,IF(H74=0,ROUNDDOWN(20,0),I73-J73)) -> 132 | J74: =IF(H74<H73,1,IF(H74=H73,J73+1,0)) -> 1
A75: N0861 | B75: Norman | C75: Campbell | D75: Benguella | F75: 4 | G75: 21.1 | H75: 21.1 | I75: =IF(H75=H74,I74,IF(H75=0,ROUNDDOWN(20,0),I74-J74)) -> 131 | J75: =IF(H75<H74,1,IF(H75=H74,J74+1,0)) -> 1
A76: N0086 | B76: Hendrik | C76: Dry | D76: Mako | E76: 1 | F76: 3 | G76: 20.5 | H76: 20.5 | I76: =IF(H76=H75,I75,IF(H76=0,ROUNDDOWN(20,0),I75-J75)) -> 130 | J76: =IF(H76<H75,1,IF(H76=H75,J75+1,0)) -> 1
A77: N0300 | B77: Danie | C77: Smith | D77: Seagull Angling Club Inland | F77: 2 | G77: 20.1 | H77: 20.1 | I77: =IF(H77=H76,I76,IF(H77=0,ROUNDDOWN(20,0),I76-J76)) -> 129 | J77: =IF(H77<H76,1,IF(H77=H76,J76+1,0)) -> 1
A78: N0447 | B78: Martin | C78: Gouws | D78: Seagull Angling Club Inland | F78: 2 | G78: 17.5 | H78: 17.5 | I78: =IF(H78=H77,I77,IF(H78=0,ROUNDDOWN(20,0),I77-J77)) -> 128 | J78: =IF(H78<H77,1,IF(H78=H77,J77+1,0)) -> 1
A79: N0020 | B79: Morne | C79: Horn | D79: Penguin | E79: 1 | F79: 2 | G79: 16.8 | H79: 16.8 | I79: =IF(H79=H78,I78,IF(H79=0,ROUNDDOWN(20,0),I78-J78)) -> 127 | J79: =IF(H79<H78,1,IF(H79=H78,J78+1,0)) -> 1
A80: N0598 | B80: Henning | C80: Van Wyk | D80: Okahandja | F80: 1 | G80: 15.9 | H80: 15.9 | I80: =IF(H80=H79,I79,IF(H80=0,ROUNDDOWN(20,0),I79-J79)) -> 126 | J80: =IF(H80<H79,1,IF(H80=H79,J79+1,0)) -> 1
A81: N0070 | B81: Herbert | C81: Van Niekerk | D81: Seagull Angling Club Coastal | E81: 1 | F81: 2 | G81: 14.4 | H81: 14.4 | I81: =IF(H81=H80,I80,IF(H81=0,ROUNDDOWN(20,0),I80-J80)) -> 125 | J81: =IF(H81<H80,1,IF(H81=H80,J80+1,0)) -> 1
A82: N0068 | B82: Chris | C82: Feyerabend | D82: Otjiwarongo | F82: 4 | G82: 13.9 | H82: 13.9 | I82: =IF(H82=H81,I81,IF(H82=0,ROUNDDOWN(20,0),I81-J81)) -> 124 | J82: =IF(H82<H81,1,IF(H82=H81,J81+1,0)) -> 1
A83: N0045 | B83: Chrisjan | C83: Potgieter | D83: Seagull Angling Club Coastal | F83: 2 | G83: 12.1 | H83: 12.1 | I83: =IF(H83=H82,I82,IF(H83=0,ROUNDDOWN(20,0),I82-J82)) -> 123 | J83: =IF(H83<H82,1,IF(H83=H82,J82+1,0)) -> 1
A84: N0760 | B84: Daniel | C84: Pretorius | D84: Welwitschia | F84: 2 | G84: 11.4 | H84: 11.4 | I84: =IF(H84=H83,I83,IF(H84=0,ROUNDDOWN(20,0),I83-J83)) -> 122 | J84: =IF(H84<H83,1,IF(H84=H83,J83+1,0)) -> 1
A85: N0729 | B85: Gert | C85: Visage | D85: Seagull Angling Club Coastal | F85: 1 | G85: 11.2 | H85: 11.2 | I85: =IF(H85=H84,I84,IF(H85=0,ROUNDDOWN(20,0),I84-J84)) -> 121 | J85: =IF(H85<H84,1,IF(H85=H84,J84+1,0)) -> 1
A86: N0171 | B86: Corne | C86: Van Niekerk | D86: Penguin | F86: 3 | G86: 10.8 | H86: 10.8 | I86: =IF(H86=H85,I85,IF(H86=0,ROUNDDOWN(20,0),I85-J85)) -> 120 | J86: =IF(H86<H85,1,IF(H86=H85,J85+1,0)) -> 1
A87: N0119 | B87: Joe | C87: Herrman | D87: Orca Angling Club | F87: 3 | G87: 10.1 | H87: 10.1 | I87: =IF(H87=H86,I86,IF(H87=0,ROUNDDOWN(20,0),I86-J86)) -> 119 | J87: =IF(H87<H86,1,IF(H87=H86,J86+1,0)) -> 1
A88: N0023 | B88: Jörg | C88: Walter | D88: Atlantic Angling Club | F88: 4 | G88: 8.5 | H88: 8.5 | I88: =IF(H88=H87,I87,IF(H88=0,ROUNDDOWN(20,0),I87-J87)) -> 118 | J88: =IF(H88<H87,1,IF(H88=H87,J87+1,0)) -> 1
A89: N0875 | B89: Terence | C89: Knowles | D89: Welwitschia | F89: 2 | G89: 8 | H89: 8 | I89: =IF(H89=H88,I88,IF(H89=0,ROUNDDOWN(20,0),I88-J88)) -> 117 | J89: =IF(H89<H88,1,IF(H89=H88,J88+1,0)) -> 1
A90: N0172 | B90: Pieter PJ | C90: Van Wyk | D90: Benguella | F90: 2 | G90: 7.6 | H90: 7.6 | I90: =IF(H90=H89,I89,IF(H90=0,ROUNDDOWN(20,0),I89-J89)) -> 116 | J90: =IF(H90<H89,1,IF(H90=H89,J89+1,0)) -> 1
A91: N0030 | B91: Etienne | C91: Stipp | D91: Benguella | F91: 3 | G91: 7.5 | H91: 7.5 | I91: =IF(H91=H90,I90,IF(H91=0,ROUNDDOWN(20,0),I90-J90)) -> 115 | J91: =IF(H91<H90,1,IF(H91=H90,J90+1,0)) -> 1
A92: N0715 | B92: Gerhard | C92: Van Niekerk | D92: Seagull Angling Club Inland | F92: 1 | G92: 7 | H92: 7 | I92: =IF(H92=H91,I91,IF(H92=0,ROUNDDOWN(20,0),I91-J91)) -> 114 | J92: =IF(H92<H91,1,IF(H92=H91,J91+1,0)) -> 1
A93: N0502 | B93: Louis | C93: Arangies | D93: Benguella | E93: 1 | F93: 1 | G93: 6 | H93: 6 | I93: =IF(H93=H92,I92,IF(H93=0,ROUNDDOWN(20,0),I92-J92)) -> 113 | J93: =IF(H93<H92,1,IF(H93=H92,J92+1,0)) -> 1
A94: N0612 | B94: Armand | C94: Fourie | D94: Okahandja | F94: 2 | G94: 5.6 | H94: 5.6 | I94: =IF(H94=H93,I93,IF(H94=0,ROUNDDOWN(20,0),I93-J93)) -> 112 | J94: =IF(H94<H93,1,IF(H94=H93,J93+1,0)) -> 1
A95: N0234 | B95: Henning | C95: Du Plessis | D95: Atlantic Angling Club | F95: 2 | G95: 5 | H95: 5 | I95: =IF(H95=H94,I94,IF(H95=0,ROUNDDOWN(20,0),I94-J94)) -> 111 | J95: =IF(H95<H94,1,IF(H95=H94,J94+1,0)) -> 1
A96: N0716 | B96: Jaco | C96: Wiese | D96: Seagull Angling Club Inland | F96: 1 | G96: 3.6 | H96: 3.6 | I96: =IF(H96=H95,I95,IF(H96=0,ROUNDDOWN(20,0),I95-J95)) -> 110 | J96: =IF(H96<H95,1,IF(H96=H95,J95+1,0)) -> 1
A97: N0576 | B97: Francois | C97: Du Plessis | D97: Otjiwarongo | F97: 1 | G97: 2.8 | H97: 2.8 | I97: =IF(H97=H96,I96,IF(H97=0,ROUNDDOWN(20,0),I96-J96)) -> 109 | J97: =IF(H97<H96,1,IF(H97=H96,J96+1,0)) -> 1
A98: N0816 | B98: Herman | C98: Swanepoel | D98: Steenbras | F98: 1 | G98: 1.2 | H98: 1.2 | I98: =IF(H98=H97,I97,IF(H98=0,ROUNDDOWN(20,0),I97-J97)) -> 108 | J98: =IF(H98<H97,1,IF(H98=H97,J97+1,0)) -> 1
A99: N0407 | B99: Renier | C99: Van Zyl | D99: Seagull Angling Club Coastal | G99: 0 | H99: 0 | I99: =IF(H99=H98,I98,IF(H99=0,ROUNDDOWN(20,0),I98-J98)) -> 20 | J99: =IF(H99<H98,1,IF(H99=H98,J98+1,0)) -> 1
A100: N0656 | B100: Hannes | C100: DeHaast | D100: Otjiwarongo | G100: 0 | H100: 0 | I100: =IF(H100=H99,I99,IF(H100=0,ROUNDDOWN(20,0),I99-J99)) -> 20 | J100: =IF(H100<H99,1,IF(H100=H99,J99+1,0)) -> 2
A101: N0093 | B101: Burger | C101: Van Taak | D101: Steenbras | G101: 0 | H101: 0 | I101: =IF(H101=H100,I100,IF(H101=0,ROUNDDOWN(20,0),I100-J100)) -> 20 | J101: =IF(H101<H100,1,IF(H101=H100,J100+1,0)) -> 3
A102: N0192 | B102: Jan | C102: Heath | D102: Steenbras | G102: 0 | H102: 0 | I102: =IF(H102=H101,I101,IF(H102=0,ROUNDDOWN(20,0),I101-J101)) -> 20 | J102: =IF(H102<H101,1,IF(H102=H101,J101+1,0)) -> 4
A103: N0855 | B103: Wenzel | C103: Smal | D103: Welwitschia | G103: 0 | H103: 0 | I103: =IF(H103=H102,I102,IF(H103=0,ROUNDDOWN(20,0),I102-J102)) -> 20 | J103: =IF(H103<H102,1,IF(H103=H102,J102+1,0)) -> 5
I104: =IF(H104=H103,I103,IF(H104=0,ROUNDDOWN(20,0),I103-J103)) -> 20 | J104: =IF(H104<H103,1,IF(H104=H103,J103+1,0)) -> 6
I105: =IF(H105=H104,I104,IF(H105=0,ROUNDDOWN(20,0),I104-J104)) -> 20 | J105: =IF(H105<H104,1,IF(H105=H104,J104+1,0)) -> 7
I106: =IF(H106=H105,I105,IF(H106=0,ROUNDDOWN(20,0),I105-J105)) -> 20 | J106: =IF(H106<H105,1,IF(H106=H105,J105+1,0)) -> 8
I107: =IF(H107=H106,I106,IF(H107=0,ROUNDDOWN(20,0),I106-J106)) -> 20 | J107: =IF(H107<H106,1,IF(H107=H106,J106+1,0)) -> 9
I108: =IF(H108=H107,I107,IF(H108=0,ROUNDDOWN(20,0),I107-J107)) -> 20 | J108: =IF(H108<H107,1,IF(H108=H107,J107+1,0)) -> 10
I109: =IF(H109=H108,I108,IF(H109=0,ROUNDDOWN(20,0),I108-J108)) -> 20 | J109: =IF(H109<H108,1,IF(H109=H108,J108+1,0)) -> 11
...

Sheet Men U16
A2: Competition | B2: (Multiple Items) | C2: =$B$3&" "& Individuals!$G$2 -> Men U/16 NATIONALS DAY 3
A3: Status | B3: Men U/16 | D3: LEAGUE
A5: ID | B5: Name | C5: Surname | D5: Team | E5: No. Edibles | F5: No. of Inedibles | G5: Total kg | H5: Total Points | I5: Category Points (50)
A6: N0531 | B6: Rudi(Jnr.) | C6: Swartz | D6: Mako | F6: 9 | G6: 131.1 | H6: 131.1 | I6: 50 | J6: 1
A7: N0774 | B7: Francois Jnr | C7: Wolfaardt | D7: Walvis Bay | F7: 14 | G7: 99.6 | H7: 99.6 | I7: =IF(H7=H6,I6,IF(H7=0,ROUNDDOWN(20,0),I6-J6)) -> 49 | J7: =IF(H7<H6,1,IF(H7=H6,J6+1,0)) -> 1
A8: N0769 | B8: Sven | C8: Welzig | D8: Atlantic Angling Club | F8: 12 | G8: 94.1 | H8: 94.1 | I8: =IF(H8=H7,I7,IF(H8=0,ROUNDDOWN(20,0),I7-J7)) -> 48 | J8: =IF(H8<H7,1,IF(H8=H7,J7+1,0)) -> 1
A9: N0495 | B9: Eduard | C9: Janse van Rensburg | D9: Walvis Bay | F9: 10 | G9: 88.8 | H9: 88.8 | I9: =IF(H9=H8,I8,IF(H9=0,ROUNDDOWN(20,0),I8-J8)) -> 47 | J9: =IF(H9<H8,1,IF(H9=H8,J8+1,0)) -> 1
A10: N0860 | B10: Adrian | C10: Steenkamp | D10: Benguella | F10: 11 | G10: 69 | H10: 69 | I10: =IF(H10=H9,I9,IF(H10=0,ROUNDDOWN(20,0),I9-J9)) -> 46 | J10: =IF(H10<H9,1,IF(H10=H9,J9+1,0)) -> 1
A11: N0124 | B11: Stefan Jnr | C11: Du Preez | D11: Walvis Bay | E11: 1 | F11: 4 | G11: 53.8 | H11: 53.8 | I11: =IF(H11=H10,I10,IF(H11=0,ROUNDDOWN(20,0),I10-J10)) -> 45 | J11: =IF(H11<H10,1,IF(H11=H10,J10+1,0)) -> 1
A12: N0177 | B12: Corne | C12: Burger | D12: Penguin | E12: 1 | F12: 7 | G12: 49.1 | H12: 49.1 | I12: =IF(H12=H11,I11,IF(H12=0,ROUNDDOWN(20,0),I11-J11)) -> 44 | J12: =IF(H12<H11,1,IF(H12=H11,J11+1,0)) -> 1
A13: N0178 | B13: Devon | C13: Burger | D13: Penguin | F13: 6 | G13: 47.2 | H13: 47.2 | I13: =IF(H13=H12,I12,IF(H13=0,ROUNDDOWN(20,0),I12-J12)) -> 43 | J13: =IF(H13<H12,1,IF(H13=H12,J12+1,0)) -> 1
A14: N0307 | B14: Herman | C14: Krauze | D14: Henties Bay | F14: 8 | G14: 42.3 | H14: 42.3 | I14: =IF(H14=H13,I13,IF(H14=0,ROUNDDOWN(20,0),I13-J13)) -> 42 | J14: =IF(H14<H13,1,IF(H14=H13,J13+1,0)) -> 1
A15: N0644 | B15: Mark | C15: Van Der Merwe | D15: Namib Park | F15: 4 | G15: 24.3 | H15: 24.3 | I15: =IF(H15=H14,I14,IF(H15=0,ROUNDDOWN(20,0),I14-J14)) -> 41 | J15: =IF(H15<H14,1,IF(H15=H14,J14+1,0)) -> 1
A16: N0001 | B16: Philip | C16: Swartz | D16: Mako | F16: 5 | G16: 23.5 | H16: 23.5 | I16: =IF(H16=H15,I15,IF(H16=0,ROUNDDOWN(20,0),I15-J15)) -> 40 | J16: =IF(H16<H15,1,IF(H16=H15,J15+1,0)) -> 1
A17: N0501 | B17: Otto | C17: Feyerabend | D17: Otjiwarongo | E17: 3 | F17: 1 | G17: 3.7 | H17: 3.7 | I17: =IF(H17=H16,I16,IF(H17=0,ROUNDDOWN(20,0),I16-J16)) -> 39 | J17: =IF(H17<H16,1,IF(H17=H16,J16+1,0)) -> 1
A18: N0844 | B18: Heiko Jnr | C18: Doll | D18: Okahandja | G18: 0 | H18: 0 | I18: =IF(H18=H17,I17,IF(H18=0,ROUNDDOWN(20,0),I17-J17)) -> 20 | J18: =IF(H18<H17,1,IF(H18=H17,J17+1,0)) -> 1
I19: =IF(H19=H18,I18,IF(H19=0,ROUNDDOWN(20,0),I18-J18)) -> 20 | J19: =IF(H19<H18,1,IF(H19=H18,J18+1,0)) -> 2
I20: =IF(H20=H19,I19,IF(H20=0,ROUNDDOWN(20,0),I19-J19)) -> 20 | J20: =IF(H20<H19,1,IF(H20=H19,J19+1,0)) -> 3
I21: =IF(H21=H20,I20,IF(H21=0,ROUNDDOWN(20,0),I20-J20)) -> 20 | J21: =IF(H21<H20,1,IF(H21=H20,J20+1,0)) -> 4
I22: =IF(H22=H21,I21,IF(H22=0,ROUNDDOWN(20,0),I21-J21)) -> 20 | J22: =IF(H22<H21,1,IF(H22=H21,J21+1,0)) -> 5
I23: =IF(H23=H22,I22,IF(H23=0,ROUNDDOWN(20,0),I22-J22)) -> 20 | J23: =IF(H23<H22,1,IF(H23=H22,J22+1,0)) -> 6
I24: =IF(H24=H23,I23,IF(H24=0,ROUNDDOWN(20,0),I23-J23)) -> 20 | J24: =IF(H24<H23,1,IF(H24=H23,J23+1,0)) -> 7
I25: =IF(H25=H24,I24,IF(H25=0,ROUNDDOWN(20,0),I24-J24)) -> 20 | J25: =IF(H25<H24,1,IF(H25=H24,J24+1,0)) -> 8
I26: =IF(H26=H25,I25,IF(H26=0,ROUNDDOWN(20,0),I25-J25)) -> 20 | J26: =IF(H26<H25,1,IF(H26=H25,J25+1,0)) -> 9
I27: =IF(H27=H26,I26,IF(H27=0,ROUNDDOWN(20,0),I26-J26)) -> 20 | J27: =IF(H27<H26,1,IF(H27=H26,J26+1,0)) -> 10
I28: =IF(H28=H27,I27,IF(H28=0,ROUNDDOWN(20,0),I27-J27)) -> 20 | J28: =IF(H28<H27,1,IF(H28=H27,J27+1,0)) -> 11
I29: =IF(H29=H28,I28,IF(H29=0,ROUNDDOWN(20,0),I28-J28)) -> 20 | J29: =IF(H29<H28,1,IF(H29=H28,J28+1,0)) -> 12
I30: =IF(H30=H29,I29,IF(H30=0,ROUNDDOWN(20,0),I29-J29)) -> 20 | J30: =IF(H30<H29,1,IF(H30=H29,J29+1,0)) -> 13
... I68: =IF(H68=H67,I67,IF(H68=0,ROUNDDOWN(20,0),I67-J67)) -> 20 | J68: =IF(H68<H67,1,IF(H68=H67,J67+1,0)) -> 51

Sheet Men U21
A2: Competition | B2: 2021-NAT-D1 | C2: =$B$3&" "& Individuals!$G$2 -> (Multiple Items) NATIONALS DAY 3
A3: Status | B3: (Multiple Items) | D3: LEAGUE
A5: ID | B5: Name | C5: Surname | D5: Team | E5: No. Edibles | F5: No. of Inedibles | G5: Total kg | H5: Total Points | I5: Category Points (50)
A6: N0687 | B6: Barren | C6: Van Es | D6: Penguin | F6: 4 | G6: 45.5 | H6: 45.5 | I6: 50 | J6: 1
A7: N0108 | B7: Dian | C7: Neethling | D7: Walvis Bay | F7: 4 | G7: 35.1 | H7: 35.1 | I7: =IF(H7=H6,I6,IF(H7=0,ROUNDDOWN(20,0),I6-J6)) -> 49 | J7: =IF(H7<H6,1,IF(H7=H6,J6+1,0)) -> 1
A8: N0757 | B8: Brandon | C8: Grane | D8: Walvis Bay | F8: 3 | G8: 26.2 | H8: 26.2 | I8: =IF(H8=H7,I7,IF(H8=0,ROUNDDOWN(20,0),I7-J7)) -> 48 | J8: =IF(H8<H7,1,IF(H8=H7,J7+1,0)) -> 1
A9: N0704 | B9: Kay | C9: Bachran | D9: Atlantic Angling Club | F9: 1 | G9: 25.7 | H9: 25.7 | I9: =IF(H9=H8,I8,IF(H9=0,ROUNDDOWN(20,0),I8-J8)) -> 47 | J9: =IF(H9<H8,1,IF(H9=H8,J8+1,0)) -> 1
A10: N0283 | B10: Kevin | C10: Page | D10: Penguin | F10: 4 | G10: 20.2 | H10: 20.2 | I10: =IF(H10=H9,I9,IF(H10=0,ROUNDDOWN(20,0),I9-J9)) -> 46 | J10: =IF(H10<H9,1,IF(H10=H9,J9+1,0)) -> 1
A11: N0627 | B11: Justin | C11: Smith | D11: Walvis Bay | F11: 2 | G11: 14.8 | H11: 14.8 | I11: =IF(H11=H10,I10,IF(H11=0,ROUNDDOWN(20,0),I10-J10)) -> 45 | J11: =IF(H11<H10,1,IF(H11=H10,J10+1,0)) -> 1
A12: N0409 | B12: Andre-Louis | C12: Stipp | D12: Benguella | F12: 1 | G12: 13.7 | H12: 13.7 | I12: =IF(H12=H11,I11,IF(H12=0,ROUNDDOWN(20,0),I11-J11)) -> 44 | J12: =IF(H12<H11,1,IF(H12=H11,J11+1,0)) -> 1
A13: N0819 | B13: Krynauw | C13: Bouer | D13: Walvis Bay | F13: 2 | G13: 9.8 | H13: 9.8 | I13: =IF(H13=H12,I12,IF(H13=0,ROUNDDOWN(20,0),I12-J12)) -> 43 | J13: =IF(H13<H12,1,IF(H13=H12,J12+1,0)) -> 1
A14: N0875 | B14: Terence | C14: Knowles | D14: Welwitschia | F14: 2 | G14: 8 | H14: 8 | I14: =IF(H14=H13,I13,IF(H14=0,ROUNDDOWN(20,0),I13-J13)) -> 42 | J14: =IF(H14<H13,1,IF(H14=H13,J13+1,0)) -> 1
I15: =IF(H15=H14,I14,IF(H15=0,ROUNDDOWN(20,0),I14-J14)) -> 20 | J15: =IF(H15<H14,1,IF(H15=H14,J14+1,0)) -> 1
I16: =IF(H16=H15,I15,IF(H16=0,ROUNDDOWN(20,0),I15-J15)) -> 20 | J16: =IF(H16<H15,1,IF(H16=H15,J15+1,0)) -> 2
I17: =IF(H17=H16,I16,IF(H17=0,ROUNDDOWN(20,0),I16-J16)) -> 20 | J17: =IF(H17<H16,1,IF(H17=H16,J16+1,0)) -> 3
I18: =IF(H18=H17,I17,IF(H18=0,ROUNDDOWN(20,0),I17-J17)) -> 20 | J18: =IF(H18<H17,1,IF(H18=H17,J17+1,0)) -> 4
I19: =IF(H19=H18,I18,IF(H19=0,ROUNDDOWN(20,0),I18-J18)) -> 20 | J19: =IF(H19<H18,1,IF(H19=H18,J18+1,0)) -> 5
I20: =IF(H20=H19,I19,IF(H20=0,ROUNDDOWN(20,0),I19-J19)) -> 20 | J20: =IF(H20<H19,1,IF(H20=H19,J19+1,0)) -> 6
I21: =IF(H21=H20,I20,IF(H21=0,ROUNDDOWN(20,0),I20-J20)) -> 20 | J21: =IF(H21<H20,1,IF(H21=H20,J20+1,0)) -> 7
I22: =IF(H22=H21,I21,IF(H22=0,ROUNDDOWN(20,0),I21-J21)) -> 20 | J22: =IF(H22<H21,1,IF(H22=H21,J21+1,0)) -> 8
I23: =IF(H23=H22,I22,IF(H23=0,ROUNDDOWN(20,0),I22-J22)) -> 20 | J23: =IF(H23<H22,1,IF(H23=H22,J22+1,0)) -> 9
I24: =IF(H24=H23,I23,IF(H24=0,ROUNDDOWN(20,0),I23-J23)) -> 20 | J24: =IF(H24<H23,1,IF(H24=H23,J23+1,0)) -> 10
I25: =IF(H25=H24,I24,IF(H25=0,ROUNDDOWN(20,0),I24-J24)) -> 20 | J25: =IF(H25<H24,1,IF(H25=H24,J24+1,0)) -> 11
I26: =IF(H26=H25,I25,IF(H26=0,ROUNDDOWN(20,0),I25-J25)) -> 20 | J26: =IF(H26<H25,1,IF(H26=H25,J25+1,0)) -> 12
... I68: =IF(H68=H67,I67,IF(H68=0,ROUNDDOWN(20,0),I67-J67)) -> 20 | J68: =IF(H68<H67,1,IF(H68=H67,J67+1,0)) -> 54

Sheet Ladies
A2: Competition | B2: (Multiple Items) | C2: ="Ladies "& Individuals!$G$2 -> Ladies NATIONALS DAY 3
A3: Status | B3: Ladies Senior | D3: LEAGUE
A5: ID | B5: Name | C5: Surname | D5: Team | E5: No. Edibles | F5: No. of Inedibles | G5: Total kg | H5: Total Points | I5: Category Points (50)
A6: N0731 | B6: Maryna | C6: Viljoen | D6: Steenbras | F6: 11 | G6: 97 | H6: 97 | I6: 50 | J6: 1
A7: N0636 | B7: Lydia | C7: Cilliers | D7: Benguella | F7: 9 | G7: 74.1 | H7: 74.1 | I7: =IF(H7=H6,I6,IF(H7=0,ROUNDDOWN(20,0),I6-J6)) -> 49 | J7: =IF(H7<H6,1,IF(H7=H6,J6+1,0)) -> 1
A8: N0150 | B8: Lindie | C8: Krauze | D8: Henties Bay | E8: 1 | F8: 12 | G8: 63.5 | H8: 63.5 | I8: =IF(H8=H7,I7,IF(H8=0,ROUNDDOWN(20,0),I7-J7)) -> 48 | J8: =IF(H8<H7,1,IF(H8=H7,J7+1,0)) -> 1
A9: N0697 | B9: Annelien | C9: Langenstrassen | D9: Penguin | F9: 7 | G9: 56 | H9: 56 | I9: =IF(H9=H8,I8,IF(H9=0,ROUNDDOWN(20,0),I8-J8)) -> 47 | J9: =IF(H9<H8,1,IF(H9=H8,J8+1,0)) -> 1
A10: N0073 | B10: Marina | C10: Kruger | D10: Benguella | E10: 2 | F10: 6 | G10: 46.2 | H10: 46.2 | I10: =IF(H10=H9,I9,IF(H10=0,ROUNDDOWN(20,0),I9-J9)) -> 46 | J10: =IF(H10<H9,1,IF(H10=H9,J9+1,0)) -> 1
A11: N0583 | B11: Karmen | C11: Mynhardt | D11: Atlantic Angling Club | F11: 6 | G11: 45.8 | H11: 45.8 | I11: =IF(H11=H10,I10,IF(H11=0,ROUNDDOWN(20,0),I10-J10)) -> 45 | J11: =IF(H11<H10,1,IF(H11=H10,J10+1,0)) -> 1
A12: N0667 | B12: Nadine | C12: Downing | D12: Henties Bay | E12: 1 | F12: 8 | G12: 45.7 | H12: 45.7 | I12: =IF(H12=H11,I11,IF(H12=0,ROUNDDOWN(20,0),I11-J11)) -> 44 | J12: =IF(H12<H11,1,IF(H12=H11,J11+1,0)) -> 1
A13: N0180 | B13: Elaine | C13: Vorster | D13: Henties Bay | E13: 2 | F13: 3 | G13: 35.6 | H13: 35.6 | I13: =IF(H13=H12,I12,IF(H13=0,ROUNDDOWN(20,0),I12-J12)) -> 43 | J13: =IF(H13<H12,1,IF(H13=H12,J12+1,0)) -> 1
A14: N0850 | B14: Wanda | C14: Enslin | D14: Namib Park | E14: 1 | F14: 6 | G14: 24 | H14: 24 | I14: =IF(H14=H13,I13,IF(H14=0,ROUNDDOWN(20,0),I13-J13)) -> 42 | J14: =IF(H14<H13,1,IF(H14=H13,J13+1,0)) -> 1
A15: N0121 | B15: Lezelle | C15: Smit | D15: Benguella | F15: 2 | G15: 23.7 | H15: 23.7 | I15: =IF(H15=H14,I14,IF(H15=0,ROUNDDOWN(20,0),I14-J14)) -> 41 | J15: =IF(H15<H14,1,IF(H15=H14,J14+1,0)) -> 1
A16: N0219 | B16: Nadia | C16: Steenkamp | D16: Benguella | F16: 3 | G16: 15.4 | H16: 15.4 | I16: =IF(H16=H15,I15,IF(H16=0,ROUNDDOWN(20,0),I15-J15)) -> 40 | J16: =IF(H16<H15,1,IF(H16=H15,J15+1,0)) -> 1
A17: N0780 | B17: Tertia | C17: Roos | D17: Steenbras | F17: 1 | G17: 8.1 | H17: 8.1 | I17: =IF(H17=H16,I16,IF(H17=0,ROUNDDOWN(20,0),I16-J16)) -> 39 | J17: =IF(H17<H16,1,IF(H17=H16,J16+1,0)) -> 1
A18: N0678 | B18: Jacomien | C18: Heath | D18: Steenbras | E18: 1 | F18: 2 | G18: 5.5 | H18: 5.5 | I18: =IF(H18=H17,I17,IF(H18=0,ROUNDDOWN(20,0),I17-J17)) -> 38 | J18: =IF(H18<H17,1,IF(H18=H17,J17+1,0)) -> 1
A19: N0873 | B19: Nicolette | C19: Schreuder | D19: Henties Bay | E19: 1 | F19: 1 | G19: 5.4 | H19: 5.4 | I19: =IF(H19=H18,I18,IF(H19=0,ROUNDDOWN(20,0),I18-J18)) -> 37 | J19: =IF(H19<H18,1,IF(H19=H18,J18+1,0)) -> 1
A20: N0815 | B20: Lindie | C20: Barnhard | D20: Penguin | G20: 0 | H20: 0 | I20: =IF(H20=H19,I19,IF(H20=0,ROUNDDOWN(20,0),I19-J19)) -> 20 | J20: =IF(H20<H19,1,IF(H20=H19,J19+1,0)) -> 1
I21: =IF(H21=H20,I20,IF(H21=0,ROUNDDOWN(20,0),I20-J20)) -> 20 | J21: =IF(H21<H20,1,IF(H21=H20,J20+1,0)) -> 2
I22: =IF(H22=H21,I21,IF(H22=0,ROUNDDOWN(20,0),I21-J21)) -> 20 | J22: =IF(H22<H21,1,IF(H22=H21,J21+1,0)) -> 3
I23: =IF(H23=H22,I22,IF(H23=0,ROUNDDOWN(20,0),I22-J22)) -> 20 | J23: =IF(H23<H22,1,IF(H23=H22,J22+1,0)) -> 4
I24: =IF(H24=H23,I23,IF(H24=0,ROUNDDOWN(20,0),I23-J23)) -> 20 | J24: =IF(H24<H23,1,IF(H24=H23,J23+1,0)) -> 5
I25: =IF(H25=H24,I24,IF(H25=0,ROUNDDOWN(20,0),I24-J24)) -> 20 | J25: =IF(H25<H24,1,IF(H25=H24,J24+1,0)) -> 6
I26: =IF(H26=H25,I25,IF(H26=0,ROUNDDOWN(20,0),I25-J25)) -> 20 | J26: =IF(H26<H25,1,IF(H26=H25,J25+1,0)) -> 7
I27: =IF(H27=H26,I26,IF(H27=0,ROUNDDOWN(20,0),I26-J26)) -> 20 | J27: =IF(H27<H26,1,IF(H27=H26,J26+1,0)) -> 8
I28: =IF(H28=H27,I27,IF(H28=0,ROUNDDOWN(20,0),I27-J27)) -> 20 | J28: =IF(H28<H27,1,IF(H28=H27,J27+1,0)) -> 9
I29: =IF(H29=H28,I28,IF(H29=0,ROUNDDOWN(20,0),I28-J28)) -> 20 | J29: =IF(H29<H28,1,IF(H29=H28,J28+1,0)) -> 10
I30: =IF(H30=H29,I29,IF(H30=0,ROUNDDOWN(20,0),I29-J29)) -> 20 | J30: =IF(H30<H29,1,IF(H30=H29,J29+1,0)) -> 11
I31: =IF(H31=H30,I30,IF(H31=0,ROUNDDOWN(20,0),I30-J30)) -> 20 | J31: =IF(H31<H30,1,IF(H31=H30,J30+1,0)) -> 12
I32: =IF(H32=H31,I31,IF(H32=0,ROUNDDOWN(20,0),I31-J31)) -> 20 | J32: =IF(H32<H31,1,IF(H32=H31,J31+1,0)) -> 13
... I68: =IF(H68=H67,I67,IF(H68=0,ROUNDDOWN(20,0),I67-J67)) -> 20 | J68: =IF(H68<H67,1,IF(H68=H67,J67+1,0)) -> 49

Sheet Inedible
B3: INEDIBLES | D3: =Individuals!G2 -> NATIONALS DAY 3
A5: Competition | B5: (Multiple Items)
A7: Inedibles | B7: Name | C7: Surname | D7: Team | E7: Heavest
A8: Catfish - Sea Black | B8: Philip | C8: Swartz | D8: Mako | E8: 1
A9: Elephantfish | B9: Rudi(Jnr.) | C9: Swartz | D9: Mako | E9: 6.2
A10: Green Eye Spurdog shark | B10: Johan | C10: Visser | D10: Mako | E10: 1.2
A11: Guitarfish - Lesser | B11: Nadia | C11: Steenkamp | D11: Benguella | E11: 2.7
A12: Ray Bull / Eagle | B12: Jaco | C12: Venter | D12: Atlantic Angling Club | E12: 19.7
A13: Shark Copper (Female) | B13: Johan | C13: Mostert | D13: Atlantic Angling Club | E13: 95.9
A14: Shark Copper (Male) | B14: Rudi(Jnr.) | C14: Swartz | D14: Mako | E14: 90
A15: Shark Cow / Sevengill | B15: Martinus | C15: Venter | D15: Otjiwarongo | E15: 42.4
A16: Shark Hound Smooth | B16: Leon | C16: Krauze | D16: Henties Bay | E16: 11.4
B17: Nadine | C17: Downing | D17: Henties Bay | E17: 11.4
A18: Shark Soupfin | B18: Johan | C18: Van Niekerk | D18: Namib Park | E18: 5
A19: Shark Spotted Gully | B19: Louis | C19: Fenaux | D19: Henties Bay | E19: 30.1

Sheet SpeciesSTATS
A3: SPECIES STATISTICS | D3: =Individuals!G2 -> NATIONALS DAY 3
A5: Competition | B5: (Multiple Items)
C7: Values
A8: Inedibles | B8: Edibles | C8: NO. | D8: Total Weight | E8: Average Weight | F8: Heaviest Weight
A9: Guitarfish - Lesser | B9: (blank) | C9: 24 | D9: 37.2 | E9: 1.55 | F9: 2.7
A10: (blank) | B10: Kob | C10: 19 | D10: 63.2 | E10: 3.3263158 | F10: 17.9
B11: (blank) | C11: 41 | D11: 0 | E11: #DIV/0! | F11: 0
B12: Blacktail | C12: 1 | D12: 0.7 | E12: 0.7 | F12: 0.7
B13: Shad | C13: 5 | D13: 5.1 | E13: 1.02 | F13: 1.3
A14: Shark Hound Smooth | B14: (blank) | C14: 157 | D14: 718.9 | E14: 4.5789809 | F14: 11.4
A15: Shark Spotted Gully | B15: (blank) | C15: 428 | D15: 3869.4 | E15: 9.0406542 | F15: 30.1
A16: Catfish - Sea Black | B16: (blank) | C16: 1 | D16: 1 | E16: 1 | F16: 1
A17: Shark Soupfin | B17: (blank) | C17: 4 | D17: 16.8 | E17: 4.2 | F17: 5
A18: Ray Bull / Eagle | B18: (blank) | C18: 6 | D18: 67.9 | E18: 11.316667 | F18: 19.7
A19: Shark Cow / Sevengill | B19: (blank) | C19: 17 | D19: 425.6 | E19: 25.035294 | F19: 42.4
A20: Elephantfish | B20: (blank) | C20: 25 | D20: 89.8 | E20: 3.592 | F20: 6.2
A21: Shark Copper (Male) | B21: (blank) | C21: 5 | D21: 228.7 | E21: 45.74 | F21: 90
A22: Shark Copper (Female) | B22: (blank) | C22: 5 | D22: 301.6 | E22: 60.32 | F22: 95.9
A23: Skate Spearnose | B23: (blank) | C23: 23 | D23: 346 | E23: 15.043478 | F23: 24
A24: Green Eye Spurdog shark | B24: (blank) | C24: 1 | D24: 1.2 | E24: 1.2 | F24: 1.2
A25: Grand Total | C25: 762 | D25: 6173.1 | E25: 8.5618585 | F25: 95.9
C26: =GETPIVOTDATA("NO.",$A$7)-GETPIVOTDATA("NO.",$A$7,"Edibles",,"Inedibles",) -> 721 | D26: Weight
C27: Fish

Sheet Edibles
B4: EDIBLES | D4: =Individuals!G2 -> NATIONALS DAY 3
A6: Competition | B6: (Multiple Items)
A8: Edibles | B8: Name | C8: Surname | D8: Team | E8: Heavest
A9: Blacktail | B9: Otto | C9: Feyerabend | D9: Otjiwarongo | E9: 0.7
A10: Kob | B10: Wikus | C10: Viljoen | D10: Steenbras | E10: 17.9
A11: Shad | B11: Andries | C11: Burger | D11: Atlantic Angling Club | E11: 1.3

Sheet No Participants
B1: NSAA Nationals 2021 Participants
B2: No | C2: Club | D2: Men Seniors | E2: Men U/21 | F2: Men U/16 | G2: Ladies Senior | H2: Manager / Guides | I2: No Total | J2: 1150
B3: 1 | C3: Atlantic | D3: 7 | E3: 1 | F3: 1 | G3: 1 | H3: 3 | I3: =SUM(D3:H3) -> 13 | J3: =I3*$J$2 -> 14950
B4: 2 | C4: Benqualla | D4: 7 | E4: 0 | F4: 2 | G4: 3 | H4: 4 | I4: =SUM(D4:H4) -> 16 | J4: =I4*$J$2 -> 18400
B5: 3 | C5: Henties Bay | D5: 7 | E5: 0 | F5: 1 | G5: 4 | H5: 4 | I5: =SUM(D5:H5) -> 16 | J5: =I5*$J$2 -> 18400
B6: 4 | C6: Mako | D6: 7 | E6: 0 | F6: 2 | G6: 0 | H6: 3 | I6: =SUM(D6:H6) -> 12 | J6: =I6*$J$2 -> 13800
B7: 5 | C7: Namib Park | D7: 7 | E7: 0 | F7: 1 | G7: 1 | H7: 3 | I7: =SUM(D7:H7) -> 12 | J7: =I7*$J$2 -> 13800
B8: 6 | C8: Okahandja | D8: 7 | E8: 0 | F8: 1 | G8: 0 | H8: 2 | I8: =SUM(D8:H8) -> 10 | J8: =I8*$J$2 -> 11500
B9: 7 | C9: Orca | D9: 7 | E9: 0 | F9: 0 | G9: 0 | H9: 2 | I9: =SUM(D9:H9) -> 9 | J9: =I9*$J$2 -> 10350
B10: 8 | C10: Otjiwaringo | D10: 7 | E10: 0 | F10: 1 | G10: 0 | H10: 3 | I10: =SUM(D10:H10) -> 11 | J10: =I10*$J$2 -> 12650
B11: 9 | C11: Penquin | D11: 7 | E11: 2 | F11: 2 | G11: 2 | H11: 5 | I11: =SUM(D11:H11) -> 18 | J11: =I11*$J$2 -> 20700
B12: 10 | C12: Seagulls Inland | D12: 7 | E12: 0 | F12: 0 | G12: 0 | H12: 2 | I12: =SUM(D12:H12) -> 9 | J12: =I12*$J$2 -> 10350
B13: 11 | C13: Seaguls Coastal | D13: 7 | E13: 0 | F13: 0 | G13: 0 | H13: 2 | I13: =SUM(D13:H13) -> 9 | J13: =I13*$J$2 -> 10350
B14: 12 | C14: Steeanbras | D14: 7 | E14: 0 | F14: 0 | G14: 3 | H14: 3 | I14: =SUM(D14:H14) -> 13 | J14: =I14*$J$2 -> 14950
... B16: 14 | C16: Welwitchia | D16: 7 | E16: 0 | F16: 0 | G16: 0 | H16: 2 | I16: =SUM(D16:H16) -> 9 | J16: =I16*$J$2 -> 10350
B17: Total | D17: =SUM(D3:D16) -> 98 | E17: =SUM(E3:E16) -> 7 | F17: =SUM(F3:F16) -> 14 | G17: =SUM(G3:G16) -> 14 | H17: =SUM(H3:H16) -> 42 | I17: =SUM(I3:I16) -> 175 | J17: =SUM(J3:J16) -> 201250
B19: 1 | C19: Atlantic
B20: 2 | C20: Benqualla
B21: 3 | C21: Henties Bay
B22: 4 | C22: Mako
B23: 5 | C23: Namib Park
B24: 6 | C24: Okahandja
B25: 7 | C25: Orca
B26: 8 | C26: Otjiwaringo
B27: 9 | C27: Penquin
B28: 10 | C28: Seagulls Inland
B29: 11 | C29: Seaguls Coastal
B30: 12 | C30: Steeanbras
... B32: 14 | C32: Welwitchia

Sheet Sheet1
