Workbook
Name clubl5: Clubs!$B$6:$E$19
Name clubl5: #REF!
Name Clubs: [1]Lists!$A$2:$A$18
Name Clubs: [1]Lists!$A$2:$A$18
Name Clubs: Lists!$A$2:$A$18
Name Edibles: [1]Lists!$F$2:$F$21
Name Edibles: [1]Lists!$F$2:$F$21
Name Edibles: Lists!$G$2:$G$21
Name Fish: #REF!
Name Individuals: #REF!
Name Inedibles: [1]Lists!$I$2:$I$26
Name Inedibles: [1]Lists!$I$2:$I$26
Name Inedibles: Lists!$K$2:$K$26
Name kgList: [1]Lists!$J$2:$AF$261
Name kgList: [1]Lists!$J$2:$AF$261
Name kgList: Lists!$L$2:$AH$261
Name Master: [1]MASTERLIST!$A$5:$E$1000
Name Master: [1]MASTERLIST!$A$5:$E$1000
Name Master: MASTERLIST!$A$5:$E$995
Name Shark: #REF!
Name Status: Lists!$C$2:$C$9

Sheet Lists
A1: Clubs | C1: Status | D1: Scientific Name | E1: Min Length | F1: Length to measure | G1: Edibles | H1: Scientific Name | I1: Min Length | J1: Length to measure | K1: Inedibles | M1: length | Q1: KgList
A2: Atlantic Angling Club | B2: AAC | C2: Deseased | D2: Diplodus sargus capensis | E2: 25 | F2: Fork length | G2: Blacktail | H2: Galeichthys ater | I2: 40 | J2: Fork length | K2: Catfish - Sea Black | L2: cm | M2: Blacktail | N2: Galjoen | O2: Kob | P2: Steenbras West Coast | Q2: Garrick | R2: Shad | S2: Redfinger | T2: Shark Copper (Male) | U2: Shark Copper (Female) | V2: Shark Cow / Sevengill | W2: Shark Spotted Gully | X2: Shark Hound Smooth | Y2: Shark Soupfin | Z2: Guitarfish - Lesser | AA2: Elephantfish | AB2: Ray Blue (Male) | AC2: Ray Blue (Female) | AD2: Ray Bull / Eagle | AE2: Ray Diamond / ButterFly | AF2: Skate Spearnose | AG2: Green Eye Spurdog shark | AH2: Catfish - Sea Black
A3: Benguella | B3: BEN | C3: Ladies Grand Master | G3: Bluefin Gurnard | H3: Galeichthys feliceps | J3: Fork length | K3: Catfish - Sea White | L3: 1
A4: Henties Bay | B4: HEN | C4: Ladies Master | G4: Cape Gurnard | H4: Callorhinchus capensis | I4: 50 | J4: Total length | K4: Elephantfish | L4: 2
A5: Mako | B5: MAKO | C5: Ladies Veteran | D5: Dichistius capensis | E5: 30 | F5: Total length | G5: Galjoen | H5: Squalus chloroculus | I5: 66 | K5: Green Eye Spurdog shark | L5: 3
A6: Namib Park | B6: NPAC | C6: Ladies Senoir | D6: Lichia amia | E6: 36 | F6: Fork length | G6: Garrick | H6: Rhinobatos blochii | J6: Total length | K6: Guitarfish - Bluntnose | L6: 4
A7: Okahandja | B7: OKH | C7: Ladies U/21 | G7: Geelbek | H7: Rhinobatos leucospilus | J7: Total length | K7: Guitarfish - Greyspot | L7: 5
A8: Orca Angling Club | B8: ORCA | C8: Ladies U/16 | G8: Grunter - Spotted | H8: Rhinobatos annulatus | I8: 65 | J8: Total length | K8: Guitarfish - Lesser | L8: 6
A9: Otjiwarongo | B9: OTJ | C9: Men Grandmasters | D9: Argyrosomus inodorus | E9: 40 | F9: Total length | G9: Kob | H9: Dasyatis chrysonota chrysonota | I9: 30 | J9: Disc width | K9: Ray Blue (Female) | L9: 7
A10: Penguin | B10: PEN | C10: Men Masters | G10: Lyre Gurnard | H10: Dasyatis chrysonota chrysonota | I10: 32 | J10: Disc width | K10: Ray Blue (Male) | L10: 8
A11: Seagulls WHK | B11: SWHK | C11: Men Veterans | G11: Maasbanker | H11: Myliobatus aquila | I11: 38 | J11: Disc width | K11: Ray Bull / Eagle | L11: 9
A12: Seagulls WVB | B12: SWVB | C12: Men Senior | G12: Redfinger | H12: Gymnura natalensis | I12: 48 | J12: Disc width | K12: Ray Diamond / ButterFly | L12: 10
A13: Skeleton Coast | B13: SKUL | C13: Men U/21 | D13: Pomatomus saltatrix | E13: 38 | F13: Fork length | G13: Shad | H13: Pteromylaeus bovinus | J13: Disc width | K13: Ray Duckbill | L13: 11
A14: Steenbras | B14: STEEN | C14: Men U/16 | G14: Steenbras Sand | H14: Carcharhinus brachyurus | I14: 44 | J14: Pre-caudal length | K14: Shark Copper (Female) | L14: 12
A15: Walvis Bay | B15: WAL | D15: Lithognathus aureti | E15: 40 | F15: Fork length | G15: Steenbras West Coast | H15: Carcharhinus brachyurus | I15: 44 | J15: Pre-caudal length | K15: Shark Copper (Male) | L15: 13
A16: Welwitschia | B16: WEL | G16: Steenbras White | H16: Notorynchus cepedianus | I16: 53 | J16: Pre-caudal length | K16: Shark Cow / Sevengill | L16: 14
G17: Strepie | H17: Mustelus mustelus | I17: 68 | J17: Total length | K17: Shark Hound Smooth | L17: 15
G18: Striped Mullet | H18: Mustelus palumbes | I18: 68 | J18: Total length | K18: Shark Hound Whitespotted | L18: 16
G19: Tuna Eastern Little | H19: Galeocerdo cuvier | J19: Pre-caudal length | K19: Shark Ragged Tooth | L19: 17
G20: White Stumpnose | H20: Galeorhinus galeus | I20: 36 | J20: Pre-caudal length | K20: Shark Soupfin | L20: 18
G21: Yellowtail amberjack | H21: Triakis megalopterus | I21: 65 | J21: Total length | K21: Shark Spotted Gully | L21: 19
H22: Dipturus doutrei | J22: Disc width | K22: Skate - Javelin | L22: 20
H23: Raja clavata | J23: Disc width | K23: Skate - Thornback | L23: 21
H24: Raja alba | I24: 50 | J24: Disc width | K24: Skate Spearnose | L24: 23 | M24: 0.3 | S24: 0
K25: Spiney dogfish Bluntnose | L25: 24 | M25: 0.4 | S25: 0
K26: Spiney dogfish Spotted | L26: 25 | M26: 0.4 | S26: 0
K27: Spinner shark - Long nose | L27: 26 | M27: 0.5 | S27: 0
K28: Tresher Shark | L28: 27 | M28: 0.6 | S28: 0
L29: 28 | M29: 0.6 | S29: 0
L30: 29 | M30: 0.7 | S30: 0
L31: 30 | M31: 0.84160148 | N31: 0.5 | S31: 0 | AC31: 1.0179249
L32: 31 | M32: 0.9282937 | N32: 0.5 | S32: 0 | AC32: 1.1324446
L33: 32 | M33: 1.0207335 | N33: 0.6 | P33: 0.7 | S33: 0 | AB33: 0.95836376 | AC33: 1.2555905
L34: 33 | M34: 1.1191044 | N34: 0.7 | P34: 0.8 | S34: 0 | AB34: 1.0570748 | AC34: 1.3729856
L35: 34 | M35: 1.22359 | N35: 0.7 | P35: 0.9 | S35: 0 | AB35: 1.1557858 | AC35: 1.4918184
L36: 35 | M36: 1.3343735 | N36: 0.78195192 | P36: 0.9 | S36: 0 | AB36: 1.2544969 | AC36: 1.680296
L37: 36 | M37: 1.4516383 | N37: 0.85379096 | P37: 1 | Q37: 0.67361769 | S37: 0 | Y37: 1.0020532 | AB37: 1.3532079 | AC37: 1.8414706
L38: 37 | M38: 1.5755678 | N38: 0.92998754 | P38: 1.1 | Q38: 0.7258366 | S38: 0 | Y38: 1.0678087 | AB38: 1.451919 | AC38: 2.0136313
L39: 38 | M39: 1.7063452 | N39: 1.0106774 | P39: 1.2 | Q39: 0.78054773 | R39: 0.73085122 | S39: 0 | Y39: 1.1335641 | AB39: 1.6569162 | AC39: 2.1960132 | AD39: 0.9628367
L40: 39 | M40: 1.8441537 | N40: 1.0959969 | P40: 1.3 | Q40: 0.83779974 | R40: 0.78967185 | S40: 0 | Y40: 1.1993196 | AB40: 1.7998651 | AC40: 2.389526 | AD40: 1.0424834
...

Sheet Sign
B1: Club | C1: Weigh Master | D1: Signature
B2: Atlantic Angling Club
B3: Benguella
B4: Henties Bay
B5: Mako
B6: Namib Park
B7: Okahandja
B8: Orca Angling Club
B9: Otjiwarongo
B10: Penguin
B11: Seagull Angling Club
B12: Steenbras
B13: Walvis Bay
... B18: Johan Kotze

Sheet MASTERLIST
A1: Only complete Black areas on sheet
B2: MASTER ANGLERS LIST
A4: Number | B4: Club | C4: Name | D4: Surname | E4: Status | F4: DOB | G4: Date Today | H4: Age | I4: Status | J4: Gender | K4: ID Number | L4: Nationality | N4: Club | O4: 2022 | P4: 2023 | Q4: Diff | R4: Maritz | S4: Diff
A5: N0001 | B5: Mako | C5: Philip | D5: Swartz | E5: =CONCATENATE(J5," ",I5) -> Men U/16 | F5: 40618 | G5: 45291 | H5: =INT(YEARFRAC(F5,G5)) -> 12 | I5: =IF(H5="","Senior",IF(H5>59.999,"Grand Masters",IF(H5>49.999,"Master",IF(H5>39.999,"Veteran",IF(H5>21.999,"Senior",IF(H5>16.999,"U/21","U/16")))))) -> U/16 | J5: Men | K5: 20110316 | L5: Nam | N5: Atlantic Angling Club | O5: 35 | P5: 33 | Q5: =P5-O5 -> -2 | R5: 33 | S5: =P5-R5 -> 0
A6: N0002 | B6: Mako | C6: Marco | D6: Klein | E6: =CONCATENATE(J6," ",I6) -> Men Veteran | F6: 30372 | G6: =$G$5 -> 45291 | H6: =INT(YEARFRAC(F6,G6)) -> 40 | I6: =IF(H6="","Senior",IF(H6>59.999,"Grand Masters",IF(H6>49.999,"Master",IF(H6>39.999,"Veteran",IF(H6>21.999,"Senior",IF(H6>16.999,"U/21","U/16")))))) -> Veteran | J6: Men | K6: 83032510597 | L6: Nam | N6: Benguella | O6: 46 | P6: 41 | Q6: =P6-O6 -> -5 | R6: 41 | S6: =P6-R6 -> 0
A7: N0003 | B7: Welwitschia | C7: Bertie | D7: Diedericks | E7: =CONCATENATE(J7," ",I7) -> Men Grand Masters | F7: 22219 | G7: =$G$5 -> 45291 | H7: =INT(YEARFRAC(F7,G7)) -> 63 | I7: =IF(H7="","Senior",IF(H7>59.999,"Grand Masters",IF(H7>49.999,"Master",IF(H7>39.999,"Veteran",IF(H7>21.999,"Senior",IF(H7>16.999,"U/21","U/16")))))) -> Grand Masters | J7: Men | K7: 6010300356 | L7: Nam | N7: Henties Bay | O7: 30 | P7: 25 | Q7: =P7-O7 -> -5 | R7: 25 | S7: =P7-R7 -> 0
A8: N0004 | B8: Penguin | C8: Charles | D8: Bothma | E8: =CONCATENATE(J8," ",I8) -> Men Grand Masters | F8: 21920 | G8: =$G$5 -> 45291 | H8: =INT(YEARFRAC(F8,G8)) -> 63 | I8: =IF(H8="","Senior",IF(H8>59.999,"Grand Masters",IF(H8>49.999,"Master",IF(H8>39.999,"Veteran",IF(H8>21.999,"Senior",IF(H8>16.999,"U/21","U/16")))))) -> Grand Masters | J8: Men | K8: 60010501142 | L8: Nam | N8: Mako | O8: 32 | P8: 34 | Q8: =P8-O8 -> 2 | R8: 34 | S8: =P8-R8 -> 0
A9: N0005 | B9: Penguin | C9: Lesley | D9: Page | E9: =CONCATENATE(J9," ",I9) -> Men Master | F9: 24611 | G9: =$G$5 -> 45291 | H9: =INT(YEARFRAC(F9,G9)) -> 56 | I9: =IF(H9="","Senior",IF(H9>59.999,"Grand Masters",IF(H9>49.999,"Master",IF(H9>39.999,"Veteran",IF(H9>21.999,"Senior",IF(H9>16.999,"U/21","U/16")))))) -> Master | J9: Men | K9: 67051900234 | L9: Nam | N9: Namib Park | O9: 24 | P9: 21 | Q9: =P9-O9 -> -3 | R9: 21 | S9: =P9-R9 -> 0
A10: N0006 | B10: Penguin | C10: Nico | D10: Kotze | E10: =CONCATENATE(J10," ",I10) -> Men Veteran | F10: 27611 | G10: =$G$5 -> 45291 | H10: =INT(YEARFRAC(F10,G10)) -> 48 | I10: =IF(H10="","Senior",IF(H10>59.999,"Grand Masters",IF(H10>49.999,"Master",IF(H10>39.999,"Veteran",IF(H10>21.999,"Senior",IF(H10>16.999,"U/21","U/16")))))) -> Veteran | J10: Men | K10: 75080500042 | L10: Nam | N10: Okahandja | O10: 25 | P10: 15 | Q10: =P10-O10 -> -10 | R10: 15 | S10: =P10-R10 -> 0
A11: N0007 | B11: Orca Angling Club | C11: Brian | D11: Curtis | E11: =CONCATENATE(J11," ",I11) -> Men Senior | F11: 31732 | G11: =$G$5 -> 45291 | H11: =INT(YEARFRAC(F11,G11)) -> 37 | I11: =IF(H11="","Senior",IF(H11>59.999,"Grand Masters",IF(H11>49.999,"Master",IF(H11>39.999,"Veteran",IF(H11>21.999,"Senior",IF(H11>16.999,"U/21","U/16")))))) -> Senior | J11: Men | K11: 86111600125 | L11: Nam | N11: Orca Angling Club | O11: 33 | P11: 32 | Q11: =P11-O11 -> -1 | R11: 32 | S11: =P11-R11 -> 0
A12: N0008 | B12: Namib Park | C12: Andre | D12: Coetzee | E12: =CONCATENATE(J12," ",I12) -> Men Grand Masters | F12: 21511 | G12: =$G$5 -> 45291 | H12: =INT(YEARFRAC(F12,G12)) -> 65 | I12: =IF(H12="","Senior",IF(H12>59.999,"Grand Masters",IF(H12>49.999,"Master",IF(H12>39.999,"Veteran",IF(H12>21.999,"Senior",IF(H12>16.999,"U/21","U/16")))))) -> Grand Masters | J12: Men | K12: 58112200165 | L12: Nam | N12: Otjiwarongo | O12: 25 | P12: 11 | Q12: =P12-O12 -> -14 | R12: 11 | S12: =P12-R12 -> 0
A13: N0009 | B13: Penguin | C13: Henry | D13: Loubser | E13: =CONCATENATE(J13," ",I13) -> Men Grand Masters | F13: 22339 | G13: =$G$5 -> 45291 | H13: =INT(YEARFRAC(F13,G13)) -> 62 | I13: =IF(H13="","Senior",IF(H13>59.999,"Grand Masters",IF(H13>49.999,"Master",IF(H13>39.999,"Veteran",IF(H13>21.999,"Senior",IF(H13>16.999,"U/21","U/16")))))) -> Grand Masters | J13: Men | K13: 61022700219 | L13: Nam | N13: Penguin | O13: 37 | P13: 30 | Q13: =P13-O13 -> -7 | R13: 30 | S13: =P13-R13 -> 0
A14: N0010 | B14: xNamib Park | C14: Johan | D14: Hoon | E14: =CONCATENATE(J14," ",I14) -> Men Senior | F14: 30807 | G14: =$G$5 -> 45291 | H14: =INT(YEARFRAC(F14,G14)) -> 39 | I14: =IF(H14="","Senior",IF(H14>59.999,"Grand Masters",IF(H14>49.999,"Master",IF(H14>39.999,"Veteran",IF(H14>21.999,"Senior",IF(H14>16.999,"U/21","U/16")))))) -> Senior | J14: Men | K14: 84050510057 | L14: Nam | N14: Seagull Angling Club | O14: 36 | P14: 35 | Q14: =P14-O14 -> -1 | R14: 35 | S14: =P14-R14 -> 0
A15: N0011 | B15: Atlantic Angling Club | C15: Johan | D15: Mostert | E15: =CONCATENATE(J15," ",I15) -> Men Senior | F15: 30975 | G15: =$G$5 -> 45291 | H15: =INT(YEARFRAC(F15,G15)) -> 39 | I15: =IF(H15="","Senior",IF(H15>59.999,"Grand Masters",IF(H15>49.999,"Master",IF(H15>39.999,"Veteran",IF(H15>21.999,"Senior",IF(H15>16.999,"U/21","U/16")))))) -> Senior | J15: Men | K15: 84102010033 | L15: Nam | N15: Steenbras | O15: 29 | P15: 34 | Q15: =P15-O15 -> 5 | R15: 34 | S15: =P15-R15 -> 0
A16: N0012 | B16: xWelwitschia | C16: Walter | D16: Hankey | E16: =CONCATENATE(J16," ",I16) -> Men Master | F16: 23941 | G16: =$G$5 -> 45291 | H16: =INT(YEARFRAC(F16,G16)) -> 58 | I16: =IF(H16="","Senior",IF(H16>59.999,"Grand Masters",IF(H16>49.999,"Master",IF(H16>39.999,"Veteran",IF(H16>21.999,"Senior",IF(H16>16.999,"U/21","U/16")))))) -> Master | J16: Men | K16: 65071800039 | L16: Nam | N16: Walvis Bay | O16: 51 | P16: 58 | Q16: =P16-O16 -> 7 | R16: 58 | S16: =P16-R16 -> 0
A17: N0013 | B17: Namib Park | C17: Rodger | D17: Boon | E17: =CONCATENATE(J17," ",I17) -> Men Master | F17: 24486 | G17: =$G$5 -> 45291 | H17: =INT(YEARFRAC(F17,G17)) -> 56 | I17: =IF(H17="","Senior",IF(H17>59.999,"Grand Masters",IF(H17>49.999,"Master",IF(H17>39.999,"Veteran",IF(H17>21.999,"Senior",IF(H17>16.999,"U/21","U/16")))))) -> Master | J17: Men | K17: 67011410031 | L17: Nam | N17: Welwitschia | O17: 28 | P17: 14 | Q17: =P17-O17 -> -14 | R17: 14 | S17: =P17-R17 -> 0
A18: N0014 | B18: Welwitschia | C18: Willem | D18: Steyn | E18: =CONCATENATE(J18," ",I18) -> Men Veteran | F18: 29313 | G18: =$G$5 -> 45291 | H18: =INT(YEARFRAC(F18,G18)) -> 43 | I18: =IF(H18="","Senior",IF(H18>59.999,"Grand Masters",IF(H18>49.999,"Master",IF(H18>39.999,"Veteran",IF(H18>21.999,"Senior",IF(H18>16.999,"U/21","U/16")))))) -> Veteran | J18: Men | K18: 80040210723 | L18: Nam | N18: Total | O18: =SUM(O5:O17) -> 431 | P18: =SUM(P5:P17) -> 383 | Q18: =SUM(Q5:Q17) -> -48 | R18: =SUM(R5:R17) -> 383 | S18: =SUM(S5:S17) -> 0
A19: N0015 | B19: Okahandja | C19: Herman | D19: Fourie | E19: =CONCATENATE(J19," ",I19) -> Men Grand Masters | F19: 21134 | G19: =$G$5 -> 45291 | H19: =INT(YEARFRAC(F19,G19)) -> 66 | I19: =IF(H19="","Senior",IF(H19>59.999,"Grand Masters",IF(H19>49.999,"Master",IF(H19>39.999,"Veteran",IF(H19>21.999,"Senior",IF(H19>16.999,"U/21","U/16")))))) -> Grand Masters | J19: Men | K19: 57111000857 | L19: Nam
A20: N0016 | B20: Welwitschia | C20: Johan | D20: Diedericks | E20: =CONCATENATE(J20," ",I20) -> Men Senior | F20: 30854 | G20: =$G$5 -> 45291 | H20: =INT(YEARFRAC(F20,G20)) -> 39 | I20: =IF(H20="","Senior",IF(H20>59.999,"Grand Masters",IF(H20>49.999,"Master",IF(H20>39.999,"Veteran",IF(H20>21.999,"Senior",IF(H20>16.999,"U/21","U/16")))))) -> Senior | J20: Men | K20: 8406211010 | L20: Nam
A21: N0017 | B21: Mako | C21: Riaan | D21: Tap | E21: =CONCATENATE(J21," ",I21) -> Men Veteran | F21: 29431 | G21: =$G$5 -> 45291 | H21: =INT(YEARFRAC(F21,G21)) -> 43 | I21: =IF(H21="","Senior",IF(H21>59.999,"Grand Masters",IF(H21>49.999,"Master",IF(H21>39.999,"Veteran",IF(H21>21.999,"Senior",IF(H21>16.999,"U/21","U/16")))))) -> Veteran | J21: Men | K21: 80072910364 | L21: Nam
A22: N0018 | B22: Walvis Bay | C22: Garreth | D22: Wolfaardt | E22: =CONCATENATE(J22," ",I22) -> Men Veteran | F22: 29413 | G22: =$G$5 -> 45291 | H22: =INT(YEARFRAC(F22,G22)) -> 43 | I22: =IF(H22="","Senior",IF(H22>59.999,"Grand Masters",IF(H22>49.999,"Master",IF(H22>39.999,"Veteran",IF(H22>21.999,"Senior",IF(H22>16.999,"U/21","U/16")))))) -> Veteran | J22: Men | K22: 8007115166081 | L22: SA
A23: N0019 | B23: Mako | C23: Johan | D23: Visser | E23: =CONCATENATE(J23," ",I23) -> Men Veteran | F23: 30621 | G23: =$G$5 -> 45291 | H23: =INT(YEARFRAC(F23,G23)) -> 40 | I23: =IF(H23="","Senior",IF(H23>59.999,"Grand Masters",IF(H23>49.999,"Master",IF(H23>39.999,"Veteran",IF(H23>21.999,"Senior",IF(H23>16.999,"U/21","U/16")))))) -> Veteran | J23: Men | K23: 83110110075 | L23: Nam
A24: N0020 | B24: Seagull Angling Club | C24: Morne | D24: Horn | E24: =CONCATENATE(J24," ",I24) -> Men Veteran | F24: 27345 | G24: =$G$5 -> 45291 | H24: =INT(YEARFRAC(F24,G24)) -> 49 | I24: =IF(H24="","Senior",IF(H24>59.999,"Grand Masters",IF(H24>49.999,"Master",IF(H24>39.999,"Veteran",IF(H24>21.999,"Senior",IF(H24>16.999,"U/21","U/16")))))) -> Veteran | J24: Men | K24: 741112500052 | L24: Nam
A25: N0021 | B25: Penguin | C25: Hanjo | D25: Doll | E25: =CONCATENATE(J25," ",I25) -> Men Senior | F25: 32308 | G25: =$G$5 -> 45291 | H25: =INT(YEARFRAC(F25,G25)) -> 35 | I25: =IF(H25="","Senior",IF(H25>59.999,"Grand Masters",IF(H25>49.999,"Master",IF(H25>39.999,"Veteran",IF(H25>21.999,"Senior",IF(H25>16.999,"U/21","U/16")))))) -> Senior | J25: Men | K25: 88061400073 | L25: Nam
A26: N0022 | B26: Penguin | C26: Warren | D26: Deysel | E26: =CONCATENATE(J26," ",I26) -> Men Veteran | F26: 29064 | G26: =$G$5 -> 45291 | H26: =INT(YEARFRAC(F26,G26)) -> 44 | I26: =IF(H26="","Senior",IF(H26>59.999,"Grand Masters",IF(H26>49.999,"Master",IF(H26>39.999,"Veteran",IF(H26>21.999,"Senior",IF(H26>16.999,"U/21","U/16")))))) -> Veteran | J26: Men | K26: 79072810236 | L26: Nam
A27: N0023 | B27: Atlantic Angling Club | C27: Jörg | D27: Walter | E27: =CONCATENATE(J27," ",I27) -> Men Grand Masters | F27: 21415 | G27: =$G$5 -> 45291 | H27: =INT(YEARFRAC(F27,G27)) -> 65 | I27: =IF(H27="","Senior",IF(H27>59.999,"Grand Masters",IF(H27>49.999,"Master",IF(H27>39.999,"Veteran",IF(H27>21.999,"Senior",IF(H27>16.999,"U/21","U/16")))))) -> Grand Masters | J27: Men | K27: 58081800913 | L27: Nam
A28: N0024 | B28: Mako | C28: Andrew | D28: Van Der Westhuizen | E28: =CONCATENATE(J28," ",I28) -> Men Veteran | F28: 28801 | G28: =$G$5 -> 45291 | H28: =INT(YEARFRAC(F28,G28)) -> 45 | I28: =IF(H28="","Senior",IF(H28>59.999,"Grand Masters",IF(H28>49.999,"Master",IF(H28>39.999,"Veteran",IF(H28>21.999,"Senior",IF(H28>16.999,"U/21","U/16")))))) -> Veteran | J28: Men | K28: 78110710131 | L28: Nam
A29: N0025 | B29: Henties Bay | C29: Heini | D29: Zahrt | E29: =CONCATENATE(J29," ",I29) -> Men Senior | F29: 32974 | G29: =$G$5 -> 45291 | H29: =INT(YEARFRAC(F29,G29)) -> 33 | I29: =IF(H29="","Senior",IF(H29>59.999,"Grand Masters",IF(H29>49.999,"Master",IF(H29>39.999,"Veteran",IF(H29>21.999,"Senior",IF(H29>16.999,"U/21","U/16")))))) -> Senior | J29: Men | K29: 90041100816 | L29: Nam
A30: N0026 | B30: Henties Bay | C30: Johan | D30: Agenbag | E30: =CONCATENATE(J30," ",I30) -> Men Master | F30: 25129 | G30: =$G$5 -> 45291 | H30: =INT(YEARFRAC(F30,G30)) -> 55 | I30: =IF(H30="","Senior",IF(H30>59.999,"Grand Masters",IF(H30>49.999,"Master",IF(H30>39.999,"Veteran",IF(H30>21.999,"Senior",IF(H30>16.999,"U/21","U/16")))))) -> Master | J30: Men | K30: 68101800654 | L30: Nam
... A45: N0041 | B45: Walvis Bay | C45: Terence | D45: Clark | E45: =CONCATENATE(J45," ",I45) -> Men Grand Masters | F45: 22712 | G45: =$G$5 -> 45291 | H45: =INT(YEARFRAC(F45,G45)) -> 61 | I45: =IF(H45="","Senior",IF(H45>59.999,"Grand Masters",IF(H45>49.999,"Master",IF(H45>39.999,"Veteran",IF(H45>21.999,"Senior",IF(H45>16.999,"U/21","U/16")))))) -> Grand Masters | J45: Men | K45: 62030700894 | L45: Nam
A46: N0042 | B46: xBenguella | C46: Marcus | D46: Kirchner-Frankle | E46: =CONCATENATE(J46," ",I46) -> Men Senior | F46: 32651 | G46: =$G$5 -> 45291 | H46: =INT(YEARFRAC(F46,G46)) -> 34 | I46: =IF(H46="","Senior",IF(H46>59.999,"Grand Masters",IF(H46>49.999,"Master",IF(H46>39.999,"Veteran",IF(H46>21.999,"Senior",IF(H46>16.999,"U/21","U/16")))))) -> Senior | J46: Men
A47: N0043 | B47: xWelwitschia | C47: Cecil | D47: Laubscher | E47: =CONCATENATE(J47," ",I47) -> Ladies Master | F47: 25790 | G47: =$G$5 -> 45291 | H47: =INT(YEARFRAC(F47,G47)) -> 53 | I47: =IF(H47="","Senior",IF(H47>59.999,"Grand Masters",IF(H47>49.999,"Master",IF(H47>39.999,"Veteran",IF(H47>21.999,"Senior",IF(H47>16.999,"U/21","U/16")))))) -> Master | J47: Ladies | K47: 70081000162 | L47: Nam
A48: N0044 | B48: Orca Angling Club | C48: Leon | D48: Krauze | E48: =CONCATENATE(J48," ",I48) -> Men Veteran | F48: 27461 | G48: =$G$5 -> 45291 | H48: =INT(YEARFRAC(F48,G48)) -> 48 | I48: =IF(H48="","Senior",IF(H48>59.999,"Grand Masters",IF(H48>49.999,"Master",IF(H48>39.999,"Veteran",IF(H48>21.999,"Senior",IF(H48>16.999,"U/21","U/16")))))) -> Veteran | J48: Men | K48: 75030810390 | L48: Nam
A49: N0045 | B49: Seagull Angling Club | C49: Chrisjan | D49: Potgieter | E49: =CONCATENATE(J49," ",I49) -> Men Veteran | F49: 30490 | G49: =$G$5 -> 45291 | H49: =INT(YEARFRAC(F49,G49)) -> 40 | I49: =IF(H49="","Senior",IF(H49>59.999,"Grand Masters",IF(H49>49.999,"Master",IF(H49>39.999,"Veteran",IF(H49>21.999,"Senior",IF(H49>16.999,"U/21","U/16")))))) -> Veteran | J49: Men | K49: 83062610476 | L49: Nam
A50: N0046 | B50: Penguin | C50: Marius | D50: Kruger | E50: =CONCATENATE(J50," ",I50) -> Men Veteran | F50: 27652 | G50: =$G$5 -> 45291 | H50: =INT(YEARFRAC(F50,G50)) -> 48 | I50: =IF(H50="","Senior",IF(H50>59.999,"Grand Masters",IF(H50>49.999,"Master",IF(H50>39.999,"Veteran",IF(H50>21.999,"Senior",IF(H50>16.999,"U/21","U/16")))))) -> Veteran | J50: Men | K50: 75091510613 | L50: Nam
A51: N0047 | B51: xSkeleton Coast | C51: Jaco | D51: Smit | E51: =CONCATENATE(J51," ",I51) -> Men Senior | F51: 31089 | G51: =$G$5 -> 45291 | H51: =INT(YEARFRAC(F51,G51)) -> 38 | I51: =IF(H51="","Senior",IF(H51>59.999,"Grand Masters",IF(H51>49.999,"Master",IF(H51>39.999,"Veteran",IF(H51>21.999,"Senior",IF(H51>16.999,"U/21","U/16")))))) -> Senior | J51: Men
A52: N0048 | B52: Penguin | C52: Morne | D52: Burger | E52: =CONCATENATE(J52," ",I52) -> Men Veteran | F52: 27577 | G52: =$G$5 -> 45291 | H52: =INT(YEARFRAC(F52,G52)) -> 48 | I52: =IF(H52="","Senior",IF(H52>59.999,"Grand Masters",IF(H52>49.999,"Master",IF(H52>39.999,"Veteran",IF(H52>21.999,"Senior",IF(H52>16.999,"U/21","U/16")))))) -> Veteran | J52: Men | K52: 75070200097 | L52: Nam
A53: N0049 | B53: xSeagulls WHK | C53: Gideon | D53: Scheepers | E53: =CONCATENATE(J53," ",I53) -> Men Master | F53: 25812 | G53: =$G$5 -> 45291 | H53: =INT(YEARFRAC(F53,G53)) -> 53 | I53: =IF(H53="","Senior",IF(H53>59.999,"Grand Masters",IF(H53>49.999,"Master",IF(H53>39.999,"Veteran",IF(H53>21.999,"Senior",IF(H53>16.999,"U/21","U/16")))))) -> Master | J53: Men | K53: 70090100115 | L53: Nam
A54: N0050 | B54: Seagull Angling Club | C54: Sean | D54: Van Den Heuvel | E54: =CONCATENATE(J54," ",I54) -> Men Veteran | F54: 28439 | G54: =$G$5 -> 45291 | H54: =INT(YEARFRAC(F54,G54)) -> 46 | I54: =IF(H54="","Senior",IF(H54>59.999,"Grand Masters",IF(H54>49.999,"Master",IF(H54>39.999,"Veteran",IF(H54>21.999,"Senior",IF(H54>16.999,"U/21","U/16")))))) -> Veteran | J54: Men | K54: 77111010566 | L54: Nam
A55: N0051 | B55: Penguin | C55: Bernard | D55: Pretorius | E55: =CONCATENATE(J55," ",I55) -> Men Master | F55: 24962 | G55: =$G$5 -> 45291 | H55: =INT(YEARFRAC(F55,G55)) -> 55 | I55: =IF(H55="","Senior",IF(H55>59.999,"Grand Masters",IF(H55>49.999,"Master",IF(H55>39.999,"Veteran",IF(H55>21.999,"Senior",IF(H55>16.999,"U/21","U/16")))))) -> Master | J55: Men | K55: 6805045042088 | L55: SA
...

Sheet DATA ENTRY
A1: Competition | B1: Date | C1: Venue | D1: ID | E1: Name | F1: Surname | G1: Status | H1: Team | I1: Edibles | J1: Inedibles | K1: length | L1: kg | M1: Points
A2: 2021-IC-L1 | B2: 44247 | C2: Zone 5 - Winston | D2: N0517 | E2: =IF(D2="","",VLOOKUP(D2,Master,3,FALSE)) -> Luigi | F2: =IF(D2="","",VLOOKUP(D2,Master,4,FALSE)) -> Strappazzon | G2: =IF(D2="","",VLOOKUP(D2,Master,5,FALSE)) -> Men U/16 | H2: =IF(D2="","",VLOOKUP(D2,Master,2,FALSE)) -> Atlantic Angling Club | L2: =IF(K2="","",IF(I2="",ROUND(HLOOKUP(J2,kgList,K2,FALSE),1),ROUND(HLOOKUP(I2,kgList,K2,FALSE),1))) | M2: =IF(L2="","",IF(COUNTA(I2:J2)>1,"Edible or Inedible",IF(COUNTA(I2)=1,L2*1,IF(COUNTA(J2)=1,L2*1,"ERROR"))))
A3: 2021-IC-L1 | B3: 44247 | C3: Zone 5 - Winston | D3: N0761 | E3: =IF(D3="","",VLOOKUP(D3,Master,3,FALSE)) -> Stefano | F3: =IF(D3="","",VLOOKUP(D3,Master,4,FALSE)) -> Strappazzon | G3: =IF(D3="","",VLOOKUP(D3,Master,5,FALSE)) -> Men Veteran | H3: =IF(D3="","",VLOOKUP(D3,Master,2,FALSE)) -> Atlantic Angling Club | J3: Shark Hound Smooth | K3: 77 | L3: =IF(K3="","",IF(I3="",ROUND(HLOOKUP(J3,kgList,K3,FALSE),1),ROUND(HLOOKUP(I3,kgList,K3,FALSE),1))) -> 1.5 | M3: =IF(L3="","",IF(COUNTA(I3:J3)>1,"Edible or Inedible",IF(COUNTA(I3)=1,L3*1,IF(COUNTA(J3)=1,L3*1,"ERROR")))) -> 1.5
A4: 2021-IC-L1 | B4: 44247 | C4: Zone 5 - Winston | D4: N0761 | E4: =IF(D4="","",VLOOKUP(D4,Master,3,FALSE)) -> Stefano | F4: =IF(D4="","",VLOOKUP(D4,Master,4,FALSE)) -> Strappazzon | G4: =IF(D4="","",VLOOKUP(D4,Master,5,FALSE)) -> Men Veteran | H4: =IF(D4="","",VLOOKUP(D4,Master,2,FALSE)) -> Atlantic Angling Club | J4: Shark Hound Smooth | K4: 135 | L4: =IF(K4="","",IF(I4="",ROUND(HLOOKUP(J4,kgList,K4,FALSE),1),ROUND(HLOOKUP(I4,kgList,K4,FALSE),1))) -> 10.6 | M4: =IF(L4="","",IF(COUNTA(I4:J4)>1,"Edible or Inedible",IF(COUNTA(I4)=1,L4*1,IF(COUNTA(J4)=1,L4*1,"ERROR")))) -> 10.6
A5: 2021-IC-L1 | B5: 44247 | C5: Zone 5 - Winston | D5: N0464 | E5: =IF(D5="","",VLOOKUP(D5,Master,3,FALSE)) -> Sarel | F5: =IF(D5="","",VLOOKUP(D5,Master,4,FALSE)) -> Mynhardt | G5: =IF(D5="","",VLOOKUP(D5,Master,5,FALSE)) -> Men Master | H5: =IF(D5="","",VLOOKUP(D5,Master,2,FALSE)) -> Atlantic Angling Club | J5: Shark Hound Smooth | K5: 96 | L5: =IF(K5="","",IF(I5="",ROUND(HLOOKUP(J5,kgList,K5,FALSE),1),ROUND(HLOOKUP(I5,kgList,K5,FALSE),1))) -> 3.2 | M5: =IF(L5="","",IF(COUNTA(I5:J5)>1,"Edible or Inedible",IF(COUNTA(I5)=1,L5*1,IF(COUNTA(J5)=1,L5*1,"ERROR")))) -> 3.2
A6: 2021-IC-L1 | B6: 44247 | C6: Zone 5 - Winston | D6: N0583 | E6: =IF(D6="","",VLOOKUP(D6,Master,3,FALSE)) -> Karmen | F6: =IF(D6="","",VLOOKUP(D6,Master,4,FALSE)) -> Mynhardt | G6: =IF(D6="","",VLOOKUP(D6,Master,5,FALSE)) -> Ladies Master | H6: =IF(D6="","",VLOOKUP(D6,Master,2,FALSE)) -> Atlantic Angling Club | J6: Guitarfish - Lesser | K6: 77 | L6: =IF(K6="","",IF(I6="",ROUND(HLOOKUP(J6,kgList,K6,FALSE),1),ROUND(HLOOKUP(I6,kgList,K6,FALSE),1))) -> 1.6 | M6: =IF(L6="","",IF(COUNTA(I6:J6)>1,"Edible or Inedible",IF(COUNTA(I6)=1,L6*1,IF(COUNTA(J6)=1,L6*1,"ERROR")))) -> 1.6
A7: 2021-IC-L1 | B7: 44247 | C7: Zone 5 - Winston | D7: N0240 | E7: =IF(D7="","",VLOOKUP(D7,Master,3,FALSE)) -> Natasha | F7: =IF(D7="","",VLOOKUP(D7,Master,4,FALSE)) -> Mostert | G7: =IF(D7="","",VLOOKUP(D7,Master,5,FALSE)) -> Ladies Senior | H7: =IF(D7="","",VLOOKUP(D7,Master,2,FALSE)) -> xAtlantic Angling Club | J7: Shark Hound Smooth | K7: 118 | L7: =IF(K7="","",IF(I7="",ROUND(HLOOKUP(J7,kgList,K7,FALSE),1),ROUND(HLOOKUP(I7,kgList,K7,FALSE),1))) -> 6.6 | M7: =IF(L7="","",IF(COUNTA(I7:J7)>1,"Edible or Inedible",IF(COUNTA(I7)=1,L7*1,IF(COUNTA(J7)=1,L7*1,"ERROR")))) -> 6.6
A8: 2021-IC-L1 | B8: 44247 | C8: Zone 5 - Winston | D8: N0877 | E8: =IF(D8="","",VLOOKUP(D8,Master,3,FALSE)) -> Raymond | F8: =IF(D8="","",VLOOKUP(D8,Master,4,FALSE)) -> Bartlett | G8: =IF(D8="","",VLOOKUP(D8,Master,5,FALSE)) -> Men Senior | H8: =IF(D8="","",VLOOKUP(D8,Master,2,FALSE)) -> xAtlantic Angling Club | J8: Shark Spotted Gully | K8: 80 | L8: =IF(K8="","",IF(I8="",ROUND(HLOOKUP(J8,kgList,K8,FALSE),1),ROUND(HLOOKUP(I8,kgList,K8,FALSE),1))) -> 2 | M8: =IF(L8="","",IF(COUNTA(I8:J8)>1,"Edible or Inedible",IF(COUNTA(I8)=1,L8*1,IF(COUNTA(J8)=1,L8*1,"ERROR")))) -> 2
A9: 2021-IC-L1 | B9: 44247 | C9: Zone 5 - Winston | D9: N0877 | E9: =IF(D9="","",VLOOKUP(D9,Master,3,FALSE)) -> Raymond | F9: =IF(D9="","",VLOOKUP(D9,Master,4,FALSE)) -> Bartlett | G9: =IF(D9="","",VLOOKUP(D9,Master,5,FALSE)) -> Men Senior | H9: =IF(D9="","",VLOOKUP(D9,Master,2,FALSE)) -> xAtlantic Angling Club | J9: Elephantfish | K9: 80 | L9: =IF(K9="","",IF(I9="",ROUND(HLOOKUP(J9,kgList,K9,FALSE),1),ROUND(HLOOKUP(I9,kgList,K9,FALSE),1))) -> 4.1 | M9: =IF(L9="","",IF(COUNTA(I9:J9)>1,"Edible or Inedible",IF(COUNTA(I9)=1,L9*1,IF(COUNTA(J9)=1,L9*1,"ERROR")))) -> 4.1
A10: 2021-IC-L1 | B10: 44247 | C10: Zone 5 - Winston | D10: N0877 | E10: =IF(D10="","",VLOOKUP(D10,Master,3,FALSE)) -> Raymond | F10: =IF(D10="","",VLOOKUP(D10,Master,4,FALSE)) -> Bartlett | G10: =IF(D10="","",VLOOKUP(D10,Master,5,FALSE)) -> Men Senior | H10: =IF(D10="","",VLOOKUP(D10,Master,2,FALSE)) -> xAtlantic Angling Club | J10: Guitarfish - Lesser | K10: 90 | L10: =IF(K10="","",IF(I10="",ROUND(HLOOKUP(J10,kgList,K10,FALSE),1),ROUND(HLOOKUP(I10,kgList,K10,FALSE),1))) -> 2.7 | M10: =IF(L10="","",IF(COUNTA(I10:J10)>1,"Edible or Inedible",IF(COUNTA(I10)=1,L10*1,IF(COUNTA(J10)=1,L10*1,"ERROR")))) -> 2.7
A11: 2021-IC-L1 | B11: 44247 | C11: Zone 5 - Winston | D11: N0833 | E11: =IF(D11="","",VLOOKUP(D11,Master,3,FALSE)) -> Andy | F11: =IF(D11="","",VLOOKUP(D11,Master,4,FALSE)) -> Welzig | G11: =IF(D11="","",VLOOKUP(D11,Master,5,FALSE)) -> Men Master | H11: =IF(D11="","",VLOOKUP(D11,Master,2,FALSE)) -> Atlantic Angling Club | J11: Shark Hound Smooth | K11: 122 | L11: =IF(K11="","",IF(I11="",ROUND(HLOOKUP(J11,kgList,K11,FALSE),1),ROUND(HLOOKUP(I11,kgList,K11,FALSE),1))) -> 7.4 | M11: =IF(L11="","",IF(COUNTA(I11:J11)>1,"Edible or Inedible",IF(COUNTA(I11)=1,L11*1,IF(COUNTA(J11)=1,L11*1,"ERROR")))) -> 7.4
A12: 2021-IC-L1 | B12: 44247 | C12: Zone 5 - Winston | D12: N0833 | E12: =IF(D12="","",VLOOKUP(D12,Master,3,FALSE)) -> Andy | F12: =IF(D12="","",VLOOKUP(D12,Master,4,FALSE)) -> Welzig | G12: =IF(D12="","",VLOOKUP(D12,Master,5,FALSE)) -> Men Master | H12: =IF(D12="","",VLOOKUP(D12,Master,2,FALSE)) -> Atlantic Angling Club | J12: Skate Spearnose | K12: 141 | L12: =IF(K12="","",IF(I12="",ROUND(HLOOKUP(J12,kgList,K12,FALSE),1),ROUND(HLOOKUP(I12,kgList,K12,FALSE),1))) -> 26.2 | M12: =IF(L12="","",IF(COUNTA(I12:J12)>1,"Edible or Inedible",IF(COUNTA(I12)=1,L12*1,IF(COUNTA(J12)=1,L12*1,"ERROR")))) -> 26.2
A13: 2021-IC-L1 | B13: 44247 | C13: Zone 5 - Winston | D13: N0410 | E13: =IF(D13="","",VLOOKUP(D13,Master,3,FALSE)) -> Jaco | F13: =IF(D13="","",VLOOKUP(D13,Master,4,FALSE)) -> Mac Gillicuddy | G13: =IF(D13="","",VLOOKUP(D13,Master,5,FALSE)) -> Men Master | H13: =IF(D13="","",VLOOKUP(D13,Master,2,FALSE)) -> xAtlantic Angling Club | J13: Shark Hound Smooth | K13: 127 | L13: =IF(K13="","",IF(I13="",ROUND(HLOOKUP(J13,kgList,K13,FALSE),1),ROUND(HLOOKUP(I13,kgList,K13,FALSE),1))) -> 8.5 | M13: =IF(L13="","",IF(COUNTA(I13:J13)>1,"Edible or Inedible",IF(COUNTA(I13)=1,L13*1,IF(COUNTA(J13)=1,L13*1,"ERROR")))) -> 8.5
A14: 2021-IC-L1 | B14: 44247 | C14: Zone 5 - Winston | D14: N0330 | E14: =IF(D14="","",VLOOKUP(D14,Master,3,FALSE)) -> Enya | F14: =IF(D14="","",VLOOKUP(D14,Master,4,FALSE)) -> Mac Gillicuddy | G14: =IF(D14="","",VLOOKUP(D14,Master,5,FALSE)) -> Ladies U/16 | H14: =IF(D14="","",VLOOKUP(D14,Master,2,FALSE)) -> xAtlantic Angling Club | L14: =IF(K14="","",IF(I14="",ROUND(HLOOKUP(J14,kgList,K14,FALSE),1),ROUND(HLOOKUP(I14,kgList,K14,FALSE),1))) | M14: =IF(L14="","",IF(COUNTA(I14:J14)>1,"Edible or Inedible",IF(COUNTA(I14)=1,L14*1,IF(COUNTA(J14)=1,L14*1,"ERROR"))))
A15: 2021-IC-L1 | B15: 44247 | C15: Zone 5 - Winston | D15: N0011 | E15: =IF(D15="","",VLOOKUP(D15,Master,3,FALSE)) -> Johan | F15: =IF(D15="","",VLOOKUP(D15,Master,4,FALSE)) -> Mostert | G15: =IF(D15="","",VLOOKUP(D15,Master,5,FALSE)) -> Men Senior | H15: =IF(D15="","",VLOOKUP(D15,Master,2,FALSE)) -> Atlantic Angling Club | J15: Shark Hound Smooth | K15: 98 | L15: =IF(K15="","",IF(I15="",ROUND(HLOOKUP(J15,kgList,K15,FALSE),1),ROUND(HLOOKUP(I15,kgList,K15,FALSE),1))) -> 3.4 | M15: =IF(L15="","",IF(COUNTA(I15:J15)>1,"Edible or Inedible",IF(COUNTA(I15)=1,L15*1,IF(COUNTA(J15)=1,L15*1,"ERROR")))) -> 3.4
A16: 2021-IC-L1 | B16: 44247 | C16: Zone 5 - Winston | D16: N0703 | E16: =IF(D16="","",VLOOKUP(D16,Master,3,FALSE)) -> Andi | F16: =IF(D16="","",VLOOKUP(D16,Master,4,FALSE)) -> Bachran | G16: =IF(D16="","",VLOOKUP(D16,Master,5,FALSE)) -> Men Master | H16: =IF(D16="","",VLOOKUP(D16,Master,2,FALSE)) -> Atlantic Angling Club | J16: Shark Spotted Gully | K16: 159 | L16: =IF(K16="","",IF(I16="",ROUND(HLOOKUP(J16,kgList,K16,FALSE),1),ROUND(HLOOKUP(I16,kgList,K16,FALSE),1))) -> 21.3 | M16: =IF(L16="","",IF(COUNTA(I16:J16)>1,"Edible or Inedible",IF(COUNTA(I16)=1,L16*1,IF(COUNTA(J16)=1,L16*1,"ERROR")))) -> 21.3
A17: 2021-IC-L1 | B17: 44247 | C17: Zone 5 - Winston | D17: N0703 | E17: =IF(D17="","",VLOOKUP(D17,Master,3,FALSE)) -> Andi | F17: =IF(D17="","",VLOOKUP(D17,Master,4,FALSE)) -> Bachran | G17: =IF(D17="","",VLOOKUP(D17,Master,5,FALSE)) -> Men Master | H17: =IF(D17="","",VLOOKUP(D17,Master,2,FALSE)) -> Atlantic Angling Club | J17: Shark Spotted Gully | K17: 135 | L17: =IF(K17="","",IF(I17="",ROUND(HLOOKUP(J17,kgList,K17,FALSE),1),ROUND(HLOOKUP(I17,kgList,K17,FALSE),1))) -> 12.1 | M17: =IF(L17="","",IF(COUNTA(I17:J17)>1,"Edible or Inedible",IF(COUNTA(I17)=1,L17*1,IF(COUNTA(J17)=1,L17*1,"ERROR")))) -> 12.1
A18: 2021-IC-L1 | B18: 44247 | C18: Zone 5 - Winston | D18: N0704 | E18: =IF(D18="","",VLOOKUP(D18,Master,3,FALSE)) -> Kay | F18: =IF(D18="","",VLOOKUP(D18,Master,4,FALSE)) -> Bachran | G18: =IF(D18="","",VLOOKUP(D18,Master,5,FALSE)) -> Men U/21 | H18: =IF(D18="","",VLOOKUP(D18,Master,2,FALSE)) -> Atlantic Angling Club | J18: Shark Spotted Gully | K18: 138 | L18: =IF(K18="","",IF(I18="",ROUND(HLOOKUP(J18,kgList,K18,FALSE),1),ROUND(HLOOKUP(I18,kgList,K18,FALSE),1))) -> 13.1 | M18: =IF(L18="","",IF(COUNTA(I18:J18)>1,"Edible or Inedible",IF(COUNTA(I18)=1,L18*1,IF(COUNTA(J18)=1,L18*1,"ERROR")))) -> 13.1
A19: 2021-IC-L1 | B19: 44247 | C19: Zone 5 - Winston | D19: N0704 | E19: =IF(D19="","",VLOOKUP(D19,Master,3,FALSE)) -> Kay | F19: =IF(D19="","",VLOOKUP(D19,Master,4,FALSE)) -> Bachran | G19: =IF(D19="","",VLOOKUP(D19,Master,5,FALSE)) -> Men U/21 | H19: =IF(D19="","",VLOOKUP(D19,Master,2,FALSE)) -> Atlantic Angling Club | J19: Shark Spotted Gully | K19: 137 | L19: =IF(K19="","",IF(I19="",ROUND(HLOOKUP(J19,kgList,K19,FALSE),1),ROUND(HLOOKUP(I19,kgList,K19,FALSE),1))) -> 12.8 | M19: =IF(L19="","",IF(COUNTA(I19:J19)>1,"Edible or Inedible",IF(COUNTA(I19)=1,L19*1,IF(COUNTA(J19)=1,L19*1,"ERROR")))) -> 12.8
A20: 2021-IC-L1 | B20: 44247 | C20: Zone 5 - Winston | D20: N0704 | E20: =IF(D20="","",VLOOKUP(D20,Master,3,FALSE)) -> Kay | F20: =IF(D20="","",VLOOKUP(D20,Master,4,FALSE)) -> Bachran | G20: =IF(D20="","",VLOOKUP(D20,Master,5,FALSE)) -> Men U/21 | H20: =IF(D20="","",VLOOKUP(D20,Master,2,FALSE)) -> Atlantic Angling Club | J20: Shark Spotted Gully | K20: 143 | L20: =IF(K20="","",IF(I20="",ROUND(HLOOKUP(J20,kgList,K20,FALSE),1),ROUND(HLOOKUP(I20,kgList,K20,FALSE),1))) -> 14.8 | M20: =IF(L20="","",IF(COUNTA(I20:J20)>1,"Edible or Inedible",IF(COUNTA(I20)=1,L20*1,IF(COUNTA(J20)=1,L20*1,"ERROR")))) -> 14.8
A21: 2021-IC-L1 | B21: 44247 | C21: Zone 5 - Winston | D21: N0704 | E21: =IF(D21="","",VLOOKUP(D21,Master,3,FALSE)) -> Kay | F21: =IF(D21="","",VLOOKUP(D21,Master,4,FALSE)) -> Bachran | G21: =IF(D21="","",VLOOKUP(D21,Master,5,FALSE)) -> Men U/21 | H21: =IF(D21="","",VLOOKUP(D21,Master,2,FALSE)) -> Atlantic Angling Club | J21: Shark Spotted Gully | K21: 77 | L21: =IF(K21="","",IF(I21="",ROUND(HLOOKUP(J21,kgList,K21,FALSE),1),ROUND(HLOOKUP(I21,kgList,K21,FALSE),1))) -> 1.8 | M21: =IF(L21="","",IF(COUNTA(I21:J21)>1,"Edible or Inedible",IF(COUNTA(I21)=1,L21*1,IF(COUNTA(J21)=1,L21*1,"ERROR")))) -> 1.8
A22: 2021-IC-L1 | B22: 44247 | C22: Zone 5 - Winston | D22: N0704 | E22: =IF(D22="","",VLOOKUP(D22,Master,3,FALSE)) -> Kay | F22: =IF(D22="","",VLOOKUP(D22,Master,4,FALSE)) -> Bachran | G22: =IF(D22="","",VLOOKUP(D22,Master,5,FALSE)) -> Men U/21 | H22: =IF(D22="","",VLOOKUP(D22,Master,2,FALSE)) -> Atlantic Angling Club | J22: Shark Copper (Female) | K22: 84 | L22: =IF(K22="","",IF(I22="",ROUND(HLOOKUP(J22,kgList,K22,FALSE),1),ROUND(HLOOKUP(I22,kgList,K22,FALSE),1))) -> 7.2 | M22: =IF(L22="","",IF(COUNTA(I22:J22)>1,"Edible or Inedible",IF(COUNTA(I22)=1,L22*1,IF(COUNTA(J22)=1,L22*1,"ERROR")))) -> 7.2
A23: 2021-IC-L1 | B23: 44247 | C23: Zone 5 - Winston | D23: N0460 | E23: =IF(D23="","",VLOOKUP(D23,Master,3,FALSE)) -> Jaco | F23: =IF(D23="","",VLOOKUP(D23,Master,4,FALSE)) -> Venter | G23: =IF(D23="","",VLOOKUP(D23,Master,5,FALSE)) -> Men Master | H23: =IF(D23="","",VLOOKUP(D23,Master,2,FALSE)) -> Atlantic Angling Club | L23: =IF(K23="","",IF(I23="",ROUND(HLOOKUP(J23,kgList,K23,FALSE),1),ROUND(HLOOKUP(I23,kgList,K23,FALSE),1))) | M23: =IF(L23="","",IF(COUNTA(I23:J23)>1,"Edible or Inedible",IF(COUNTA(I23)=1,L23*1,IF(COUNTA(J23)=1,L23*1,"ERROR"))))
A24: 2021-IC-L1 | B24: 44247 | C24: Zone 5 - Winston | D24: N0208 | E24: =IF(D24="","",VLOOKUP(D24,Master,3,FALSE)) -> Adri | F24: =IF(D24="","",VLOOKUP(D24,Master,4,FALSE)) -> Roets | G24: =IF(D24="","",VLOOKUP(D24,Master,5,FALSE)) -> Men Master | H24: =IF(D24="","",VLOOKUP(D24,Master,2,FALSE)) -> Atlantic Angling Club | J24: Shark Spotted Gully | K24: 165 | L24: =IF(K24="","",IF(I24="",ROUND(HLOOKUP(J24,kgList,K24,FALSE),1),ROUND(HLOOKUP(I24,kgList,K24,FALSE),1))) -> 24.1 | M24: =IF(L24="","",IF(COUNTA(I24:J24)>1,"Edible or Inedible",IF(COUNTA(I24)=1,L24*1,IF(COUNTA(J24)=1,L24*1,"ERROR")))) -> 24.1
A25: 2021-IC-L1 | B25: 44247 | C25: Zone 5 - Winston | D25: N0208 | E25: =IF(D25="","",VLOOKUP(D25,Master,3,FALSE)) -> Adri | F25: =IF(D25="","",VLOOKUP(D25,Master,4,FALSE)) -> Roets | G25: =IF(D25="","",VLOOKUP(D25,Master,5,FALSE)) -> Men Master | H25: =IF(D25="","",VLOOKUP(D25,Master,2,FALSE)) -> Atlantic Angling Club | J25: Shark Spotted Gully | K25: 161 | L25: =IF(K25="","",IF(I25="",ROUND(HLOOKUP(J25,kgList,K25,FALSE),1),ROUND(HLOOKUP(I25,kgList,K25,FALSE),1))) -> 22.2 | M25: =IF(L25="","",IF(COUNTA(I25:J25)>1,"Edible or Inedible",IF(COUNTA(I25)=1,L25*1,IF(COUNTA(J25)=1,L25*1,"ERROR")))) -> 22.2
A26: 2021-IC-L1 | B26: 44247 | C26: Zone 5 - Winston | D26: N0208 | E26: =IF(D26="","",VLOOKUP(D26,Master,3,FALSE)) -> Adri | F26: =IF(D26="","",VLOOKUP(D26,Master,4,FALSE)) -> Roets | G26: =IF(D26="","",VLOOKUP(D26,Master,5,FALSE)) -> Men Master | H26: =IF(D26="","",VLOOKUP(D26,Master,2,FALSE)) -> Atlantic Angling Club | J26: Shark Spotted Gully | K26: 138 | L26: =IF(K26="","",IF(I26="",ROUND(HLOOKUP(J26,kgList,K26,FALSE),1),ROUND(HLOOKUP(I26,kgList,K26,FALSE),1))) -> 13.1 | M26: =IF(L26="","",IF(COUNTA(I26:J26)>1,"Edible or Inedible",IF(COUNTA(I26)=1,L26*1,IF(COUNTA(J26)=1,L26*1,"ERROR")))) -> 13.1
A27: 2021-IC-L1 | B27: 44247 | C27: Zone 5 - Winston | D27: N0208 | E27: =IF(D27="","",VLOOKUP(D27,Master,3,FALSE)) -> Adri | F27: =IF(D27="","",VLOOKUP(D27,Master,4,FALSE)) -> Roets | G27: =IF(D27="","",VLOOKUP(D27,Master,5,FALSE)) -> Men Master | H27: =IF(D27="","",VLOOKUP(D27,Master,2,FALSE)) -> Atlantic Angling Club | J27: Shark Spotted Gully | K27: 128 | L27: =IF(K27="","",IF(I27="",ROUND(HLOOKUP(J27,kgList,K27,FALSE),1),ROUND(HLOOKUP(I27,kgList,K27,FALSE),1))) -> 10.1 | M27: =IF(L27="","",IF(COUNTA(I27:J27)>1,"Edible or Inedible",IF(COUNTA(I27)=1,L27*1,IF(COUNTA(J27)=1,L27*1,"ERROR")))) -> 10.1
A28: 2021-IC-L1 | B28: 44247 | C28: Zone 5 - Winston | D28: N0208 | E28: =IF(D28="","",VLOOKUP(D28,Master,3,FALSE)) -> Adri | F28: =IF(D28="","",VLOOKUP(D28,Master,4,FALSE)) -> Roets | G28: =IF(D28="","",VLOOKUP(D28,Master,5,FALSE)) -> Men Master | H28: =IF(D28="","",VLOOKUP(D28,Master,2,FALSE)) -> Atlantic Angling Club | J28: Skate Spearnose | K28: 112 | L28: =IF(K28="","",IF(I28="",ROUND(HLOOKUP(J28,kgList,K28,FALSE),1),ROUND(HLOOKUP(I28,kgList,K28,FALSE),1))) -> 12.7 | M28: =IF(L28="","",IF(COUNTA(I28:J28)>1,"Edible or Inedible",IF(COUNTA(I28)=1,L28*1,IF(COUNTA(J28)=1,L28*1,"ERROR")))) -> 12.7
A29: 2021-IC-L1 | B29: 44247 | C29: Zone 5 - Winston | D29: N0023 | E29: =IF(D29="","",VLOOKUP(D29,Master,3,FALSE)) -> Jörg | F29: =IF(D29="","",VLOOKUP(D29,Master,4,FALSE)) -> Walter | G29: =IF(D29="","",VLOOKUP(D29,Master,5,FALSE)) -> Men Grand Masters | H29: =IF(D29="","",VLOOKUP(D29,Master,2,FALSE)) -> Atlantic Angling Club | J29: Shark Spotted Gully | K29: 128 | L29: =IF(K29="","",IF(I29="",ROUND(HLOOKUP(J29,kgList,K29,FALSE),1),ROUND(HLOOKUP(I29,kgList,K29,FALSE),1))) -> 10.1 | M29: =IF(L29="","",IF(COUNTA(I29:J29)>1,"Edible or Inedible",IF(COUNTA(I29)=1,L29*1,IF(COUNTA(J29)=1,L29*1,"ERROR")))) -> 10.1
A30: 2021-IC-L1 | B30: 44247 | C30: Zone 5 - Winston | D30: N0023 | E30: =IF(D30="","",VLOOKUP(D30,Master,3,FALSE)) -> Jörg | F30: =IF(D30="","",VLOOKUP(D30,Master,4,FALSE)) -> Walter | G30: =IF(D30="","",VLOOKUP(D30,Master,5,FALSE)) -> Men Grand Masters | H30: =IF(D30="","",VLOOKUP(D30,Master,2,FALSE)) -> Atlantic Angling Club | J30: Shark Spotted Gully | K30: 166 | L30: =IF(K30="","",IF(I30="",ROUND(HLOOKUP(J30,kgList,K30,FALSE),1),ROUND(HLOOKUP(I30,kgList,K30,FALSE),1))) -> 24.6 | M30: =IF(L30="","",IF(COUNTA(I30:J30)>1,"Edible or Inedible",IF(COUNTA(I30)=1,L30*1,IF(COUNTA(J30)=1,L30*1,"ERROR")))) -> 24.6
A31: 2021-IC-L1 | B31: 44247 | C31: Zone 5 - Winston | D31: N0023 | E31: =IF(D31="","",VLOOKUP(D31,Master,3,FALSE)) -> Jörg | F31: =IF(D31="","",VLOOKUP(D31,Master,4,FALSE)) -> Walter | G31: =IF(D31="","",VLOOKUP(D31,Master,5,FALSE)) -> Men Grand Masters | H31: =IF(D31="","",VLOOKUP(D31,Master,2,FALSE)) -> Atlantic Angling Club | J31: Shark Spotted Gully | K31: 137 | L31: =IF(K31="","",IF(I31="",ROUND(HLOOKUP(J31,kgList,K31,FALSE),1),ROUND(HLOOKUP(I31,kgList,K31,FALSE),1))) -> 12.8 | M31: =IF(L31="","",IF(COUNTA(I31:J31)>1,"Edible or Inedible",IF(COUNTA(I31)=1,L31*1,IF(COUNTA(J31)=1,L31*1,"ERROR")))) -> 12.8
A32: 2021-IC-L1 | B32: 44247 | C32: Zone 5 - Winston | D32: N0023 | E32: =IF(D32="","",VLOOKUP(D32,Master,3,FALSE)) -> Jörg | F32: =IF(D32="","",VLOOKUP(D32,Master,4,FALSE)) -> Walter | G32: =IF(D32="","",VLOOKUP(D32,Master,5,FALSE)) -> Men Grand Masters | H32: =IF(D32="","",VLOOKUP(D32,Master,2,FALSE)) -> Atlantic Angling Club | J32: Shark Spotted Gully | K32: 83 | L32: =IF(K32="","",IF(I32="",ROUND(HLOOKUP(J32,kgList,K32,FALSE),1),ROUND(HLOOKUP(I32,kgList,K32,FALSE),1))) -> 2.3 | M32: =IF(L32="","",IF(COUNTA(I32:J32)>1,"Edible or Inedible",IF(COUNTA(I32)=1,L32*1,IF(COUNTA(J32)=1,L32*1,"ERROR")))) -> 2.3
A33: 2021-IC-L1 | B33: 44247 | C33: Zone 5 - Winston | D33: N0023 | E33: =IF(D33="","",VLOOKUP(D33,Master,3,FALSE)) -> Jörg | F33: =IF(D33="","",VLOOKUP(D33,Master,4,FALSE)) -> Walter | G33: =IF(D33="","",VLOOKUP(D33,Master,5,FALSE)) -> Men Grand Masters | H33: =IF(D33="","",VLOOKUP(D33,Master,2,FALSE)) -> Atlantic Angling Club | J33: Skate Spearnose | K33: 118 | L33: =IF(K33="","",IF(I33="",ROUND(HLOOKUP(J33,kgList,K33,FALSE),1),ROUND(HLOOKUP(I33,kgList,K33,FALSE),1))) -> 15 | M33: =IF(L33="","",IF(COUNTA(I33:J33)>1,"Edible or Inedible",IF(COUNTA(I33)=1,L33*1,IF(COUNTA(J33)=1,L33*1,"ERROR")))) -> 15
A34: 2021-IC-L1 | B34: 44247 | C34: Zone 5 - Winston | D34: N0023 | E34: =IF(D34="","",VLOOKUP(D34,Master,3,FALSE)) -> Jörg | F34: =IF(D34="","",VLOOKUP(D34,Master,4,FALSE)) -> Walter | G34: =IF(D34="","",VLOOKUP(D34,Master,5,FALSE)) -> Men Grand Masters | H34: =IF(D34="","",VLOOKUP(D34,Master,2,FALSE)) -> Atlantic Angling Club | J34: Ray Bull / Eagle | K34: 70 | L34: =IF(K34="","",IF(I34="",ROUND(HLOOKUP(J34,kgList,K34,FALSE),1),ROUND(HLOOKUP(I34,kgList,K34,FALSE),1))) -> 6.2 | M34: =IF(L34="","",IF(COUNTA(I34:J34)>1,"Edible or Inedible",IF(COUNTA(I34)=1,L34*1,IF(COUNTA(J34)=1,L34*1,"ERROR")))) -> 6.2
A35: 2021-IC-L1 | B35: 44247 | C35: Zone 5 - Winston | D35: N0461 | E35: =IF(D35="","",VLOOKUP(D35,Master,3,FALSE)) -> Andries | F35: =IF(D35="","",VLOOKUP(D35,Master,4,FALSE)) -> Burger | G35: =IF(D35="","",VLOOKUP(D35,Master,5,FALSE)) -> Men Master | H35: =IF(D35="","",VLOOKUP(D35,Master,2,FALSE)) -> Atlantic Angling Club | J35: Shark Hound Smooth | K35: 104 | L35: =IF(K35="","",IF(I35="",ROUND(HLOOKUP(J35,kgList,K35,FALSE),1),ROUND(HLOOKUP(I35,kgList,K35,FALSE),1))) -> 4.2 | M35: =IF(L35="","",IF(COUNTA(I35:J35)>1,"Edible or Inedible",IF(COUNTA(I35)=1,L35*1,IF(COUNTA(J35)=1,L35*1,"ERROR")))) -> 4.2
... A49: 2021-IC-L1 | B49: 44247 | C49: Zone 5 - Winston | D49: N0234 | E49: =IF(D49="","",VLOOKUP(D49,Master,3,FALSE)) -> Henning | F49: =IF(D49="","",VLOOKUP(D49,Master,4,FALSE)) -> Du Plessis | G49: =IF(D49="","",VLOOKUP(D49,Master,5,FALSE)) -> Men Master | H49: =IF(D49="","",VLOOKUP(D49,Master,2,FALSE)) -> Atlantic Angling Club | J49: Shark Spotted Gully | K49: 87 | L49: =IF(K49="","",IF(I49="",ROUND(HLOOKUP(J49,kgList,K49,FALSE),1),ROUND(HLOOKUP(I49,kgList,K49,FALSE),1))) -> 2.7 | M49: =IF(L49="","",IF(COUNTA(I49:J49)>1,"Edible or Inedible",IF(COUNTA(I49)=1,L49*1,IF(COUNTA(J49)=1,L49*1,"ERROR")))) -> 2.7
A50: 2021-IC-L1 | B50: 44247 | C50: Zone 5 - Winston | D50: N0234 | E50: =IF(D50="","",VLOOKUP(D50,Master,3,FALSE)) -> Henning | F50: =IF(D50="","",VLOOKUP(D50,Master,4,FALSE)) -> Du Plessis | G50: =IF(D50="","",VLOOKUP(D50,Master,5,FALSE)) -> Men Master | H50: =IF(D50="","",VLOOKUP(D50,Master,2,FALSE)) -> Atlantic Angling Club | I50: Kob | K50: 52 | L50: =IF(K50="","",IF(I50="",ROUND(HLOOKUP(J50,kgList,K50,FALSE),1),ROUND(HLOOKUP(I50,kgList,K50,FALSE),1))) -> 1.4 | M50: =IF(L50="","",IF(COUNTA(I50:J50)>1,"Edible or Inedible",IF(COUNTA(I50)=1,L50*1,IF(COUNTA(J50)=1,L50*1,"ERROR")))) -> 1.4
A51: 2021-IC-L1 | B51: 44247 | C51: Zone 5 - Winston | D51: N0145 | E51: =IF(D51="","",VLOOKUP(D51,Master,3,FALSE)) -> Hennie | F51: =IF(D51="","",VLOOKUP(D51,Master,4,FALSE)) -> Roets | G51: =IF(D51="","",VLOOKUP(D51,Master,5,FALSE)) -> Men Veteran | H51: =IF(D51="","",VLOOKUP(D51,Master,2,FALSE)) -> xAtlantic Angling Club | J51: Shark Spotted Gully | K51: 116 | L51: =IF(K51="","",IF(I51="",ROUND(HLOOKUP(J51,kgList,K51,FALSE),1),ROUND(HLOOKUP(I51,kgList,K51,FALSE),1))) -> 7.2 | M51: =IF(L51="","",IF(COUNTA(I51:J51)>1,"Edible or Inedible",IF(COUNTA(I51)=1,L51*1,IF(COUNTA(J51)=1,L51*1,"ERROR")))) -> 7.2
A52: 2021-IC-L1 | B52: 44247 | C52: Zone 5 - Winston | D52: N0145 | E52: =IF(D52="","",VLOOKUP(D52,Master,3,FALSE)) -> Hennie | F52: =IF(D52="","",VLOOKUP(D52,Master,4,FALSE)) -> Roets | G52: =IF(D52="","",VLOOKUP(D52,Master,5,FALSE)) -> Men Veteran | H52: =IF(D52="","",VLOOKUP(D52,Master,2,FALSE)) -> xAtlantic Angling Club | J52: Shark Spotted Gully | K52: 116 | L52: =IF(K52="","",IF(I52="",ROUND(HLOOKUP(J52,kgList,K52,FALSE),1),ROUND(HLOOKUP(I52,kgList,K52,FALSE),1))) -> 7.2 | M52: =IF(L52="","",IF(COUNTA(I52:J52)>1,"Edible or Inedible",IF(COUNTA(I52)=1,L52*1,IF(COUNTA(J52)=1,L52*1,"ERROR")))) -> 7.2
A53: 2021-IC-L1 | B53: 44247 | C53: Zone 5 - Winston | D53: N0145 | E53: =IF(D53="","",VLOOKUP(D53,Master,3,FALSE)) -> Hennie | F53: =IF(D53="","",VLOOKUP(D53,Master,4,FALSE)) -> Roets | G53: =IF(D53="","",VLOOKUP(D53,Master,5,FALSE)) -> Men Veteran | H53: =IF(D53="","",VLOOKUP(D53,Master,2,FALSE)) -> xAtlantic Angling Club | J53: Shark Spotted Gully | K53: 157 | L53: =IF(K53="","",IF(I53="",ROUND(HLOOKUP(J53,kgList,K53,FALSE),1),ROUND(HLOOKUP(I53,kgList,K53,FALSE),1))) -> 20.4 | M53: =IF(L53="","",IF(COUNTA(I53:J53)>1,"Edible or Inedible",IF(COUNTA(I53)=1,L53*1,IF(COUNTA(J53)=1,L53*1,"ERROR")))) -> 20.4
...

Sheet Individuals
D1: INDIVIDUALS LEAGUE | G1: Inter Club 1st Leg 2023
B2: Competition | C2: 2023-IC-L1 | D2: =$C$3&" "& Individuals!$G$1 -> (All) Inter Club 1st Leg 2023
B3: Status | C3: (All)
B5: ID | C5: Name | D5: Surname | E5: Team | F5: No. Edibles | G5: No. of Inedibles | H5: Total kg | I5: Total Points | J5: League Points (300)
A6: 1 | B6: N0255 | C6: Heiko | D6: Doll | E6: Okahandja | G6: 3 | H6: 58.4 | I6: 58.4 | J6: 300 | K6: 1
A7: 2 | B7: N0179 | C7: Andre | D7: Strydom | E7: Seagull Angling Club | G7: 2 | H7: 38.3 | I7: 38.3 | J7: =IF(I7=I6,J6,IF(I7=0,ROUNDDOWN(20,0),J6-K6)) -> 299 | K7: =IF(I7<I6,1,IF(I7=I6,K6+1,0)) -> 1
A8: 3 | B8: N0031 | C8: Emil | D8: Prinsloo | E8: Henties Bay | G8: 2 | H8: 36.7 | I8: 36.7 | J8: =IF(I8=I7,J7,IF(I8=0,ROUNDDOWN(20,0),J7-K7)) -> 298 | K8: =IF(I8<I7,1,IF(I8=I7,K7+1,0)) -> 1
A9: 4 | B9: N0007 | C9: Brian | D9: Curtis | E9: Orca Angling Club | G9: 3 | H9: 34.1 | I9: 34.1 | J9: =IF(I9=I8,J8,IF(I9=0,ROUNDDOWN(20,0),J8-K8)) -> 297 | K9: =IF(I9<I8,1,IF(I9=I8,K8+1,0)) -> 1
A10: 5 | B10: N0081 | C10: John-John | D10: Warrington | E10: Mako | G10: 2 | H10: 32.6 | I10: 32.6 | J10: =IF(I10=I9,J9,IF(I10=0,ROUNDDOWN(20,0),J9-K9)) -> 296 | K10: =IF(I10<I9,1,IF(I10=I9,K9+1,0)) -> 1
A11: 6 | B11: N0580 | C11: Martin | D11: Cordier | E11: Walvis Bay | G11: 1 | H11: 24.6 | I11: 24.6 | J11: =IF(I11=I10,J10,IF(I11=0,ROUNDDOWN(20,0),J10-K10)) -> 295 | K11: =IF(I11<I10,1,IF(I11=I10,K10+1,0)) -> 1
A12: 7 | B12: N0371 | C12: Henno | D12: Snyman | E12: Penguin | G12: 2 | H12: 23.8 | I12: 23.8 | J12: =IF(I12=I11,J11,IF(I12=0,ROUNDDOWN(20,0),J11-K11)) -> 294 | K12: =IF(I12<I11,1,IF(I12=I11,K11+1,0)) -> 1
A13: 8 | B13: N0050 | C13: Sean | D13: Van Den Heuvel | E13: Seagull Angling Club | G13: 2 | H13: 22.8 | I13: 22.8 | J13: =IF(I13=I12,J12,IF(I13=0,ROUNDDOWN(20,0),J12-K12)) -> 293 | K13: =IF(I13<I12,1,IF(I13=I12,K12+1,0)) -> 1
A14: 9 | B14: N0573 | C14: Rinus | D14: Van Der Westhuizen | E14: Otjiwarongo | G14: 1 | H14: 22.7 | I14: 22.7 | J14: =IF(I14=I13,J13,IF(I14=0,ROUNDDOWN(20,0),J13-K13)) -> 292 | K14: =IF(I14<I13,1,IF(I14=I13,K13+1,0)) -> 1
A15: 10 | B15: N0657 | C15: Johan Spyker | D15: Kotze | E15: Okahandja | G15: 1 | H15: 19.5 | I15: 19.5 | J15: =IF(I15=I14,J14,IF(I15=0,ROUNDDOWN(20,0),J14-K14)) -> 291 | K15: =IF(I15<I14,1,IF(I15=I14,K14+1,0)) -> 1
A16: 11 | B16: N0643 | C16: Frikkie | D16: Ferreira | E16: Walvis Bay | G16: 1 | H16: 19.5 | I16: 19.5 | J16: =IF(I16=I15,J15,IF(I16=0,ROUNDDOWN(20,0),J15-K15)) -> 291 | K16: =IF(I16<I15,1,IF(I16=I15,K15+1,0)) -> 2
A17: 12 | B17: N0407 | C17: Renier | D17: Van Zyl | E17: Benguella | G17: 1 | H17: 18.6 | I17: 18.6 | J17: =IF(I17=I16,J16,IF(I17=0,ROUNDDOWN(20,0),J16-K16)) -> 289 | K17: =IF(I17<I16,1,IF(I17=I16,K16+1,0)) -> 1
A18: 13 | B18: N0401 | C18: Henko | D18: Snyman | E18: Penguin | G18: 1 | H18: 18.2 | I18: 18.2 | J18: =IF(I18=I17,J17,IF(I18=0,ROUNDDOWN(20,0),J17-K17)) -> 288 | K18: =IF(I18<I17,1,IF(I18=I17,K17+1,0)) -> 1
... A23: 18 | B23: N0790 | C23: Iwan | D23: Kotze | E23: Seagull Angling Club | G23: 1 | H23: 16.6 | I23: 16.6 | J23: =IF(I23=I22,J22,IF(I23=0,ROUNDDOWN(20,0),J22-K22)) -> 283 | K23: =IF(I23<I22,1,IF(I23=I22,K22+1,0)) -> 1
A24: 19 | B24: N0807 | C24: Gert | D24: Nelson | E24: Walvis Bay | F24: 1 | G24: 1 | H24: 16.3 | I24: 16.3 | J24: =IF(I24=I23,J23,IF(I24=0,ROUNDDOWN(20,0),J23-K23)) -> 282 | K24: =IF(I24<I23,1,IF(I24=I23,K23+1,0)) -> 1
A25: 20 | B25: N0546 | C25: Tian | D25: Mostert | E25: Seagull Angling Club | F25: 1 | G25: 1 | H25: 15.9 | I25: 15.9 | J25: =IF(I25=I24,J24,IF(I25=0,ROUNDDOWN(20,0),J24-K24)) -> 281 | K25: =IF(I25<I24,1,IF(I25=I24,K24+1,0)) -> 1
A26: 21 | B26: N0136 | C26: Stewert | D26: Reimann | E26: Walvis Bay | G26: 1 | H26: 14.8 | I26: 14.8 | J26: =IF(I26=I25,J25,IF(I26=0,ROUNDDOWN(20,0),J25-K25)) -> 280 | K26: =IF(I26<I25,1,IF(I26=I25,K25+1,0)) -> 1
A27: 22 | B27: N0307 | C27: Herman | D27: Krauze | E27: Orca Angling Club | G27: 1 | H27: 14.8 | I27: 14.8 | J27: =IF(I27=I26,J26,IF(I27=0,ROUNDDOWN(20,0),J26-K26)) -> 280 | K27: =IF(I27<I26,1,IF(I27=I26,K26+1,0)) -> 2
A28: 23 | B28: N0283 | C28: Kevin | D28: Page | E28: Penguin | G28: 1 | H28: 14.4 | I28: 14.4 | J28: =IF(I28=I27,J27,IF(I28=0,ROUNDDOWN(20,0),J27-K27)) -> 278 | K28: =IF(I28<I27,1,IF(I28=I27,K27+1,0)) -> 1
A29: 24 | B29: N0856 | C29: Franco | D29: Horn | E29: Orca Angling Club | G29: 1 | H29: 14.4 | I29: 14.4 | J29: =IF(I29=I28,J28,IF(I29=0,ROUNDDOWN(20,0),J28-K28)) -> 278 | K29: =IF(I29<I28,1,IF(I29=I28,K28+1,0)) -> 2
A30: 25 | B30: N0101 | C30: Tertius | D30: Potgieter | E30: Seagull Angling Club | G30: 1 | H30: 14.1 | I30: 14.1 | J30: =IF(I30=I29,J29,IF(I30=0,ROUNDDOWN(20,0),J29-K29)) -> 276 | K30: =IF(I30<I29,1,IF(I30=I29,K29+1,0)) -> 1
A31: 26 | B31: N0215 | C31: Loandro | D31: Steenkamp | E31: Benguella | G31: 1 | H31: 13.7 | I31: 13.7 | J31: =IF(I31=I30,J30,IF(I31=0,ROUNDDOWN(20,0),J30-K30)) -> 275 | K31: =IF(I31<I30,1,IF(I31=I30,K30+1,0)) -> 1
A32: 27 | B32: N0019 | C32: Johan | D32: Visser | E32: Mako | F32: 2 | G32: 1 | H32: 12.4 | I32: 12.4 | J32: =IF(I32=I31,J31,IF(I32=0,ROUNDDOWN(20,0),J31-K31)) -> 274 | K32: =IF(I32<I31,1,IF(I32=I31,K31+1,0)) -> 1
A33: 28 | B33: N0124 | C33: Stefan Jnr | D33: Du Preez | E33: Walvis Bay | G33: 1 | H33: 12.1 | I33: 12.1 | J33: =IF(I33=I32,J32,IF(I33=0,ROUNDDOWN(20,0),J32-K32)) -> 273 | K33: =IF(I33<I32,1,IF(I33=I32,K32+1,0)) -> 1
A34: 29 | B34: N0150 | C34: Lindie | D34: Krauze | E34: Orca Angling Club | G34: 1 | H34: 11.8 | I34: 11.8 | J34: =IF(I34=I33,J33,IF(I34=0,ROUNDDOWN(20,0),J33-K33)) -> 272 | K34: =IF(I34<I33,1,IF(I34=I33,K33+1,0)) -> 1
A35: 30 | B35: N0129 | C35: Pieter | D35: van Aarde | E35: Seagull Angling Club | G35: 1 | H35: 11.8 | I35: 11.8 | J35: =IF(I35=I34,J34,IF(I35=0,ROUNDDOWN(20,0),J34-K34)) -> 272 | K35: =IF(I35<I34,1,IF(I35=I34,K34+1,0)) -> 2
A36: 31 | B36: N0844 | C36: Heiko Jnr | D36: Doll | E36: Okahandja | F36: 2 | G36: 1 | H36: 11 | I36: 11 | J36: =IF(I36=I35,J35,IF(I36=0,ROUNDDOWN(20,0),J35-K35)) -> 270 | K36: =IF(I36<I35,1,IF(I36=I35,K35+1,0)) -> 1
A37: 32 | B37: N0257 | C37: Lu-Andre | D37: Duvenhage | E37: Seagull Angling Club | G37: 1 | H37: 10.7 | I37: 10.7 | J37: =IF(I37=I36,J36,IF(I37=0,ROUNDDOWN(20,0),J36-K36)) -> 269 | K37: =IF(I37<I36,1,IF(I37=I36,K36+1,0)) -> 1
A38: 33 | B38: N0693 | C38: Jacob | D38: Wasserfall | E38: Henties Bay | G38: 1 | H38: 10.1 | I38: 10.1 | J38: =IF(I38=I37,J37,IF(I38=0,ROUNDDOWN(20,0),J37-K37)) -> 268 | K38: =IF(I38<I37,1,IF(I38=I37,K37+1,0)) -> 1
A39: 34 | B39: N0095 | C39: Simen | D39: Andersen | E39: Henties Bay | G39: 1 | H39: 10.1 | I39: 10.1 | J39: =IF(I39=I38,J38,IF(I39=0,ROUNDDOWN(20,0),J38-K38)) -> 268 | K39: =IF(I39<I38,1,IF(I39=I38,K38+1,0)) -> 2
A40: 35 | B40: N0275 | C40: Willem C | D40: Schalkwyk | E40: Otjiwarongo | F40: 1 | G40: 1 | H40: 9.6 | I40: 9.6 | J40: =IF(I40=I39,J39,IF(I40=0,ROUNDDOWN(20,0),J39-K39)) -> 266 | K40: =IF(I40<I39,1,IF(I40=I39,K39+1,0)) -> 1
A41: 36 | B41: N0009 | C41: Henry | D41: Loubser | E41: Penguin | G41: 1 | H41: 9.3 | I41: 9.3 | J41: =IF(I41=I40,J40,IF(I41=0,ROUNDDOWN(20,0),J40-K40)) -> 265 | K41: =IF(I41<I40,1,IF(I41=I40,K40+1,0)) -> 1
A42: 37 | B42: N0277 | C42: Jonandre | D42: Mertens | E42: Seagull Angling Club | F42: 3 | G42: 1 | H42: 9.2 | I42: 9.2 | J42: =IF(I42=I41,J41,IF(I42=0,ROUNDDOWN(20,0),J41-K41)) -> 264 | K42: =IF(I42<I41,1,IF(I42=I41,K41+1,0)) -> 1
A43: 38 | B43: N0119 | C43: Joe | D43: Herman | E43: Orca Angling Club | G43: 1 | H43: 9.1 | I43: 9.1 | J43: =IF(I43=I42,J42,IF(I43=0,ROUNDDOWN(20,0),J42-K42)) -> 263 | K43: =IF(I43<I42,1,IF(I43=I42,K42+1,0)) -> 1
A44: 39 | B44: N0344 | C44: Morne | D44: Hugo | E44: Walvis Bay | G44: 1 | H44: 8.8 | I44: 8.8 | J44: =IF(I44=I43,J43,IF(I44=0,ROUNDDOWN(20,0),J43-K43)) -> 262 | K44: =IF(I44<I43,1,IF(I44=I43,K43+1,0)) -> 1
A45: 40 | B45: N0295 | C45: Bradd | D45: Biller | E45: Welwitschia | G45: 1 | H45: 8.6 | I45: 8.6 | J45: =IF(I45=I44,J44,IF(I45=0,ROUNDDOWN(20,0),J44-K44)) -> 261 | K45: =IF(I45<I44,1,IF(I45=I44,K44+1,0)) -> 1
...

Sheet TOP6
B2: TOP 6 ANGLERS | D2: =#REF! -> #REF!
A4: ID | B4: Name | C4: Surname | D4: Status | E4: Club | F4: No. Edibles | G4: No. Inedibles | H4: Sum of kg | I4: Sum of Points | K4: kg Top6 | L4: Top 6 Points
A5: N0833 | B5: Andy | C5: Welzig | E5: Atlantic Angling Club | F5: 1 | G5: 1 | H5: 6.9 | I5: 6.9 | J5: 250 | K5: =IF(H5>0,H5,0)+IF(H6>0,H6,0)+IF(H7>0,H7,0)+IF(H8>0,H8,0)+IF(H9>0,H9,0)+IF(H10>0,H10,0) -> 16.8 | L5: =IF(H5>0,J5,0)+IF(H6>0,J6,0)+IF(H7>0,J7,0)+IF(H8>0,J8,0)+IF(H9>0,J9,0)+IF(H10>0,J10,0) -> 943 | M5: a | N5: b | O5: Copy data from Individuals
A6: N0208 | B6: Adri | C6: Roets | E6: Atlantic Angling Club | G6: 1 | H6: 5.6 | I6: 5.6 | J6: 246 | M6: a | O6: Mombakkies not counting towards top6 points
A7: N0461 | B7: Andries | C7: Burger | E7: Atlantic Angling Club | G7: 1 | H7: 3.4 | I7: 3.4 | J7: 236 | M7: a
A8: N0771 | B8: Hennie | C8: Nell | E8: Atlantic Angling Club | F8: 1 | H8: 0.9 | I8: 0.9 | J8: 211 | M8: a
E9: Atlantic Angling Club | M9: a
E10: Atlantic Angling Club | M10: a
A11: N0407 | B11: Renier | C11: Van Zyl | E11: Benguella | G11: 1 | H11: 18.6 | I11: 18.6 | J11: 289 | K11: =IF(H11>0,H11,0)+IF(H12>0,H12,0)+IF(H13>0,H13,0)+IF(H14>0,H14,0)+IF(H15>0,H15,0)+IF(H16>0,H16,0) -> 34.7 | L11: =IF(H11>0,J11,0)+IF(H12>0,J12,0)+IF(H13>0,J13,0)+IF(H14>0,J14,0)+IF(H15>0,J15,0)+IF(H16>0,J16,0) -> 998 | M11: a | N11: b
A12: N0215 | B12: Loandro | C12: Steenkamp | E12: Benguella | G12: 1 | H12: 13.7 | I12: 13.7 | J12: 275 | M12: a
A13: N0113 | B13: Shaun | C13: Bothma | E13: Benguella | G13: 1 | H13: 1.5 | I13: 1.5 | J13: 223 | M13: a
A14: N0768 | B14: Daniela | C14: Schmalzriedt | E14: Benguella | F14: 1 | H14: 0.9 | I14: 0.9 | J14: 211 | M14: a
E15: Benguella | M15: a
E16: Benguella | M16: a
A17: N0031 | B17: Emil | C17: Prinsloo | E17: Henties Bay | G17: 2 | H17: 36.7 | I17: 36.7 | J17: 298 | K17: =IF(H17>0,H17,0)+IF(H18>0,H18,0)+IF(H19>0,H19,0)+IF(H20>0,H20,0)+IF(H21>0,H21,0)+IF(H22>0,H22,0) -> 74.5 | L17: =IF(H17>0,J17,0)+IF(H18>0,J18,0)+IF(H19>0,J19,0)+IF(H20>0,J20,0)+IF(H21>0,J21,0)+IF(H22>0,J22,0) -> 1579 | M17: a | N17: b
A18: N0693 | B18: Jacob | C18: Wasserfall | E18: Henties Bay | G18: 1 | H18: 10.1 | I18: 10.1 | J18: 268 | M18: a
A19: N0095 | B19: Simen | C19: Andersen | E19: Henties Bay | G19: 1 | H19: 10.1 | I19: 10.1 | J19: 268 | M19: a
A20: N0678 | B20: Jacomine | C20: Heath | E20: Henties Bay | G20: 1 | H20: 7.6 | I20: 7.6 | J20: 260 | M20: a
A21: N0735 | B21: Rian | C21: Horn | E21: Henties Bay | F21: 2 | G21: 1 | H21: 7 | I21: 7 | J21: 251 | M21: a
A22: N0851 | B22: Eric | C22: Mans | E22: Henties Bay | G22: 1 | H22: 3 | I22: 3 | J22: 234 | M22: a
A23: N0081 | B23: John-John | C23: Warrington | E23: Mako | G23: 2 | H23: 32.6 | I23: 32.6 | J23: 296 | K23: =IF(H23>0,H23,0)+IF(H24>0,H24,0)+IF(H25>0,H25,0)+IF(H26>0,H26,0)+IF(H27>0,H27,0)+IF(H28>0,H28,0) -> 53.7 | L23: =IF(H23>0,J23,0)+IF(H24>0,J24,0)+IF(H25>0,J25,0)+IF(H26>0,J26,0)+IF(H27>0,J27,0)+IF(H28>0,J28,0) -> 1468 | M23: a | N23: b
A24: N0019 | B24: Johan | C24: Visser | E24: Mako | F24: 2 | G24: 1 | H24: 12.4 | I24: 12.4 | J24: 274 | M24: a
A25: N0531 | B25: Rudi(Jnr.) | C25: Swartz | E25: Mako | G25: 1 | H25: 4.5 | I25: 4.5 | J25: 242 | M25: a
A26: N0496 | B26: Rudi | C26: Swartz | E26: Mako | F26: 2 | H26: 1.9 | I26: 1.9 | J26: 225 | M26: a
A27: N0540 | B27: Murray | C27: Lewis | E27: Mako | F27: 1 | H27: 1.4 | I27: 1.4 | J27: 220 | M27: a
A28: N0017 | B28: Riaan | C28: Tap | E28: Mako | F28: 1 | H28: 0.9 | I28: 0.9 | J28: 211 | M28: a
A29: N0008 | B29: Andre | C29: Coetzee | E29: Namib Park | F29: 2 | H29: 2.6 | I29: 2.6 | J29: 232 | K29: =IF(H29>0,H29,0)+IF(H30>0,H30,0)+IF(H31>0,H31,0)+IF(H32>0,H32,0)+IF(H33>0,H33,0)+IF(H34>0,H34,0) -> 6.1 | L29: =IF(H29>0,J29,0)+IF(H30>0,J30,0)+IF(H31>0,J31,0)+IF(H32>0,J32,0)+IF(H33>0,J33,0)+IF(H34>0,J34,0) -> 876 | M29: a | N29: b
A30: N0162 | B30: Coennie | C30: Steyn | E30: Namib Park | F30: 2 | H30: 1.5 | I30: 1.5 | J30: 223 | M30: a
A31: N0037 | B31: Johan | C31: Bruwer | E31: Namib Park | F31: 1 | H31: 1.3 | I31: 1.3 | J31: 218 | M31: a
A32: N0644 | B32: Mark | C32: Van Der Merwe | E32: Namib Park | F32: 1 | H32: 0.7 | I32: 0.7 | J32: 203 | M32: a
E33: Namib Park | M33: a
E34: Namib Park | M34: a
A35: N0255 | B35: Heiko | C35: Doll | E35: Okahandja | G35: 3 | H35: 58.4 | I35: 58.4 | J35: 300 | K35: =IF(H35>0,H35,0)+IF(H36>0,H36,0)+IF(H37>0,H37,0)+IF(H38>0,H38,0)+IF(H39>0,H39,0)+IF(H40>0,H40,0) -> 89.8 | L35: =IF(H35>0,J35,0)+IF(H36>0,J36,0)+IF(H37>0,J37,0)+IF(H38>0,J38,0)+IF(H39>0,J39,0)+IF(H40>0,J40,0) -> 1072 | M35: a | N35: b
A36: N0657 | B36: Johan Spyker | C36: Kotze | E36: Okahandja | G36: 1 | H36: 19.5 | I36: 19.5 | J36: 291 | M36: a
A37: N0844 | B37: Heiko Jnr | C37: Doll | E37: Okahandja | F37: 2 | G37: 1 | H37: 11 | I37: 11 | J37: 270 | M37: a
A38: N0015 | B38: Herman | C38: Fourie | E38: Okahandja | F38: 1 | H38: 0.9 | I38: 0.9 | J38: 211 | M38: a
E39: Okahandja | M39: a
E40: Okahandja | M40: a
A41: N0007 | B41: Brian | C41: Curtis | E41: Orca Angling Club | G41: 3 | H41: 34.1 | I41: 34.1 | J41: 297 | K41: =IF(H41>0,H41,0)+IF(H42>0,H42,0)+IF(H43>0,H43,0)+IF(H44>0,H44,0)+IF(H45>0,H45,0)+IF(H46>0,H46,0) -> 91.8 | L41: =IF(H41>0,J41,0)+IF(H42>0,J42,0)+IF(H43>0,J43,0)+IF(H44>0,J44,0)+IF(H45>0,J45,0)+IF(H46>0,J46,0) -> 1650 | M41: a | N41: b
A42: N0307 | B42: Herman | C42: Krauze | E42: Orca Angling Club | G42: 1 | H42: 14.8 | I42: 14.8 | J42: 280 | M42: a
...

Sheet Clubs
A2: CLUB POSITION | C2: =Individuals!G1 -> Inter Club 1st Leg 2023
C4: =C2 -> Inter Club 1st Leg 2023
B5: Team | C5: Top 6 kg | D5: Top 6 Points | E5: Club Points
A6: 1 | B6: ='TOP6'!E59 -> Seagull Angling Club | C6: ='TOP6'!K59 -> 125.1 | D6: ='TOP6'!L59 -> 1718 | E6: 50
A7: 2 | B7: ='TOP6'!E71 -> Walvis Bay | C7: ='TOP6'!K71 -> 104.7 | D7: ='TOP6'!L71 -> 1707 | E7: 49
A8: 3 | B8: ='TOP6'!E53 -> Penguin | C8: ='TOP6'!K53 -> 90 | D8: ='TOP6'!L53 -> 1669 | E8: 48
A9: 4 | B9: ='TOP6'!E41 -> Orca Angling Club | C9: ='TOP6'!K41 -> 91.8 | D9: ='TOP6'!L41 -> 1650 | E9: 47
