Workbook
Name clubl5: Clubs!$B$6:$E$20
Name clubl5: #REF!
Name Clubs: [1]Lists!$A$2:$A$18
Name Clubs: [1]Lists!$A$2:$A$18
Name Clubs: Lists!$A$2:$A$18
Name Edibles: [1]Lists!$F$2:$F$21
Name Edibles: [1]Lists!$F$2:$F$21
Name Edibles: Lists!$F$2:$F$21
Name Fish: Individuals!$Y$6:$AG$202
Name Individuals: Individuals!$B$7:$L$447
Name Inedibles: [1]Lists!$I$2:$I$26
Name Inedibles: [1]Lists!$I$2:$I$26
Name Inedibles: Lists!$I$2:$I$26
Name kgList: [1]Lists!$J$2:$AF$261
Name kgList: [1]Lists!$J$2:$AF$261
Name kgList: Lists!$J$2:$AF$261
Name Master: [1]MASTERLIST!$A$5:$E$1000
Name Master: [1]MASTERLIST!$A$5:$E$1000
Name Master: MASTERLIST!$A$5:$E$127
Name Shark: Individuals!$N$6:$V$161
Name Status: Lists!$C$2:$C$9

Sheet Lists
A1: Clubs | C1: Status | D1: Scientific Name | E1: Length to measure | F1: Edibles | G1: Scientific Name | H1: Length to measure | I1: Inedibles | K1: length | O1: KgList
A2: Atlantic Angling Club | B2: AAC | C2: Deseased | D2: Diplodus sargus capensis | E2: Fork length | F2: Blacktail | G2: Galeichthys ater | H2: Fork length | I2: Catfish - Sea Black | J2: cm | K2: Blacktail | L2: Galjoen | M2: Kob | N2: Steenbras West Coast | O2: Garrick | P2: Shad | Q2: Redfinger | R2: Shark Copper (Male) | S2: Shark Copper (Female) | T2: Shark Cow / Sevengill | U2: Shark Spotted Gully | V2: Shark Hound Smooth | W2: Shark Soupfin | X2: Guitarfish - Lesser | Y2: Elephantfish | Z2: Ray Blue (Male) | AA2: Ray Blue (Female) | AB2: Ray Bull / Eagle | AC2: Ray Diamond / ButterFly | AD2: Skate Spearnose | AE2: Green Eye Spurdog shark | AF2: Catfish - Sea Black
A3: Benguella | B3: BEN | C3: Ladies Grand Master | F3: Bluefin Gurnard | G3: Galeichthys feliceps | H3: Fork length | I3: Catfish - Sea White | J3: 1
A4: Henties Bay | B4: HEN | C4: Ladies Master | F4: Cape Gurnard | G4: Callorhinchus capensis | H4: Total length | I4: Elephantfish | J4: 2
A5: Mako | B5: MAKO | C5: Ladies Veteran | D5: Dichistius capensis | E5: Total length | F5: Galjoen | G5: Squalus chloroculus | I5: Green Eye Spurdog shark | J5: 3
A6: Namib Park | B6: NPAC | C6: Ladies Senoir | D6: Lichia amia | E6: Fork length | F6: Garrick | G6: Rhinobatos blochii | H6: Total length | I6: Guitarfish - Bluntnose | J6: 4
A7: Okahandja | B7: OKH | C7: Ladies U/21 | F7: Geelbek | G7: Rhinobatos leucospilus | H7: Total length | I7: Guitarfish - Greyspot | J7: 5
A8: Orca Angling Club | B8: ORCA | C8: Ladies U/16 | F8: Grunter - Spotted | G8: Rhinobatos annulatus | H8: Total length | I8: Guitarfish - Lesser | J8: 6
A9: Otjiwarongo | B9: OTJ | C9: Men Grandmasters | D9: Argyrosomus inodorus | E9: Total length | F9: Kob | G9: Dasyatis chrysonota chrysonota | H9: Disc width | I9: Ray Blue (Female) | J9: 7
A10: Penguin | B10: PEN | C10: Men Masters | F10: Lyre Gurnard | G10: Dasyatis chrysonota chrysonota | H10: Disc width | I10: Ray Blue (Male) | J10: 8
A11: Seagulls WHK | B11: SWHK | C11: Men Veterans | F11: Maasbanker | G11: Myliobatus aquila | H11: Disc width | I11: Ray Bull / Eagle | J11: 9
A12: Seagulls WVB | B12: SWVB | C12: Men Senior | F12: Redfinger | G12: Gymnura natalensis | H12: Disc width | I12: Ray Diamond / ButterFly | J12: 10
A13: Skeleton Coast | B13: SKUL | C13: Men U/21 | D13: Pomatomus saltatrix | E13: Fork length | F13: Shad | G13: Pteromylaeus bovinus | H13: Disc width | I13: Ray Duckbill | J13: 11
A14: Steenbras | B14: STEEN | C14: Men U/16 | F14: Steenbras Sand | G14: Carcharhinus brachyurus | H14: Pre-caudal length | I14: Shark Copper (Female) | J14: 12
A15: Walvis Bay | B15: WAL | D15: Lithognathus aureti | E15: Fork length | F15: Steenbras West Coast | G15: Carcharhinus brachyurus | H15: Pre-caudal length | I15: Shark Copper (Male) | J15: 13
A16: Welwitschia | B16: WEL | F16: Steenbras White | G16: Notorynchus cepedianus | H16: Pre-caudal length | I16: Shark Cow / Sevengill | J16: 14
F17: Strepie | G17: Mustelus mustelus | H17: Total length | I17: Shark Hound Smooth | J17: 15
F18: Striped Mullet | G18: Mustelus palumbes | H18: Total length | I18: Shark Hound Whitespotted | J18: 16
F19: Tuna Eastern Little | G19: Galeocerdo cuvier | H19: Pre-caudal length | I19: Shark Ragged Tooth | J19: 17
F20: White Stumpnose | G20: Galeorhinus galeus | H20: Pre-caudal length | I20: Shark Soupfin | J20: 18
F21: Yellowtail amberjack | G21: Triakis megalopterus | H21: Total length | I21: Shark Spotted Gully | J21: 19
G22: Dipturus doutrei | H22: Disc width | I22: Skate - Javelin | J22: 20
G23: Raja clavata | H23: Disc width | I23: Skate - Thornback | J23: 21
G24: Raja alba | H24: Disc width | I24: Skate Spearnose | J24: 23 | K24: 0.3 | Q24: 0
I25: Spiney dogfish Bluntnose | J25: 24 | K25: 0.4 | Q25: 0
I26: Spiney dogfish Spotted | J26: 25 | K26: 0.4 | Q26: 0
I27: Spinner shark - Long nose | J27: 26 | K27: 0.5 | Q27: 0
I28: Tresher Shark | J28: 27 | K28: 0.6 | Q28: 0
J29: 28 | K29: 0.6 | Q29: 0
J30: 29 | K30: 0.7 | Q30: 0
J31: 30 | K31: 0.84160148 | L31: 0.5 | Q31: 0 | AA31: 1.0179249
J32: 31 | K32: 0.9282937 | L32: 0.5 | Q32: 0 | AA32: 1.1324446
J33: 32 | K33: 1.0207335 | L33: 0.6 | N33: 0.7 | Q33: 0 | Z33: 0.95836376 | AA33: 1.2555905
J34: 33 | K34: 1.1191044 | L34: 0.7 | N34: 0.8 | Q34: 0 | Z34: 1.0570748 | AA34: 1.3729856
J35: 34 | K35: 1.22359 | L35: 0.7 | N35: 0.9 | Q35: 0 | Z35: 1.1557858 | AA35: 1.4918184
J36: 35 | K36: 1.3343735 | L36: 0.78195192 | N36: 0.9 | Q36: 0 | Z36: 1.2544969 | AA36: 1.680296
J37: 36 | K37: 1.4516383 | L37: 0.85379096 | N37: 1 | O37: 0.67361769 | Q37: 0 | W37: 1.0020532 | Z37: 1.3532079 | AA37: 1.8414706
J38: 37 | K38: 1.5755678 | L38: 0.92998754 | N38: 1.1 | O38: 0.7258366 | Q38: 0 | W38: 1.0678087 | Z38: 1.451919 | AA38: 2.0136313
J39: 38 | K39: 1.7063452 | L39: 1.0106774 | N39: 1.2 | O39: 0.78054773 | P39: 0.73085122 | Q39: 0 | W39: 1.1335641 | Z39: 1.6569162 | AA39: 2.1960132 | AB39: 0.9628367
J40: 39 | K40: 1.8441537 | L40: 1.0959969 | N40: 1.3 | O40: 0.83779974 | P40: 0.78967185 | Q40: 0 | W40: 1.1993196 | Z40: 1.7998651 | AA40: 2.389526 | AB40: 1.0424834
...

Sheet MASTERLIST
A1: Only complete Black areas on sheet
B2: MASTER ANGLERS LIST
A4: Number | B4: Club | C4: Name | D4: Surname | E4: Status | F4: DOB | G4: Date Today | H4: Age | J4: Gender | K4: ID Number | L4: Nationality | M4: E-mail | N4: Cell
A5: N0004 | B5: Nam Grand Masters | C5: Charles | D5: Bothma | E5: Men Grand Masters | F5: 21920 | G5: 44503 | H5: 61.827778 | I5: Grand Masters | J5: Men
A6: N0007 | B6: Nam Seniors | C6: Brian | D6: Curtis | E6: Men Senior | F6: 31732 | G6: 44503 | H6: 34.963889 | I6: Senior | J6: Men | K6: 86111600125
A7: N0009 | B7: Nam Masters | C7: Henry | D7: Loubser | E7: Men Master | F7: 22339 | G7: 44503 | H7: 60.683333 | I7: Grand Masters | J7: Men | K7: 61022700219
A8: N0008 | B8: Nam Grand Masters | C8: Andre | D8: Coetzee | E8: Men Grand Masters | F8: 19577 | G8: 44503 | H8: 68.241667 | I8: Grand Masters | J8: men
A9: N0013 | B9: Nam Masters | C9: Rodger | D9: Boon | E9: Men Master | F9: 24486 | G9: 44503 | H9: 54.802778 | I9: Master | J9: Men
A10: N0015 | B10: Nam Grand Masters | C10: Herman | D10: Fourie | E10: Men Grand Masters | F10: 21499 | G10: 44503 | H10: 62.980556 | I10: Grand Masters | J10: Men
A11: N0019 | B11: Nam Seniors | C11: Johan | D11: Visser | E11: Men Senior | F11: 30621 | G11: 44503 | H11: 38.005556 | I11: Senior | J11: Men
A12: N0023 | B12: Nam Grand Masters | C12: Jörg | D12: Walter | E12: Men Grand Masters | F12: 21415 | G12: 44503 | H12: 63.208333 | I12: Grand Masters | J12: Men
A13: N0024 | B13: Nam Seniors | C13: Andrew | D13: Van Der Westhuizen | E13: Men Veteran | F13: 28801 | G13: 44503 | H13: 42.988889 | I13: Veteran | J13: Men
A14: N0031 | B14: Nam Seniors | C14: Emil | D14: Prinsloo | E14: Men Veteran | F14: 28271 | G14: 44503 | H14: 44.436111 | I14: Veteran | J14: Men | K14: 77052600048
A15: N0030 | B15: Nam Masters | C15: Ettiene | D15: Stipp | E15: Men Master | F15: 24985 | G15: 44503 | H15: 53.433333 | I15: Master | J15: Men
A16: N0035 | B16: Nam Seniors | C16: Johan | D16: Van Wyk | E16: Men Veteran | F16: 28278 | G16: 44503 | H16: 44.419444 | I16: Veteran | J16: Men
A17: N0041 | B17: Nam Masters | C17: Terence | D17: Clark | E17: Men Master | F17: 22712 | G17: 44503 | H17: 59.655556 | I17: Master | J17: Men | K17: 62030700864
A18: N0073 | B18: Nam Ladies | C18: Marina | D18: Kruger | E18: Ladies Senior | F18: 24725 | G18: 44503 | H18: 54.147222 | I18: Senior | J18: Ladies
A19: N0091 | B19: Nam Grand Masters | C19: Deon | D19: Jacobs | E19: Men Grand Masters | F19: 19577 | G19: 44503 | H19: 68.241667 | I19: Grand Masters | J19: Men
A20: N0146 | B20: Nam Grand Masters | C20: Danie | D20: Du Toit | E20: Men Grand Masters | F20: 20390 | G20: 44503 | H20: 66.013889 | I20: Grand Masters | J20: Men
A21: N0150 | B21: Nam Ladies | C21: Lindie | D21: Krauze | E21: Ladies Senior | F21: 27616 | G21: 44503 | H21: 46.230556 | I21: Senior | J21: Ladies
A22: N0307 | B22: Nam Men U/21 | C22: Herman | D22: Krauze | E22: Men U/21 | F22: 37971 | G22: 44503 | H22: 17.880556 | I22: U/21 | J22: Men
A23: N0180 | B23: Nam Ladies | C23: Elaine | D23: Vorster | E23: Ladies Senior | F23: 28800 | G23: 44503 | H23: 42.991667 | I23: Senior | J23: Ladies
A24: N0203 | B24: Nam Grand Masters | C24: Andre | D24: Muller | E24: Men Grand Masters | F24: 18986 | G24: 44503 | H24: 69.858333 | I24: Grand Masters | J24: Men
A25: N0208 | B25: Nam Masters | C25: Adri | D25: Roets | E25: Men Master | F25: 25751 | G25: 44503 | H25: 51.336111 | I25: Senior | J25: Men
A26: N0254 | B26: Nam Seniors | C26: Grant | D26: Knight | E26: Men Veteran | F26: 28244 | G26: 44503 | H26: 44.511111 | I26: Veteran | J26: Men
A27: N0283 | B27: Nam Men U/21 | C27: Kevin | D27: Page | E27: Men U/21 | F27: 37926 | G27: 44503 | H27: 18.005556 | I27: U/21 | J27: Men
A28: N0307 | B28: NAM MEN U/16 | C28: Herman | D28: Krauze | E28: Men U/21 | F28: 38026 | G28: 44503 | H28: 17.733333 | I28: U/21 | J28: Men
A29: N0401 | B29: Nam Men U/21 | C29: Henco | D29: Snyman | E29: Men U/21 | F29: 37307 | G29: 44503 | H29: 19.702778 | I29: U/21 | J29: Men
... A33: N0636 | B33: Nam Ladies | C33: Lydia | D33: Cilliers | E33: ladies Senior | F33: 29035 | G33: 44503 | H33: 42.344444 | I33: Senior | J33: ladies
A34: N0667 | B34: Nam Ladies | C34: Nadine | D34: Downing | E34: Ladies Senior | I34: Senior | J34: Ladies
A35: N0687 | B35: Nam Men U/21 | C35: Barren | D35: Van Es | E35: Men Senior | F35: 36199 | G35: 44503 | H35: 22.736111 | I35: Senior | J35: Men | K35: 99020800132
A36: SA4139 | B36: SA Seniors | C36: Hendrico | D36: Lesch | E36: Men Senior | F36: 30893 | G36: 44503 | H36: 37.258333 | I36: Senior | J36: Men
A37: SA1453 | B37: SA Seniors | C37: Robert | D37: Kyle | E37: Men Senior | F37: 30893 | G37: 44503 | H37: 37.258333 | I37: Senior | J37: Men
A38: SA4204 | B38: SA Seniors | C38: AJ | D38: De Beer | E38: Men Senior | F38: 30893 | G38: 44503 | H38: 37.258333 | I38: Senior | J38: Men
A39: SA2734 | B39: SA Seniors | C39: Raldo | D39: Potgieter | E39: Men Senior | F39: 30893 | G39: 44503 | H39: 37.258333 | I39: Senior | J39: Men
A40: SA3374 | B40: SA Seniors | C40: Greg | D40: Sutherland | E40: Men Senior | F40: 30893 | G40: 44503 | H40: 37.258333 | I40: Senior | J40: Men
A41: SA3280 | B41: SA Seniors | C41: Louis | D41: Allison | E41: Men Senior | F41: 30893 | G41: 44503 | H41: 37.258333 | I41: Senior | J41: Men
A42: SA4945 | B42: SA Ladies | C42: Elzanne | D42: Cronje | E42: Ladies Senior | F42: 33895 | G42: 44503 | H42: 29.041667 | I42: Senior | J42: Ladies
A43: SA7476 | B43: SA Ladies | C43: Kabous | D43: Louw | E43: Ladies Senior | F43: 33895 | G43: 44503 | H43: 29.041667 | I43: Senior | J43: Ladies
A44: SA6080 | B44: SA Ladies | C44: Cara | D44: Cowan | E44: Ladies Senior | F44: 33895 | G44: 44503 | H44: 29.041667 | I44: Senior | J44: Ladies
...

Sheet DATA ENTRY
A1: Competition | B1: Date | C1: Venue | D1: ID | E1: Name | F1: Surname | G1: Status | H1: Team | I1: Edibles | J1: Inedibles | K1: length | L1: kg | M1: Points
A2: 2021-G-D1 | B2: 44537 | C2: Mile 8 | D2: SA2734 | E2: =IF(D2="","",VLOOKUP(D2,Master,3,FALSE)) -> Raldo | F2: =IF(D2="","",VLOOKUP(D2,Master,4,FALSE)) -> Potgieter | G2: =IF(D2="","",VLOOKUP(D2,Master,5,FALSE)) -> Men Senior | H2: =IF(D2="","",VLOOKUP(D2,Master,2,FALSE)) -> SA Seniors | J2: Ray Bull / Eagle | K2: 89 | L2: =IF(K2="","",IF(I2="",ROUND(HLOOKUP(J2,kgList,K2,FALSE),1),ROUND(HLOOKUP(I2,kgList,K2,FALSE),1))) -> 13 | M2: =IF(L2="","",IF(COUNTA(I2:J2)>1,"Edible or Inedible",IF(COUNTA(I2)=1,L2*1,IF(COUNTA(J2)=1,L2*1,"ERROR")))) -> 13
A3: =IF(D3="","",A2) -> 2021-G-D1 | B3: =IF(D3="","",B2) -> 44537 | C3: =IF(D3="","",C2) -> Mile 8 | D3: N0023 | E3: =IF(D3="","",VLOOKUP(D3,Master,3,FALSE)) -> Jörg | F3: =IF(D3="","",VLOOKUP(D3,Master,4,FALSE)) -> Walter | G3: =IF(D3="","",VLOOKUP(D3,Master,5,FALSE)) -> Men Grand Masters | H3: =IF(D3="","",VLOOKUP(D3,Master,2,FALSE)) -> Nam Grand Masters | J3: Shark Spotted Gully | K3: 134 | L3: =IF(K3="","",IF(I3="",ROUND(HLOOKUP(J3,kgList,K3,FALSE),1),ROUND(HLOOKUP(I3,kgList,K3,FALSE),1))) -> 11.8 | M3: =IF(L3="","",IF(COUNTA(I3:J3)>1,"Edible or Inedible",IF(COUNTA(I3)=1,L3*1,IF(COUNTA(J3)=1,L3*1,"ERROR")))) -> 11.8
A4: =IF(D4="","",A3) -> 2021-G-D1 | B4: =IF(D4="","",B3) -> 44537 | C4: =IF(D4="","",C3) -> Mile 8 | D4: N0401 | E4: =IF(D4="","",VLOOKUP(D4,Master,3,FALSE)) -> Henco | F4: =IF(D4="","",VLOOKUP(D4,Master,4,FALSE)) -> Snyman | G4: =IF(D4="","",VLOOKUP(D4,Master,5,FALSE)) -> Men U/21 | H4: =IF(D4="","",VLOOKUP(D4,Master,2,FALSE)) -> Nam Men U/21 | J4: Shark Hound Smooth | K4: 131 | L4: =IF(K4="","",IF(I4="",ROUND(HLOOKUP(J4,kgList,K4,FALSE),1),ROUND(HLOOKUP(I4,kgList,K4,FALSE),1))) -> 9.5 | M4: =IF(L4="","",IF(COUNTA(I4:J4)>1,"Edible or Inedible",IF(COUNTA(I4)=1,L4*1,IF(COUNTA(J4)=1,L4*1,"ERROR")))) -> 9.5
A5: =IF(D5="","",A4) -> 2021-G-D1 | B5: =IF(D5="","",B4) -> 44537 | C5: =IF(D5="","",C4) -> Mile 8 | D5: N0004 | E5: =IF(D5="","",VLOOKUP(D5,Master,3,FALSE)) -> Charles | F5: =IF(D5="","",VLOOKUP(D5,Master,4,FALSE)) -> Bothma | G5: =IF(D5="","",VLOOKUP(D5,Master,5,FALSE)) -> Men Grand Masters | H5: =IF(D5="","",VLOOKUP(D5,Master,2,FALSE)) -> Nam Grand Masters | J5: Shark Spotted gully | K5: 134 | L5: =IF(K5="","",IF(I5="",ROUND(HLOOKUP(J5,kgList,K5,FALSE),1),ROUND(HLOOKUP(I5,kgList,K5,FALSE),1))) -> 11.8 | M5: =IF(L5="","",IF(COUNTA(I5:J5)>1,"Edible or Inedible",IF(COUNTA(I5)=1,L5*1,IF(COUNTA(J5)=1,L5*1,"ERROR")))) -> 11.8
A6: =IF(D6="","",A5) -> 2021-G-D1 | B6: =IF(D6="","",B5) -> 44537 | C6: =IF(D6="","",C5) -> Mile 8 | D6: SA8741 | E6: =IF(D6="","",VLOOKUP(D6,Master,3,FALSE)) -> Prevashan | F6: =IF(D6="","",VLOOKUP(D6,Master,4,FALSE)) -> Moodley | G6: =IF(D6="","",VLOOKUP(D6,Master,5,FALSE)) -> Men Senior | H6: =IF(D6="","",VLOOKUP(D6,Master,2,FALSE)) -> SA Seniors | J6: Shark Spotted Gully | K6: 137 | L6: =IF(K6="","",IF(I6="",ROUND(HLOOKUP(J6,kgList,K6,FALSE),1),ROUND(HLOOKUP(I6,kgList,K6,FALSE),1))) -> 12.8 | M6: =IF(L6="","",IF(COUNTA(I6:J6)>1,"Edible or Inedible",IF(COUNTA(I6)=1,L6*1,IF(COUNTA(J6)=1,L6*1,"ERROR")))) -> 12.8
A7: =IF(D7="","",A6) -> 2021-G-D1 | B7: =IF(D7="","",B6) -> 44537 | C7: =IF(D7="","",C6) -> Mile 8 | D7: N0254 | E7: =IF(D7="","",VLOOKUP(D7,Master,3,FALSE)) -> Grant | F7: =IF(D7="","",VLOOKUP(D7,Master,4,FALSE)) -> Knight | G7: =IF(D7="","",VLOOKUP(D7,Master,5,FALSE)) -> Men Veteran | H7: =IF(D7="","",VLOOKUP(D7,Master,2,FALSE)) -> Nam Seniors | J7: Shark Hound Smooth | K7: 142 | L7: =IF(K7="","",IF(I7="",ROUND(HLOOKUP(J7,kgList,K7,FALSE),1),ROUND(HLOOKUP(I7,kgList,K7,FALSE),1))) -> 12.6 | M7: =IF(L7="","",IF(COUNTA(I7:J7)>1,"Edible or Inedible",IF(COUNTA(I7)=1,L7*1,IF(COUNTA(J7)=1,L7*1,"ERROR")))) -> 12.6
A8: =IF(D8="","",A7) -> 2021-G-D1 | B8: =IF(D8="","",B7) -> 44537 | C8: =IF(D8="","",C7) -> Mile 8 | D8: N0687 | E8: =IF(D8="","",VLOOKUP(D8,Master,3,FALSE)) -> Barren | F8: =IF(D8="","",VLOOKUP(D8,Master,4,FALSE)) -> Van Es | G8: =IF(D8="","",VLOOKUP(D8,Master,5,FALSE)) -> Men Senior | H8: =IF(D8="","",VLOOKUP(D8,Master,2,FALSE)) -> Nam Men U/21 | J8: Shark Cow / Sevengill | K8: 131 | L8: =IF(K8="","",IF(I8="",ROUND(HLOOKUP(J8,kgList,K8,FALSE),1),ROUND(HLOOKUP(I8,kgList,K8,FALSE),1))) -> 29.1 | M8: =IF(L8="","",IF(COUNTA(I8:J8)>1,"Edible or Inedible",IF(COUNTA(I8)=1,L8*1,IF(COUNTA(J8)=1,L8*1,"ERROR")))) -> 29.1
A9: =IF(D9="","",A8) -> 2021-G-D1 | B9: =IF(D9="","",B8) -> 44537 | C9: =IF(D9="","",C8) -> Mile 8 | D9: SA6730 | E9: =IF(D9="","",VLOOKUP(D9,Master,3,FALSE)) -> Lance | F9: =IF(D9="","",VLOOKUP(D9,Master,4,FALSE)) -> Daniel | G9: =IF(D9="","",VLOOKUP(D9,Master,5,FALSE)) -> Men U/21 | H9: =IF(D9="","",VLOOKUP(D9,Master,2,FALSE)) -> SA Men U/21 | J9: Shark Spotted Gully | K9: 130 | L9: =IF(K9="","",IF(I9="",ROUND(HLOOKUP(J9,kgList,K9,FALSE),1),ROUND(HLOOKUP(I9,kgList,K9,FALSE),1))) -> 10.7 | M9: =IF(L9="","",IF(COUNTA(I9:J9)>1,"Edible or Inedible",IF(COUNTA(I9)=1,L9*1,IF(COUNTA(J9)=1,L9*1,"ERROR")))) -> 10.7
A10: =IF(D10="","",A9) -> 2021-G-D1 | B10: =IF(D10="","",B9) -> 44537 | C10: =IF(D10="","",C9) -> Mile 8 | D10: N0401 | E10: =IF(D10="","",VLOOKUP(D10,Master,3,FALSE)) -> Henco | F10: =IF(D10="","",VLOOKUP(D10,Master,4,FALSE)) -> Snyman | G10: =IF(D10="","",VLOOKUP(D10,Master,5,FALSE)) -> Men U/21 | H10: =IF(D10="","",VLOOKUP(D10,Master,2,FALSE)) -> Nam Men U/21 | J10: Shark Spotted Gully | K10: 130 | L10: =IF(K10="","",IF(I10="",ROUND(HLOOKUP(J10,kgList,K10,FALSE),1),ROUND(HLOOKUP(I10,kgList,K10,FALSE),1))) -> 10.7 | M10: =IF(L10="","",IF(COUNTA(I10:J10)>1,"Edible or Inedible",IF(COUNTA(I10)=1,L10*1,IF(COUNTA(J10)=1,L10*1,"ERROR")))) -> 10.7
A11: =IF(D11="","",A10) -> 2021-G-D1 | B11: =IF(D11="","",B10) -> 44537 | C11: =IF(D11="","",C10) -> Mile 8 | D11: N0146 | E11: =IF(D11="","",VLOOKUP(D11,Master,3,FALSE)) -> Danie | F11: =IF(D11="","",VLOOKUP(D11,Master,4,FALSE)) -> Du Toit | G11: =IF(D11="","",VLOOKUP(D11,Master,5,FALSE)) -> Men Grand Masters | H11: =IF(D11="","",VLOOKUP(D11,Master,2,FALSE)) -> Nam Grand Masters | J11: Shark Spotted Gully | K11: 134 | L11: =IF(K11="","",IF(I11="",ROUND(HLOOKUP(J11,kgList,K11,FALSE),1),ROUND(HLOOKUP(I11,kgList,K11,FALSE),1))) -> 11.8 | M11: =IF(L11="","",IF(COUNTA(I11:J11)>1,"Edible or Inedible",IF(COUNTA(I11)=1,L11*1,IF(COUNTA(J11)=1,L11*1,"ERROR")))) -> 11.8
A12: =IF(D12="","",A11) -> 2021-G-D1 | B12: =IF(D12="","",B11) -> 44537 | C12: =IF(D12="","",C11) -> Mile 8 | D12: N0254 | E12: =IF(D12="","",VLOOKUP(D12,Master,3,FALSE)) -> Grant | F12: =IF(D12="","",VLOOKUP(D12,Master,4,FALSE)) -> Knight | G12: =IF(D12="","",VLOOKUP(D12,Master,5,FALSE)) -> Men Veteran | H12: =IF(D12="","",VLOOKUP(D12,Master,2,FALSE)) -> Nam Seniors | J12: Shark Hound Smooth | K12: 142 | L12: =IF(K12="","",IF(I12="",ROUND(HLOOKUP(J12,kgList,K12,FALSE),1),ROUND(HLOOKUP(I12,kgList,K12,FALSE),1))) -> 12.6 | M12: =IF(L12="","",IF(COUNTA(I12:J12)>1,"Edible or Inedible",IF(COUNTA(I12)=1,L12*1,IF(COUNTA(J12)=1,L12*1,"ERROR")))) -> 12.6
A13: =IF(D13="","",A12) -> 2021-G-D1 | B13: =IF(D13="","",B12) -> 44537 | C13: =IF(D13="","",C12) -> Mile 8 | D13: SA3280 | E13: =IF(D13="","",VLOOKUP(D13,Master,3,FALSE)) -> Louis | F13: =IF(D13="","",VLOOKUP(D13,Master,4,FALSE)) -> Allison | G13: =IF(D13="","",VLOOKUP(D13,Master,5,FALSE)) -> Men Senior | H13: =IF(D13="","",VLOOKUP(D13,Master,2,FALSE)) -> SA Seniors | J13: Shark Hound Smooth | K13: 141 | L13: =IF(K13="","",IF(I13="",ROUND(HLOOKUP(J13,kgList,K13,FALSE),1),ROUND(HLOOKUP(I13,kgList,K13,FALSE),1))) -> 12.3 | M13: =IF(L13="","",IF(COUNTA(I13:J13)>1,"Edible or Inedible",IF(COUNTA(I13)=1,L13*1,IF(COUNTA(J13)=1,L13*1,"ERROR")))) -> 12.3
A14: =IF(D14="","",A13) -> 2021-G-D1 | B14: =IF(D14="","",B13) -> 44537 | C14: =IF(D14="","",C13) -> Mile 8 | D14: N0687 | E14: =IF(D14="","",VLOOKUP(D14,Master,3,FALSE)) -> Barren | F14: =IF(D14="","",VLOOKUP(D14,Master,4,FALSE)) -> Van Es | G14: =IF(D14="","",VLOOKUP(D14,Master,5,FALSE)) -> Men Senior | H14: =IF(D14="","",VLOOKUP(D14,Master,2,FALSE)) -> Nam Men U/21 | J14: Shark Spotted Gully | K14: 130 | L14: =IF(K14="","",IF(I14="",ROUND(HLOOKUP(J14,kgList,K14,FALSE),1),ROUND(HLOOKUP(I14,kgList,K14,FALSE),1))) -> 10.7 | M14: =IF(L14="","",IF(COUNTA(I14:J14)>1,"Edible or Inedible",IF(COUNTA(I14)=1,L14*1,IF(COUNTA(J14)=1,L14*1,"ERROR")))) -> 10.7
... A117: =IF(D117="","",A116) -> 2021-G-D1 | B117: =IF(D117="","",B116) -> 44537 | C117: =IF(D117="","",C116) -> Mile 8 | D117: SA8336 | E117: =IF(D117="","",VLOOKUP(D117,Master,3,FALSE)) -> Paul | F117: =IF(D117="","",VLOOKUP(D117,Master,4,FALSE)) -> Nel | G117: =IF(D117="","",VLOOKUP(D117,Master,5,FALSE)) -> Men Grand Masters | H117: =IF(D117="","",VLOOKUP(D117,Master,2,FALSE)) -> SA Grand Masters | J117: Shark Spotted Gully | K117: 122 | L117: =IF(K117="","",IF(I117="",ROUND(HLOOKUP(J117,kgList,K117,FALSE),1),ROUND(HLOOKUP(I117,kgList,K117,FALSE),1))) -> 8.6 | M117: =IF(L117="","",IF(COUNTA(I117:J117)>1,"Edible or Inedible",IF(COUNTA(I117)=1,L117*1,IF(COUNTA(J117)=1,L117*1,"ERROR")))) -> 8.6
A118: =IF(D118="","",A117) -> 2021-G-D1 | B118: =IF(D118="","",B117) -> 44537 | C118: =IF(D118="","",C117) -> Mile 8 | D118: SA8339 | E118: =IF(D118="","",VLOOKUP(D118,Master,3,FALSE)) -> Gareth | F118: =IF(D118="","",VLOOKUP(D118,Master,4,FALSE)) -> Dahl | G118: =IF(D118="","",VLOOKUP(D118,Master,5,FALSE)) -> Men U/21 | H118: =IF(D118="","",VLOOKUP(D118,Master,2,FALSE)) -> SA Men U/21 | I118: Kob | K118: 64 | L118: =IF(K118="","",IF(I118="",ROUND(HLOOKUP(J118,kgList,K118,FALSE),1),ROUND(HLOOKUP(I118,kgList,K118,FALSE),1))) -> 2.7 | M118: =IF(L118="","",IF(COUNTA(I118:J118)>1,"Edible or Inedible",IF(COUNTA(I118)=1,L118*1,IF(COUNTA(J118)=1,L118*1,"ERROR")))) -> 2.7
A119: =IF(D119="","",A118) -> 2021-G-D1 | B119: =IF(D119="","",B118) -> 44537 | C119: =IF(D119="","",C118) -> Mile 8 | D119: N0757 | E119: =IF(D119="","",VLOOKUP(D119,Master,3,FALSE)) -> Brandon | F119: =IF(D119="","",VLOOKUP(D119,Master,4,FALSE)) -> Grane | G119: =IF(D119="","",VLOOKUP(D119,Master,5,FALSE)) -> Men U/21 | H119: =IF(D119="","",VLOOKUP(D119,Master,2,FALSE)) -> Nam Men U/21 | I119: Kob | K119: 59 | L119: =IF(K119="","",IF(I119="",ROUND(HLOOKUP(J119,kgList,K119,FALSE),1),ROUND(HLOOKUP(I119,kgList,K119,FALSE),1))) -> 2.1 | M119: =IF(L119="","",IF(COUNTA(I119:J119)>1,"Edible or Inedible",IF(COUNTA(I119)=1,L119*1,IF(COUNTA(J119)=1,L119*1,"ERROR")))) -> 2.1
A120: =IF(D120="","",A119) -> 2021-G-D1 | B120: =IF(D120="","",B119) -> 44537 | C120: =IF(D120="","",C119) -> Mile 8 | D120: N0015 | E120: =IF(D120="","",VLOOKUP(D120,Master,3,FALSE)) -> Herman | F120: =IF(D120="","",VLOOKUP(D120,Master,4,FALSE)) -> Fourie | G120: =IF(D120="","",VLOOKUP(D120,Master,5,FALSE)) -> Men Grand Masters | H120: =IF(D120="","",VLOOKUP(D120,Master,2,FALSE)) -> Nam Grand Masters | J120: Shark Spotted Gully | K120: 122 | L120: =IF(K120="","",IF(I120="",ROUND(HLOOKUP(J120,kgList,K120,FALSE),1),ROUND(HLOOKUP(I120,kgList,K120,FALSE),1))) -> 8.6 | M120: =IF(L120="","",IF(COUNTA(I120:J120)>1,"Edible or Inedible",IF(COUNTA(I120)=1,L120*1,IF(COUNTA(J120)=1,L120*1,"ERROR")))) -> 8.6
A121: =IF(D121="","",A120) -> 2021-G-D1 | B121: =IF(D121="","",B120) -> 44537 | C121: =IF(D121="","",C120) -> Mile 8 | D121: SA2079 | E121: =IF(D121="","",VLOOKUP(D121,Master,3,FALSE)) -> Cullen | F121: =IF(D121="","",VLOOKUP(D121,Master,4,FALSE)) -> Opperman | G121: =IF(D121="","",VLOOKUP(D121,Master,5,FALSE)) -> Men U/21 | H121: =IF(D121="","",VLOOKUP(D121,Master,2,FALSE)) -> SA Men U/21 | J121: Shark Hound Smooth | K121: 118 | L121: =IF(K121="","",IF(I121="",ROUND(HLOOKUP(J121,kgList,K121,FALSE),1),ROUND(HLOOKUP(I121,kgList,K121,FALSE),1))) -> 6.6 | M121: =IF(L121="","",IF(COUNTA(I121:J121)>1,"Edible or Inedible",IF(COUNTA(I121)=1,L121*1,IF(COUNTA(J121)=1,L121*1,"ERROR")))) -> 6.6
A122: =IF(D122="","",A121) -> 2021-G-D1 | B122: =IF(D122="","",B121) -> 44537 | C122: =IF(D122="","",C121) -> Mile 8 | D122: SA2079 | E122: =IF(D122="","",VLOOKUP(D122,Master,3,FALSE)) -> Cullen | F122: =IF(D122="","",VLOOKUP(D122,Master,4,FALSE)) -> Opperman | G122: =IF(D122="","",VLOOKUP(D122,Master,5,FALSE)) -> Men U/21 | H122: =IF(D122="","",VLOOKUP(D122,Master,2,FALSE)) -> SA Men U/21 | J122: Shark Hound Smooth | K122: 118 | L122: =IF(K122="","",IF(I122="",ROUND(HLOOKUP(J122,kgList,K122,FALSE),1),ROUND(HLOOKUP(I122,kgList,K122,FALSE),1))) -> 6.6 | M122: =IF(L122="","",IF(COUNTA(I122:J122)>1,"Edible or Inedible",IF(COUNTA(I122)=1,L122*1,IF(COUNTA(J122)=1,L122*1,"ERROR")))) -> 6.6
A123: =IF(D123="","",A122) -> 2021-G-D1 | B123: =IF(D123="","",B122) -> 44537 | C123: =IF(D123="","",C122) -> Mile 8 | D123: SA8339 | E123: =IF(D123="","",VLOOKUP(D123,Master,3,FALSE)) -> Gareth | F123: =IF(D123="","",VLOOKUP(D123,Master,4,FALSE)) -> Dahl | G123: =IF(D123="","",VLOOKUP(D123,Master,5,FALSE)) -> Men U/21 | H123: =IF(D123="","",VLOOKUP(D123,Master,2,FALSE)) -> SA Men U/21 | J123: Shark Spotted Gully | K123: 118 | L123: =IF(K123="","",IF(I123="",ROUND(HLOOKUP(J123,kgList,K123,FALSE),1),ROUND(HLOOKUP(I123,kgList,K123,FALSE),1))) -> 7.6 | M123: =IF(L123="","",IF(COUNTA(I123:J123)>1,"Edible or Inedible",IF(COUNTA(I123)=1,L123*1,IF(COUNTA(J123)=1,L123*1,"ERROR")))) -> 7.6
A124: =IF(D124="","",A123) -> 2021-G-D1 | B124: =IF(D124="","",B123) -> 44537 | C124: =IF(D124="","",C123) -> Mile 8 | D124: N0687 | E124: =IF(D124="","",VLOOKUP(D124,Master,3,FALSE)) -> Barren | F124: =IF(D124="","",VLOOKUP(D124,Master,4,FALSE)) -> Van Es | G124: =IF(D124="","",VLOOKUP(D124,Master,5,FALSE)) -> Men Senior | H124: =IF(D124="","",VLOOKUP(D124,Master,2,FALSE)) -> Nam Men U/21 | J124: Shark Spotted Gully | K124: 118 | L124: =IF(K124="","",IF(I124="",ROUND(HLOOKUP(J124,kgList,K124,FALSE),1),ROUND(HLOOKUP(I124,kgList,K124,FALSE),1))) -> 7.6 | M124: =IF(L124="","",IF(COUNTA(I124:J124)>1,"Edible or Inedible",IF(COUNTA(I124)=1,L124*1,IF(COUNTA(J124)=1,L124*1,"ERROR")))) -> 7.6
A125: =IF(D125="","",A124) -> 2021-G-D1 | B125: =IF(D125="","",B124) -> 44537 | C125: =IF(D125="","",C124) -> Mile 8 | D125: SA2034 | E125: =IF(D125="","",VLOOKUP(D125,Master,3,FALSE)) -> Hein | F125: =IF(D125="","",VLOOKUP(D125,Master,4,FALSE)) -> Engelbrecht | G125: =IF(D125="","",VLOOKUP(D125,Master,5,FALSE)) -> Men Master | H125: =IF(D125="","",VLOOKUP(D125,Master,2,FALSE)) -> SA Masters | J125: Shark Spotted Gully | K125: 124 | L125: =IF(K125="","",IF(I125="",ROUND(HLOOKUP(J125,kgList,K125,FALSE),1),ROUND(HLOOKUP(I125,kgList,K125,FALSE),1))) -> 9.1 | M125: =IF(L125="","",IF(COUNTA(I125:J125)>1,"Edible or Inedible",IF(COUNTA(I125)=1,L125*1,IF(COUNTA(J125)=1,L125*1,"ERROR")))) -> 9.1
A126: =IF(D126="","",A125) -> 2021-G-D1 | B126: =IF(D126="","",B125) -> 44537 | C126: =IF(D126="","",C125) -> Mile 8 | D126: N0041 | E126: =IF(D126="","",VLOOKUP(D126,Master,3,FALSE)) -> Terence | F126: =IF(D126="","",VLOOKUP(D126,Master,4,FALSE)) -> Clark | G126: =IF(D126="","",VLOOKUP(D126,Master,5,FALSE)) -> Men Master | H126: =IF(D126="","",VLOOKUP(D126,Master,2,FALSE)) -> Nam Masters | J126: Shark Spotted Gully | K126: 122 | L126: =IF(K126="","",IF(I126="",ROUND(HLOOKUP(J126,kgList,K126,FALSE),1),ROUND(HLOOKUP(I126,kgList,K126,FALSE),1))) -> 8.6 | M126: =IF(L126="","",IF(COUNTA(I126:J126)>1,"Edible or Inedible",IF(COUNTA(I126)=1,L126*1,IF(COUNTA(J126)=1,L126*1,"ERROR")))) -> 8.6
A127: =IF(D127="","",A126) -> 2021-G-D1 | B127: =IF(D127="","",B126) -> 44537 | C127: =IF(D127="","",C126) -> Mile 8 | D127: SA4534 | E127: =IF(D127="","",VLOOKUP(D127,Master,3,FALSE)) -> Mike | F127: =IF(D127="","",VLOOKUP(D127,Master,4,FALSE)) -> Bailey | G127: =IF(D127="","",VLOOKUP(D127,Master,5,FALSE)) -> Men Master | H127: =IF(D127="","",VLOOKUP(D127,Master,2,FALSE)) -> SA Masters | J127: Shark Spotted Gully | K127: 121 | L127: =IF(K127="","",IF(I127="",ROUND(HLOOKUP(J127,kgList,K127,FALSE),1),ROUND(HLOOKUP(I127,kgList,K127,FALSE),1))) -> 8.3 | M127: =IF(L127="","",IF(COUNTA(I127:J127)>1,"Edible or Inedible",IF(COUNTA(I127)=1,L127*1,IF(COUNTA(J127)=1,L127*1,"ERROR")))) -> 8.3
A128: =IF(D128="","",A127) -> 2021-G-D1 | B128: =IF(D128="","",B127) -> 44537 | C128: =IF(D128="","",C127) -> Mile 8 | D128: SA4534 | E128: =IF(D128="","",VLOOKUP(D128,Master,3,FALSE)) -> Mike | F128: =IF(D128="","",VLOOKUP(D128,Master,4,FALSE)) -> Bailey | G128: =IF(D128="","",VLOOKUP(D128,Master,5,FALSE)) -> Men Master | H128: =IF(D128="","",VLOOKUP(D128,Master,2,FALSE)) -> SA Masters | J128: Shark Spotted Gully | K128: 120 | L128: =IF(K128="","",IF(I128="",ROUND(HLOOKUP(J128,kgList,K128,FALSE),1),ROUND(HLOOKUP(I128,kgList,K128,FALSE),1))) -> 8.1 | M128: =IF(L128="","",IF(COUNTA(I128:J128)>1,"Edible or Inedible",IF(COUNTA(I128)=1,L128*1,IF(COUNTA(J128)=1,L128*1,"ERROR")))) -> 8.1
A129: =IF(D129="","",A128) -> 2021-G-D1 | B129: =IF(D129="","",B128) -> 44537 | C129: =IF(D129="","",C128) -> Mile 8 | D129: SA8741 | E129: =IF(D129="","",VLOOKUP(D129,Master,3,FALSE)) -> Prevashan | F129: =IF(D129="","",VLOOKUP(D129,Master,4,FALSE)) -> Moodley | G129: =IF(D129="","",VLOOKUP(D129,Master,5,FALSE)) -> Men Senior | H129: =IF(D129="","",VLOOKUP(D129,Master,2,FALSE)) -> SA Seniors | J129: Shark Spotted Gully | K129: 120 | L129: =IF(K129="","",IF(I129="",ROUND(HLOOKUP(J129,kgList,K129,FALSE),1),ROUND(HLOOKUP(I129,kgList,K129,FALSE),1))) -> 8.1 | M129: =IF(L129="","",IF(COUNTA(I129:J129)>1,"Edible or Inedible",IF(COUNTA(I129)=1,L129*1,IF(COUNTA(J129)=1,L129*1,"ERROR")))) -> 8.1
A130: =IF(D130="","",A129) -> 2021-G-D1 | B130: =IF(D130="","",B129) -> 44537 | C130: =IF(D130="","",C129) -> Mile 8 | D130: SA4204 | E130: =IF(D130="","",VLOOKUP(D130,Master,3,FALSE)) -> AJ | F130: =IF(D130="","",VLOOKUP(D130,Master,4,FALSE)) -> De Beer | G130: =IF(D130="","",VLOOKUP(D130,Master,5,FALSE)) -> Men Senior | H130: =IF(D130="","",VLOOKUP(D130,Master,2,FALSE)) -> SA Seniors | J130: Shark Spotted Gully | K130: 120 | L130: =IF(K130="","",IF(I130="",ROUND(HLOOKUP(J130,kgList,K130,FALSE),1),ROUND(HLOOKUP(I130,kgList,K130,FALSE),1))) -> 8.1 | M130: =IF(L130="","",IF(COUNTA(I130:J130)>1,"Edible or Inedible",IF(COUNTA(I130)=1,L130*1,IF(COUNTA(J130)=1,L130*1,"ERROR")))) -> 8.1
A131: =IF(D131="","",A130) -> 2021-G-D1 | B131: =IF(D131="","",B130) -> 44537 | C131: =IF(D131="","",C130) -> Mile 8 | D131: Sa4945 | E131: =IF(D131="","",VLOOKUP(D131,Master,3,FALSE)) -> Elzanne | F131: =IF(D131="","",VLOOKUP(D131,Master,4,FALSE)) -> Cronje | G131: =IF(D131="","",VLOOKUP(D131,Master,5,FALSE)) -> Ladies Senior | H131: =IF(D131="","",VLOOKUP(D131,Master,2,FALSE)) -> SA Ladies | J131: Shark Spotted Gully | K131: 122 | L131: =IF(K131="","",IF(I131="",ROUND(HLOOKUP(J131,kgList,K131,FALSE),1),ROUND(HLOOKUP(I131,kgList,K131,FALSE),1))) -> 8.6 | M131: =IF(L131="","",IF(COUNTA(I131:J131)>1,"Edible or Inedible",IF(COUNTA(I131)=1,L131*1,IF(COUNTA(J131)=1,L131*1,"ERROR")))) -> 8.6
... A189: =IF(D189="","",A188) -> 2021-G-D1 | B189: =IF(D189="","",B188) -> 44537 | C189: =IF(D189="","",C188) -> Mile 8 | D189: N0401 | E189: =IF(D189="","",VLOOKUP(D189,Master,3,FALSE)) -> Henco | F189: =IF(D189="","",VLOOKUP(D189,Master,4,FALSE)) -> Snyman | G189: =IF(D189="","",VLOOKUP(D189,Master,5,FALSE)) -> Men U/21 | H189: =IF(D189="","",VLOOKUP(D189,Master,2,FALSE)) -> Nam Men U/21 | J189: Shark Spotted Gully | K189: 113 | L189: =IF(K189="","",IF(I189="",ROUND(HLOOKUP(J189,kgList,K189,FALSE),1),ROUND(HLOOKUP(I189,kgList,K189,FALSE),1))) -> 6.6 | M189: =IF(L189="","",IF(COUNTA(I189:J189)>1,"Edible or Inedible",IF(COUNTA(I189)=1,L189*1,IF(COUNTA(J189)=1,L189*1,"ERROR")))) -> 6.6
A190: 2021-G-D2 | B190: 44538 | C190: Mile 14 | D190: SA1453 | E190: =IF(D190="","",VLOOKUP(D190,Master,3,FALSE)) -> Robert | F190: =IF(D190="","",VLOOKUP(D190,Master,4,FALSE)) -> Kyle | G190: =IF(D190="","",VLOOKUP(D190,Master,5,FALSE)) -> Men Senior | H190: =IF(D190="","",VLOOKUP(D190,Master,2,FALSE)) -> SA Seniors | J190: Shark Spotted Gully | K190: 140 | L190: =IF(K190="","",IF(I190="",ROUND(HLOOKUP(J190,kgList,K190,FALSE),1),ROUND(HLOOKUP(I190,kgList,K190,FALSE),1))) -> 13.7 | M190: =IF(L190="","",IF(COUNTA(I190:J190)>1,"Edible or Inedible",IF(COUNTA(I190)=1,L190*1,IF(COUNTA(J190)=1,L190*1,"ERROR")))) -> 13.7
A191: =IF(D191="","",A190) -> 2021-G-D2 | B191: =IF(D191="","",B190) -> 44538 | C191: =IF(D191="","",C190) -> Mile 14 | D191: SA4204 | E191: =IF(D191="","",VLOOKUP(D191,Master,3,FALSE)) -> AJ | F191: =IF(D191="","",VLOOKUP(D191,Master,4,FALSE)) -> De Beer | G191: =IF(D191="","",VLOOKUP(D191,Master,5,FALSE)) -> Men Senior | H191: =IF(D191="","",VLOOKUP(D191,Master,2,FALSE)) -> SA Seniors | J191: Shark Spotted Gully | K191: 140 | L191: =IF(K191="","",IF(I191="",ROUND(HLOOKUP(J191,kgList,K191,FALSE),1),ROUND(HLOOKUP(I191,kgList,K191,FALSE),1))) -> 13.7 | M191: =IF(L191="","",IF(COUNTA(I191:J191)>1,"Edible or Inedible",IF(COUNTA(I191)=1,L191*1,IF(COUNTA(J191)=1,L191*1,"ERROR")))) -> 13.7
A192: =IF(D192="","",A191) -> 2021-G-D2 | B192: =IF(D192="","",B191) -> 44538 | C192: =IF(D192="","",C191) -> Mile 14 | D192: N0019 | E192: =IF(D192="","",VLOOKUP(D192,Master,3,FALSE)) -> Johan | F192: =IF(D192="","",VLOOKUP(D192,Master,4,FALSE)) -> Visser | G192: =IF(D192="","",VLOOKUP(D192,Master,5,FALSE)) -> Men Senior | H192: =IF(D192="","",VLOOKUP(D192,Master,2,FALSE)) -> Nam Seniors | J192: Shark Spotted Gully | K192: 140 | L192: =IF(K192="","",IF(I192="",ROUND(HLOOKUP(J192,kgList,K192,FALSE),1),ROUND(HLOOKUP(I192,kgList,K192,FALSE),1))) -> 13.7 | M192: =IF(L192="","",IF(COUNTA(I192:J192)>1,"Edible or Inedible",IF(COUNTA(I192)=1,L192*1,IF(COUNTA(J192)=1,L192*1,"ERROR")))) -> 13.7
A193: =IF(D193="","",A192) -> 2021-G-D2 | B193: =IF(D193="","",B192) -> 44538 | C193: =IF(D193="","",C192) -> Mile 14 | D193: SA8340 | E193: =IF(D193="","",VLOOKUP(D193,Master,3,FALSE)) -> Corbin | F193: =IF(D193="","",VLOOKUP(D193,Master,4,FALSE)) -> Morris | G193: =IF(D193="","",VLOOKUP(D193,Master,5,FALSE)) -> Men U/21 | H193: =IF(D193="","",VLOOKUP(D193,Master,2,FALSE)) -> SA Men U/21 | J193: Shark Spotted Gully | K193: 133 | L193: =IF(K193="","",IF(I193="",ROUND(HLOOKUP(J193,kgList,K193,FALSE),1),ROUND(HLOOKUP(I193,kgList,K193,FALSE),1))) -> 11.5 | M193: =IF(L193="","",IF(COUNTA(I193:J193)>1,"Edible or Inedible",IF(COUNTA(I193)=1,L193*1,IF(COUNTA(J193)=1,L193*1,"ERROR")))) -> 11.5
A194: =IF(D194="","",A193) -> 2021-G-D2 | B194: =IF(D194="","",B193) -> 44538 | C194: =IF(D194="","",C193) -> Mile 14 | D194: SA8340 | E194: =IF(D194="","",VLOOKUP(D194,Master,3,FALSE)) -> Corbin | F194: =IF(D194="","",VLOOKUP(D194,Master,4,FALSE)) -> Morris | G194: =IF(D194="","",VLOOKUP(D194,Master,5,FALSE)) -> Men U/21 | H194: =IF(D194="","",VLOOKUP(D194,Master,2,FALSE)) -> SA Men U/21 | J194: Shark Cow / Sevengill | K194: 133 | L194: =IF(K194="","",IF(I194="",ROUND(HLOOKUP(J194,kgList,K194,FALSE),1),ROUND(HLOOKUP(I194,kgList,K194,FALSE),1))) -> 30.6 | M194: =IF(L194="","",IF(COUNTA(I194:J194)>1,"Edible or Inedible",IF(COUNTA(I194)=1,L194*1,IF(COUNTA(J194)=1,L194*1,"ERROR")))) -> 30.6
A195: =IF(D195="","",A194) -> 2021-G-D2 | B195: =IF(D195="","",B194) -> 44538 | C195: =IF(D195="","",C194) -> Mile 14 | D195: N0283 | E195: =IF(D195="","",VLOOKUP(D195,Master,3,FALSE)) -> Kevin | F195: =IF(D195="","",VLOOKUP(D195,Master,4,FALSE)) -> Page | G195: =IF(D195="","",VLOOKUP(D195,Master,5,FALSE)) -> Men U/21 | H195: =IF(D195="","",VLOOKUP(D195,Master,2,FALSE)) -> Nam Men U/21 | J195: Shark Spotted Gully | K195: 133 | L195: =IF(K195="","",IF(I195="",ROUND(HLOOKUP(J195,kgList,K195,FALSE),1),ROUND(HLOOKUP(I195,kgList,K195,FALSE),1))) -> 11.5 | M195: =IF(L195="","",IF(COUNTA(I195:J195)>1,"Edible or Inedible",IF(COUNTA(I195)=1,L195*1,IF(COUNTA(J195)=1,L195*1,"ERROR")))) -> 11.5
A196: =IF(D196="","",A195) -> 2021-G-D2 | B196: =IF(D196="","",B195) -> 44538 | C196: =IF(D196="","",C195) -> Mile 14 | D196: SA5578 | E196: =IF(D196="","",VLOOKUP(D196,Master,3,FALSE)) -> Antoi | F196: =IF(D196="","",VLOOKUP(D196,Master,4,FALSE)) -> Forbes | G196: =IF(D196="","",VLOOKUP(D196,Master,5,FALSE)) -> Ladies Senior | H196: =IF(D196="","",VLOOKUP(D196,Master,2,FALSE)) -> SA Ladies | J196: Ray Bull / Eagle | K196: 89 | L196: =IF(K196="","",IF(I196="",ROUND(HLOOKUP(J196,kgList,K196,FALSE),1),ROUND(HLOOKUP(I196,kgList,K196,FALSE),1))) -> 13 | M196: =IF(L196="","",IF(COUNTA(I196:J196)>1,"Edible or Inedible",IF(COUNTA(I196)=1,L196*1,IF(COUNTA(J196)=1,L196*1,"ERROR")))) -> 13
A197: =IF(D197="","",A196) -> 2021-G-D2 | B197: =IF(D197="","",B196) -> 44538 | C197: =IF(D197="","",C196) -> Mile 14 | D197: N0697 | E197: =IF(D197="","",VLOOKUP(D197,Master,3,FALSE)) -> Annelien | F197: =IF(D197="","",VLOOKUP(D197,Master,4,FALSE)) -> Langenstrassen | G197: =IF(D197="","",VLOOKUP(D197,Master,5,FALSE)) -> Ladies Veteran | H197: =IF(D197="","",VLOOKUP(D197,Master,2,FALSE)) -> Nam Ladies | J197: Shark Spotted Gully | K197: 137 | L197: =IF(K197="","",IF(I197="",ROUND(HLOOKUP(J197,kgList,K197,FALSE),1),ROUND(HLOOKUP(I197,kgList,K197,FALSE),1))) -> 12.8 | M197: =IF(L197="","",IF(COUNTA(I197:J197)>1,"Edible or Inedible",IF(COUNTA(I197)=1,L197*1,IF(COUNTA(J197)=1,L197*1,"ERROR")))) -> 12.8
A198: =IF(D198="","",A197) -> 2021-G-D2 | B198: =IF(D198="","",B197) -> 44538 | C198: =IF(D198="","",C197) -> Mile 14 | D198: N0007 | E198: =IF(D198="","",VLOOKUP(D198,Master,3,FALSE)) -> Brian | F198: =IF(D198="","",VLOOKUP(D198,Master,4,FALSE)) -> Curtis | G198: =IF(D198="","",VLOOKUP(D198,Master,5,FALSE)) -> Men Senior | H198: =IF(D198="","",VLOOKUP(D198,Master,2,FALSE)) -> Nam Seniors | J198: Shark Spotted Gully | K198: 140 | L198: =IF(K198="","",IF(I198="",ROUND(HLOOKUP(J198,kgList,K198,FALSE),1),ROUND(HLOOKUP(I198,kgList,K198,FALSE),1))) -> 13.7 | M198: =IF(L198="","",IF(COUNTA(I198:J198)>1,"Edible or Inedible",IF(COUNTA(I198)=1,L198*1,IF(COUNTA(J198)=1,L198*1,"ERROR")))) -> 13.7
A199: =IF(D199="","",A198) -> 2021-G-D2 | B199: =IF(D199="","",B198) -> 44538 | C199: =IF(D199="","",C198) -> Mile 14 | D199: N0731 | E199: =IF(D199="","",VLOOKUP(D199,Master,3,FALSE)) -> Maryna | F199: =IF(D199="","",VLOOKUP(D199,Master,4,FALSE)) -> Viljoen | G199: =IF(D199="","",VLOOKUP(D199,Master,5,FALSE)) -> Ladies Senior | H199: =IF(D199="","",VLOOKUP(D199,Master,2,FALSE)) -> Nam Ladies | J199: Shark Spotted Gully | K199: 137 | L199: =IF(K199="","",IF(I199="",ROUND(HLOOKUP(J199,kgList,K199,FALSE),1),ROUND(HLOOKUP(I199,kgList,K199,FALSE),1))) -> 12.8 | M199: =IF(L199="","",IF(COUNTA(I199:J199)>1,"Edible or Inedible",IF(COUNTA(I199)=1,L199*1,IF(COUNTA(J199)=1,L199*1,"ERROR")))) -> 12.8
...

Sheet Individuals
E2: GALA 2021 INDIVIDUALS | N2: Competition | O2: (Multiple Items) | Q2: INDIVIDUALS SHARK | S2: =G2 -> 0 | Y2: Competition | Z2: (Multiple Items) | AB2: INDIVIDUALS FISH | AD2: =S2 -> 0
B3: Competition | C3: (Multiple Items) | N3: Inedibles | O3: (Multiple Items) | Y3: Edibles | Z3: (Multiple Items)
G5: Values | S5: Values | AD5: Values
B6: ID | C6: Name | D6: Surname | E6: Status | F6: Team | G6: Count of Edibles | H6: Count of Inedibles | I6: Sum of kg | J6: Sum of Points | K6: League Points (300) | N6: ID | O6: Name | P6: Surname | Q6: Status | R6: Team | S6: Count of Inedibles | T6: Sum of kg | U6: Sum of Points | V6: League Points (200) | Y6: ID | Z6: Name | AA6: Surname | AB6: Status | AC6: Team | AD6: Count of Edibles | AE6: Sum of kg | AF6: Sum of Points | AG6: League Points (200)
A7: 1 | B7: SA4204 | C7: AJ | D7: De Beer | E7: Men Senior | F7: SA Seniors | H7: 26 | I7: 336.3 | J7: 336.3 | K7: 300 | L7: 1 | M7: 1 | N7: SA4204 | O7: AJ | P7: De Beer | Q7: Men Senior | R7: SA Seniors | S7: 26 | T7: 336.3 | U7: 336.3 | V7: 200 | W7: 1 | X7: 1 | Y7: N0030 | Z7: Ettiene | AA7: Stipp | AB7: Men Master | AC7: Nam Masters | AD7: 1 | AE7: 22.9 | AF7: 22.9 | AG7: 200 | AH7: 1
A8: 2 | B8: N0019 | C8: Johan | D8: Visser | E8: Men Senior | F8: Nam Seniors | H8: 17 | I8: 295 | J8: 295 | K8: =IF(J8=J7,K7,IF(J8=0,ROUNDDOWN(180,0),K7-L7)) -> 299 | L8: =IF(J8<J7,1,IF(J8=J7,L7+1,0)) -> 1 | M8: 2 | N8: N0019 | O8: Johan | P8: Visser | Q8: Men Senior | R8: Nam Seniors | S8: 17 | T8: 295 | U8: 295 | V8: =IF(U8=U7,V7,IF(U8=0,ROUNDDOWN(20,0),V7-W7)) -> 199 | W8: =IF(U8<U7,1,IF(U8=U7,W7+1,0)) -> 1 | X8: 2 | Y8: N0731 | Z8: Maryna | AA8: Viljoen | AB8: Ladies Senior | AC8: Nam Ladies | AD8: 1 | AE8: 18.8 | AF8: 18.8 | AG8: =IF(AF8=AF7,AG7,IF(AF8=0,ROUNDDOWN(20,0),AG7-AH7)) -> 199 | AH8: =IF(AF8<AF7,1,IF(AF8=AF7,AH7+1,0)) -> 1
A9: 3 | B9: N0007 | C9: Brian | D9: Curtis | E9: Men Senior | F9: Nam Seniors | H9: 17 | I9: 289.7 | J9: 289.7 | K9: =IF(J9=J8,K8,IF(J9=0,ROUNDDOWN(180,0),K8-L8)) -> 298 | L9: =IF(J9<J8,1,IF(J9=J8,L8+1,0)) -> 1 | M9: 3 | N9: N0007 | O9: Brian | P9: Curtis | Q9: Men Senior | R9: Nam Seniors | S9: 17 | T9: 289.7 | U9: 289.7 | V9: =IF(U9=U8,V8,IF(U9=0,ROUNDDOWN(20,0),V8-W8)) -> 198 | W9: =IF(U9<U8,1,IF(U9=U8,W8+1,0)) -> 1 | X9: 3 | Y9: SA8339 | Z9: Gareth | AA9: Dahl | AB9: Men U/21 | AC9: SA Men U/21 | AD9: 3 | AE9: 7.6 | AF9: 7.6 | AG9: =IF(AF9=AF8,AG8,IF(AF9=0,ROUNDDOWN(20,0),AG8-AH8)) -> 198 | AH9: =IF(AF9<AF8,1,IF(AF9=AF8,AH8+1,0)) -> 1
A10: 4 | B10: N0035 | C10: Johan | D10: Van Wyk | E10: Men Veteran | F10: Nam Seniors | H10: 16 | I10: 284.4 | J10: 284.4 | K10: =IF(J10=J9,K9,IF(J10=0,ROUNDDOWN(180,0),K9-L9)) -> 297 | L10: =IF(J10<J9,1,IF(J10=J9,L9+1,0)) -> 1 | M10: 4 | N10: N0035 | O10: Johan | P10: Van Wyk | Q10: Men Veteran | R10: Nam Seniors | S10: 16 | T10: 284.4 | U10: 284.4 | V10: =IF(U10=U9,V9,IF(U10=0,ROUNDDOWN(20,0),V9-W9)) -> 197 | W10: =IF(U10<U9,1,IF(U10=U9,W9+1,0)) -> 1 | X10: 4 | Y10: SA4251 | Z10: Thys | AA10: Basson | AB10: Men Grand Masters | AC10: SA Grand Masters | AD10: 4 | AE10: 6.5 | AF10: 6.5 | AG10: =IF(AF10=AF9,AG9,IF(AF10=0,ROUNDDOWN(20,0),AG9-AH9)) -> 197 | AH10: =IF(AF10<AF9,1,IF(AF10=AF9,AH9+1,0)) -> 1
A11: 5 | B11: N0024 | C11: Andrew | D11: Van Der Westhuizen | E11: Men Veteran | F11: Nam Seniors | G11: 1 | H11: 20 | I11: 265.7 | J11: 265.7 | K11: =IF(J11=J10,K10,IF(J11=0,ROUNDDOWN(180,0),K10-L10)) -> 296 | L11: =IF(J11<J10,1,IF(J11=J10,L10+1,0)) -> 1 | M11: 5 | N11: N0024 | O11: Andrew | P11: Van Der Westhuizen | Q11: Men Veteran | R11: Nam Seniors | S11: 20 | T11: 263.2 | U11: 263.2 | V11: =IF(U11=U10,V10,IF(U11=0,ROUNDDOWN(20,0),V10-W10)) -> 196 | W11: =IF(U11<U10,1,IF(U11=U10,W10+1,0)) -> 1 | X11: 5 | Y11: SA4945 | Z11: Elzanne | AA11: Cronje | AB11: Ladies Senior | AC11: SA Ladies | AD11: 3 | AE11: 5.8 | AF11: 5.8 | AG11: =IF(AF11=AF10,AG10,IF(AF11=0,ROUNDDOWN(20,0),AG10-AH10)) -> 196 | AH11: =IF(AF11<AF10,1,IF(AF11=AF10,AH10+1,0)) -> 1
A12: 6 | B12: N0031 | C12: Emil | D12: Prinsloo | E12: Men Veteran | F12: Nam Seniors | G12: 1 | H12: 12 | I12: 264.7 | J12: 264.7 | K12: =IF(J12=J11,K11,IF(J12=0,ROUNDDOWN(180,0),K11-L11)) -> 295 | L12: =IF(J12<J11,1,IF(J12=J11,L11+1,0)) -> 1 | M12: 6 | N12: N0031 | O12: Emil | P12: Prinsloo | Q12: Men Veteran | R12: Nam Seniors | S12: 12 | T12: 261.1 | U12: 261.1 | V12: =IF(U12=U11,V11,IF(U12=0,ROUNDDOWN(20,0),V11-W11)) -> 195 | W12: =IF(U12<U11,1,IF(U12=U11,W11+1,0)) -> 1 | X12: 6 | Y12: SA8340 | Z12: Corbin | AA12: Morris | AB12: Men U/21 | AC12: SA Men U/21 | AD12: 1 | AE12: 5 | AF12: 5 | AG12: =IF(AF12=AF11,AG11,IF(AF12=0,ROUNDDOWN(20,0),AG11-AH11)) -> 195 | AH12: =IF(AF12<AF11,1,IF(AF12=AF11,AH11+1,0)) -> 1
A13: 7 | B13: SA4534 | C13: Mike | D13: Bailey | E13: Men Master | F13: SA Masters | H13: 18 | I13: 258.7 | J13: 258.7 | K13: =IF(J13=J12,K12,IF(J13=0,ROUNDDOWN(180,0),K12-L12)) -> 294 | L13: =IF(J13<J12,1,IF(J13=J12,L12+1,0)) -> 1 | M13: 7 | N13: SA4534 | O13: Mike | P13: Bailey | Q13: Men Master | R13: SA Masters | S13: 18 | T13: 258.7 | U13: 258.7 | V13: =IF(U13=U12,V12,IF(U13=0,ROUNDDOWN(20,0),V12-W12)) -> 194 | W13: =IF(U13<U12,1,IF(U13=U12,W12+1,0)) -> 1 | X13: 7 | Y13: SA8444 | Z13: Chantel | AA13: Carstens | AB13: Ladies Senior | AC13: SA Ladies | AD13: 2 | AE13: 4.6 | AF13: 4.6 | AG13: =IF(AF13=AF12,AG12,IF(AF13=0,ROUNDDOWN(20,0),AG12-AH12)) -> 194 | AH13: =IF(AF13<AF12,1,IF(AF13=AF12,AH12+1,0)) -> 1
A14: 8 | B14: N0687 | C14: Barren | D14: Van Es | E14: Men Senior | F14: Nam Men U/21 | H14: 20 | I14: 254.4 | J14: 254.4 | K14: =IF(J14=J13,K13,IF(J14=0,ROUNDDOWN(180,0),K13-L13)) -> 293 | L14: =IF(J14<J13,1,IF(J14=J13,L13+1,0)) -> 1 | M14: 8 | N14: N0687 | O14: Barren | P14: Van Es | Q14: Men Senior | R14: Nam Men U/21 | S14: 20 | T14: 254.4 | U14: 254.4 | V14: =IF(U14=U13,V13,IF(U14=0,ROUNDDOWN(20,0),V13-W13)) -> 193 | W14: =IF(U14<U13,1,IF(U14=U13,W13+1,0)) -> 1 | X14: 8 | Y14: N0667 | Z14: Nadine | AA14: Downing | AB14: Ladies Senior | AC14: Nam Ladies | AD14: 2 | AE14: 4.6 | AF14: 4.6 | AG14: =IF(AF14=AF13,AG13,IF(AF14=0,ROUNDDOWN(20,0),AG13-AH13)) -> 194 | AH14: =IF(AF14<AF13,1,IF(AF14=AF13,AH13+1,0)) -> 2
A15: 9 | B15: SA8741 | C15: Prevashan | D15: Moodley | E15: Men Senior | F15: SA Seniors | H15: 22 | I15: 249 | J15: 249 | K15: =IF(J15=J14,K14,IF(J15=0,ROUNDDOWN(180,0),K14-L14)) -> 292 | L15: =IF(J15<J14,1,IF(J15=J14,L14+1,0)) -> 1 | M15: 9 | N15: SA8741 | O15: Prevashan | P15: Moodley | Q15: Men Senior | R15: SA Seniors | S15: 21 | T15: 246.3 | U15: 246.3 | V15: =IF(U15=U14,V14,IF(U15=0,ROUNDDOWN(20,0),V14-W14)) -> 192 | W15: =IF(U15<U14,1,IF(U15=U14,W14+1,0)) -> 1 | X15: 9 | Y15: N0757 | Z15: Brandon | AA15: Grane | AB15: Men U/21 | AC15: Nam Men U/21 | AD15: 3 | AE15: 4.3 | AF15: 4.3 | AG15: =IF(AF15=AF14,AG14,IF(AF15=0,ROUNDDOWN(20,0),AG14-AH14)) -> 192 | AH15: =IF(AF15<AF14,1,IF(AF15=AF14,AH14+1,0)) -> 1
A16: 10 | B16: SA3280 | C16: Louis | D16: Allison | E16: Men Senior | F16: SA Seniors | H16: 18 | I16: 228.8 | J16: 228.8 | K16: =IF(J16=J15,K15,IF(J16=0,ROUNDDOWN(180,0),K15-L15)) -> 291 | L16: =IF(J16<J15,1,IF(J16=J15,L15+1,0)) -> 1 | M16: 10 | N16: SA3280 | O16: Louis | P16: Allison | Q16: Men Senior | R16: SA Seniors | S16: 18 | T16: 228.8 | U16: 228.8 | V16: =IF(U16=U15,V15,IF(U16=0,ROUNDDOWN(20,0),V15-W15)) -> 191 | W16: =IF(U16<U15,1,IF(U16=U15,W15+1,0)) -> 1 | X16: 10 | Y16: N0031 | Z16: Emil | AA16: Prinsloo | AB16: Men Veteran | AC16: Nam Seniors | AD16: 1 | AE16: 3.6 | AF16: 3.6 | AG16: =IF(AF16=AF15,AG15,IF(AF16=0,ROUNDDOWN(20,0),AG15-AH15)) -> 191 | AH16: =IF(AF16<AF15,1,IF(AF16=AF15,AH15+1,0)) -> 1
A17: 11 | B17: SA2734 | C17: Raldo | D17: Potgieter | E17: Men Senior | F17: SA Seniors | H17: 19 | I17: 228.3 | J17: 228.3 | K17: =IF(J17=J16,K16,IF(J17=0,ROUNDDOWN(180,0),K16-L16)) -> 290 | L17: =IF(J17<J16,1,IF(J17=J16,L16+1,0)) -> 1 | M17: 11 | N17: SA2734 | O17: Raldo | P17: Potgieter | Q17: Men Senior | R17: SA Seniors | S17: 19 | T17: 228.3 | U17: 228.3 | V17: =IF(U17=U16,V16,IF(U17=0,ROUNDDOWN(20,0),V16-W16)) -> 190 | W17: =IF(U17<U16,1,IF(U17=U16,W16+1,0)) -> 1 | X17: 11 | Y17: N0024 | Z17: Andrew | AA17: Van Der Westhuizen | AB17: Men Veteran | AC17: Nam Seniors | AD17: 1 | AE17: 2.5 | AF17: 2.5 | AG17: =IF(AF17=AF16,AG16,IF(AF17=0,ROUNDDOWN(20,0),AG16-AH16)) -> 190 | AH17: =IF(AF17<AF16,1,IF(AF17=AF16,AH16+1,0)) -> 1
A18: 12 | B18: N0208 | C18: Adri | D18: Roets | E18: Men Master | F18: Nam Masters | G18: 1 | H18: 16 | I18: 215.3 | J18: 215.3 | K18: =IF(J18=J17,K17,IF(J18=0,ROUNDDOWN(180,0),K17-L17)) -> 289 | L18: =IF(J18<J17,1,IF(J18=J17,L17+1,0)) -> 1 | M18: 12 | N18: N0208 | O18: Adri | P18: Roets | Q18: Men Master | R18: Nam Masters | S18: 16 | T18: 214.2 | U18: 214.2 | V18: =IF(U18=U17,V17,IF(U18=0,ROUNDDOWN(20,0),V17-W17)) -> 189 | W18: =IF(U18<U17,1,IF(U18=U17,W17+1,0)) -> 1 | X18: 12 | Y18: SA1206 | Z18: Herman | AA18: Van Greunen | AB18: Men Grand Masters | AC18: SA Grand Masters | AD18: 2 | AE18: 2.1 | AF18: 2.1 | AG18: =IF(AF18=AF17,AG17,IF(AF18=0,ROUNDDOWN(20,0),AG17-AH17)) -> 189 | AH18: =IF(AF18<AF17,1,IF(AF18=AF17,AH17+1,0)) -> 1
A19: 13 | B19: SA1453 | C19: Robert | D19: Kyle | E19: Men Senior | F19: SA Seniors | H19: 23 | I19: 213.7 | J19: 213.7 | K19: =IF(J19=J18,K18,IF(J19=0,ROUNDDOWN(180,0),K18-L18)) -> 288 | L19: =IF(J19<J18,1,IF(J19=J18,L18+1,0)) -> 1 | M19: 13 | N19: SA1453 | O19: Robert | P19: Kyle | Q19: Men Senior | R19: SA Seniors | S19: 23 | T19: 213.7 | U19: 213.7 | V19: =IF(U19=U18,V18,IF(U19=0,ROUNDDOWN(20,0),V18-W18)) -> 188 | W19: =IF(U19<U18,1,IF(U19=U18,W18+1,0)) -> 1 | X19: 13 | Y19: SA8781 | Z19: Tim | AA19: Du Plessis | AB19: Men U/21 | AC19: SA Men U/21 | AD19: 1 | AE19: 2 | AF19: 2 | AG19: =IF(AF19=AF18,AG18,IF(AF19=0,ROUNDDOWN(20,0),AG18-AH18)) -> 188 | AH19: =IF(AF19<AF18,1,IF(AF19=AF18,AH18+1,0)) -> 1
A20: 14 | B20: SA3374 | C20: Greg | D20: Sutherland | E20: Men Senior | F20: SA Seniors | H20: 13 | I20: 209 | J20: 209 | K20: =IF(J20=J19,K19,IF(J20=0,ROUNDDOWN(180,0),K19-L19)) -> 287 | L20: =IF(J20<J19,1,IF(J20=J19,L19+1,0)) -> 1 | M20: 14 | N20: SA3374 | O20: Greg | P20: Sutherland | Q20: Men Senior | R20: SA Seniors | S20: 13 | T20: 209 | U20: 209 | V20: =IF(U20=U19,V19,IF(U20=0,ROUNDDOWN(20,0),V19-W19)) -> 187 | W20: =IF(U20<U19,1,IF(U20=U19,W19+1,0)) -> 1 | X20: 14 | Y20: SA6080 | Z20: Cara | AA20: Cowan | AB20: Ladies Senior | AC20: SA Ladies | AD20: 1 | AE20: 1.7 | AF20: 1.7 | AG20: =IF(AF20=AF19,AG19,IF(AF20=0,ROUNDDOWN(20,0),AG19-AH19)) -> 187 | AH20: =IF(AF20<AF19,1,IF(AF20=AF19,AH19+1,0)) -> 1
A21: 15 | B21: SA8340 | C21: Corbin | D21: Morris | E21: Men U/21 | F21: SA Men U/21 | G21: 1 | H21: 13 | I21: 208.2 | J21: 208.2 | K21: =IF(J21=J20,K20,IF(J21=0,ROUNDDOWN(180,0),K20-L20)) -> 286 | L21: =IF(J21<J20,1,IF(J21=J20,L20+1,0)) -> 1 | M21: 15 | N21: N0259 | O21: Henri | P21: Snyman | Q21: Men Veteran | R21: Nam Seniors | S21: 9 | T21: 203.3 | U21: 203.3 | V21: =IF(U21=U20,V20,IF(U21=0,ROUNDDOWN(20,0),V20-W20)) -> 186 | W21: =IF(U21<U20,1,IF(U21=U20,W20+1,0)) -> 1 | X21: 15 | Y21: N0150 | Z21: Lindie | AA21: Krauze | AB21: Ladies Senior | AC21: Nam Ladies | AD21: 1 | AE21: 1.3 | AF21: 1.3 | AG21: =IF(AF21=AF20,AG20,IF(AF21=0,ROUNDDOWN(20,0),AG20-AH20)) -> 186 | AH21: =IF(AF21<AF20,1,IF(AF21=AF20,AH20+1,0)) -> 1
A22: 16 | B22: N0259 | C22: Henri | D22: Snyman | E22: Men Veteran | F22: Nam Seniors | H22: 9 | I22: 203.3 | J22: 203.3 | K22: =IF(J22=J21,K21,IF(J22=0,ROUNDDOWN(180,0),K21-L21)) -> 285 | L22: =IF(J22<J21,1,IF(J22=J21,L21+1,0)) -> 1 | M22: 16 | N22: SA8340 | O22: Corbin | P22: Morris | Q22: Men U/21 | R22: SA Men U/21 | S22: 13 | T22: 203.2 | U22: 203.2 | V22: =IF(U22=U21,V21,IF(U22=0,ROUNDDOWN(20,0),V21-W21)) -> 185 | W22: =IF(U22<U21,1,IF(U22=U21,W21+1,0)) -> 1 | X22: 16 | Y22: SA6730 | Z22: Lance | AA22: Daniel | AB22: Men U/21 | AC22: SA Men U/21 | AD22: 1 | AE22: 1.2 | AF22: 1.2 | AG22: =IF(AF22=AF21,AG21,IF(AF22=0,ROUNDDOWN(20,0),AG21-AH21)) -> 185 | AH22: =IF(AF22<AF21,1,IF(AF22=AF21,AH21+1,0)) -> 1
A23: 17 | B23: SA8781 | C23: Tim | D23: Du Plessis | E23: Men U/21 | F23: SA Men U/21 | G23: 1 | H23: 14 | I23: 202.1 | J23: 202.1 | K23: =IF(J23=J22,K22,IF(J23=0,ROUNDDOWN(180,0),K22-L22)) -> 284 | L23: =IF(J23<J22,1,IF(J23=J22,L22+1,0)) -> 1 | M23: 17 | N23: SA8781 | O23: Tim | P23: Du Plessis | Q23: Men U/21 | R23: SA Men U/21 | S23: 14 | T23: 200.1 | U23: 200.1 | V23: =IF(U23=U22,V22,IF(U23=0,ROUNDDOWN(20,0),V22-W22)) -> 184 | W23: =IF(U23<U22,1,IF(U23=U22,W22+1,0)) -> 1 | X23: 17 | Y23: N0023 | Z23: Jörg | AA23: Walter | AB23: Men Grand Masters | AC23: Nam Grand Masters | AD23: 1 | AE23: 1.1 | AF23: 1.1 | AG23: =IF(AF23=AF22,AG22,IF(AF23=0,ROUNDDOWN(20,0),AG22-AH22)) -> 184 | AH23: =IF(AF23<AF22,1,IF(AF23=AF22,AH22+1,0)) -> 1
A24: 18 | B24: N0030 | C24: Ettiene | D24: Stipp | E24: Men Master | F24: Nam Masters | G24: 1 | H24: 11 | I24: 200.3 | J24: 200.3 | K24: =IF(J24=J23,K23,IF(J24=0,ROUNDDOWN(180,0),K23-L23)) -> 283 | L24: =IF(J24<J23,1,IF(J24=J23,L23+1,0)) -> 1 | M24: 18 | N24: N0023 | O24: Jörg | P24: Walter | Q24: Men Grand Masters | R24: Nam Grand Masters | S24: 18 | T24: 195.5 | U24: 195.5 | V24: =IF(U24=U23,V23,IF(U24=0,ROUNDDOWN(20,0),V23-W23)) -> 183 | W24: =IF(U24<U23,1,IF(U24=U23,W23+1,0)) -> 1 | X24: 18 | Y24: N0208 | Z24: Adri | AA24: Roets | AB24: Men Master | AC24: Nam Masters | AD24: 1 | AE24: 1.1 | AF24: 1.1 | AG24: =IF(AF24=AF23,AG23,IF(AF24=0,ROUNDDOWN(20,0),AG23-AH23)) -> 184 | AH24: =IF(AF24<AF23,1,IF(AF24=AF23,AH23+1,0)) -> 2
A25: 19 | B25: N0023 | C25: Jörg | D25: Walter | E25: Men Grand Masters | F25: Nam Grand Masters | G25: 1 | H25: 18 | I25: 196.6 | J25: 196.6 | K25: =IF(J25=J24,K24,IF(J25=0,ROUNDDOWN(180,0),K24-L24)) -> 282 | L25: =IF(J25<J24,1,IF(J25=J24,L24+1,0)) -> 1 | M25: 19 | N25: SA4139 | O25: Hendrico | P25: Lesch | Q25: Men Senior | R25: SA Seniors | S25: 17 | T25: 180.2 | U25: 180.2 | V25: =IF(U25=U24,V24,IF(U25=0,ROUNDDOWN(20,0),V24-W24)) -> 182 | W25: =IF(U25<U24,1,IF(U25=U24,W24+1,0)) -> 1 | X25: 19 | Y25: SA9752 | Z25: Ahmed | AA25: Belim | AB25: Men U/21 | AC25: SA Men U/21 | AD25: 1 | AE25: 1.1 | AF25: 1.1 | AG25: =IF(AF25=AF24,AG24,IF(AF25=0,ROUNDDOWN(20,0),AG24-AH24)) -> 184 | AH25: =IF(AF25<AF24,1,IF(AF25=AF24,AH24+1,0)) -> 3
A26: 20 | B26: SA4139 | C26: Hendrico | D26: Lesch | E26: Men Senior | F26: SA Seniors | H26: 17 | I26: 180.2 | J26: 180.2 | K26: =IF(J26=J25,K25,IF(J26=0,ROUNDDOWN(180,0),K25-L25)) -> 281 | L26: =IF(J26<J25,1,IF(J26=J25,L25+1,0)) -> 1 | M26: 20 | N26: N0030 | O26: Ettiene | P26: Stipp | Q26: Men Master | R26: Nam Masters | S26: 11 | T26: 177.4 | U26: 177.4 | V26: =IF(U26=U25,V25,IF(U26=0,ROUNDDOWN(20,0),V25-W25)) -> 181 | W26: =IF(U26<U25,1,IF(U26=U25,W25+1,0)) -> 1 | X26: 20 | Y26: N0146 | Z26: Danie | AA26: Du Toit | AB26: Men Grand Masters | AC26: Nam Grand Masters | AD26: 1 | AE26: 0.9 | AF26: 0.9 | AG26: =IF(AF26=AF25,AG25,IF(AF26=0,ROUNDDOWN(20,0),AG25-AH25)) -> 181 | AH26: =IF(AF26<AF25,1,IF(AF26=AF25,AH25+1,0)) -> 1
A27: 21 | B27: N0757 | C27: Brandon | D27: Grane | E27: Men U/21 | F27: Nam Men U/21 | G27: 3 | H27: 8 | I27: 173.1 | J27: 173.1 | K27: =IF(J27=J26,K26,IF(J27=0,ROUNDDOWN(180,0),K26-L26)) -> 280 | L27: =IF(J27<J26,1,IF(J27=J26,L26+1,0)) -> 1 | M27: 21 | N27: N0757 | O27: Brandon | P27: Grane | Q27: Men U/21 | R27: Nam Men U/21 | S27: 8 | T27: 168.8 | U27: 168.8 | V27: =IF(U27=U26,V26,IF(U27=0,ROUNDDOWN(20,0),V26-W26)) -> 180 | W27: =IF(U27<U26,1,IF(U27=U26,W26+1,0)) -> 1 | X27: 21 | Y27: N0180 | Z27: Elaine | AA27: Vorster | AB27: Ladies Senior | AC27: Nam Ladies | AD27: 1 | AE27: 0.9 | AF27: 0.9 | AG27: =IF(AF27=AF26,AG26,IF(AF27=0,ROUNDDOWN(20,0),AG26-AH26)) -> 181 | AH27: =IF(AF27<AF26,1,IF(AF27=AF26,AH26+1,0)) -> 2
A28: 22 | B28: N0008 | C28: Andre | D28: Coetzee | E28: Men Grand Masters | F28: Nam Grand Masters | H28: 15 | I28: 168.3 | J28: 168.3 | K28: =IF(J28=J27,K27,IF(J28=0,ROUNDDOWN(180,0),K27-L27)) -> 279 | L28: =IF(J28<J27,1,IF(J28=J27,L27+1,0)) -> 1 | M28: 22 | N28: N0008 | O28: Andre | P28: Coetzee | Q28: Men Grand Masters | R28: Nam Grand Masters | S28: 15 | T28: 168.3 | U28: 168.3 | V28: =IF(U28=U27,V27,IF(U28=0,ROUNDDOWN(20,0),V27-W27)) -> 179 | W28: =IF(U28<U27,1,IF(U28=U27,W27+1,0)) -> 1 | X28: 22 | Y28: N0697 | Z28: Annelien | AA28: Langenstrassen | AB28: Ladies Veteran | AC28: Nam Ladies | AD28: 1 | AE28: 0.8 | AF28: 0.8 | AG28: =IF(AF28=AF27,AG27,IF(AF28=0,ROUNDDOWN(20,0),AG27-AH27)) -> 179 | AH28: =IF(AF28<AF27,1,IF(AF28=AF27,AH27+1,0)) -> 1
A29: 23 | B29: SA0728 | C29: Wimpie | D29: Barnard | E29: Men Master | F29: SA Masters | H29: 13 | I29: 167.2 | J29: 167.2 | K29: =IF(J29=J28,K28,IF(J29=0,ROUNDDOWN(180,0),K28-L28)) -> 278 | L29: =IF(J29<J28,1,IF(J29=J28,L28+1,0)) -> 1 | M29: 23 | N29: SA0728 | O29: Wimpie | P29: Barnard | Q29: Men Master | R29: SA Masters | S29: 13 | T29: 167.2 | U29: 167.2 | V29: =IF(U29=U28,V28,IF(U29=0,ROUNDDOWN(20,0),V28-W28)) -> 178 | W29: =IF(U29<U28,1,IF(U29=U28,W28+1,0)) -> 1 | X29: 23 | Y29: Grand Total | AD29: 34 | AE29: 100.4 | AF29: 100.4 | AG29: =IF(AF29=AF28,AG28,IF(AF29=0,ROUNDDOWN(20,0),AG28-AH28)) -> 178 | AH29: =IF(AF29<AF28,1,IF(AF29=AF28,AH28+1,0)) -> 0
A30: 24 | B30: SA8796 | C30: Challen | D30: Gendall | E30: Men U/21 | F30: SA Men U/21 | H30: 10 | I30: 165.7 | J30: 165.7 | K30: =IF(J30=J29,K29,IF(J30=0,ROUNDDOWN(180,0),K29-L29)) -> 277 | L30: =IF(J30<J29,1,IF(J30=J29,L29+1,0)) -> 1 | M30: 24 | N30: SA8796 | O30: Challen | P30: Gendall | Q30: Men U/21 | R30: SA Men U/21 | S30: 10 | T30: 165.7 | U30: 165.7 | V30: =IF(U30=U29,V29,IF(U30=0,ROUNDDOWN(20,0),V29-W29)) -> 177 | W30: =IF(U30<U29,1,IF(U30=U29,W29+1,0)) -> 1 | X30: 24 | AG30: =IF(AF30=AF29,AG29,IF(AF30=0,ROUNDDOWN(20,0),AG29-AH29)) -> 20 | AH30: =IF(AF30<AF29,1,IF(AF30=AF29,AH29+1,0)) -> 1
A31: 25 | B31: N0004 | C31: Charles | D31: Bothma | E31: Men Grand Masters | F31: Nam Grand Masters | H31: 19 | I31: 164.4 | J31: 164.4 | K31: =IF(J31=J30,K30,IF(J31=0,ROUNDDOWN(180,0),K30-L30)) -> 276 | L31: =IF(J31<J30,1,IF(J31=J30,L30+1,0)) -> 1 | M31: 25 | N31: N0004 | O31: Charles | P31: Bothma | Q31: Men Grand Masters | R31: Nam Grand Masters | S31: 19 | T31: 164.4 | U31: 164.4 | V31: =IF(U31=U30,V30,IF(U31=0,ROUNDDOWN(20,0),V30-W30)) -> 176 | W31: =IF(U31<U30,1,IF(U31=U30,W30+1,0)) -> 1 | X31: 25 | AG31: =IF(AF31=AF30,AG30,IF(AF31=0,ROUNDDOWN(20,0),AG30-AH30)) -> 20 | AH31: =IF(AF31<AF30,1,IF(AF31=AF30,AH30+1,0)) -> 2
A32: 26 | B32: SA2079 | C32: Cullen | D32: Opperman | E32: Men U/21 | F32: SA Men U/21 | H32: 13 | I32: 162.3 | J32: 162.3 | K32: =IF(J32=J31,K31,IF(J32=0,ROUNDDOWN(180,0),K31-L31)) -> 275 | L32: =IF(J32<J31,1,IF(J32=J31,L31+1,0)) -> 1 | M32: 26 | N32: SA2079 | O32: Cullen | P32: Opperman | Q32: Men U/21 | R32: SA Men U/21 | S32: 13 | T32: 162.3 | U32: 162.3 | V32: =IF(U32=U31,V31,IF(U32=0,ROUNDDOWN(20,0),V31-W31)) -> 175 | W32: =IF(U32<U31,1,IF(U32=U31,W31+1,0)) -> 1 | X32: 26 | AG32: =IF(AF32=AF31,AG31,IF(AF32=0,ROUNDDOWN(20,0),AG31-AH31)) -> 20 | AH32: =IF(AF32<AF31,1,IF(AF32=AF31,AH31+1,0)) -> 3
A33: 27 | B33: N0401 | C33: Henco | D33: Snyman | E33: Men U/21 | F33: Nam Men U/21 | H33: 14 | I33: 156.7 | J33: 156.7 | K33: =IF(J33=J32,K32,IF(J33=0,ROUNDDOWN(180,0),K32-L32)) -> 274 | L33: =IF(J33<J32,1,IF(J33=J32,L32+1,0)) -> 1 | M33: 27 | N33: N0401 | O33: Henco | P33: Snyman | Q33: Men U/21 | R33: Nam Men U/21 | S33: 14 | T33: 156.7 | U33: 156.7 | V33: =IF(U33=U32,V32,IF(U33=0,ROUNDDOWN(20,0),V32-W32)) -> 174 | W33: =IF(U33<U32,1,IF(U33=U32,W32+1,0)) -> 1 | X33: 27 | AG33: =IF(AF33=AF32,AG32,IF(AF33=0,ROUNDDOWN(20,0),AG32-AH32)) -> 20 | AH33: =IF(AF33<AF32,1,IF(AF33=AF32,AH32+1,0)) -> 4
A34: 28 | B34: SA6730 | C34: Lance | D34: Daniel | E34: Men U/21 | F34: SA Men U/21 | G34: 1 | H34: 11 | I34: 153.5 | J34: 153.5 | K34: =IF(J34=J33,K33,IF(J34=0,ROUNDDOWN(180,0),K33-L33)) -> 273 | L34: =IF(J34<J33,1,IF(J34=J33,L33+1,0)) -> 1 | M34: 28 | N34: SA6730 | O34: Lance | P34: Daniel | Q34: Men U/21 | R34: SA Men U/21 | S34: 11 | T34: 152.3 | U34: 152.3 | V34: =IF(U34=U33,V33,IF(U34=0,ROUNDDOWN(20,0),V33-W33)) -> 173 | W34: =IF(U34<U33,1,IF(U34=U33,W33+1,0)) -> 1 | X34: 28 | AG34: =IF(AF34=AF33,AG33,IF(AF34=0,ROUNDDOWN(20,0),AG33-AH33)) -> 20 | AH34: =IF(AF34<AF33,1,IF(AF34=AF33,AH33+1,0)) -> 5
A35: 29 | B35: N0731 | C35: Maryna | D35: Viljoen | E35: Ladies Senior | F35: Nam Ladies | G35: 1 | H35: 15 | I35: 149.5 | J35: 149.5 | K35: =IF(J35=J34,K34,IF(J35=0,ROUNDDOWN(180,0),K34-L34)) -> 272 | L35: =IF(J35<J34,1,IF(J35=J34,L34+1,0)) -> 1 | M35: 29 | N35: N0307 | O35: Herman | P35: Krauze | Q35: Men U/21 | R35: Nam Men U/21 | S35: 12 | T35: 148.4 | U35: 148.4 | V35: =IF(U35=U34,V34,IF(U35=0,ROUNDDOWN(20,0),V34-W34)) -> 172 | W35: =IF(U35<U34,1,IF(U35=U34,W34+1,0)) -> 1 | X35: 29 | AG35: =IF(AF35=AF34,AG34,IF(AF35=0,ROUNDDOWN(20,0),AG34-AH34)) -> 20 | AH35: =IF(AF35<AF34,1,IF(AF35=AF34,AH34+1,0)) -> 6
A36: 30 | B36: N0307 | C36: Herman | D36: Krauze | E36: Men U/21 | F36: Nam Men U/21 | H36: 12 | I36: 148.4 | J36: 148.4 | K36: =IF(J36=J35,K35,IF(J36=0,ROUNDDOWN(180,0),K35-L35)) -> 271 | L36: =IF(J36<J35,1,IF(J36=J35,L35+1,0)) -> 1 | M36: 30 | N36: N0254 | O36: Grant | P36: Knight | Q36: Men Veteran | R36: Nam Seniors | S36: 11 | T36: 140.1 | U36: 140.1 | V36: =IF(U36=U35,V35,IF(U36=0,ROUNDDOWN(20,0),V35-W35)) -> 171 | W36: =IF(U36<U35,1,IF(U36=U35,W35+1,0)) -> 1 | X36: 30 | AG36: =IF(AF36=AF35,AG35,IF(AF36=0,ROUNDDOWN(20,0),AG35-AH35)) -> 20 | AH36: =IF(AF36<AF35,1,IF(AF36=AF35,AH35+1,0)) -> 7
A37: 31 | B37: N0254 | C37: Grant | D37: Knight | E37: Men Veteran | F37: Nam Seniors | H37: 11 | I37: 140.1 | J37: 140.1 | K37: =IF(J37=J36,K36,IF(J37=0,ROUNDDOWN(180,0),K36-L36)) -> 270 | L37: =IF(J37<J36,1,IF(J37=J36,L36+1,0)) -> 1 | M37: 31 | N37: N0731 | O37: Maryna | P37: Viljoen | Q37: Ladies Senior | R37: Nam Ladies | S37: 15 | T37: 130.7 | U37: 130.7 | V37: =IF(U37=U36,V36,IF(U37=0,ROUNDDOWN(20,0),V36-W36)) -> 170 | W37: =IF(U37<U36,1,IF(U37=U36,W36+1,0)) -> 1 | X37: 31 | AG37: =IF(AF37=AF36,AG36,IF(AF37=0,ROUNDDOWN(20,0),AG36-AH36)) -> 20 | AH37: =IF(AF37<AF36,1,IF(AF37=AF36,AH36+1,0)) -> 8
