Workbook
Name clubl5: Clubs!$B$6:$E$20
Name clubl5: #REF!
Name Clubs: [1]Lists!$A$2:$A$18
Name Clubs: [1]Lists!$A$2:$A$18
Name Clubs: Lists!$A$2:$A$18
Name Edibles: [1]Lists!$F$2:$F$21
Name Edibles: [1]Lists!$F$2:$F$21
Name Edibles: Lists!$F$2:$F$21
Name Fish: Individuals!$Y$6:$AG$202
Name Individuals: Individuals!$B$7:$L$447
Name Inedibles: [1]Lists!$I$2:$I$26
Name Inedibles: [1]Lists!$I$2:$I$26
Name Inedibles: Lists!$I$2:$I$26
Name kgList: [1]Lists!$J$2:$AF$261
Name kgList: [1]Lists!$J$2:$AF$261
Name kgList: Lists!$J$2:$AF$261
Name Master: [1]MASTERLIST!$A$5:$E$1000
Name Master: [1]MASTERLIST!$A$5:$E$1000
Name Master: MASTERLIST!$A$5:$E$127
Name Shark: Individuals!$N$6:$V$161
Name Status: Lists!$C$2:$C$9

Sheet Lists
A1: Clubs | C1: Status | D1: Scientific Name | E1: Length to measure | F1: Edibles | G1: Scientific Name | H1: Length to measure | I1: Inedibles | K1: length | O1: KgList
A2: Atlantic Angling Club | B2: AAC | C2: Deseased | D2: Diplodus sargus capensis | E2: Fork length | F2: Blacktail | G2: Galeichthys ater | H2: Fork length | I2: Catfish - Sea Black | J2: cm | K2: Blacktail | L2: Galjoen | M2: Kob | N2: Steenbras West Coast | O2: Garrick | P2: Shad | Q2: Redfinger | R2: Shark Copper (Male) | S2: Shark Copper (Female) | T2: Shark Cow / Sevengill | U2: Shark Spotted Gully | V2: Shark Hound Smooth | W2: Shark Soupfin | X2: Guitarfish - Lesser | Y2: Elephantfish | Z2: Ray Blue (Male) | AA2: Ray Blue (Female) | AB2: Ray Bull / Eagle | AC2: Ray Diamond / ButterFly | AD2: Skate Spearnose | AE2: Green Eye Spurdog shark | AF2: Catfish - Sea Black
A3: Benguella | B3: BEN | C3: Ladies Grand Master | F3: Bluefin Gurnard | G3: Galeichthys feliceps | H3: Fork length | I3: Catfish - Sea White | J3: 1
A4: Henties Bay | B4: HEN | C4: Ladies Master | F4: Cape Gurnard | G4: Callorhinchus capensis | H4: Total length | I4: Elephantfish | J4: 2
A5: Mako | B5: MAKO | C5: Ladies Veteran | D5: Dichistius capensis | E5: Total length | F5: Galjoen | G5: Squalus chloroculus | I5: Green Eye Spurdog shark | J5: 3
A6: Namib Park | B6: NPAC | C6: Ladies Senoir | D6: Lichia amia | E6: Fork length | F6: Garrick | G6: Rhinobatos blochii | H6: Total length | I6: Guitarfish - Bluntnose | J6: 4
A7: Okahandja | B7: OKH | C7: Ladies U/21 | F7: Geelbek | G7: Rhinobatos leucospilus | H7: Total length | I7: Guitarfish - Greyspot | J7: 5
A8: Orca Angling Club | B8: ORCA | C8: Ladies U/16 | F8: Grunter - Spotted | G8: Rhinobatos annulatus | H8: Total length | I8: Guitarfish - Lesser | J8: 6
A9: Otjiwarongo | B9: OTJ | C9: Men Grandmasters | D9: Argyrosomus inodorus | E9: Total length | F9: Kob | G9: Dasyatis chrysonota chrysonota | H9: Disc width | I9: Ray Blue (Female) | J9: 7
A10: Penguin | B10: PEN | C10: Men Masters | F10: Lyre Gurnard | G10: Dasyatis chrysonota chrysonota | H10: Disc width | I10: Ray Blue (Male) | J10: 8
A11: Seagulls WHK | B11: SWHK | C11: Men Veterans | F11: Maasbanker | G11: Myliobatus aquila | H11: Disc width | I11: Ray Bull / Eagle | J11: 9
A12: Seagulls WVB | B12: SWVB | C12: Men Senior | F12: Redfinger | G12: Gymnura natalensis | H12: Disc width | I12: Ray Diamond / ButterFly | J12: 10
A13: Skeleton Coast | B13: SKUL | C13: Men U/21 | D13: Pomatomus saltatrix | E13: Fork length | F13: Shad | G13: Pteromylaeus bovinus | H13: Disc width | I13: Ray Duckbill | J13: 11
A14: Steenbras | B14: STEEN | C14: Men U/16 | F14: Steenbras Sand | G14: Carcharhinus brachyurus | H14: Pre-caudal length | I14: Shark Copper (Female) | J14: 12
A15: Walvis Bay | B15: WAL | D15: Lithognathus aureti | E15: Fork length | F15: Steenbras West Coast | G15: Carcharhinus brachyurus | H15: Pre-caudal length | I15: Shark Copper (Male) | J15: 13
A16: Welwitschia | B16: WEL | F16: Steenbras White | G16: Notorynchus cepedianus | H16: Pre-caudal length | I16: Shark Cow / Sevengill | J16: 14
F17: Strepie | G17: Mustelus mustelus | H17: Total length | I17: Shark Hound Smooth | J17: 15
F18: Striped Mullet | G18: Mustelus palumbes | H18: Total length | I18: Shark Hound Whitespotted | J18: 16
F19: Tuna Eastern Little | G19: Galeocerdo cuvier | H19: Pre-caudal length | I19: Shark Ragged Tooth | J19: 17
F20: White Stumpnose | G20: Galeorhinus galeus | H20: Pre-caudal length | I20: Shark Soupfin | J20: 18
F21: Yellowtail amberjack | G21: Triakis megalopterus | H21: Total length | I21: Shark Spotted Gully | J21: 19
G22: Dipturus doutrei | H22: Disc width | I22: Skate - Javelin | J22: 20
G23: Raja clavata | H23: Disc width | I23: Skate - Thornback | J23: 21
G24: Raja alba | H24: Disc width | I24: Skate Spearnose | J24: 23 | K24: 0.3 | Q24: 0
I25: Spiney dogfish Bluntnose | J25: 24 | K25: 0.4 | Q25: 0
I26: Spiney dogfish Spotted | J26: 25 | K26: 0.4 | Q26: 0
I27: Spinner shark - Long nose | J27: 26 | K27: 0.5 | Q27: 0
I28: Tresher Shark | J28: 27 | K28: 0.6 | Q28: 0
J29: 28 | K29: 0.6 | Q29: 0
J30: 29 | K30: 0.7 | Q30: 0
J31: 30 | K31: 0.84160148 | L31: 0.5 | Q31: 0 | AA31: 1.0179249
J32: 31 | K32: 0.9282937 | L32: 0.5 | Q32: 0 | AA32: 1.1324446
J33: 32 | K33: 1.0207335 | L33: 0.6 | N33: 0.7 | Q33: 0 | Z33: 0.95836376 | AA33: 1.2555905
J34: 33 | K34: 1.1191044 | L34: 0.7 | N34: 0.8 | Q34: 0 | Z34: 1.0570748 | AA34: 1.3729856
J35: 34 | K35: 1.22359 | L35: 0.7 | N35: 0.9 | Q35: 0 | Z35: 1.1557858 | AA35: 1.4918184
J36: 35 | K36: 1.3343735 | L36: 0.78195192 | N36: 0.9 | Q36: 0 | Z36: 1.2544969 | AA36: 1.680296
J37: 36 | K37: 1.4516383 | L37: 0.85379096 | N37: 1 | O37: 0.67361769 | Q37: 0 | W37: 1.0020532 | Z37: 1.3532079 | AA37: 1.8414706
J38: 37 | K38: 1.5755678 | L38: 0.92998754 | N38: 1.1 | O38: 0.7258366 | Q38: 0 | W38: 1.0678087 | Z38: 1.451919 | AA38: 2.0136313
J39: 38 | K39: 1.7063452 | L39: 1.0106774 | N39: 1.2 | O39: 0.78054773 | P39: 0.73085122 | Q39: 0 | W39: 1.1335641 | Z39: 1.6569162 | AA39: 2.1960132 | AB39: 0.9628367
J40: 39 | K40: 1.8441537 | L40: 1.0959969 | N40: 1.3 | O40: 0.83779974 | P40: 0.78967185 | Q40: 0 | W40: 1.1993196 | Z40: 1.7998651 | AA40: 2.389526 | AB40: 1.0424834
J41: 40 | K41: 1.9891765 | L41: 1.1860826 | M41: 0.65065738 | N41: 1.4 | O41: 0.89764092 | P41: 0.85155591 | Q41: 0 | W41: 1.2650751 | Z41: 1.9505771 | AA41: 2.5945375 | AB41: 1.127331 | AF41: 0.98692061
J42: 41 | K42: 2.1415966 | L42: 1.2810715 | M42: 0.70137925 | N42: 1.5 | O42: 0.96011925 | P42: 0.91658036 | Q42: 0 | W42: 1.3308306 | Z42: 2.1102279 | AA42: 2.8114178 | AB42: 1.2234013 | AF42: 1.0649112
J43: 42 | K43: 2.3015972 | L43: 1.3811013 | M43: 0.75468867 | N43: 1.6 | O43: 1.0252824 | P43: 0.9848592 | Q43: 0 | W43: 1.396586 | Z43: 2.2786218 | AA43: 3.0405392 | AB43: 1.3194716 | AF43: 1.1469608
J44: 43 | K44: 2.4693612 | L44: 1.4863098 | M44: 0.81065132 | N44: 1.7 | O44: 1.0931776 | P44: 1.0563972 | Q44: 0 | W44: 1.4623415 | Z44: 2.4560121 | AA44: 3.2822764 | AB44: 1.4155418 | AF44: 1.2331764
J45: 44 | K45: 2.6450717 | L45: 1.5968352 | M45: 0.86933292 | N45: 1.8 | O45: 1.1638519 | P45: 1.1313064 | Q45: 0 | R45: 0.9695481 | S45: 0.96756273 | W45: 1.596075 | Z45: 2.6426535 | AA45: 3.5370064 | AB45: 1.5078594 | AF45: 1.3236652
J46: 45 | K46: 2.8289115 | L46: 1.7128163 | M46: 0.93079926 | N46: 1.9 | O46: 1.237352 | P46: 1.2096634 | Q46: 0 | R46: 1.0404588 | S46: 1.0376029 | W46: 1.6844899 | Z46: 2.8388018 | AA46: 3.8051084 | AB46: 1.6151878 | AF46: 1.4185347
J47: 46 | K47: 3.0210635 | L47: 1.8343922 | M47: 0.9951162 | N47: 2.1 | O47: 1.3137244 | P47: 1.2915452 | Q47: 0 | R47: 1.1148248 | S47: 1.1110052 | W47: 1.7842344 | Z47: 3.0447136 | AA47: 4.0869636 | AB47: 1.7 | AF47: 1.5178926
J48: 47 | K48: 3.2217107 | L48: 1.9617021 | M48: 1.0623496 | N48: 2.2 | O48: 1.3930151 | P48: 1.3770283 | Q48: 0 | R48: 1.1927338 | S48: 1.1878527 | W48: 1.8839789 | Z48: 3.2606469 | AA48: 4.3829555 | AB48: 1.8 | AF48: 1.6218466
J49: 48 | K49: 3.4310357 | L49: 2.0948861 | M49: 1.1325656 | N49: 2.4 | O49: 1.4752701 | P49: 1.4661896 | Q49: 0 | R49: 1.2742739 | S49: 1.2682285 | W49: 1.9530418 | Z49: 3.4868606 | AA49: 4.6934697 | AB49: 2 | AC49: 0.96047262 | AF49: 1.7305048
J50: 49 | L50: 2.2340841 | M50: 1.20583 | N50: 2.5 | O50: 1.5605349 | P50: 1.5591058 | Q50: 0 | R50: 1.3595333 | S50: 1.3522162 | W50: 2.0487272 | Z50: 3.7236145 | AA50: 5.0188938 | AB50: 2.1 | AC50: 1.0285084 | AF50: 1.8439754
J51: 50 | L51: 2.3794367 | M51: 1.2822089 | N51: 2.7 | O51: 1.6488549 | P51: 1.6558534 | Q51: 0 | R51: 1.4486005 | S51: 1.4398992 | W51: 2.1470246 | Y51: 0.99625 | Z51: 3.9711696 | AA51: 5.3596174 | AB51: 2.2 | AC51: 1.0965443 | AD51: 1 | AF51: 1.9623668
J52: 51 | L52: 2.5310848 | M52: 1.3617686 | N52: 2.8 | O52: 1.7402751 | P52: 1.756509 | Q52: 0 | R52: 1.5415644 | S52: 1.5313614 | W52: 2.2435806 | Y52: 1.0572285 | Z52: 4.2297878 | AA52: 5.7160322 | AB52: 2.4 | AC52: 1.1645801 | AD52: 1.1 | AF52: 2.0857875
J53: 52 | L53: 2.6891695 | M53: 1.4445752 | N53: 3 | O53: 1.8348403 | P53: 1.8611493 | Q53: 0 | R53: 1.6385139 | S53: 1.6266868 | W53: 2.340572 | Y53: 1.1206458 | Z53: 4.499732 | AA53: 6.0885318 | AB53: 2.5 | AC53: 1.2266098 | AD53: 1.1 | AF53: 2.2143462
J54: 53 | L54: 2.8538324 | M54: 1.5306949 | N54: 3.1 | O54: 1.9325953 | P54: 1.9698509 | Q54: 0 | R54: 1.7395385 | S54: 1.7259596 | T54: 1.0148951 | W54: 2.457758 | Y54: 1.1865497 | Z54: 4.7812662 | AA54: 6.4775119 | AB54: 2.7 | AC54: 1.3060911 | AD54: 1.2 | AF54: 2.348152
J55: 54 | L55: 3.0252152 | M55: 1.620194 | N55: 3.3 | O55: 2.0335842 | P55: 2.0826902 | Q55: 0 | R55: 1.8447276 | S55: 1.829264 | T55: 1.1726034 | W55: 2.5666711 | Y55: 1.2549881 | Z55: 5.074655 | AA55: 6.8833698 | AB55: 2.8 | AC55: 1.3855723 | AD55: 1.3 | AF55: 2.4873137
J56: 55 | L56: 3.2034603 | M56: 1.7131388 | N56: 3.5 | O56: 2.1378513 | P56: 2.1997437 | Q56: 0 | R56: 1.954171 | S56: 1.9366847 | T56: 1.3303117 | W56: 2.6755841 | Y56: 1.3260087 | Z56: 5.3801642 | AA56: 7.306505 | AB56: 3 | AC56: 1.4650536 | AD56: 1.3 | AF56: 2.6319408
J57: 56 | L57: 3.3887099 | M57: 1.8095958 | N57: 3.7 | O57: 2.2454404 | P57: 2.3210879 | Q57: 0 | R57: 2.0679586 | S57: 2.0483062 | T57: 1.48802 | W57: 2.7844972 | Y57: 1.3996595 | Z57: 5.6980605 | AA57: 7.7473187 | AB57: 3.2 | AC57: 1.5 | AD57: 1.4 | AF57: 2.7821425
J58: 57 | L58: 3.581107 | M58: 1.9096314 | N58: 3.9 | O58: 2.3563953 | P58: 2.4467992 | Q58: 0 | R58: 2.1861809 | S58: 2.1642134 | T58: 1.6457283 | W58: 2.9096408 | Y58: 1.4759882 | Z58: 6.0286114 | AA58: 8.206214 | AB58: 3.3 | AC58: 1.6 | AD58: 1.5 | AF58: 2.9380285
J59: 58 | L59: 3.7807947 | M59: 2.013312 | N59: 4.1 | O59: 2.4707594 | P59: 2.5769541 | Q59: 0 | R59: 2.3089281 | S59: 2.2844915 | T59: 1.8034366 | W59: 3.0185539 | Y59: 1.5550426 | Z59: 6.3720854 | AA59: 8.6835958 | AB59: 3.5 | AC59: 1.7 | AD59: 1.6 | AF59: 3.0997085
J60: 59 | L60: 3.9879162 | M60: 2.1207042 | N60: 4.3 | O60: 2.5885759 | P60: 2.7116289 | Q60: 0 | R60: 2.436291 | S60: 2.4092255 | T60: 1.9611449 | W60: 3.1323361 | Y60: 1.6368706 | Z60: 6.7287518 | AA60: 9.1798708 | AB60: 3.7 | AC60: 1.8 | AD60: 1.7 | AF60: 3.2672923
J61: 60 | L61: 4.2026154 | M61: 2.2318746 | N61: 4.5 | O61: 2.7098879 | P61: 2.8509 | Q61: 0 | R61: 2.5683605 | S61: 2.5385008 | T61: 2.1188532 | W61: 3.2461184 | Y61: 1.72152 | Z61: 7.0988808 | AA61: 9.6954474 | AB61: 3.9 | AC61: 1.9 | AD61: 1.8 | AF61: 3.4408899
J62: 61 | L62: 4.4250363 | M62: 2.3468897 | N62: 4.8 | O62: 2.8347383 | P62: 2.9948437 | Q62: 0 | R62: 2.7052277 | S62: 2.6724029 | T62: 2.2765615 | W62: 3.3599006 | Y62: 1.8090386 | Z62: 7.4827434 | AA62: 10.230736 | AB62: 4.1 | AC62: 2 | AD62: 1.9 | AF62: 3.6206116
J63: 62 | L63: 4.655323 | M63: 2.4658163 | N63: 5 | O63: 2.9631697 | P63: 3.1435364 | Q63: 0 | R63: 2.846984 | S63: 2.8110174 | T63: 2.4342698 | W63: 3.5362877 | Y63: 1.8994742 | Z63: 7.8806116 | AA63: 10.786148 | AB63: 4.3 | AC63: 2.1 | AD63: 2 | AF63: 3.8065677
J64: 63 | L64: 4.8936202 | M64: 2.5887211 | N64: 5.2 | O64: 3.0952246 | P64: 3.2970543 | Q64: 0 | R64: 2.9937209 | S64: 2.9544303 | T64: 2.5919781 | W64: 3.670007 | Y64: 1.9928746 | Z64: 8.292758 | AA64: 11.362097 | AB64: 4.5 | AC64: 2.2 | AD64: 2.1 | AF64: 3.9988686
J65: 64 | L65: 5.1400728 | M65: 2.7156707 | N65: 5.5 | O65: 3.2309452 | P65: 3.4554736 | Q65: 0 | R65: 3.1455303 | S65: 3.1027275 | T65: 2.7496864 | W65: 3.8037262 | X65: 0.90796475 | Y65: 2.0892877 | Z65: 8.7194561 | AA65: 11.958999 | AB65: 4.7 | AC65: 2.3 | AD65: 2.2 | AF65: 4.1976249
J66: 65 | L66: 5.3948258 | M66: 2.8467321 | N66: 5.7 | O66: 3.3703738 | P66: 3.6188707 | Q66: 0 | R66: 3.3025039 | S66: 3.255995 | T66: 2.9073947 | U66: 0.98816706 | W66: 3.9374454 | X66: 0.95381995 | Y66: 2.1887612 | Z66: 9.1609804 | AA66: 12.577271 | AB66: 5 | AC66: 2.4 | AD66: 2.3 | AF66: 4.4029474
J67: 66 | L67: 5.6580246 | M67: 2.9819719 | N67: 6 | O67: 3.513552 | P67: 3.7873216 | Q67: 0 | R67: 3.4647341 | S67: 3.4143192 | T67: 3.0659975 | U67: 1.0413009 | W67: 4.0711646 | X67: 0.99967514 | Y67: 2.2913431 | Z67: 9.6176059 | AA67: 13.217331 | AB67: 5.2 | AC67: 2.6 | AD67: 2.4 | AE67: 0.98816706 | AF67: 4.6149469
J68: 67 | L68: 5.9298149 | M68: 3.1214572 | N68: 6.3 | O68: 3.6605219 | P68: 3.9609027 | Q68: 0 | R68: 3.6323132 | S68: 3.5777865 | T68: 3.2210225 | U68: 1.0964278 | W68: 4.2048838 | X68: 1.0502458 | Y68: 2.3970811 | Z68: 10.089609 | AA68: 13.879599 | AB68: 5.5 | AC68: 2.7 | AD68: 2.5 | AE68: 1.0413009 | AF68: 4.8337346
J69: 68 | L69: 6.2103426 | M69: 3.2652548 | N69: 6.6 | O69: 3.8113247 | P69: 4.13969 | Q69: 0 | R69: 3.8053337 | S69: 3.7464834 | T69: 3.3814141 | U69: 1.150226 | V69: 0.95651425 | W69: 4.3813469 | X69: 1.0913855 | Y69: 2.506023 | Z69: 10.577265 | AA69: 14.564497 | AB69: 5.7 | AC69: 2.8 | AD69: 2.6 | AE69: 1.0964278 | AF69: 5.0594215
J70: 69 | L70: 6.4997539 | M70: 3.4134317 | N70: 6.8 | O70: 3.9660021 | P70: 4.3237597 | Q70: 0 | R70: 3.9838885 | S70: 3.9204967 | T70: 3.5472749 | U70: 1.2043564 | V70: 1.0066815 | W70: 4.5322616 | X70: 1.1531485 | Y70: 2.6182167 | Z70: 11.080853 | AA70: 15.272449 | AB70: 6 | AC70: 2.9 | AD70: 2.7 | AE70: 1.150226 | AF70: 5.292119
J71: 70 | L71: 6.7981953 | M71: 3.5660549 | N71: 7.1 | O71: 4.1245951 | P71: 4.5131879 | Q71: 0 | R71: 4.1680704 | S71: 4.0999131 | T71: 3.6959363 | U71: 1.2584868 | V71: 1.0587008 | W71: 4.6831764 | X71: 1.2149115 | Y71: 2.73371 | Z71: 11.600651 | AA71: 16.003879 | AB71: 6.2 | AC71: 3 | AD71: 2.9 | AE71: 1.2043564 | AF71: 5.5319385
J72: 71 | L72: 7.1058134 | M72: 3.7231914 | N72: 7.5 | O72: 4.2871449 | P72: 4.7080508 | Q72: 0 | R72: 4.3579727 | S72: 4.2848197 | T72: 3.8536446 | U72: 1.3126172 | V72: 1.1126128 | W72: 4.8340911 | X72: 1.2766744 | Y72: 2.8525507 | Z72: 12.136937 | AA72: 16.759214 | AB72: 6.5 | AC72: 3.2 | AD72: 3.0333333 | AE72: 1.2584868 | AF72: 5.7789915
J73: 72 | L73: 7.4227552 | M73: 3.8849083 | N73: 7.8 | O73: 4.4536924 | P73: 4.9084243 | Q73: 0 | R73: 4.5536886 | S73: 4.4753036 | T73: 4.0787066 | U73: 1.3667476 | V73: 1.1684581 | W73: 4.9850058 | X73: 1.3384374 | Y73: 2.9747866 | Z73: 12.689992 | AA73: 17.538883 | AB73: 6.8 | AC73: 3.3 | AD73: 3.1833333 | AE73: 1.3126172 | AF73: 6.0333897
J74: 73 | L74: 7.749168 | M74: 4.0512727 | N74: 8.1 | O74: 4.6242783 | P74: 5.1143846 | Q74: 0 | R74: 4.7553117 | S74: 4.6714521 | T74: 4.2588662 | U74: 1.420878 | V74: 1.2262778 | W74: 5.1359205 | X74: 1.4002003 | Y74: 3.1004655 | Z74: 13.260095 | AA74: 18.343314 | AB74: 7.1 | AC74: 3.5 | AD74: 3.3333333 | AE74: 1.3667476 | AF74: 6.295245
J75: 74 | L75: 8.085199 | M75: 4.2223518 | N75: 8.4 | O75: 4.7989431 | P75: 5.3260076 | Q75: 0 | R75: 4.9629357 | S75: 4.8733524 | T75: 4.4502514 | U75: 1.4750084 | V75: 1.2861131 | W75: 5.2868353 | X75: 1.4619633 | Y75: 3.2296353 | Z75: 13.847528 | AA75: 19.172938 | AB75: 7.4 | AC75: 3.6 | AD75: 3.4833333 | AE75: 1.420878 | AF75: 6.5646692
J76: 75 | L76: 8.4309962 | M76: 4.3982127 | N76: 8.8 | O76: 4.9777274 | P76: 5.5433694 | Q76: 0 | R76: 5.1766545 | S76: 5.0810922 | T76: 4.6631007 | U76: 1.6144539 | V76: 1.3429456 | W76: 5.4994146 | X76: 1.5237263 | Y76: 3.3623437 | Z76: 14.452573 | AA76: 20.028189 | AB76: 7.7 | AC76: 3.4 | AD76: 3.6333333 | AE76: 1.4750084 | AF76: 6.8417744
J77: 76 | L77: 8.7867073 | M77: 4.5789227 | N77: 9.1 | O77: 5.1606714 | P77: 5.766546 | Q77: 0 | R77: 5.396562 | S77: 5.2947591 | T77: 4.8616406 | U77: 1.6970227 | V77: 1.4007777 | W77: 5.6710067 | X77: 1.5854892 | Y77: 3.4986387 | Z77: 15.075513 | AA77: 20.909501 | AB77: 8 | AC77: 3.5 | AD77: 3.7833333 | AE77: 1.6144539 | AF77: 7.1266728
J78: 77 | L78: 9.1524805 | M78: 4.7645489 | N78: 9.5 | O78: 5.3478152 | P78: 5.9956134 | Q78: 0 | R78: 5.6227527 | S78: 5.5144408 | T78: 5.0637579 | U78: 1.7938107 | V78: 1.4586098 | W78: 5.8425987 | X78: 1.6472522 | Y78: 3.638568 | Z78: 15.716631 | AA78: 21.817308 | AB78: 8.4 | AC78: 3.6 | AD78: 3.9333333 | AE78: 1.6970227 | AF78: 7.4194767
J79: 78 | L79: 9.5284643 | M79: 4.9551588 | N79: 9.8 | O79: 5.5391989 | P79: 6.2306474 | Q79: 0 | R79: 5.8553208 | S79: 5.7402253 | T79: 5.2658751 | U79: 1.8905986 | V79: 1.5164419 | W79: 6.0141908 | X79: 1.7090152 | Y79: 3.7821794 | Z79: 16.37621 | AA79: 22.752047 | AB79: 8.7 | AD79: 4 | AE79: 1.7938107 | AF79: 7.7202985
J80: 79 | L80: 9.9148072 | M80: 5.1508197 | N80: 10.2 | O80: 5.7348622 | P80: 6.4717241 | Q80: 0 | R80: 6.094361 | S80: 5.9722006 | T80: 5.4679924 | U80: 1.9294637 | V80: 1.574274 | W80: 6.1857829 | X80: 1.7707781 | Y80: 3.9295208 | Z80: 17.054536 | AA80: 23.714158 | AB80: 9 | AD80: 4.2333333 | AE80: 1.8905986 | AF80: 8.0292507
J81: 80 | L81: 10.311658 | M81: 5.3515988 | N81: 10.6 | O81: 5.934845 | P81: 6.7189192 | Q81: 0 | R81: 6.339968 | S81: 6.2104549 | T81: 5.7667845 | U81: 2.0141958 | V81: 1.6898047 | W81: 6.3573749 | X81: 1.8325411 | Y81: 4.08064 | Z81: 17.751894 | AA81: 24.704079 | AB81: 9.4 | AD81: 4.3833333 | AE81: 1.9294637 | AF81: 8.3464461
J82: 81 | L82: 10.719166 | M82: 5.5575636 | N82: 11 | O82: 6.1391867 | P82: 6.9723088 | Q82: 0 | R82: 6.5922368 | S82: 6.4550763 | T82: 6.0066099 | U82: 2.1018921 | V82: 1.7668696 | W82: 6.574302 | X82: 1.894304 | Y82: 4.2355848 | Z82: 18.46857 | AA82: 25.722253 | AB82: 9.8 | AD82: 4.6 | AE82: 2.0141958 | AF82: 8.6719973
J83: 82 | L83: 11.137481 | M83: 5.7687816 | N83: 11.4 | O83: 6.3479269 | P83: 7.2319687 | Q83: 0 | R83: 6.8512624 | S83: 6.7061534 | T83: 6.2532818 | U83: 2.19226 | V83: 1.853551 | W83: 6.7307824 | X83: 1.9922866 | Y83: 4.394403 | Z83: 19.204851 | AA83: 26.769121 | AB83: 10.1 | AD83: 4.7 | AE83: 2.1018921 | AF83: 9.0060172
J84: 83 | L84: 11.566751 | M84: 5.9853202 | N84: 11.8 | O84: 6.5611047 | P84: 7.4979748 | Q84: 0 | R84: 7.1171401 | S84: 6.9637746 | T84: 6.5069086 | U84: 2.2853466 | V84: 1.9222952 | W84: 6.957007 | X84: 2.0705804 | Y84: 4.5571424 | Z84: 19.961023 | AA84: 27.845127 | AB84: 10.5 | AD84: 4.9 | AE84: 2.19226 | AF84: 9.3486188
J85: 84 | L85: 12.007128 | M85: 6.2072468 | N85: 12.2 | O85: 6.7787594 | P85: 7.7704028 | Q85: 0 | R85: 7.3899653 | S85: 7.2280286 | T85: 6.7675991 | U85: 2.3811997 | V85: 2.0100813 | W85: 7.1529907 | X85: 2.1509578 | Y85: 4.7238509 | Z85: 20.737376 | AA85: 28.950717 | AB85: 10.9 | AD85: 5.1 | AE85: 2.2853466 | AF85: 9.6999153
J86: 85 | L86: 12.458759 | M86: 6.4346291 | N86: 12.7 | O86: 7.0009301 | P86: 8.0493286 | Q86: 0 | R86: 7.6698337 | S86: 7.4990041 | T86: 7.0354623 | U86: 2.4798669 | V86: 2.0950389 | W86: 7.3520779 | X86: 2.2334485 | Y86: 4.8945762 | Z86: 21.534198 | AA86: 30.086337 | AB86: 11.3 | AD86: 5.3 | AE86: 2.3811997 | AF86: 10.06002
J87: 86 | L87: 12.921797 | M87: 6.6675346 | N87: 13.1 | O87: 7.2276555 | P87: 8.334828 | Q87: 0 | R87: 7.956841 | S87: 7.7767901 | T87: 7.3106078 | U87: 2.5813965 | V87: 2.1825302 | W87: 7.5490962 | X87: 2.3180822 | Y87: 5.0693663 | Z87: 22.351778 | AA87: 31.252436 | AB87: 11.7 | AD87: 5.5 | AE87: 2.4798669 | AF87: 10.429046
J88: 87 | L88: 13.396391 | M88: 6.9060309 | N88: 13.6 | O88: 7.4589746 | Q88: 0 | R88: 8.251083 | S88: 8.0614753 | T88: 7.5931453 | U88: 2.6858365 | V88: 2.2726002 | W88: 7.7466316 | X88: 2.4048887 | Y88: 5.2482689 | Z88: 23.190405 | AA88: 32.449462 | AB88: 12.1 | AD88: 5.7 | AE88: 2.5813965 | AF88: 10.807106
J89: 88 | L89: 13.882692 | M89: 7.1501855 | N89: 14 | O89: 7.694926 | Q89: 0 | R89: 8.5526559 | S89: 8.3531491 | T89: 7.8831852 | U89: 2.7932356 | V89: 2.3652937 | W89: 7.9441671 | X89: 2.4938978 | Y89: 5.4313318 | Z89: 24.050372 | AA89: 33.677867 | AB89: 12.6 | AD89: 5.9 | AE89: 2.6858365 | AF89: 11.194315
J90: 89 | L90: 14.38085 | M90: 7.4000662 | N90: 14.5 | O90: 7.9355482 | Q90: 0 | R90: 8.8616558 | S90: 8.6519006 | T90: 8.1808378 | U90: 2.9036427 | V90: 2.4606562 | W90: 8.1796944 | X90: 2.5851395 | Y90: 5.6186029 | Z90: 24.931968 | AA90: 34.938101 | AB90: 13 | AD90: 6.1 | AE90: 2.7932356 | AF90: 11.590786
J91: 90 | L91: 14.891018 | M91: 7.6557407 | N91: 15 | O91: 8.1808797 | Q91: 0 | R91: 9.1781791 | S91: 8.957819 | T91: 8.4862143 | U91: 3.0171066 | V91: 2.5587331 | W91: 8.4 | X91: 2.6786436 | Y91: 5.81013 | Z91: 25.835486 | AA91: 36.230619 | AB91: 13.5 | AD91: 6.3 | AE91: 2.9036427 | AF91: 11.996632
J92: 91 | M92: 7.9172766 | N92: 15.5 | O92: 8.4309587 | Q92: 0 | R92: 9.5023225 | S92: 9.2709939 | T92: 8.7994257 | U92: 3.1336766 | V92: 2.6595703 | W92: 8.6 | X92: 2.7744403 | Y92: 6.0059609 | Z92: 26.761218 | AA92: 37.555875 | AB92: 13.9 | AD92: 6.6 | AE92: 3.0171066 | AF92: 12.411968
J93: 92 | M93: 8.1847418 | N93: 16 | O93: 8.6858234 | Q93: 0 | R93: 9.8341824 | S93: 9.5915148 | T93: 9.1205838 | U93: 3.2534023 | V93: 2.7632139 | W93: 8.8 | X93: 2.8725596 | Y93: 6.2061434 | Z93: 27.709457 | AA93: 38.914324 | AB93: 14.4 | AD93: 6.8 | AE93: 3.1336766 | AF93: 12.836908
J94: 93 | M94: 8.4582039 | N94: 16.5 | O94: 8.945512 | Q94: 0 | R94: 10.173856 | S94: 9.9194714 | T94: 9.4498004 | U94: 3.3763334 | V94: 2.8697102 | W94: 9.1 | X94: 2.9730316 | Y94: 6.4107253 | Z94: 28.680497 | AA94: 40.306424 | AB94: 14.9 | AD94: 7 | AE94: 3.2534023 | AF94: 13.271564
J95: 94 | M95: 8.7377308 | N95: 17 | O95: 9.2100623 | Q95: 0 | R95: 10.52144 | S95: 10.254953 | T95: 9.7871878 | U95: 3.5025198 | V95: 2.9791058 | W95: 9.3 | X95: 3.0758867 | Y95: 6.6197545 | Z95: 29.674632 | AA95: 41.732633 | AB95: 15.4 | AD95: 7.3 | AE95: 3.3763334 | AF95: 13.716053
J96: 95 | M96: 9.0233904 | N96: 17.6 | O96: 9.4795122 | Q96: 0 | R96: 10.877031 | S96: 10.59805 | T96: 10.132859 | U96: 3.6320117 | V96: 3.0914474 | W96: 9.5 | X96: 3.1811549 | Y96: 6.8332787 | Z96: 30.692157 | AA96: 43.19341 | AB96: 15.9 | AD96: 7.5 | AE96: 3.5025198 | AF96: 14.170487
J97: 96 | M97: 9.3152504 | N97: 18.1 | O97: 9.7538995 | Q97: 0 | R97: 11.240727 | S97: 10.948853 | T97: 10.486926 | U97: 3.7648597 | V97: 3.2067822 | W97: 9.8 | X97: 3.2888667 | Y97: 7.0513459 | Z97: 31.733367 | AA97: 44.689217 | AB97: 16.4 | AD97: 7.8 | AE97: 3.6320117 | AF97: 14.634982
J98: 97 | M98: 9.6133789 | N98: 18.7 | O98: 10.033262 | Q98: 0 | R98: 11.612626 | S98: 11.307451 | T98: 10.849503 | U98: 3.9011142 | V98: 3.3251575 | W98: 10 | X98: 3.3990525 | Y98: 7.2740038 | Z98: 32.798558 | AA98: 46.220514 | AB98: 16.9 | AD98: 8 | AE98: 3.7648597 | AF98: 15.109651
J99: 98 | M99: 9.9178436 | N99: 19.2 | O99: 10.317636 | Q99: 0 | R99: 11.992824 | S99: 11.673934 | T99: 11.220704 | U99: 4.0408262 | V99: 3.4466208 | W99: 10.2 | X99: 3.5117426 | Y99: 7.5013002 | Z99: 33.888026 | AA99: 47.787766 | AB99: 17.5 | AD99: 8.3 | AE99: 3.9011142 | AF99: 15.594609
J100: 99 | M100: 10.228713 | N100: 19.8 | O100: 10.607061 | Q100: 0 | R100: 12.38142 | S100: 12.048393 | T100: 11.600641 | U100: 4.1840468 | V100: 3.57122 | W100: 10.5 | X100: 3.6269676 | Y100: 7.733283 | Z100: 35.00207 | AA100: 49.391436 | AB100: 18 | AD100: 8.6 | AE100: 4.0408262 | AF100: 16.089972
...

Sheet MASTERLIST
A1: Only complete Black areas on sheet
B2: MASTER ANGLERS LIST
A4: Number | B4: Club | C4: Name | D4: Surname | E4: Status | F4: DOB | G4: Date Today | H4: Age | J4: Gender | K4: ID Number | L4: Nationality | M4: E-mail | N4: Cell
A5: N0004 | B5: Nam Grand Masters | C5: Charles | D5: Bothma | E5: Men Grand Masters | F5: 21920 | G5: 44503 | H5: 61.827778 | I5: Grand Masters | J5: Men
A6: N0007 | B6: Nam Seniors | C6: Brian | D6: Curtis | E6: Men Senior | F6: 31732 | G6: 44503 | H6: 34.963889 | I6: Senior | J6: Men | K6: 86111600125
A7: N0009 | B7: Nam Masters | C7: Henry | D7: Loubser | E7: Men Master | F7: 22339 | G7: 44503 | H7: 60.683333 | I7: Grand Masters | J7: Men | K7: 61022700219
A8: N0008 | B8: Nam Grand Masters | C8: Andre | D8: Coetzee | E8: Men Grand Masters | F8: 19577 | G8: 44503 | H8: 68.241667 | I8: Grand Masters | J8: men
A9: N0013 | B9: Nam Masters | C9: Rodger | D9: Boon | E9: Men Master | F9: 24486 | G9: 44503 | H9: 54.802778 | I9: Master | J9: Men
A10: N0015 | B10: Nam Grand Masters | C10: Herman | D10: Fourie | E10: Men Grand Masters | F10: 21499 | G10: 44503 | H10: 62.980556 | I10: Grand Masters | J10: Men
A11: N0019 | B11: Nam Seniors | C11: Johan | D11: Visser | E11: Men Senior | F11: 30621 | G11: 44503 | H11: 38.005556 | I11: Senior | J11: Men
A12: N0023 | B12: Nam Grand Masters | C12: Jörg | D12: Walter | E12: Men Grand Masters | F12: 21415 | G12: 44503 | H12: 63.208333 | I12: Grand Masters | J12: Men
A13: N0024 | B13: Nam Seniors | C13: Andrew | D13: Van Der Westhuizen | E13: Men Veteran | F13: 28801 | G13: 44503 | H13: 42.988889 | I13: Veteran | J13: Men
A14: N0031 | B14: Nam Seniors | C14: Emil | D14: Prinsloo | E14: Men Veteran | F14: 28271 | G14: 44503 | H14: 44.436111 | I14: Veteran | J14: Men | K14: 77052600048
A15: N0030 | B15: Nam Masters | C15: Ettiene | D15: Stipp | E15: Men Master | F15: 24985 | G15: 44503 | H15: 53.433333 | I15: Master | J15: Men
A16: N0035 | B16: Nam Seniors | C16: Johan | D16: Van Wyk | E16: Men Veteran | F16: 28278 | G16: 44503 | H16: 44.419444 | I16: Veteran | J16: Men
A17: N0041 | B17: Nam Masters | C17: Terence | D17: Clark | E17: Men Master | F17: 22712 | G17: 44503 | H17: 59.655556 | I17: Master | J17: Men | K17: 62030700864
A18: N0073 | B18: Nam Ladies | C18: Marina | D18: Kruger | E18: Ladies Senior | F18: 24725 | G18: 44503 | H18: 54.147222 | I18: Senior | J18: Ladies
A19: N0091 | B19: Nam Grand Masters | C19: Deon | D19: Jacobs | E19: Men Grand Masters | F19: 19577 | G19: 44503 | H19: 68.241667 | I19: Grand Masters | J19: Men
A20: N0146 | B20: Nam Grand Masters | C20: Danie | D20: Du Toit | E20: Men Grand Masters | F20: 20390 | G20: 44503 | H20: 66.013889 | I20: Grand Masters | J20: Men
A21: N0150 | B21: Nam Ladies | C21: Lindie | D21: Krauze | E21: Ladies Senior | F21: 27616 | G21: 44503 | H21: 46.230556 | I21: Senior | J21: Ladies
A22: N0307 | B22: Nam Men U/21 | C22: Herman | D22: Krauze | E22: Men U/21 | F22: 37971 | G22: 44503 | H22: 17.880556 | I22: U/21 | J22: Men
A23: N0180 | B23: Nam Ladies | C23: Elaine | D23: Vorster | E23: Ladies Senior | F23: 28800 | G23: 44503 | H23: 42.991667 | I23: Senior | J23: Ladies
A24: N0203 | B24: Nam Grand Masters | C24: Andre | D24: Muller | E24: Men Grand Masters | F24: 18986 | G24: 44503 | H24: 69.858333 | I24: Grand Masters | J24: Men
A25: N0208 | B25: Nam Masters | C25: Adri | D25: Roets | E25: Men Master | F25: 25751 | G25: 44503 | H25: 51.336111 | I25: Senior | J25: Men
A26: N0254 | B26: Nam Seniors | C26: Grant | D26: Knight | E26: Men Veteran | F26: 28244 | G26: 44503 | H26: 44.511111 | I26: Veteran | J26: Men
A27: N0283 | B27: Nam Men U/21 | C27: Kevin | D27: Page | E27: Men U/21 | F27: 37926 | G27: 44503 | H27: 18.005556 | I27: U/21 | J27: Men
A28: N0307 | B28: NAM MEN U/16 | C28: Herman | D28: Krauze | E28: Men U/21 | F28: 38026 | G28: 44503 | H28: 17.733333 | I28: U/21 | J28: Men
A29: N0401 | B29: Nam Men U/21 | C29: Henco | D29: Snyman | E29: Men U/21 | F29: 37307 | G29: 44503 | H29: 19.702778 | I29: U/21 | J29: Men
... A33: N0636 | B33: Nam Ladies | C33: Lydia | D33: Cilliers | E33: ladies Senior | F33: 29035 | G33: 44503 | H33: 42.344444 | I33: Senior | J33: ladies
A34: N0667 | B34: Nam Ladies | C34: Nadine | D34: Downing | E34: Ladies Senior | I34: Senior | J34: Ladies
A35: N0687 | B35: Nam Men U/21 | C35: Barren | D35: Van Es | E35: Men Senior | F35: 36199 | G35: 44503 | H35: 22.736111 | I35: Senior | J35: Men | K35: 99020800132
A36: SA4139 | B36: SA Seniors | C36: Hendrico | D36: Lesch | E36: Men Senior | F36: 30893 | G36: 44503 | H36: 37.258333 | I36: Senior | J36: Men
A37: SA1453 | B37: SA Seniors | C37: Robert | D37: Kyle | E37: Men Senior | F37: 30893 | G37: 44503 | H37: 37.258333 | I37: Senior | J37: Men
A38: SA4204 | B38: SA Seniors | C38: AJ | D38: De Beer | E38: Men Senior | F38: 30893 | G38: 44503 | H38: 37.258333 | I38: Senior | J38: Men
A39: SA2734 | B39: SA Seniors | C39: Raldo | D39: Potgieter | E39: Men Senior | F39: 30893 | G39: 44503 | H39: 37.258333 | I39: Senior | J39: Men
A40: SA3374 | B40: SA Seniors | C40: Greg | D40: Sutherland | E40: Men Senior | F40: 30893 | G40: 44503 | H40: 37.258333 | I40: Senior | J40: Men
A41: SA3280 | B41: SA Seniors | C41: Louis | D41: Allison | E41: Men Senior | F41: 30893 | G41: 44503 | H41: 37.258333 | I41: Senior | J41: Men
A42: SA4945 | B42: SA Ladies | C42: Elzanne | D42: Cronje | E42: Ladies Senior | F42: 33895 | G42: 44503 | H42: 29.041667 | I42: Senior | J42: Ladies
A43: SA7476 | B43: SA Ladies | C43: Kabous | D43: Louw | E43: Ladies Senior | F43: 33895 | G43: 44503 | H43: 29.041667 | I43: Senior | J43: Ladies
A44: SA6080 | B44: SA Ladies | C44: Cara | D44: Cowan | E44: Ladies Senior | F44: 33895 | G44: 44503 | H44: 29.041667 | I44: Senior | J44: Ladies
A45: SA8444 | B45: SA Ladies | C45: Chantel | D45: Carstens | E45: Ladies Senior | F45: 33895 | G45: 44503 | H45: 29.041667 | I45: Senior | J45: Ladies
A46: SA8340 | B46: SA Men U/21 | C46: Corbin | D46: Morris | E46: Men U/21 | F46: 35411 | G46: 44503 | H46: 24.891667 | I46: Senior | J46: Men
A47: SA8781 | B47: SA Men U/21 | C47: Tim | D47: Du Plessis | E47: Men U/21 | F47: 36770 | G47: 44503 | H47: 21.172222 | I47: U/21 | J47: Men
... A77: N0005 | B77: Nam Masters | C77: Lesley | D77: Page | E77: Men Master | F77: 24079 | G77: 44503 | H77: 55.916667 | I77: Master | J77: Men
A78: N0731 | B78: Nam Ladies | C78: Maryna | D78: Viljoen | E78: Ladies Senior | I78: Senior | J78: Ladies
A79: N0697 | B79: Nam Ladies | C79: Annelien | D79: Langenstrassen | E79: Ladies Veteran | F79: 27699 | G79: 44503 | H79: 46.005556 | I79: Veteran | J79: Ladies
A80: N0704 | B80: Nam Men U/21 | C80: Kay | D80: Bachran | E80: Men U/21 | F80: 37299 | G80: 44503 | H80: 19.725 | I80: U/21 | J80: Men
A81: N0757 | B81: Nam Men U/21 | C81: Brandon | D81: Grane | E81: Men U/21 | F81: 36728 | G81: 44503 | H81: 21.283333 | I81: U/21 | J81: Men
A82: N0259 | B82: Nam Seniors | C82: Henri | D82: Snyman | E82: Men Veteran | F82: 27354 | G82: 44503 | H82: 46.95 | I82: Veteran | J82: Men

Sheet DATA ENTRY
A1: Competition | B1: Date | C1: Venue | D1: ID | E1: Name | F1: Surname | G1: Status | H1: Team | I1: Edibles | J1: Inedibles | K1: length | L1: kg | M1: Points
A2: 2021-G-D1 | B2: 44537 | C2: Mile 8 | D2: SA2734 | E2: =IF(D2="","",VLOOKUP(D2,Master,3,FALSE)) -> Raldo | F2: =IF(D2="","",VLOOKUP(D2,Master,4,FALSE)) -> Potgieter | G2: =IF(D2="","",VLOOKUP(D2,Master,5,FALSE)) -> Men Senior | H2: =IF(D2="","",VLOOKUP(D2,Master,2,FALSE)) -> SA Seniors | J2: Ray Bull / Eagle | K2: 89 | L2: =IF(K2="","",IF(I2="",ROUND(HLOOKUP(J2,kgList,K2,FALSE),1),ROUND(HLOOKUP(I2,kgList,K2,FALSE),1))) -> 13 | M2: =IF(L2="","",IF(COUNTA(I2:J2)>1,"Edible or Inedible",IF(COUNTA(I2)=1,L2*1,IF(COUNTA(J2)=1,L2*1,"ERROR")))) -> 13
A3: =IF(D3="","",A2) -> 2021-G-D1 | B3: =IF(D3="","",B2) -> 44537 | C3: =IF(D3="","",C2) -> Mile 8 | D3: N0023 | E3: =IF(D3="","",VLOOKUP(D3,Master,3,FALSE)) -> Jörg | F3: =IF(D3="","",VLOOKUP(D3,Master,4,FALSE)) -> Walter | G3: =IF(D3="","",VLOOKUP(D3,Master,5,FALSE)) -> Men Grand Masters | H3: =IF(D3="","",VLOOKUP(D3,Master,2,FALSE)) -> Nam Grand Masters | J3: Shark Spotted Gully | K3: 134 | L3: =IF(K3="","",IF(I3="",ROUND(HLOOKUP(J3,kgList,K3,FALSE),1),ROUND(HLOOKUP(I3,kgList,K3,FALSE),1))) -> 11.8 | M3: =IF(L3="","",IF(COUNTA(I3:J3)>1,"Edible or Inedible",IF(COUNTA(I3)=1,L3*1,IF(COUNTA(J3)=1,L3*1,"ERROR")))) -> 11.8
A4: =IF(D4="","",A3) -> 2021-G-D1 | B4: =IF(D4="","",B3) -> 44537 | C4: =IF(D4="","",C3) -> Mile 8 | D4: N0401 | E4: =IF(D4="","",VLOOKUP(D4,Master,3,FALSE)) -> Henco | F4: =IF(D4="","",VLOOKUP(D4,Master,4,FALSE)) -> Snyman | G4: =IF(D4="","",VLOOKUP(D4,Master,5,FALSE)) -> Men U/21 | H4: =IF(D4="","",VLOOKUP(D4,Master,2,FALSE)) -> Nam Men U/21 | J4: Shark Hound Smooth | K4: 131 | L4: =IF(K4="","",IF(I4="",ROUND(HLOOKUP(J4,kgList,K4,FALSE),1),ROUND(HLOOKUP(I4,kgList,K4,FALSE),1))) -> 9.5 | M4: =IF(L4="","",IF(COUNTA(I4:J4)>1,"Edible or Inedible",IF(COUNTA(I4)=1,L4*1,IF(COUNTA(J4)=1,L4*1,"ERROR")))) -> 9.5
A5: =IF(D5="","",A4) -> 2021-G-D1 | B5: =IF(D5="","",B4) -> 44537 | C5: =IF(D5="","",C4) -> Mile 8 | D5: N0004 | E5: =IF(D5="","",VLOOKUP(D5,Master,3,FALSE)) -> Charles | F5: =IF(D5="","",VLOOKUP(D5,Master,4,FALSE)) -> Bothma | G5: =IF(D5="","",VLOOKUP(D5,Master,5,FALSE)) -> Men Grand Masters | H5: =IF(D5="","",VLOOKUP(D5,Master,2,FALSE)) -> Nam Grand Masters | J5: Shark Spotted gully | K5: 134 | L5: =IF(K5="","",IF(I5="",ROUND(HLOOKUP(J5,kgList,K5,FALSE),1),ROUND(HLOOKUP(I5,kgList,K5,FALSE),1))) -> 11.8 | M5: =IF(L5="","",IF(COUNTA(I5:J5)>1,"Edible or Inedible",IF(COUNTA(I5)=1,L5*1,IF(COUNTA(J5)=1,L5*1,"ERROR")))) -> 11.8
A6: =IF(D6="","",A5) -> 2021-G-D1 | B6: =IF(D6="","",B5) -> 44537 | C6: =IF(D6="","",C5) -> Mile 8 | D6: SA8741 | E6: =IF(D6="","",VLOOKUP(D6,Master,3,FALSE)) -> Prevashan | F6: =IF(D6="","",VLOOKUP(D6,Master,4,FALSE)) -> Moodley | G6: =IF(D6="","",VLOOKUP(D6,Master,5,FALSE)) -> Men Senior | H6: =IF(D6="","",VLOOKUP(D6,Master,2,FALSE)) -> SA Seniors | J6: Shark Spotted Gully | K6: 137 | L6: =IF(K6="","",IF(I6="",ROUND(HLOOKUP(J6,kgList,K6,FALSE),1),ROUND(HLOOKUP(I6,kgList,K6,FALSE),1))) -> 12.8 | M6: =IF(L6="","",IF(COUNTA(I6:J6)>1,"Edible or Inedible",IF(COUNTA(I6)=1,L6*1,IF(COUNTA(J6)=1,L6*1,"ERROR")))) -> 12.8
A7: =IF(D7="","",A6) -> 2021-G-D1 | B7: =IF(D7="","",B6) -> 44537 | C7: =IF(D7="","",C6) -> Mile 8 | D7: N0254 | E7: =IF(D7="","",VLOOKUP(D7,Master,3,FALSE)) -> Grant | F7: =IF(D7="","",VLOOKUP(D7,Master,4,FALSE)) -> Knight | G7: =IF(D7="","",VLOOKUP(D7,Master,5,FALSE)) -> Men Veteran | H7: =IF(D7="","",VLOOKUP(D7,Master,2,FALSE)) -> Nam Seniors | J7: Shark Hound Smooth | K7: 142 | L7: =IF(K7="","",IF(I7="",ROUND(HLOOKUP(J7,kgList,K7,FALSE),1),ROUND(HLOOKUP(I7,kgList,K7,FALSE),1))) -> 12.6 | M7: =IF(L7="","",IF(COUNTA(I7:J7)>1,"Edible or Inedible",IF(COUNTA(I7)=1,L7*1,IF(COUNTA(J7)=1,L7*1,"ERROR")))) -> 12.6
A8: =IF(D8="","",A7) -> 2021-G-D1 | B8: =IF(D8="","",B7) -> 44537 | C8: =IF(D8="","",C7) -> Mile 8 | D8: N0687 | E8: =IF(D8="","",VLOOKUP(D8,Master,3,FALSE)) -> Barren | F8: =IF(D8="","",VLOOKUP(D8,Master,4,FALSE)) -> Van Es | G8: =IF(D8="","",VLOOKUP(D8,Master,5,FALSE)) -> Men Senior | H8: =IF(D8="","",VLOOKUP(D8,Master,2,FALSE)) -> Nam Men U/21 | J8: Shark Cow / Sevengill | K8: 131 | L8: =IF(K8="","",IF(I8="",ROUND(HLOOKUP(J8,kgList,K8,FALSE),1),ROUND(HLOOKUP(I8,kgList,K8,FALSE),1))) -> 29.1 | M8: =IF(L8="","",IF(COUNTA(I8:J8)>1,"Edible or Inedible",IF(COUNTA(I8)=1,L8*1,IF(COUNTA(J8)=1,L8*1,"ERROR")))) -> 29.1
A9: =IF(D9="","",A8) -> 2021-G-D1 | B9: =IF(D9="","",B8) -> 44537 | C9: =IF(D9="","",C8) -> Mile 8 | D9: SA6730 | E9: =IF(D9="","",VLOOKUP(D9,Master,3,FALSE)) -> Lance | F9: =IF(D9="","",VLOOKUP(D9,Master,4,FALSE)) -> Daniel | G9: =IF(D9="","",VLOOKUP(D9,Master,5,FALSE)) -> Men U/21 | H9: =IF(D9="","",VLOOKUP(D9,Master,2,FALSE)) -> SA Men U/21 | J9: Shark Spotted Gully | K9: 130 | L9: =IF(K9="","",IF(I9="",ROUND(HLOOKUP(J9,kgList,K9,FALSE),1),ROUND(HLOOKUP(I9,kgList,K9,FALSE),1))) -> 10.7 | M9: =IF(L9="","",IF(COUNTA(I9:J9)>1,"Edible or Inedible",IF(COUNTA(I9)=1,L9*1,IF(COUNTA(J9)=1,L9*1,"ERROR")))) -> 10.7
A10: =IF(D10="","",A9) -> 2021-G-D1 | B10: =IF(D10="","",B9) -> 44537 | C10: =IF(D10="","",C9) -> Mile 8 | D10: N0401 | E10: =IF(D10="","",VLOOKUP(D10,Master,3,FALSE)) -> Henco | F10: =IF(D10="","",VLOOKUP(D10,Master,4,FALSE)) -> Snyman | G10: =IF(D10="","",VLOOKUP(D10,Master,5,FALSE)) -> Men U/21 | H10: =IF(D10="","",VLOOKUP(D10,Master,2,FALSE)) -> Nam Men U/21 | J10: Shark Spotted Gully | K10: 130 | L10: =IF(K10="","",IF(I10="",ROUND(HLOOKUP(J10,kgList,K10,FALSE),1),ROUND(HLOOKUP(I10,kgList,K10,FALSE),1))) -> 10.7 | M10: =IF(L10="","",IF(COUNTA(I10:J10)>1,"Edible or Inedible",IF(COUNTA(I10)=1,L10*1,IF(COUNTA(J10)=1,L10*1,"ERROR")))) -> 10.7
A11: =IF(D11="","",A10) -> 2021-G-D1 | B11: =IF(D11="","",B10) -> 44537 | C11: =IF(D11="","",C10) -> Mile 8 | D11: N0146 | E11: =IF(D11="","",VLOOKUP(D11,Master,3,FALSE)) -> Danie | F11: =IF(D11="","",VLOOKUP(D11,Master,4,FALSE)) -> Du Toit | G11: =IF(D11="","",VLOOKUP(D11,Master,5,FALSE)) -> Men Grand Masters | H11: =IF(D11="","",VLOOKUP(D11,Master,2,FALSE)) -> Nam Grand Masters | J11: Shark Spotted Gully | K11: 134 | L11: =IF(K11="","",IF(I11="",ROUND(HLOOKUP(J11,kgList,K11,FALSE),1),ROUND(HLOOKUP(I11,kgList,K11,FALSE),1))) -> 11.8 | M11: =IF(L11="","",IF(COUNTA(I11:J11)>1,"Edible or Inedible",IF(COUNTA(I11)=1,L11*1,IF(COUNTA(J11)=1,L11*1,"ERROR")))) -> 11.8
A12: =IF(D12="","",A11) -> 2021-G-D1 | B12: =IF(D12="","",B11) -> 44537 | C12: =IF(D12="","",C11) -> Mile 8 | D12: N0254 | E12: =IF(D12="","",VLOOKUP(D12,Master,3,FALSE)) -> Grant | F12: =IF(D12="","",VLOOKUP(D12,Master,4,FALSE)) -> Knight | G12: =IF(D12="","",VLOOKUP(D12,Master,5,FALSE)) -> Men Veteran | H12: =IF(D12="","",VLOOKUP(D12,Master,2,FALSE)) -> Nam Seniors | J12: Shark Hound Smooth | K12: 142 | L12: =IF(K12="","",IF(I12="",ROUND(HLOOKUP(J12,kgList,K12,FALSE),1),ROUND(HLOOKUP(I12,kgList,K12,FALSE),1))) -> 12.6 | M12: =IF(L12="","",IF(COUNTA(I12:J12)>1,"Edible or Inedible",IF(COUNTA(I12)=1,L12*1,IF(COUNTA(J12)=1,L12*1,"ERROR")))) -> 12.6
A13: =IF(D13="","",A12) -> 2021-G-D1 | B13: =IF(D13="","",B12) -> 44537 | C13: =IF(D13="","",C12) -> Mile 8 | D13: SA3280 | E13: =IF(D13="","",VLOOKUP(D13,Master,3,FALSE)) -> Louis | F13: =IF(D13="","",VLOOKUP(D13,Master,4,FALSE)) -> Allison | G13: =IF(D13="","",VLOOKUP(D13,Master,5,FALSE)) -> Men Senior | H13: =IF(D13="","",VLOOKUP(D13,Master,2,FALSE)) -> SA Seniors | J13: Shark Hound Smooth | K13: 141 | L13: =IF(K13="","",IF(I13="",ROUND(HLOOKUP(J13,kgList,K13,FALSE),1),ROUND(HLOOKUP(I13,kgList,K13,FALSE),1))) -> 12.3 | M13: =IF(L13="","",IF(COUNTA(I13:J13)>1,"Edible or Inedible",IF(COUNTA(I13)=1,L13*1,IF(COUNTA(J13)=1,L13*1,"ERROR")))) -> 12.3
A14: =IF(D14="","",A13) -> 2021-G-D1 | B14: =IF(D14="","",B13) -> 44537 | C14: =IF(D14="","",C13) -> Mile 8 | D14: N0687 | E14: =IF(D14="","",VLOOKUP(D14,Master,3,FALSE)) -> Barren | F14: =IF(D14="","",VLOOKUP(D14,Master,4,FALSE)) -> Van Es | G14: =IF(D14="","",VLOOKUP(D14,Master,5,FALSE)) -> Men Senior | H14: =IF(D14="","",VLOOKUP(D14,Master,2,FALSE)) -> Nam Men U/21 | J14: Shark Spotted Gully | K14: 130 | L14: =IF(K14="","",IF(I14="",ROUND(HLOOKUP(J14,kgList,K14,FALSE),1),ROUND(HLOOKUP(I14,kgList,K14,FALSE),1))) -> 10.7 | M14: =IF(L14="","",IF(COUNTA(I14:J14)>1,"Edible or Inedible",IF(COUNTA(I14)=1,L14*1,IF(COUNTA(J14)=1,L14*1,"ERROR")))) -> 10.7
... A117: =IF(D117="","",A116) -> 2021-G-D1 | B117: =IF(D117="","",B116) -> 44537 | C117: =IF(D117="","",C116) -> Mile 8 | D117: SA8336 | E117: =IF(D117="","",VLOOKUP(D117,Master,3,FALSE)) -> Paul | F117: =IF(D117="","",VLOOKUP(D117,Master,4,FALSE)) -> Nel | G117: =IF(D117="","",VLOOKUP(D117,Master,5,FALSE)) -> Men Grand Masters | H117: =IF(D117="","",VLOOKUP(D117,Master,2,FALSE)) -> SA Grand Masters | J117: Shark Spotted Gully | K117: 122 | L117: =IF(K117="","",IF(I117="",ROUND(HLOOKUP(J117,kgList,K117,FALSE),1),ROUND(HLOOKUP(I117,kgList,K117,FALSE),1))) -> 8.6 | M117: =IF(L117="","",IF(COUNTA(I117:J117)>1,"Edible or Inedible",IF(COUNTA(I117)=1,L117*1,IF(COUNTA(J117)=1,L117*1,"ERROR")))) -> 8.6
A118: =IF(D118="","",A117) -> 2021-G-D1 | B118: =IF(D118="","",B117) -> 44537 | C118: =IF(D118="","",C117) -> Mile 8 | D118: SA8339 | E118: =IF(D118="","",VLOOKUP(D118,Master,3,FALSE)) -> Gareth | F118: =IF(D118="","",VLOOKUP(D118,Master,4,FALSE)) -> Dahl | G118: =IF(D118="","",VLOOKUP(D118,Master,5,FALSE)) -> Men U/21 | H118: =IF(D118="","",VLOOKUP(D118,Master,2,FALSE)) -> SA Men U/21 | I118: Kob | K118: 64 | L118: =IF(K118="","",IF(I118="",ROUND(HLOOKUP(J118,kgList,K118,FALSE),1),ROUND(HLOOKUP(I118,kgList,K118,FALSE),1))) -> 2.7 | M118: =IF(L118="","",IF(COUNTA(I118:J118)>1,"Edible or Inedible",IF(COUNTA(I118)=1,L118*1,IF(COUNTA(J118)=1,L118*1,"ERROR")))) -> 2.7
A119: =IF(D119="","",A118) -> 2021-G-D1 | B119: =IF(D119="","",B118) -> 44537 | C119: =IF(D119="","",C118) -> Mile 8 | D119: N0757 | E119: =IF(D119="","",VLOOKUP(D119,Master,3,FALSE)) -> Brandon | F119: =IF(D119="","",VLOOKUP(D119,Master,4,FALSE)) -> Grane | G119: =IF(D119="","",VLOOKUP(D119,Master,5,FALSE)) -> Men U/21 | H119: =IF(D119="","",VLOOKUP(D119,Master,2,FALSE)) -> Nam Men U/21 | I119: Kob | K119: 59 | L119: =IF(K119="","",IF(I119="",ROUND(HLOOKUP(J119,kgList,K119,FALSE),1),ROUND(HLOOKUP(I119,kgList,K119,FALSE),1))) -> 2.1 | M119: =IF(L119="","",IF(COUNTA(I119:J119)>1,"Edible or Inedible",IF(COUNTA(I119)=1,L119*1,IF(COUNTA(J119)=1,L119*1,"ERROR")))) -> 2.1
A120: =IF(D120="","",A119) -> 2021-G-D1 | B120: =IF(D120="","",B119) -> 44537 | C120: =IF(D120="","",C119) -> Mile 8 | D120: N0015 | E120: =IF(D120="","",VLOOKUP(D120,Master,3,FALSE)) -> Herman | F120: =IF(D120="","",VLOOKUP(D120,Master,4,FALSE)) -> Fourie | G120: =IF(D120="","",VLOOKUP(D120,Master,5,FALSE)) -> Men Grand Masters | H120: =IF(D120="","",VLOOKUP(D120,Master,2,FALSE)) -> Nam Grand Masters | J120: Shark Spotted Gully | K120: 122 | L120: =IF(K120="","",IF(I120="",ROUND(HLOOKUP(J120,kgList,K120,FALSE),1),ROUND(HLOOKUP(I120,kgList,K120,FALSE),1))) -> 8.6 | M120: =IF(L120="","",IF(COUNTA(I120:J120)>1,"Edible or Inedible",IF(COUNTA(I120)=1,L120*1,IF(COUNTA(J120)=1,L120*1,"ERROR")))) -> 8.6
A121: =IF(D121="","",A120) -> 2021-G-D1 | B121: =IF(D121="","",B120) -> 44537 | C121: =IF(D121="","",C120) -> Mile 8 | D121: SA2079 | E121: =IF(D121="","",VLOOKUP(D121,Master,3,FALSE)) -> Cullen | F121: =IF(D121="","",VLOOKUP(D121,Master,4,FALSE)) -> Opperman | G121: =IF(D121="","",VLOOKUP(D121,Master,5,FALSE)) -> Men U/21 | H121: =IF(D121="","",VLOOKUP(D121,Master,2,FALSE)) -> SA Men U/21 | J121: Shark Hound Smooth | K121: 118 | L121: =IF(K121="","",IF(I121="",ROUND(HLOOKUP(J121,kgList,K121,FALSE),1),ROUND(HLOOKUP(I121,kgList,K121,FALSE),1))) -> 6.6 | M121: =IF(L121="","",IF(COUNTA(I121:J121)>1,"Edible or Inedible",IF(COUNTA(I121)=1,L121*1,IF(COUNTA(J121)=1,L121*1,"ERROR")))) -> 6.6
A122: =IF(D122="","",A121) -> 2021-G-D1 | B122: =IF(D122="","",B121) -> 44537 | C122: =IF(D122="","",C121) -> Mile 8 | D122: SA2079 | E122: =IF(D122="","",VLOOKUP(D122,Master,3,FALSE)) -> Cullen | F122: =IF(D122="","",VLOOKUP(D122,Master,4,FALSE)) -> Opperman | G122: =IF(D122="","",VLOOKUP(D122,Master,5,FALSE)) -> Men U/21 | H122: =IF(D122="","",VLOOKUP(D122,Master,2,FALSE)) -> SA Men U/21 | J122: Shark Hound Smooth | K122: 118 | L122: =IF(K122="","",IF(I122="",ROUND(HLOOKUP(J122,kgList,K122,FALSE),1),ROUND(HLOOKUP(I122,kgList,K122,FALSE),1))) -> 6.6 | M122: =IF(L122="","",IF(COUNTA(I122:J122)>1,"Edible or Inedible",IF(COUNTA(I122)=1,L122*1,IF(COUNTA(J122)=1,L122*1,"ERROR")))) -> 6.6
A123: =IF(D123="","",A122) -> 2021-G-D1 | B123: =IF(D123="","",B122) -> 44537 | C123: =IF(D123="","",C122) -> Mile 8 | D123: SA8339 | E123: =IF(D123="","",VLOOKUP(D123,Master,3,FALSE)) -> Gareth | F123: =IF(D123="","",VLOOKUP(D123,Master,4,FALSE)) -> Dahl | G123: =IF(D123="","",VLOOKUP(D123,Master,5,FALSE)) -> Men U/21 | H123: =IF(D123="","",VLOOKUP(D123,Master,2,FALSE)) -> SA Men U/21 | J123: Shark Spotted Gully | K123: 118 | L123: =IF(K123="","",IF(I123="",ROUND(HLOOKUP(J123,kgList,K123,FALSE),1),ROUND(HLOOKUP(I123,kgList,K123,FALSE),1))) -> 7.6 | M123: =IF(L123="","",IF(COUNTA(I123:J123)>1,"Edible or Inedible",IF(COUNTA(I123)=1,L123*1,IF(COUNTA(J123)=1,L123*1,"ERROR")))) -> 7.6
A124: =IF(D124="","",A123) -> 2021-G-D1 | B124: =IF(D124="","",B123) -> 44537 | C124: =IF(D124="","",C123) -> Mile 8 | D124: N0687 | E124: =IF(D124="","",VLOOKUP(D124,Master,3,FALSE)) -> Barren | F124: =IF(D124="","",VLOOKUP(D124,Master,4,FALSE)) -> Van Es | G124: =IF(D124="","",VLOOKUP(D124,Master,5,FALSE)) -> Men Senior | H124: =IF(D124="","",VLOOKUP(D124,Master,2,FALSE)) -> Nam Men U/21 | J124: Shark Spotted Gully | K124: 118 | L124: =IF(K124="","",IF(I124="",ROUND(HLOOKUP(J124,kgList,K124,FALSE),1),ROUND(HLOOKUP(I124,kgList,K124,FALSE),1))) -> 7.6 | M124: =IF(L124="","",IF(COUNTA(I124:J124)>1,"Edible or Inedible",IF(COUNTA(I124)=1,L124*1,IF(COUNTA(J124)=1,L124*1,"ERROR")))) -> 7.6
A125: =IF(D125="","",A124) -> 2021-G-D1 | B125: =IF(D125="","",B124) -> 44537 | C125: =IF(D125="","",C124) -> Mile 8 | D125: SA2034 | E125: =IF(D125="","",VLOOKUP(D125,Master,3,FALSE)) -> Hein | F125: =IF(D125="","",VLOOKUP(D125,Master,4,FALSE)) -> Engelbrecht | G125: =IF(D125="","",VLOOKUP(D125,Master,5,FALSE)) -> Men Master | H125: =IF(D125="","",VLOOKUP(D125,Master,2,FALSE)) -> SA Masters | J125: Shark Spotted Gully | K125: 124 | L125: =IF(K125="","",IF(I125="",ROUND(HLOOKUP(J125,kgList,K125,FALSE),1),ROUND(HLOOKUP(I125,kgList,K125,FALSE),1))) -> 9.1 | M125: =IF(L125="","",IF(COUNTA(I125:J125)>1,"Edible or Inedible",IF(COUNTA(I125)=1,L125*1,IF(COUNTA(J125)=1,L125*1,"ERROR")))) -> 9.1
A126: =IF(D126="","",A125) -> 2021-G-D1 | B126: =IF(D126="","",B125) -> 44537 | C126: =IF(D126="","",C125) -> Mile 8 | D126: N0041 | E126: =IF(D126="","",VLOOKUP(D126,Master,3,FALSE)) -> Terence | F126: =IF(D126="","",VLOOKUP(D126,Master,4,FALSE)) -> Clark | G126: =IF(D126="","",VLOOKUP(D126,Master,5,FALSE)) -> Men Master | H126: =IF(D126="","",VLOOKUP(D126,Master,2,FALSE)) -> Nam Masters | J126: Shark Spotted Gully | K126: 122 | L126: =IF(K126="","",IF(I126="",ROUND(HLOOKUP(J126,kgList,K126,FALSE),1),ROUND(HLOOKUP(I126,kgList,K126,FALSE),1))) -> 8.6 | M126: =IF(L126="","",IF(COUNTA(I126:J126)>1,"Edible or Inedible",IF(COUNTA(I126)=1,L126*1,IF(COUNTA(J126)=1,L126*1,"ERROR")))) -> 8.6
A127: =IF(D127="","",A126) -> 2021-G-D1 | B127: =IF(D127="","",B126) -> 44537 | C127: =IF(D127="","",C126) -> Mile 8 | D127: SA4534 | E127: =IF(D127="","",VLOOKUP(D127,Master,3,FALSE)) -> Mike | F127: =IF(D127="","",VLOOKUP(D127,Master,4,FALSE)) -> Bailey | G127: =IF(D127="","",VLOOKUP(D127,Master,5,FALSE)) -> Men Master | H127: =IF(D127="","",VLOOKUP(D127,Master,2,FALSE)) -> SA Masters | J127: Shark Spotted Gully | K127: 121 | L127: =IF(K127="","",IF(I127="",ROUND(HLOOKUP(J127,kgList,K127,FALSE),1),ROUND(HLOOKUP(I127,kgList,K127,FALSE),1))) -> 8.3 | M127: =IF(L127="","",IF(COUNTA(I127:J127)>1,"Edible or Inedible",IF(COUNTA(I127)=1,L127*1,IF(COUNTA(J127)=1,L127*1,"ERROR")))) -> 8.3
A128: =IF(D128="","",A127) -> 2021-G-D1 | B128: =IF(D128="","",B127) -> 44537 | C128: =IF(D128="","",C127) -> Mile 8 | D128: SA4534 | E128: =IF(D128="","",VLOOKUP(D128,Master,3,FALSE)) -> Mike | F128: =IF(D128="","",VLOOKUP(D128,Master,4,FALSE)) -> Bailey | G128: =IF(D128="","",VLOOKUP(D128,Master,5,FALSE)) -> Men Master | H128: =IF(D128="","",VLOOKUP(D128,Master,2,FALSE)) -> SA Masters | J128: Shark Spotted Gully | K128: 120 | L128: =IF(K128="","",IF(I128="",ROUND(HLOOKUP(J128,kgList,K128,FALSE),1),ROUND(HLOOKUP(I128,kgList,K128,FALSE),1))) -> 8.1 | M128: =IF(L128="","",IF(COUNTA(I128:J128)>1,"Edible or Inedible",IF(COUNTA(I128)=1,L128*1,IF(COUNTA(J128)=1,L128*1,"ERROR")))) -> 8.1
A129: =IF(D129="","",A128) -> 2021-G-D1 | B129: =IF(D129="","",B128) -> 44537 | C129: =IF(D129="","",C128) -> Mile 8 | D129: SA8741 | E129: =IF(D129="","",VLOOKUP(D129,Master,3,FALSE)) -> Prevashan | F129: =IF(D129="","",VLOOKUP(D129,Master,4,FALSE)) -> Moodley | G129: =IF(D129="","",VLOOKUP(D129,Master,5,FALSE)) -> Men Senior | H129: =IF(D129="","",VLOOKUP(D129,Master,2,FALSE)) -> SA Seniors | J129: Shark Spotted Gully | K129: 120 | L129: =IF(K129="","",IF(I129="",ROUND(HLOOKUP(J129,kgList,K129,FALSE),1),ROUND(HLOOKUP(I129,kgList,K129,FALSE),1))) -> 8.1 | M129: =IF(L129="","",IF(COUNTA(I129:J129)>1,"Edible or Inedible",IF(COUNTA(I129)=1,L129*1,IF(COUNTA(J129)=1,L129*1,"ERROR")))) -> 8.1
A130: =IF(D130="","",A129) -> 2021-G-D1 | B130: =IF(D130="","",B129) -> 44537 | C130: =IF(D130="","",C129) -> Mile 8 | D130: SA4204 | E130: =IF(D130="","",VLOOKUP(D130,Master,3,FALSE)) -> AJ | F130: =IF(D130="","",VLOOKUP(D130,Master,4,FALSE)) -> De Beer | G130: =IF(D130="","",VLOOKUP(D130,Master,5,FALSE)) -> Men Senior | H130: =IF(D130="","",VLOOKUP(D130,Master,2,FALSE)) -> SA Seniors | J130: Shark Spotted Gully | K130: 120 | L130: =IF(K130="","",IF(I130="",ROUND(HLOOKUP(J130,kgList,K130,FALSE),1),ROUND(HLOOKUP(I130,kgList,K130,FALSE),1))) -> 8.1 | M130: =IF(L130="","",IF(COUNTA(I130:J130)>1,"Edible or Inedible",IF(COUNTA(I130)=1,L130*1,IF(COUNTA(J130)=1,L130*1,"ERROR")))) -> 8.1
A131: =IF(D131="","",A130) -> 2021-G-D1 | B131: =IF(D131="","",B130) -> 44537 | C131: =IF(D131="","",C130) -> Mile 8 | D131: Sa4945 | E131: =IF(D131="","",VLOOKUP(D131,Master,3,FALSE)) -> Elzanne | F131: =IF(D131="","",VLOOKUP(D131,Master,4,FALSE)) -> Cronje | G131: =IF(D131="","",VLOOKUP(D131,Master,5,FALSE)) -> Ladies Senior | H131: =IF(D131="","",VLOOKUP(D131,Master,2,FALSE)) -> SA Ladies | J131: Shark Spotted Gully | K131: 122 | L131: =IF(K131="","",IF(I131="",ROUND(HLOOKUP(J131,kgList,K131,FALSE),1),ROUND(HLOOKUP(I131,kgList,K131,FALSE),1))) -> 8.6 | M131: =IF(L131="","",IF(COUNTA(I131:J131)>1,"Edible or Inedible",IF(COUNTA(I131)=1,L131*1,IF(COUNTA(J131)=1,L131*1,"ERROR")))) -> 8.6
... A189: =IF(D189="","",A188) -> 2021-G-D1 | B189: =IF(D189="","",B188) -> 44537 | C189: =IF(D189="","",C188) -> Mile 8 | D189: N0401 | E189: =IF(D189="","",VLOOKUP(D189,Master,3,FALSE)) -> Henco | F189: =IF(D189="","",VLOOKUP(D189,Master,4,FALSE)) -> Snyman | G189: =IF(D189="","",VLOOKUP(D189,Master,5,FALSE)) -> Men U/21 | H189: =IF(D189="","",VLOOKUP(D189,Master,2,FALSE)) -> Nam Men U/21 | J189: Shark Spotted Gully | K189: 113 | L189: =IF(K189="","",IF(I189="",ROUND(HLOOKUP(J189,kgList,K189,FALSE),1),ROUND(HLOOKUP(I189,kgList,K189,FALSE),1))) -> 6.6 | M189: =IF(L189="","",IF(COUNTA(I189:J189)>1,"Edible or Inedible",IF(COUNTA(I189)=1,L189*1,IF(COUNTA(J189)=1,L189*1,"ERROR")))) -> 6.6
A190: 2021-G-D2 | B190: 44538 | C190: Mile 14 | D190: SA1453 | E190: =IF(D190="","",VLOOKUP(D190,Master,3,FALSE)) -> Robert | F190: =IF(D190="","",VLOOKUP(D190,Master,4,FALSE)) -> Kyle | G190: =IF(D190="","",VLOOKUP(D190,Master,5,FALSE)) -> Men Senior | H190: =IF(D190="","",VLOOKUP(D190,Master,2,FALSE)) -> SA Seniors | J190: Shark Spotted Gully | K190: 140 | L190: =IF(K190="","",IF(I190="",ROUND(HLOOKUP(J190,kgList,K190,FALSE),1),ROUND(HLOOKUP(I190,kgList,K190,FALSE),1))) -> 13.7 | M190: =IF(L190="","",IF(COUNTA(I190:J190)>1,"Edible or Inedible",IF(COUNTA(I190)=1,L190*1,IF(COUNTA(J190)=1,L190*1,"ERROR")))) -> 13.7
A191: =IF(D191="","",A190) -> 2021-G-D2 | B191: =IF(D191="","",B190) -> 44538 | C191: =IF(D191="","",C190) -> Mile 14 | D191: SA4204 | E191: =IF(D191="","",VLOOKUP(D191,Master,3,FALSE)) -> AJ | F191: =IF(D191="","",VLOOKUP(D191,Master,4,FALSE)) -> De Beer | G191: =IF(D191="","",VLOOKUP(D191,Master,5,FALSE)) -> Men Senior | H191: =IF(D191="","",VLOOKUP(D191,Master,2,FALSE)) -> SA Seniors | J191: Shark Spotted Gully | K191: 140 | L191: =IF(K191="","",IF(I191="",ROUND(HLOOKUP(J191,kgList,K191,FALSE),1),ROUND(HLOOKUP(I191,kgList,K191,FALSE),1))) -> 13.7 | M191: =IF(L191="","",IF(COUNTA(I191:J191)>1,"Edible or Inedible",IF(COUNTA(I191)=1,L191*1,IF(COUNTA(J191)=1,L191*1,"ERROR")))) -> 13.7
A192: =IF(D192="","",A191) -> 2021-G-D2 | B192: =IF(D192="","",B191) -> 44538 | C192: =IF(D192="","",C191) -> Mile 14 | D192: N0019 | E192: =IF(D192="","",VLOOKUP(D192,Master,3,FALSE)) -> Johan | F192: =IF(D192="","",VLOOKUP(D192,Master,4,FALSE)) -> Visser | G192: =IF(D192="","",VLOOKUP(D192,Master,5,FALSE)) -> Men Senior | H192: =IF(D192="","",VLOOKUP(D192,Master,2,FALSE)) -> Nam Seniors | J192: Shark Spotted Gully | K192: 140 | L192: =IF(K192="","",IF(I192="",ROUND(HLOOKUP(J192,kgList,K192,FALSE),1),ROUND(HLOOKUP(I192,kgList,K192,FALSE),1))) -> 13.7 | M192: =IF(L192="","",IF(COUNTA(I192:J192)>1,"Edible or Inedible",IF(COUNTA(I192)=1,L192*1,IF(COUNTA(J192)=1,L192*1,"ERROR")))) -> 13.7
A193: =IF(D193="","",A192) -> 2021-G-D2 | B193: =IF(D193="","",B192) -> 44538 | C193: =IF(D193="","",C192) -> Mile 14 | D193: SA8340 | E193: =IF(D193="","",VLOOKUP(D193,Master,3,FALSE)) -> Corbin | F193: =IF(D193="","",VLOOKUP(D193,Master,4,FALSE)) -> Morris | G193: =IF(D193="","",VLOOKUP(D193,Master,5,FALSE)) -> Men U/21 | H193: =IF(D193="","",VLOOKUP(D193,Master,2,FALSE)) -> SA Men U/21 | J193: Shark Spotted Gully | K193: 133 | L193: =IF(K193="","",IF(I193="",ROUND(HLOOKUP(J193,kgList,K193,FALSE),1),ROUND(HLOOKUP(I193,kgList,K193,FALSE),1))) -> 11.5 | M193: =IF(L193="","",IF(COUNTA(I193:J193)>1,"Edible or Inedible",IF(COUNTA(I193)=1,L193*1,IF(COUNTA(J193)=1,L193*1,"ERROR")))) -> 11.5
A194: =IF(D194="","",A193) -> 2021-G-D2 | B194: =IF(D194="","",B193) -> 44538 | C194: =IF(D194="","",C193) -> Mile 14 | D194: SA8340 | E194: =IF(D194="","",VLOOKUP(D194,Master,3,FALSE)) -> Corbin | F194: =IF(D194="","",VLOOKUP(D194,Master,4,FALSE)) -> Morris | G194: =IF(D194="","",VLOOKUP(D194,Master,5,FALSE)) -> Men U/21 | H194: =IF(D194="","",VLOOKUP(D194,Master,2,FALSE)) -> SA Men U/21 | J194: Shark Cow / Sevengill | K194: 133 | L194: =IF(K194="","",IF(I194="",ROUND(HLOOKUP(J194,kgList,K194,FALSE),1),ROUND(HLOOKUP(I194,kgList,K194,FALSE),1))) -> 30.6 | M194: =IF(L194="","",IF(COUNTA(I194:J194)>1,"Edible or Inedible",IF(COUNTA(I194)=1,L194*1,IF(COUNTA(J194)=1,L194*1,"ERROR")))) -> 30.6
A195: =IF(D195="","",A194) -> 2021-G-D2 | B195: =IF(D195="","",B194) -> 44538 | C195: =IF(D195="","",C194) -> Mile 14 | D195: N0283 | E195: =IF(D195="","",VLOOKUP(D195,Master,3,FALSE)) -> Kevin | F195: =IF(D195="","",VLOOKUP(D195,Master,4,FALSE)) -> Page | G195: =IF(D195="","",VLOOKUP(D195,Master,5,FALSE)) -> Men U/21 | H195: =IF(D195="","",VLOOKUP(D195,Master,2,FALSE)) -> Nam Men U/21 | J195: Shark Spotted Gully | K195: 133 | L195: =IF(K195="","",IF(I195="",ROUND(HLOOKUP(J195,kgList,K195,FALSE),1),ROUND(HLOOKUP(I195,kgList,K195,FALSE),1))) -> 11.5 | M195: =IF(L195="","",IF(COUNTA(I195:J195)>1,"Edible or Inedible",IF(COUNTA(I195)=1,L195*1,IF(COUNTA(J195)=1,L195*1,"ERROR")))) -> 11.5
A196: =IF(D196="","",A195) -> 2021-G-D2 | B196: =IF(D196="","",B195) -> 44538 | C196: =IF(D196="","",C195) -> Mile 14 | D196: SA5578 | E196: =IF(D196="","",VLOOKUP(D196,Master,3,FALSE)) -> Antoi | F196: =IF(D196="","",VLOOKUP(D196,Master,4,FALSE)) -> Forbes | G196: =IF(D196="","",VLOOKUP(D196,Master,5,FALSE)) -> Ladies Senior | H196: =IF(D196="","",VLOOKUP(D196,Master,2,FALSE)) -> SA Ladies | J196: Ray Bull / Eagle | K196: 89 | L196: =IF(K196="","",IF(I196="",ROUND(HLOOKUP(J196,kgList,K196,FALSE),1),ROUND(HLOOKUP(I196,kgList,K196,FALSE),1))) -> 13 | M196: =IF(L196="","",IF(COUNTA(I196:J196)>1,"Edible or Inedible",IF(COUNTA(I196)=1,L196*1,IF(COUNTA(J196)=1,L196*1,"ERROR")))) -> 13
A197: =IF(D197="","",A196) -> 2021-G-D2 | B197: =IF(D197="","",B196) -> 44538 | C197: =IF(D197="","",C196) -> Mile 14 | D197: N0697 | E197: =IF(D197="","",VLOOKUP(D197,Master,3,FALSE)) -> Annelien | F197: =IF(D197="","",VLOOKUP(D197,Master,4,FALSE)) -> Langenstrassen | G197: =IF(D197="","",VLOOKUP(D197,Master,5,FALSE)) -> Ladies Veteran | H197: =IF(D197="","",VLOOKUP(D197,Master,2,FALSE)) -> Nam Ladies | J197: Shark Spotted Gully | K197: 137 | L197: =IF(K197="","",IF(I197="",ROUND(HLOOKUP(J197,kgList,K197,FALSE),1),ROUND(HLOOKUP(I197,kgList,K197,FALSE),1))) -> 12.8 | M197: =IF(L197="","",IF(COUNTA(I197:J197)>1,"Edible or Inedible",IF(COUNTA(I197)=1,L197*1,IF(COUNTA(J197)=1,L197*1,"ERROR")))) -> 12.8
A198: =IF(D198="","",A197) -> 2021-G-D2 | B198: =IF(D198="","",B197) -> 44538 | C198: =IF(D198="","",C197) -> Mile 14 | D198: N0007 | E198: =IF(D198="","",VLOOKUP(D198,Master,3,FALSE)) -> Brian | F198: =IF(D198="","",VLOOKUP(D198,Master,4,FALSE)) -> Curtis | G198: =IF(D198="","",VLOOKUP(D198,Master,5,FALSE)) -> Men Senior | H198: =IF(D198="","",VLOOKUP(D198,Master,2,FALSE)) -> Nam Seniors | J198: Shark Spotted Gully | K198: 140 | L198: =IF(K198="","",IF(I198="",ROUND(HLOOKUP(J198,kgList,K198,FALSE),1),ROUND(HLOOKUP(I198,kgList,K198,FALSE),1))) -> 13.7 | M198: =IF(L198="","",IF(COUNTA(I198:J198)>1,"Edible or Inedible",IF(COUNTA(I198)=1,L198*1,IF(COUNTA(J198)=1,L198*1,"ERROR")))) -> 13.7
A199: =IF(D199="","",A198) -> 2021-G-D2 | B199: =IF(D199="","",B198) -> 44538 | C199: =IF(D199="","",C198) -> Mile 14 | D199: N0731 | E199: =IF(D199="","",VLOOKUP(D199,Master,3,FALSE)) -> Maryna | F199: =IF(D199="","",VLOOKUP(D199,Master,4,FALSE)) -> Viljoen | G199: =IF(D199="","",VLOOKUP(D199,Master,5,FALSE)) -> Ladies Senior | H199: =IF(D199="","",VLOOKUP(D199,Master,2,FALSE)) -> Nam Ladies | J199: Shark Spotted Gully | K199: 137 | L199: =IF(K199="","",IF(I199="",ROUND(HLOOKUP(J199,kgList,K199,FALSE),1),ROUND(HLOOKUP(I199,kgList,K199,FALSE),1))) -> 12.8 | M199: =IF(L199="","",IF(COUNTA(I199:J199)>1,"Edible or Inedible",IF(COUNTA(I199)=1,L199*1,IF(COUNTA(J199)=1,L199*1,"ERROR")))) -> 12.8
A200: =IF(D200="","",A199) -> 2021-G-D2 | B200: =IF(D200="","",B199) -> 44538 | C200: =IF(D200="","",C199) -> Mile 14 | D200: N0180 | E200: =IF(D200="","",VLOOKUP(D200,Master,3,FALSE)) -> Elaine | F200: =IF(D200="","",VLOOKUP(D200,Master,4,FALSE)) -> Vorster | G200: =IF(D200="","",VLOOKUP(D200,Master,5,FALSE)) -> Ladies Senior | H200: =IF(D200="","",VLOOKUP(D200,Master,2,FALSE)) -> Nam Ladies | J200: Ray Bull / Eagle | K200: 88 | L200: =IF(K200="","",IF(I200="",ROUND(HLOOKUP(J200,kgList,K200,FALSE),1),ROUND(HLOOKUP(I200,kgList,K200,FALSE),1))) -> 12.6 | M200: =IF(L200="","",IF(COUNTA(I200:J200)>1,"Edible or Inedible",IF(COUNTA(I200)=1,L200*1,IF(COUNTA(J200)=1,L200*1,"ERROR")))) -> 12.6
A201: =IF(D201="","",A200) -> 2021-G-D2 | B201: =IF(D201="","",B200) -> 44538 | C201: =IF(D201="","",C200) -> Mile 14 | D201: N0035 | E201: =IF(D201="","",VLOOKUP(D201,Master,3,FALSE)) -> Johan | F201: =IF(D201="","",VLOOKUP(D201,Master,4,FALSE)) -> Van Wyk | G201: =IF(D201="","",VLOOKUP(D201,Master,5,FALSE)) -> Men Veteran | H201: =IF(D201="","",VLOOKUP(D201,Master,2,FALSE)) -> Nam Seniors | J201: Shark Spotted Gully | K201: 139 | L201: =IF(K201="","",IF(I201="",ROUND(HLOOKUP(J201,kgList,K201,FALSE),1),ROUND(HLOOKUP(I201,kgList,K201,FALSE),1))) -> 13.4 | M201: =IF(L201="","",IF(COUNTA(I201:J201)>1,"Edible or Inedible",IF(COUNTA(I201)=1,L201*1,IF(COUNTA(J201)=1,L201*1,"ERROR")))) -> 13.4
A202: =IF(D202="","",A201) -> 2021-G-D2 | B202: =IF(D202="","",B201) -> 44538 | C202: =IF(D202="","",C201) -> Mile 14 | D202: N0731 | E202: =IF(D202="","",VLOOKUP(D202,Master,3,FALSE)) -> Maryna | F202: =IF(D202="","",VLOOKUP(D202,Master,4,FALSE)) -> Viljoen | G202: =IF(D202="","",VLOOKUP(D202,Master,5,FALSE)) -> Ladies Senior | H202: =IF(D202="","",VLOOKUP(D202,Master,2,FALSE)) -> Nam Ladies | J202: Shark Spotted Gully | K202: 133 | L202: =IF(K202="","",IF(I202="",ROUND(HLOOKUP(J202,kgList,K202,FALSE),1),ROUND(HLOOKUP(I202,kgList,K202,FALSE),1))) -> 11.5 | M202: =IF(L202="","",IF(COUNTA(I202:J202)>1,"Edible or Inedible",IF(COUNTA(I202)=1,L202*1,IF(COUNTA(J202)=1,L202*1,"ERROR")))) -> 11.5
... A204: =IF(D204="","",A203) -> 2021-G-D2 | B204: =IF(D204="","",B203) -> 44538 | C204: =IF(D204="","",C203) -> Mile 14 | D204: SA0728 | E204: =IF(D204="","",VLOOKUP(D204,Master,3,FALSE)) -> Wimpie | F204: =IF(D204="","",VLOOKUP(D204,Master,4,FALSE)) -> Barnard | G204: =IF(D204="","",VLOOKUP(D204,Master,5,FALSE)) -> Men Master | H204: =IF(D204="","",VLOOKUP(D204,Master,2,FALSE)) -> SA Masters | J204: Shark Spotted Gully | K204: 142 | L204: =IF(K204="","",IF(I204="",ROUND(HLOOKUP(J204,kgList,K204,FALSE),1),ROUND(HLOOKUP(I204,kgList,K204,FALSE),1))) -> 14.4 | M204: =IF(L204="","",IF(COUNTA(I204:J204)>1,"Edible or Inedible",IF(COUNTA(I204)=1,L204*1,IF(COUNTA(J204)=1,L204*1,"ERROR")))) -> 14.4
A205: 2021-G-D3 | B205: 44539 | C205: Jakkalsputz | D205: N0588 | E205: =IF(D205="","",VLOOKUP(D205,Master,3,FALSE)) -> Lourens | F205: =IF(D205="","",VLOOKUP(D205,Master,4,FALSE)) -> Fourie | G205: =IF(D205="","",VLOOKUP(D205,Master,5,FALSE)) -> Men Master | H205: =IF(D205="","",VLOOKUP(D205,Master,2,FALSE)) -> Nam Masters | J205: Shark Spotted Gully | K205: 114 | L205: =IF(K205="","",IF(I205="",ROUND(HLOOKUP(J205,kgList,K205,FALSE),1),ROUND(HLOOKUP(I205,kgList,K205,FALSE),1))) -> 6.8 | M205: =IF(L205="","",IF(COUNTA(I205:J205)>1,"Edible or Inedible",IF(COUNTA(I205)=1,L205*1,IF(COUNTA(J205)=1,L205*1,"ERROR")))) -> 6.8
A206: =IF(D206="","",A205) -> 2021-G-D3 | B206: =IF(D206="","",B205) -> 44539 | C206: =IF(D206="","",C205) -> Jakkalsputz | D206: SA8796 | E206: =IF(D206="","",VLOOKUP(D206,Master,3,FALSE)) -> Challen | F206: =IF(D206="","",VLOOKUP(D206,Master,4,FALSE)) -> Gendall | G206: =IF(D206="","",VLOOKUP(D206,Master,5,FALSE)) -> Men U/21 | H206: =IF(D206="","",VLOOKUP(D206,Master,2,FALSE)) -> SA Men U/21 | J206: Shark Spotted Gully | K206: 113 | L206: =IF(K206="","",IF(I206="",ROUND(HLOOKUP(J206,kgList,K206,FALSE),1),ROUND(HLOOKUP(I206,kgList,K206,FALSE),1))) -> 6.6 | M206: =IF(L206="","",IF(COUNTA(I206:J206)>1,"Edible or Inedible",IF(COUNTA(I206)=1,L206*1,IF(COUNTA(J206)=1,L206*1,"ERROR")))) -> 6.6
A207: =IF(D207="","",A206) -> 2021-G-D3 | B207: =IF(D207="","",B206) -> 44539 | C207: =IF(D207="","",C206) -> Jakkalsputz | D207: N0409 | E207: =IF(D207="","",VLOOKUP(D207,Master,3,FALSE)) -> Andre-Louis | F207: =IF(D207="","",VLOOKUP(D207,Master,4,FALSE)) -> Stipp | G207: =IF(D207="","",VLOOKUP(D207,Master,5,FALSE)) -> Men U/21 | H207: =IF(D207="","",VLOOKUP(D207,Master,2,FALSE)) -> Nam Men U/21 | J207: Shark Spotted Gully | K207: 112 | L207: =IF(K207="","",IF(I207="",ROUND(HLOOKUP(J207,kgList,K207,FALSE),1),ROUND(HLOOKUP(I207,kgList,K207,FALSE),1))) -> 6.4 | M207: =IF(L207="","",IF(COUNTA(I207:J207)>1,"Edible or Inedible",IF(COUNTA(I207)=1,L207*1,IF(COUNTA(J207)=1,L207*1,"ERROR")))) -> 6.4
A208: =IF(D208="","",A207) -> 2021-G-D3 | B208: =IF(D208="","",B207) -> 44539 | C208: =IF(D208="","",C207) -> Jakkalsputz | D208: N0667 | E208: =IF(D208="","",VLOOKUP(D208,Master,3,FALSE)) -> Nadine | F208: =IF(D208="","",VLOOKUP(D208,Master,4,FALSE)) -> Downing | G208: =IF(D208="","",VLOOKUP(D208,Master,5,FALSE)) -> Ladies Senior | H208: =IF(D208="","",VLOOKUP(D208,Master,2,FALSE)) -> Nam Ladies | J208: Shark Spotted Gully | K208: 115 | L208: =IF(K208="","",IF(I208="",ROUND(HLOOKUP(J208,kgList,K208,FALSE),1),ROUND(HLOOKUP(I208,kgList,K208,FALSE),1))) -> 7 | M208: =IF(L208="","",IF(COUNTA(I208:J208)>1,"Edible or Inedible",IF(COUNTA(I208)=1,L208*1,IF(COUNTA(J208)=1,L208*1,"ERROR")))) -> 7
A209: =IF(D209="","",A208) -> 2021-G-D3 | B209: =IF(D209="","",B208) -> 44539 | C209: =IF(D209="","",C208) -> Jakkalsputz | D209: N0150 | E209: =IF(D209="","",VLOOKUP(D209,Master,3,FALSE)) -> Lindie | F209: =IF(D209="","",VLOOKUP(D209,Master,4,FALSE)) -> Krauze | G209: =IF(D209="","",VLOOKUP(D209,Master,5,FALSE)) -> Ladies Senior | H209: =IF(D209="","",VLOOKUP(D209,Master,2,FALSE)) -> Nam Ladies | J209: Shark Spotted Gully | K209: 114 | L209: =IF(K209="","",IF(I209="",ROUND(HLOOKUP(J209,kgList,K209,FALSE),1),ROUND(HLOOKUP(I209,kgList,K209,FALSE),1))) -> 6.8 | M209: =IF(L209="","",IF(COUNTA(I209:J209)>1,"Edible or Inedible",IF(COUNTA(I209)=1,L209*1,IF(COUNTA(J209)=1,L209*1,"ERROR")))) -> 6.8
A210: =IF(D210="","",A209) -> 2021-G-D3 | B210: =IF(D210="","",B209) -> 44539 | C210: =IF(D210="","",C209) -> Jakkalsputz | D210: N0015 | E210: =IF(D210="","",VLOOKUP(D210,Master,3,FALSE)) -> Herman | F210: =IF(D210="","",VLOOKUP(D210,Master,4,FALSE)) -> Fourie | G210: =IF(D210="","",VLOOKUP(D210,Master,5,FALSE)) -> Men Grand Masters | H210: =IF(D210="","",VLOOKUP(D210,Master,2,FALSE)) -> Nam Grand Masters | J210: Shark Spotted Gully | K210: 119 | L210: =IF(K210="","",IF(I210="",ROUND(HLOOKUP(J210,kgList,K210,FALSE),1),ROUND(HLOOKUP(I210,kgList,K210,FALSE),1))) -> 7.9 | M210: =IF(L210="","",IF(COUNTA(I210:J210)>1,"Edible or Inedible",IF(COUNTA(I210)=1,L210*1,IF(COUNTA(J210)=1,L210*1,"ERROR")))) -> 7.9
A211: =IF(D211="","",A210) -> 2021-G-D3 | B211: =IF(D211="","",B210) -> 44539 | C211: =IF(D211="","",C210) -> Jakkalsputz | D211: SA4139 | E211: =IF(D211="","",VLOOKUP(D211,Master,3,FALSE)) -> Hendrico | F211: =IF(D211="","",VLOOKUP(D211,Master,4,FALSE)) -> Lesch | G211: =IF(D211="","",VLOOKUP(D211,Master,5,FALSE)) -> Men Senior | H211: =IF(D211="","",VLOOKUP(D211,Master,2,FALSE)) -> SA Seniors | J211: Shark Spotted Gully | K211: 115 | L211: =IF(K211="","",IF(I211="",ROUND(HLOOKUP(J211,kgList,K211,FALSE),1),ROUND(HLOOKUP(I211,kgList,K211,FALSE),1))) -> 7 | M211: =IF(L211="","",IF(COUNTA(I211:J211)>1,"Edible or Inedible",IF(COUNTA(I211)=1,L211*1,IF(COUNTA(J211)=1,L211*1,"ERROR")))) -> 7
A212: =IF(D212="","",A211) -> 2021-G-D3 | B212: =IF(D212="","",B211) -> 44539 | C212: =IF(D212="","",C211) -> Jakkalsputz | D212: SA3374 | E212: =IF(D212="","",VLOOKUP(D212,Master,3,FALSE)) -> Greg | F212: =IF(D212="","",VLOOKUP(D212,Master,4,FALSE)) -> Sutherland | G212: =IF(D212="","",VLOOKUP(D212,Master,5,FALSE)) -> Men Senior | H212: =IF(D212="","",VLOOKUP(D212,Master,2,FALSE)) -> SA Seniors | J212: Shark Spotted Gully | K212: 114 | L212: =IF(K212="","",IF(I212="",ROUND(HLOOKUP(J212,kgList,K212,FALSE),1),ROUND(HLOOKUP(I212,kgList,K212,FALSE),1))) -> 6.8 | M212: =IF(L212="","",IF(COUNTA(I212:J212)>1,"Edible or Inedible",IF(COUNTA(I212)=1,L212*1,IF(COUNTA(J212)=1,L212*1,"ERROR")))) -> 6.8
A213: =IF(D213="","",A212) -> 2021-G-D3 | B213: =IF(D213="","",B212) -> 44539 | C213: =IF(D213="","",C212) -> Jakkalsputz | D213: N0031 | E213: =IF(D213="","",VLOOKUP(D213,Master,3,FALSE)) -> Emil | F213: =IF(D213="","",VLOOKUP(D213,Master,4,FALSE)) -> Prinsloo | G213: =IF(D213="","",VLOOKUP(D213,Master,5,FALSE)) -> Men Veteran | H213: =IF(D213="","",VLOOKUP(D213,Master,2,FALSE)) -> Nam Seniors | J213: Shark Spotted Gully | K213: 114 | L213: =IF(K213="","",IF(I213="",ROUND(HLOOKUP(J213,kgList,K213,FALSE),1),ROUND(HLOOKUP(I213,kgList,K213,FALSE),1))) -> 6.8 | M213: =IF(L213="","",IF(COUNTA(I213:J213)>1,"Edible or Inedible",IF(COUNTA(I213)=1,L213*1,IF(COUNTA(J213)=1,L213*1,"ERROR")))) -> 6.8
A214: =IF(D214="","",A213) -> 2021-G-D3 | B214: =IF(D214="","",B213) -> 44539 | C214: =IF(D214="","",C213) -> Jakkalsputz | D214: SA3195 | E214: =IF(D214="","",VLOOKUP(D214,Master,3,FALSE)) -> Gus | F214: =IF(D214="","",VLOOKUP(D214,Master,4,FALSE)) -> Kaltenbrun | G214: =IF(D214="","",VLOOKUP(D214,Master,5,FALSE)) -> Men Master | H214: =IF(D214="","",VLOOKUP(D214,Master,2,FALSE)) -> SA Masters | J214: Shark Spotted Gully | K214: 114 | L214: =IF(K214="","",IF(I214="",ROUND(HLOOKUP(J214,kgList,K214,FALSE),1),ROUND(HLOOKUP(I214,kgList,K214,FALSE),1))) -> 6.8 | M214: =IF(L214="","",IF(COUNTA(I214:J214)>1,"Edible or Inedible",IF(COUNTA(I214)=1,L214*1,IF(COUNTA(J214)=1,L214*1,"ERROR")))) -> 6.8
A215: =IF(D215="","",A214) -> 2021-G-D3 | B215: =IF(D215="","",B214) -> 44539 | C215: =IF(D215="","",C214) -> Jakkalsputz | D215: SA8741 | E215: =IF(D215="","",VLOOKUP(D215,Master,3,FALSE)) -> Prevashan | F215: =IF(D215="","",VLOOKUP(D215,Master,4,FALSE)) -> Moodley | G215: =IF(D215="","",VLOOKUP(D215,Master,5,FALSE)) -> Men Senior | H215: =IF(D215="","",VLOOKUP(D215,Master,2,FALSE)) -> SA Seniors | J215: Shark Spotted Gully | K215: 113 | L215: =IF(K215="","",IF(I215="",ROUND(HLOOKUP(J215,kgList,K215,FALSE),1),ROUND(HLOOKUP(I215,kgList,K215,FALSE),1))) -> 6.6 | M215: =IF(L215="","",IF(COUNTA(I215:J215)>1,"Edible or Inedible",IF(COUNTA(I215)=1,L215*1,IF(COUNTA(J215)=1,L215*1,"ERROR")))) -> 6.6
A216: =IF(D216="","",A215) -> 2021-G-D3 | B216: =IF(D216="","",B215) -> 44539 | C216: =IF(D216="","",C215) -> Jakkalsputz | D216: N0024 | E216: =IF(D216="","",VLOOKUP(D216,Master,3,FALSE)) -> Andrew | F216: =IF(D216="","",VLOOKUP(D216,Master,4,FALSE)) -> Van Der Westhuizen | G216: =IF(D216="","",VLOOKUP(D216,Master,5,FALSE)) -> Men Veteran | H216: =IF(D216="","",VLOOKUP(D216,Master,2,FALSE)) -> Nam Seniors | J216: Shark Spotted Gully | K216: 112 | L216: =IF(K216="","",IF(I216="",ROUND(HLOOKUP(J216,kgList,K216,FALSE),1),ROUND(HLOOKUP(I216,kgList,K216,FALSE),1))) -> 6.4 | M216: =IF(L216="","",IF(COUNTA(I216:J216)>1,"Edible or Inedible",IF(COUNTA(I216)=1,L216*1,IF(COUNTA(J216)=1,L216*1,"ERROR")))) -> 6.4
A217: =IF(D217="","",A216) -> 2021-G-D3 | B217: =IF(D217="","",B216) -> 44539 | C217: =IF(D217="","",C216) -> Jakkalsputz | D217: N0035 | E217: =IF(D217="","",VLOOKUP(D217,Master,3,FALSE)) -> Johan | F217: =IF(D217="","",VLOOKUP(D217,Master,4,FALSE)) -> Van Wyk | G217: =IF(D217="","",VLOOKUP(D217,Master,5,FALSE)) -> Men Veteran | H217: =IF(D217="","",VLOOKUP(D217,Master,2,FALSE)) -> Nam Seniors | J217: Shark Hound Smooth | K217: 116 | L217: =IF(K217="","",IF(I217="",ROUND(HLOOKUP(J217,kgList,K217,FALSE),1),ROUND(HLOOKUP(I217,kgList,K217,FALSE),1))) -> 6.2 | M217: =IF(L217="","",IF(COUNTA(I217:J217)>1,"Edible or Inedible",IF(COUNTA(I217)=1,L217*1,IF(COUNTA(J217)=1,L217*1,"ERROR")))) -> 6.2
... A339: =IF(D339="","",A338) -> 2021-G-D3 | B339: =IF(D339="","",B338) -> 44539 | C339: =IF(D339="","",C338) -> Jakkalsputz | D339: N0023 | E339: =IF(D339="","",VLOOKUP(D339,Master,3,FALSE)) -> Jörg | F339: =IF(D339="","",VLOOKUP(D339,Master,4,FALSE)) -> Walter | G339: =IF(D339="","",VLOOKUP(D339,Master,5,FALSE)) -> Men Grand Masters | H339: =IF(D339="","",VLOOKUP(D339,Master,2,FALSE)) -> Nam Grand Masters | J339: Shark Spotted gully | K339: 97 | L339: =IF(K339="","",IF(I339="",ROUND(HLOOKUP(J339,kgList,K339,FALSE),1),ROUND(HLOOKUP(I339,kgList,K339,FALSE),1))) -> 3.9 | M339: =IF(L339="","",IF(COUNTA(I339:J339)>1,"Edible or Inedible",IF(COUNTA(I339)=1,L339*1,IF(COUNTA(J339)=1,L339*1,"ERROR")))) -> 3.9
A340: =IF(D340="","",A339) -> 2021-G-D3 | B340: =IF(D340="","",B339) -> 44539 | C340: =IF(D340="","",C339) -> Jakkalsputz | D340: SA4945 | E340: =IF(D340="","",VLOOKUP(D340,Master,3,FALSE)) -> Elzanne | F340: =IF(D340="","",VLOOKUP(D340,Master,4,FALSE)) -> Cronje | G340: =IF(D340="","",VLOOKUP(D340,Master,5,FALSE)) -> Ladies Senior | H340: =IF(D340="","",VLOOKUP(D340,Master,2,FALSE)) -> SA Ladies | I340: Kob | K340: 67 | L340: =IF(K340="","",IF(I340="",ROUND(HLOOKUP(J340,kgList,K340,FALSE),1),ROUND(HLOOKUP(I340,kgList,K340,FALSE),1))) -> 3.1 | M340: =IF(L340="","",IF(COUNTA(I340:J340)>1,"Edible or Inedible",IF(COUNTA(I340)=1,L340*1,IF(COUNTA(J340)=1,L340*1,"ERROR")))) -> 3.1
A341: =IF(D341="","",A340) -> 2021-G-D3 | B341: =IF(D341="","",B340) -> 44539 | C341: =IF(D341="","",C340) -> Jakkalsputz | D341: SA1404 | E341: =IF(D341="","",VLOOKUP(D341,Master,3,FALSE)) -> Julian | F341: =IF(D341="","",VLOOKUP(D341,Master,4,FALSE)) -> Pybus | G341: =IF(D341="","",VLOOKUP(D341,Master,5,FALSE)) -> Men Grand Masters | H341: =IF(D341="","",VLOOKUP(D341,Master,2,FALSE)) -> SA Grand Masters | J341: Shark Spotted Gully | K341: 94 | L341: =IF(K341="","",IF(I341="",ROUND(HLOOKUP(J341,kgList,K341,FALSE),1),ROUND(HLOOKUP(I341,kgList,K341,FALSE),1))) -> 3.5 | M341: =IF(L341="","",IF(COUNTA(I341:J341)>1,"Edible or Inedible",IF(COUNTA(I341)=1,L341*1,IF(COUNTA(J341)=1,L341*1,"ERROR")))) -> 3.5
A342: =IF(D342="","",A341) -> 2021-G-D3 | B342: =IF(D342="","",B341) -> 44539 | C342: =IF(D342="","",C341) -> Jakkalsputz | D342: SA3679 | E342: =IF(D342="","",VLOOKUP(D342,Master,3,FALSE)) -> Nem | F342: =IF(D342="","",VLOOKUP(D342,Master,4,FALSE)) -> Singh | G342: =IF(D342="","",VLOOKUP(D342,Master,5,FALSE)) -> Men Master | H342: =IF(D342="","",VLOOKUP(D342,Master,2,FALSE)) -> SA Masters | J342: Elephantfish | K342: 76 | L342: =IF(K342="","",IF(I342="",ROUND(HLOOKUP(J342,kgList,K342,FALSE),1),ROUND(HLOOKUP(I342,kgList,K342,FALSE),1))) -> 3.5 | M342: =IF(L342="","",IF(COUNTA(I342:J342)>1,"Edible or Inedible",IF(COUNTA(I342)=1,L342*1,IF(COUNTA(J342)=1,L342*1,"ERROR")))) -> 3.5
A343: =IF(D343="","",A342) -> 2021-G-D3 | B343: =IF(D343="","",B342) -> 44539 | C343: =IF(D343="","",C342) -> Jakkalsputz | D343: N0636 | E343: =IF(D343="","",VLOOKUP(D343,Master,3,FALSE)) -> Lydia | F343: =IF(D343="","",VLOOKUP(D343,Master,4,FALSE)) -> Cilliers | G343: =IF(D343="","",VLOOKUP(D343,Master,5,FALSE)) -> ladies Senior | H343: =IF(D343="","",VLOOKUP(D343,Master,2,FALSE)) -> Nam Ladies | J343: Guitarfish - Lesser | K343: 94 | L343: =IF(K343="","",IF(I343="",ROUND(HLOOKUP(J343,kgList,K343,FALSE),1),ROUND(HLOOKUP(I343,kgList,K343,FALSE),1))) -> 3.1 | M343: =IF(L343="","",IF(COUNTA(I343:J343)>1,"Edible or Inedible",IF(COUNTA(I343)=1,L343*1,IF(COUNTA(J343)=1,L343*1,"ERROR")))) -> 3.1
A344: =IF(D344="","",A343) -> 2021-G-D3 | B344: =IF(D344="","",B343) -> 44539 | C344: =IF(D344="","",C343) -> Jakkalsputz | D344: N0203 | E344: =IF(D344="","",VLOOKUP(D344,Master,3,FALSE)) -> Andre | F344: =IF(D344="","",VLOOKUP(D344,Master,4,FALSE)) -> Muller | G344: =IF(D344="","",VLOOKUP(D344,Master,5,FALSE)) -> Men Grand Masters | H344: =IF(D344="","",VLOOKUP(D344,Master,2,FALSE)) -> Nam Grand Masters | J344: Guitarfish - Lesser | K344: 96 | L344: =IF(K344="","",IF(I344="",ROUND(HLOOKUP(J344,kgList,K344,FALSE),1),ROUND(HLOOKUP(I344,kgList,K344,FALSE),1))) -> 3.3 | M344: =IF(L344="","",IF(COUNTA(I344:J344)>1,"Edible or Inedible",IF(COUNTA(I344)=1,L344*1,IF(COUNTA(J344)=1,L344*1,"ERROR")))) -> 3.3
A345: =IF(D345="","",A344) -> 2021-G-D3 | B345: =IF(D345="","",B344) -> 44539 | C345: =IF(D345="","",C344) -> Jakkalsputz | D345: N0031 | E345: =IF(D345="","",VLOOKUP(D345,Master,3,FALSE)) -> Emil | F345: =IF(D345="","",VLOOKUP(D345,Master,4,FALSE)) -> Prinsloo | G345: =IF(D345="","",VLOOKUP(D345,Master,5,FALSE)) -> Men Veteran | H345: =IF(D345="","",VLOOKUP(D345,Master,2,FALSE)) -> Nam Seniors | I345: Kob | K345: 70 | L345: =IF(K345="","",IF(I345="",ROUND(HLOOKUP(J345,kgList,K345,FALSE),1),ROUND(HLOOKUP(I345,kgList,K345,FALSE),1))) -> 3.6 | M345: =IF(L345="","",IF(COUNTA(I345:J345)>1,"Edible or Inedible",IF(COUNTA(I345)=1,L345*1,IF(COUNTA(J345)=1,L345*1,"ERROR")))) -> 3.6
A346: =IF(D346="","",A345) -> 2021-G-D3 | B346: =IF(D346="","",B345) -> 44539 | C346: =IF(D346="","",C345) -> Jakkalsputz | D346: N0283 | E346: =IF(D346="","",VLOOKUP(D346,Master,3,FALSE)) -> Kevin | F346: =IF(D346="","",VLOOKUP(D346,Master,4,FALSE)) -> Page | G346: =IF(D346="","",VLOOKUP(D346,Master,5,FALSE)) -> Men U/21 | H346: =IF(D346="","",VLOOKUP(D346,Master,2,FALSE)) -> Nam Men U/21 | J346: Shark Spotted Gully | K346: 90 | L346: =IF(K346="","",IF(I346="",ROUND(HLOOKUP(J346,kgList,K346,FALSE),1),ROUND(HLOOKUP(I346,kgList,K346,FALSE),1))) -> 3 | M346: =IF(L346="","",IF(COUNTA(I346:J346)>1,"Edible or Inedible",IF(COUNTA(I346)=1,L346*1,IF(COUNTA(J346)=1,L346*1,"ERROR")))) -> 3
A347: =IF(D347="","",A346) -> 2021-G-D3 | B347: =IF(D347="","",B346) -> 44539 | C347: =IF(D347="","",C346) -> Jakkalsputz | D347: SA7476 | E347: =IF(D347="","",VLOOKUP(D347,Master,3,FALSE)) -> Kabous | F347: =IF(D347="","",VLOOKUP(D347,Master,4,FALSE)) -> Louw | G347: =IF(D347="","",VLOOKUP(D347,Master,5,FALSE)) -> Ladies Senior | H347: =IF(D347="","",VLOOKUP(D347,Master,2,FALSE)) -> SA Ladies | J347: Guitarfish - Lesser | K347: 94 | L347: =IF(K347="","",IF(I347="",ROUND(HLOOKUP(J347,kgList,K347,FALSE),1),ROUND(HLOOKUP(I347,kgList,K347,FALSE),1))) -> 3.1 | M347: =IF(L347="","",IF(COUNTA(I347:J347)>1,"Edible or Inedible",IF(COUNTA(I347)=1,L347*1,IF(COUNTA(J347)=1,L347*1,"ERROR")))) -> 3.1
A348: =IF(D348="","",A347) -> 2021-G-D3 | B348: =IF(D348="","",B347) -> 44539 | C348: =IF(D348="","",C347) -> Jakkalsputz | D348: SA4945 | E348: =IF(D348="","",VLOOKUP(D348,Master,3,FALSE)) -> Elzanne | F348: =IF(D348="","",VLOOKUP(D348,Master,4,FALSE)) -> Cronje | G348: =IF(D348="","",VLOOKUP(D348,Master,5,FALSE)) -> Ladies Senior | H348: =IF(D348="","",VLOOKUP(D348,Master,2,FALSE)) -> SA Ladies | J348: Shark Spotted Gully | K348: 91 | L348: =IF(K348="","",IF(I348="",ROUND(HLOOKUP(J348,kgList,K348,FALSE),1),ROUND(HLOOKUP(I348,kgList,K348,FALSE),1))) -> 3.1 | M348: =IF(L348="","",IF(COUNTA(I348:J348)>1,"Edible or Inedible",IF(COUNTA(I348)=1,L348*1,IF(COUNTA(J348)=1,L348*1,"ERROR")))) -> 3.1
A349: =IF(D349="","",A348) -> 2021-G-D3 | B349: =IF(D349="","",B348) -> 44539 | C349: =IF(D349="","",C348) -> Jakkalsputz | D349: SA3374 | E349: =IF(D349="","",VLOOKUP(D349,Master,3,FALSE)) -> Greg | F349: =IF(D349="","",VLOOKUP(D349,Master,4,FALSE)) -> Sutherland | G349: =IF(D349="","",VLOOKUP(D349,Master,5,FALSE)) -> Men Senior | H349: =IF(D349="","",VLOOKUP(D349,Master,2,FALSE)) -> SA Seniors | J349: Shark Hound Smooth | K349: 99 | L349: =IF(K349="","",IF(I349="",ROUND(HLOOKUP(J349,kgList,K349,FALSE),1),ROUND(HLOOKUP(I349,kgList,K349,FALSE),1))) -> 3.6 | M349: =IF(L349="","",IF(COUNTA(I349:J349)>1,"Edible or Inedible",IF(COUNTA(I349)=1,L349*1,IF(COUNTA(J349)=1,L349*1,"ERROR")))) -> 3.6
A350: =IF(D350="","",A349) -> 2021-G-D3 | B350: =IF(D350="","",B349) -> 44539 | C350: =IF(D350="","",C349) -> Jakkalsputz | D350: SA2734 | E350: =IF(D350="","",VLOOKUP(D350,Master,3,FALSE)) -> Raldo | F350: =IF(D350="","",VLOOKUP(D350,Master,4,FALSE)) -> Potgieter | G350: =IF(D350="","",VLOOKUP(D350,Master,5,FALSE)) -> Men Senior | H350: =IF(D350="","",VLOOKUP(D350,Master,2,FALSE)) -> SA Seniors | J350: Shark Spotted Gully | K350: 95 | L350: =IF(K350="","",IF(I350="",ROUND(HLOOKUP(J350,kgList,K350,FALSE),1),ROUND(HLOOKUP(I350,kgList,K350,FALSE),1))) -> 3.6 | M350: =IF(L350="","",IF(COUNTA(I350:J350)>1,"Edible or Inedible",IF(COUNTA(I350)=1,L350*1,IF(COUNTA(J350)=1,L350*1,"ERROR")))) -> 3.6
A351: =IF(D351="","",A350) -> 2021-G-D3 | B351: =IF(D351="","",B350) -> 44539 | C351: =IF(D351="","",C350) -> Jakkalsputz | D351: SA8339 | E351: =IF(D351="","",VLOOKUP(D351,Master,3,FALSE)) -> Gareth | F351: =IF(D351="","",VLOOKUP(D351,Master,4,FALSE)) -> Dahl | G351: =IF(D351="","",VLOOKUP(D351,Master,5,FALSE)) -> Men U/21 | H351: =IF(D351="","",VLOOKUP(D351,Master,2,FALSE)) -> SA Men U/21 | J351: Guitarfish - Lesser | K351: 89 | L351: =IF(K351="","",IF(I351="",ROUND(HLOOKUP(J351,kgList,K351,FALSE),1),ROUND(HLOOKUP(I351,kgList,K351,FALSE),1))) -> 2.6 | M351: =IF(L351="","",IF(COUNTA(I351:J351)>1,"Edible or Inedible",IF(COUNTA(I351)=1,L351*1,IF(COUNTA(J351)=1,L351*1,"ERROR")))) -> 2.6
A352: =IF(D352="","",A351) -> 2021-G-D3 | B352: =IF(D352="","",B351) -> 44539 | C352: =IF(D352="","",C351) -> Jakkalsputz | D352: N0031 | E352: =IF(D352="","",VLOOKUP(D352,Master,3,FALSE)) -> Emil | F352: =IF(D352="","",VLOOKUP(D352,Master,4,FALSE)) -> Prinsloo | G352: =IF(D352="","",VLOOKUP(D352,Master,5,FALSE)) -> Men Veteran | H352: =IF(D352="","",VLOOKUP(D352,Master,2,FALSE)) -> Nam Seniors | J352: Elephantfish | K352: 76 | L352: =IF(K352="","",IF(I352="",ROUND(HLOOKUP(J352,kgList,K352,FALSE),1),ROUND(HLOOKUP(I352,kgList,K352,FALSE),1))) -> 3.5 | M352: =IF(L352="","",IF(COUNTA(I352:J352)>1,"Edible or Inedible",IF(COUNTA(I352)=1,L352*1,IF(COUNTA(J352)=1,L352*1,"ERROR")))) -> 3.5
A353: =IF(D353="","",A352) -> 2021-G-D3 | B353: =IF(D353="","",B352) -> 44539 | C353: =IF(D353="","",C352) -> Jakkalsputz | D353: N0150 | E353: =IF(D353="","",VLOOKUP(D353,Master,3,FALSE)) -> Lindie | F353: =IF(D353="","",VLOOKUP(D353,Master,4,FALSE)) -> Krauze | G353: =IF(D353="","",VLOOKUP(D353,Master,5,FALSE)) -> Ladies Senior | H353: =IF(D353="","",VLOOKUP(D353,Master,2,FALSE)) -> Nam Ladies | J353: Guitarfish - Lesser | K353: 92 | L353: =IF(K353="","",IF(I353="",ROUND(HLOOKUP(J353,kgList,K353,FALSE),1),ROUND(HLOOKUP(I353,kgList,K353,FALSE),1))) -> 2.9 | M353: =IF(L353="","",IF(COUNTA(I353:J353)>1,"Edible or Inedible",IF(COUNTA(I353)=1,L353*1,IF(COUNTA(J353)=1,L353*1,"ERROR")))) -> 2.9
A354: =IF(D354="","",A353) -> 2021-G-D3 | B354: =IF(D354="","",B353) -> 44539 | C354: =IF(D354="","",C353) -> Jakkalsputz | D354: N0004 | E354: =IF(D354="","",VLOOKUP(D354,Master,3,FALSE)) -> Charles | F354: =IF(D354="","",VLOOKUP(D354,Master,4,FALSE)) -> Bothma | G354: =IF(D354="","",VLOOKUP(D354,Master,5,FALSE)) -> Men Grand Masters | H354: =IF(D354="","",VLOOKUP(D354,Master,2,FALSE)) -> Nam Grand Masters | J354: Shark Spotted Gully | K354: 92 | L354: =IF(K354="","",IF(I354="",ROUND(HLOOKUP(J354,kgList,K354,FALSE),1),ROUND(HLOOKUP(I354,kgList,K354,FALSE),1))) -> 3.3 | M354: =IF(L354="","",IF(COUNTA(I354:J354)>1,"Edible or Inedible",IF(COUNTA(I354)=1,L354*1,IF(COUNTA(J354)=1,L354*1,"ERROR")))) -> 3.3
A355: =IF(D355="","",A354) -> 2021-G-D3 | B355: =IF(D355="","",B354) -> 44539 | C355: =IF(D355="","",C354) -> Jakkalsputz | D355: SA3679 | E355: =IF(D355="","",VLOOKUP(D355,Master,3,FALSE)) -> Nem | F355: =IF(D355="","",VLOOKUP(D355,Master,4,FALSE)) -> Singh | G355: =IF(D355="","",VLOOKUP(D355,Master,5,FALSE)) -> Men Master | H355: =IF(D355="","",VLOOKUP(D355,Master,2,FALSE)) -> SA Masters | J355: Elephantfish | K355: 75 | L355: =IF(K355="","",IF(I355="",ROUND(HLOOKUP(J355,kgList,K355,FALSE),1),ROUND(HLOOKUP(I355,kgList,K355,FALSE),1))) -> 3.4 | M355: =IF(L355="","",IF(COUNTA(I355:J355)>1,"Edible or Inedible",IF(COUNTA(I355)=1,L355*1,IF(COUNTA(J355)=1,L355*1,"ERROR")))) -> 3.4
A356: =IF(D356="","",A355) -> 2021-G-D3 | B356: =IF(D356="","",B355) -> 44539 | C356: =IF(D356="","",C355) -> Jakkalsputz | D356: N0704 | E356: =IF(D356="","",VLOOKUP(D356,Master,3,FALSE)) -> Kay | F356: =IF(D356="","",VLOOKUP(D356,Master,4,FALSE)) -> Bachran | G356: =IF(D356="","",VLOOKUP(D356,Master,5,FALSE)) -> Men U/21 | H356: =IF(D356="","",VLOOKUP(D356,Master,2,FALSE)) -> Nam Men U/21 | J356: Guitarfish - Lesser | K356: 89 | L356: =IF(K356="","",IF(I356="",ROUND(HLOOKUP(J356,kgList,K356,FALSE),1),ROUND(HLOOKUP(I356,kgList,K356,FALSE),1))) -> 2.6 | M356: =IF(L356="","",IF(COUNTA(I356:J356)>1,"Edible or Inedible",IF(COUNTA(I356)=1,L356*1,IF(COUNTA(J356)=1,L356*1,"ERROR")))) -> 2.6
A357: =IF(D357="","",A356) -> 2021-G-D3 | B357: =IF(D357="","",B356) -> 44539 | C357: =IF(D357="","",C356) -> Jakkalsputz | D357: N0731 | E357: =IF(D357="","",VLOOKUP(D357,Master,3,FALSE)) -> Maryna | F357: =IF(D357="","",VLOOKUP(D357,Master,4,FALSE)) -> Viljoen | G357: =IF(D357="","",VLOOKUP(D357,Master,5,FALSE)) -> Ladies Senior | H357: =IF(D357="","",VLOOKUP(D357,Master,2,FALSE)) -> Nam Ladies | J357: Elephantfish | K357: 71 | L357: =IF(K357="","",IF(I357="",ROUND(HLOOKUP(J357,kgList,K357,FALSE),1),ROUND(HLOOKUP(I357,kgList,K357,FALSE),1))) -> 2.9 | M357: =IF(L357="","",IF(COUNTA(I357:J357)>1,"Edible or Inedible",IF(COUNTA(I357)=1,L357*1,IF(COUNTA(J357)=1,L357*1,"ERROR")))) -> 2.9
... A372: =IF(D372="","",A371) -> 2021-G-D3 | B372: =IF(D372="","",B371) -> 44539 | C372: =IF(D372="","",C371) -> Jakkalsputz | D372: N0146 | E372: =IF(D372="","",VLOOKUP(D372,Master,3,FALSE)) -> Danie | F372: =IF(D372="","",VLOOKUP(D372,Master,4,FALSE)) -> Du Toit | G372: =IF(D372="","",VLOOKUP(D372,Master,5,FALSE)) -> Men Grand Masters | H372: =IF(D372="","",VLOOKUP(D372,Master,2,FALSE)) -> Nam Grand Masters | J372: Shark Spotted Gully | K372: 91 | L372: =IF(K372="","",IF(I372="",ROUND(HLOOKUP(J372,kgList,K372,FALSE),1),ROUND(HLOOKUP(I372,kgList,K372,FALSE),1))) -> 3.1 | M372: =IF(L372="","",IF(COUNTA(I372:J372)>1,"Edible or Inedible",IF(COUNTA(I372)=1,L372*1,IF(COUNTA(J372)=1,L372*1,"ERROR")))) -> 3.1
A373: =IF(D373="","",A372) -> 2021-G-D3 | B373: =IF(D373="","",B372) -> 44539 | C373: =IF(D373="","",C372) -> Jakkalsputz | D373: SA4251 | E373: =IF(D373="","",VLOOKUP(D373,Master,3,FALSE)) -> Thys | F373: =IF(D373="","",VLOOKUP(D373,Master,4,FALSE)) -> Basson | G373: =IF(D373="","",VLOOKUP(D373,Master,5,FALSE)) -> Men Grand Masters | H373: =IF(D373="","",VLOOKUP(D373,Master,2,FALSE)) -> SA Grand Masters | I373: kob | K373: 66 | L373: =IF(K373="","",IF(I373="",ROUND(HLOOKUP(J373,kgList,K373,FALSE),1),ROUND(HLOOKUP(I373,kgList,K373,FALSE),1))) -> 3 | M373: =IF(L373="","",IF(COUNTA(I373:J373)>1,"Edible or Inedible",IF(COUNTA(I373)=1,L373*1,IF(COUNTA(J373)=1,L373*1,"ERROR")))) -> 3
A374: =IF(D374="","",A373) -> 2021-G-D3 | B374: =IF(D374="","",B373) -> 44539 | C374: =IF(D374="","",C373) -> Jakkalsputz | D374: SA1453 | E374: =IF(D374="","",VLOOKUP(D374,Master,3,FALSE)) -> Robert | F374: =IF(D374="","",VLOOKUP(D374,Master,4,FALSE)) -> Kyle | G374: =IF(D374="","",VLOOKUP(D374,Master,5,FALSE)) -> Men Senior | H374: =IF(D374="","",VLOOKUP(D374,Master,2,FALSE)) -> SA Seniors | J374: Shark Soupfin | K374: 60 | L374: =IF(K374="","",IF(I374="",ROUND(HLOOKUP(J374,kgList,K374,FALSE),1),ROUND(HLOOKUP(I374,kgList,K374,FALSE),1))) -> 3.2 | M374: =IF(L374="","",IF(COUNTA(I374:J374)>1,"Edible or Inedible",IF(COUNTA(I374)=1,L374*1,IF(COUNTA(J374)=1,L374*1,"ERROR")))) -> 3.2
A375: =IF(D375="","",A374) -> 2021-G-D3 | B375: =IF(D375="","",B374) -> 44539 | C375: =IF(D375="","",C374) -> Jakkalsputz | D375: SA4139 | E375: =IF(D375="","",VLOOKUP(D375,Master,3,FALSE)) -> Hendrico | F375: =IF(D375="","",VLOOKUP(D375,Master,4,FALSE)) -> Lesch | G375: =IF(D375="","",VLOOKUP(D375,Master,5,FALSE)) -> Men Senior | H375: =IF(D375="","",VLOOKUP(D375,Master,2,FALSE)) -> SA Seniors | J375: Shark Soupfin | K375: 60 | L375: =IF(K375="","",IF(I375="",ROUND(HLOOKUP(J375,kgList,K375,FALSE),1),ROUND(HLOOKUP(I375,kgList,K375,FALSE),1))) -> 3.2 | M375: =IF(L375="","",IF(COUNTA(I375:J375)>1,"Edible or Inedible",IF(COUNTA(I375)=1,L375*1,IF(COUNTA(J375)=1,L375*1,"ERROR")))) -> 3.2
A376: =IF(D376="","",A375) -> 2021-G-D3 | B376: =IF(D376="","",B375) -> 44539 | C376: =IF(D376="","",C375) -> Jakkalsputz | D376: N0667 | E376: =IF(D376="","",VLOOKUP(D376,Master,3,FALSE)) -> Nadine | F376: =IF(D376="","",VLOOKUP(D376,Master,4,FALSE)) -> Downing | G376: =IF(D376="","",VLOOKUP(D376,Master,5,FALSE)) -> Ladies Senior | H376: =IF(D376="","",VLOOKUP(D376,Master,2,FALSE)) -> Nam Ladies | J376: Ray Bull / Eagle | K376: 54 | L376: =IF(K376="","",IF(I376="",ROUND(HLOOKUP(J376,kgList,K376,FALSE),1),ROUND(HLOOKUP(I376,kgList,K376,FALSE),1))) -> 2.8 | M376: =IF(L376="","",IF(COUNTA(I376:J376)>1,"Edible or Inedible",IF(COUNTA(I376)=1,L376*1,IF(COUNTA(J376)=1,L376*1,"ERROR")))) -> 2.8
A377: =IF(D377="","",A376) -> 2021-G-D3 | B377: =IF(D377="","",B376) -> 44539 | C377: =IF(D377="","",C376) -> Jakkalsputz | D377: N0030 | E377: =IF(D377="","",VLOOKUP(D377,Master,3,FALSE)) -> Ettiene | F377: =IF(D377="","",VLOOKUP(D377,Master,4,FALSE)) -> Stipp | G377: =IF(D377="","",VLOOKUP(D377,Master,5,FALSE)) -> Men Master | H377: =IF(D377="","",VLOOKUP(D377,Master,2,FALSE)) -> Nam Masters | J377: Shark Spotted Gully | K377: 91 | L377: =IF(K377="","",IF(I377="",ROUND(HLOOKUP(J377,kgList,K377,FALSE),1),ROUND(HLOOKUP(I377,kgList,K377,FALSE),1))) -> 3.1 | M377: =IF(L377="","",IF(COUNTA(I377:J377)>1,"Edible or Inedible",IF(COUNTA(I377)=1,L377*1,IF(COUNTA(J377)=1,L377*1,"ERROR")))) -> 3.1
A378: =IF(D378="","",A377) -> 2021-G-D3 | B378: =IF(D378="","",B377) -> 44539 | C378: =IF(D378="","",C377) -> Jakkalsputz | D378: N0687 | E378: =IF(D378="","",VLOOKUP(D378,Master,3,FALSE)) -> Barren | F378: =IF(D378="","",VLOOKUP(D378,Master,4,FALSE)) -> Van Es | G378: =IF(D378="","",VLOOKUP(D378,Master,5,FALSE)) -> Men Senior | H378: =IF(D378="","",VLOOKUP(D378,Master,2,FALSE)) -> Nam Men U/21 | J378: Elephantfish | K378: 86 | L378: =IF(K378="","",IF(I378="",ROUND(HLOOKUP(J378,kgList,K378,FALSE),1),ROUND(HLOOKUP(I378,kgList,K378,FALSE),1))) -> 5.1 | M378: =IF(L378="","",IF(COUNTA(I378:J378)>1,"Edible or Inedible",IF(COUNTA(I378)=1,L378*1,IF(COUNTA(J378)=1,L378*1,"ERROR")))) -> 5.1
A379: =IF(D379="","",A378) -> 2021-G-D3 | B379: =IF(D379="","",B378) -> 44539 | C379: =IF(D379="","",C378) -> Jakkalsputz | D379: SA8336 | E379: =IF(D379="","",VLOOKUP(D379,Master,3,FALSE)) -> Paul | F379: =IF(D379="","",VLOOKUP(D379,Master,4,FALSE)) -> Nel | G379: =IF(D379="","",VLOOKUP(D379,Master,5,FALSE)) -> Men Grand Masters | H379: =IF(D379="","",VLOOKUP(D379,Master,2,FALSE)) -> SA Grand Masters | J379: Shark Spotted Gully | K379: 90 | L379: =IF(K379="","",IF(I379="",ROUND(HLOOKUP(J379,kgList,K379,FALSE),1),ROUND(HLOOKUP(I379,kgList,K379,FALSE),1))) -> 3 | M379: =IF(L379="","",IF(COUNTA(I379:J379)>1,"Edible or Inedible",IF(COUNTA(I379)=1,L379*1,IF(COUNTA(J379)=1,L379*1,"ERROR")))) -> 3
A380: =IF(D380="","",A379) -> 2021-G-D3 | B380: =IF(D380="","",B379) -> 44539 | C380: =IF(D380="","",C379) -> Jakkalsputz | D380: SA7476 | E380: =IF(D380="","",VLOOKUP(D380,Master,3,FALSE)) -> Kabous | F380: =IF(D380="","",VLOOKUP(D380,Master,4,FALSE)) -> Louw | G380: =IF(D380="","",VLOOKUP(D380,Master,5,FALSE)) -> Ladies Senior | H380: =IF(D380="","",VLOOKUP(D380,Master,2,FALSE)) -> SA Ladies | J380: Ray Bull / Eagle | K380: 53 | L380: =IF(K380="","",IF(I380="",ROUND(HLOOKUP(J380,kgList,K380,FALSE),1),ROUND(HLOOKUP(I380,kgList,K380,FALSE),1))) -> 2.7 | M380: =IF(L380="","",IF(COUNTA(I380:J380)>1,"Edible or Inedible",IF(COUNTA(I380)=1,L380*1,IF(COUNTA(J380)=1,L380*1,"ERROR")))) -> 2.7
A381: =IF(D381="","",A380) -> 2021-G-D3 | B381: =IF(D381="","",B380) -> 44539 | C381: =IF(D381="","",C380) -> Jakkalsputz | D381: N0667 | E381: =IF(D381="","",VLOOKUP(D381,Master,3,FALSE)) -> Nadine | F381: =IF(D381="","",VLOOKUP(D381,Master,4,FALSE)) -> Downing | G381: =IF(D381="","",VLOOKUP(D381,Master,5,FALSE)) -> Ladies Senior | H381: =IF(D381="","",VLOOKUP(D381,Master,2,FALSE)) -> Nam Ladies | I381: Kob | K381: 63 | L381: =IF(K381="","",IF(I381="",ROUND(HLOOKUP(J381,kgList,K381,FALSE),1),ROUND(HLOOKUP(I381,kgList,K381,FALSE),1))) -> 2.6 | M381: =IF(L381="","",IF(COUNTA(I381:J381)>1,"Edible or Inedible",IF(COUNTA(I381)=1,L381*1,IF(COUNTA(J381)=1,L381*1,"ERROR")))) -> 2.6
A382: =IF(D382="","",A381) -> 2021-G-D3 | B382: =IF(D382="","",B381) -> 44539 | C382: =IF(D382="","",C381) -> Jakkalsputz | D382: SA4534 | E382: =IF(D382="","",VLOOKUP(D382,Master,3,FALSE)) -> Mike | F382: =IF(D382="","",VLOOKUP(D382,Master,4,FALSE)) -> Bailey | G382: =IF(D382="","",VLOOKUP(D382,Master,5,FALSE)) -> Men Master | H382: =IF(D382="","",VLOOKUP(D382,Master,2,FALSE)) -> SA Masters | J382: Guitarfish - Lesser | K382: 93 | L382: =IF(K382="","",IF(I382="",ROUND(HLOOKUP(J382,kgList,K382,FALSE),1),ROUND(HLOOKUP(I382,kgList,K382,FALSE),1))) -> 3 | M382: =IF(L382="","",IF(COUNTA(I382:J382)>1,"Edible or Inedible",IF(COUNTA(I382)=1,L382*1,IF(COUNTA(J382)=1,L382*1,"ERROR")))) -> 3
A383: =IF(D383="","",A382) -> 2021-G-D3 | B383: =IF(D383="","",B382) -> 44539 | C383: =IF(D383="","",C382) -> Jakkalsputz | D383: SA0610 | E383: =IF(D383="","",VLOOKUP(D383,Master,3,FALSE)) -> Barry | F383: =IF(D383="","",VLOOKUP(D383,Master,4,FALSE)) -> Wareham | G383: =IF(D383="","",VLOOKUP(D383,Master,5,FALSE)) -> Men Master | H383: =IF(D383="","",VLOOKUP(D383,Master,2,FALSE)) -> SA Masters | J383: Shark Soupfin | K383: 58 | L383: =IF(K383="","",IF(I383="",ROUND(HLOOKUP(J383,kgList,K383,FALSE),1),ROUND(HLOOKUP(I383,kgList,K383,FALSE),1))) -> 3 | M383: =IF(L383="","",IF(COUNTA(I383:J383)>1,"Edible or Inedible",IF(COUNTA(I383)=1,L383*1,IF(COUNTA(J383)=1,L383*1,"ERROR")))) -> 3
A384: =IF(D384="","",A383) -> 2021-G-D3 | B384: =IF(D384="","",B383) -> 44539 | C384: =IF(D384="","",C383) -> Jakkalsputz | D384: SA3195 | E384: =IF(D384="","",VLOOKUP(D384,Master,3,FALSE)) -> Gus | F384: =IF(D384="","",VLOOKUP(D384,Master,4,FALSE)) -> Kaltenbrun | G384: =IF(D384="","",VLOOKUP(D384,Master,5,FALSE)) -> Men Master | H384: =IF(D384="","",VLOOKUP(D384,Master,2,FALSE)) -> SA Masters | J384: Guitarfish - Lesser | K384: 92 | L384: =IF(K384="","",IF(I384="",ROUND(HLOOKUP(J384,kgList,K384,FALSE),1),ROUND(HLOOKUP(I384,kgList,K384,FALSE),1))) -> 2.9 | M384: =IF(L384="","",IF(COUNTA(I384:J384)>1,"Edible or Inedible",IF(COUNTA(I384)=1,L384*1,IF(COUNTA(J384)=1,L384*1,"ERROR")))) -> 2.9
A385: =IF(D385="","",A384) -> 2021-G-D3 | B385: =IF(D385="","",B384) -> 44539 | C385: =IF(D385="","",C384) -> Jakkalsputz | D385: SA3374 | E385: =IF(D385="","",VLOOKUP(D385,Master,3,FALSE)) -> Greg | F385: =IF(D385="","",VLOOKUP(D385,Master,4,FALSE)) -> Sutherland | G385: =IF(D385="","",VLOOKUP(D385,Master,5,FALSE)) -> Men Senior | H385: =IF(D385="","",VLOOKUP(D385,Master,2,FALSE)) -> SA Seniors | J385: Guitarfish - Lesser | K385: 94 | L385: =IF(K385="","",IF(I385="",ROUND(HLOOKUP(J385,kgList,K385,FALSE),1),ROUND(HLOOKUP(I385,kgList,K385,FALSE),1))) -> 3.1 | M385: =IF(L385="","",IF(COUNTA(I385:J385)>1,"Edible or Inedible",IF(COUNTA(I385)=1,L385*1,IF(COUNTA(J385)=1,L385*1,"ERROR")))) -> 3.1
A386: =IF(D386="","",A385) -> 2021-G-D3 | B386: =IF(D386="","",B385) -> 44539 | C386: =IF(D386="","",C385) -> Jakkalsputz | D386: SA0638 | E386: =IF(D386="","",VLOOKUP(D386,Master,3,FALSE)) -> Alan | F386: =IF(D386="","",VLOOKUP(D386,Master,4,FALSE)) -> Prinsloo | G386: =IF(D386="","",VLOOKUP(D386,Master,5,FALSE)) -> Men Grand Masters | H386: =IF(D386="","",VLOOKUP(D386,Master,2,FALSE)) -> SA Grand Masters | J386: Guitarfish - Lesser | K386: 92 | L386: =IF(K386="","",IF(I386="",ROUND(HLOOKUP(J386,kgList,K386,FALSE),1),ROUND(HLOOKUP(I386,kgList,K386,FALSE),1))) -> 2.9 | M386: =IF(L386="","",IF(COUNTA(I386:J386)>1,"Edible or Inedible",IF(COUNTA(I386)=1,L386*1,IF(COUNTA(J386)=1,L386*1,"ERROR")))) -> 2.9
A387: =IF(D387="","",A386) -> 2021-G-D3 | B387: =IF(D387="","",B386) -> 44539 | C387: =IF(D387="","",C386) -> Jakkalsputz | D387: SA7476 | E387: =IF(D387="","",VLOOKUP(D387,Master,3,FALSE)) -> Kabous | F387: =IF(D387="","",VLOOKUP(D387,Master,4,FALSE)) -> Louw | G387: =IF(D387="","",VLOOKUP(D387,Master,5,FALSE)) -> Ladies Senior | H387: =IF(D387="","",VLOOKUP(D387,Master,2,FALSE)) -> SA Ladies | J387: Shark Hound Smooth | K387: 90 | L387: =IF(K387="","",IF(I387="",ROUND(HLOOKUP(J387,kgList,K387,FALSE),1),ROUND(HLOOKUP(I387,kgList,K387,FALSE),1))) -> 2.6 | M387: =IF(L387="","",IF(COUNTA(I387:J387)>1,"Edible or Inedible",IF(COUNTA(I387)=1,L387*1,IF(COUNTA(J387)=1,L387*1,"ERROR")))) -> 2.6
A388: =IF(D388="","",A387) -> 2021-G-D3 | B388: =IF(D388="","",B387) -> 44539 | C388: =IF(D388="","",C387) -> Jakkalsputz | D388: sa3374 | E388: =IF(D388="","",VLOOKUP(D388,Master,3,FALSE)) -> Greg | F388: =IF(D388="","",VLOOKUP(D388,Master,4,FALSE)) -> Sutherland | G388: =IF(D388="","",VLOOKUP(D388,Master,5,FALSE)) -> Men Senior | H388: =IF(D388="","",VLOOKUP(D388,Master,2,FALSE)) -> SA Seniors | J388: Shark Hound Smooth | K388: 94 | L388: =IF(K388="","",IF(I388="",ROUND(HLOOKUP(J388,kgList,K388,FALSE),1),ROUND(HLOOKUP(I388,kgList,K388,FALSE),1))) -> 3 | M388: =IF(L388="","",IF(COUNTA(I388:J388)>1,"Edible or Inedible",IF(COUNTA(I388)=1,L388*1,IF(COUNTA(J388)=1,L388*1,"ERROR")))) -> 3
A389: =IF(D389="","",A388) -> 2021-G-D3 | B389: =IF(D389="","",B388) -> 44539 | C389: =IF(D389="","",C388) -> Jakkalsputz | D389: N0409 | E389: =IF(D389="","",VLOOKUP(D389,Master,3,FALSE)) -> Andre-Louis | F389: =IF(D389="","",VLOOKUP(D389,Master,4,FALSE)) -> Stipp | G389: =IF(D389="","",VLOOKUP(D389,Master,5,FALSE)) -> Men U/21 | H389: =IF(D389="","",VLOOKUP(D389,Master,2,FALSE)) -> Nam Men U/21 | J389: Guitarfish - Lesser | K389: 84 | L389: =IF(K389="","",IF(I389="",ROUND(HLOOKUP(J389,kgList,K389,FALSE),1),ROUND(HLOOKUP(I389,kgList,K389,FALSE),1))) -> 2.2 | M389: =IF(L389="","",IF(COUNTA(I389:J389)>1,"Edible or Inedible",IF(COUNTA(I389)=1,L389*1,IF(COUNTA(J389)=1,L389*1,"ERROR")))) -> 2.2
A390: =IF(D390="","",A389) -> 2021-G-D3 | B390: =IF(D390="","",B389) -> 44539 | C390: =IF(D390="","",C389) -> Jakkalsputz | D390: SA1206 | E390: =IF(D390="","",VLOOKUP(D390,Master,3,FALSE)) -> Herman | F390: =IF(D390="","",VLOOKUP(D390,Master,4,FALSE)) -> Van Greunen | G390: =IF(D390="","",VLOOKUP(D390,Master,5,FALSE)) -> Men Grand Masters | H390: =IF(D390="","",VLOOKUP(D390,Master,2,FALSE)) -> SA Grand Masters | J390: Guitarfish - Lesser | K390: 91 | L390: =IF(K390="","",IF(I390="",ROUND(HLOOKUP(J390,kgList,K390,FALSE),1),ROUND(HLOOKUP(I390,kgList,K390,FALSE),1))) -> 2.8 | M390: =IF(L390="","",IF(COUNTA(I390:J390)>1,"Edible or Inedible",IF(COUNTA(I390)=1,L390*1,IF(COUNTA(J390)=1,L390*1,"ERROR")))) -> 2.8
A391: =IF(D391="","",A390) -> 2021-G-D3 | B391: =IF(D391="","",B390) -> 44539 | C391: =IF(D391="","",C390) -> Jakkalsputz | D391: SA4204 | E391: =IF(D391="","",VLOOKUP(D391,Master,3,FALSE)) -> AJ | F391: =IF(D391="","",VLOOKUP(D391,Master,4,FALSE)) -> De Beer | G391: =IF(D391="","",VLOOKUP(D391,Master,5,FALSE)) -> Men Senior | H391: =IF(D391="","",VLOOKUP(D391,Master,2,FALSE)) -> SA Seniors | J391: Shark Hound Smooth | K391: 94 | L391: =IF(K391="","",IF(I391="",ROUND(HLOOKUP(J391,kgList,K391,FALSE),1),ROUND(HLOOKUP(I391,kgList,K391,FALSE),1))) -> 3 | M391: =IF(L391="","",IF(COUNTA(I391:J391)>1,"Edible or Inedible",IF(COUNTA(I391)=1,L391*1,IF(COUNTA(J391)=1,L391*1,"ERROR")))) -> 3
A392: =IF(D392="","",A391) -> 2021-G-D3 | B392: =IF(D392="","",B391) -> 44539 | C392: =IF(D392="","",C391) -> Jakkalsputz | D392: N0409 | E392: =IF(D392="","",VLOOKUP(D392,Master,3,FALSE)) -> Andre-Louis | F392: =IF(D392="","",VLOOKUP(D392,Master,4,FALSE)) -> Stipp | G392: =IF(D392="","",VLOOKUP(D392,Master,5,FALSE)) -> Men U/21 | H392: =IF(D392="","",VLOOKUP(D392,Master,2,FALSE)) -> Nam Men U/21 | J392: Guitarfish - Lesser | K392: 84 | L392: =IF(K392="","",IF(I392="",ROUND(HLOOKUP(J392,kgList,K392,FALSE),1),ROUND(HLOOKUP(I392,kgList,K392,FALSE),1))) -> 2.2 | M392: =IF(L392="","",IF(COUNTA(I392:J392)>1,"Edible or Inedible",IF(COUNTA(I392)=1,L392*1,IF(COUNTA(J392)=1,L392*1,"ERROR")))) -> 2.2
A393: =IF(D393="","",A392) -> 2021-G-D3 | B393: =IF(D393="","",B392) -> 44539 | C393: =IF(D393="","",C392) -> Jakkalsputz | D393: SA8444 | E393: =IF(D393="","",VLOOKUP(D393,Master,3,FALSE)) -> Chantel | F393: =IF(D393="","",VLOOKUP(D393,Master,4,FALSE)) -> Carstens | G393: =IF(D393="","",VLOOKUP(D393,Master,5,FALSE)) -> Ladies Senior | H393: =IF(D393="","",VLOOKUP(D393,Master,2,FALSE)) -> SA Ladies | J393: Shark Hound Smooth | K393: 90 | L393: =IF(K393="","",IF(I393="",ROUND(HLOOKUP(J393,kgList,K393,FALSE),1),ROUND(HLOOKUP(I393,kgList,K393,FALSE),1))) -> 2.6 | M393: =IF(L393="","",IF(COUNTA(I393:J393)>1,"Edible or Inedible",IF(COUNTA(I393)=1,L393*1,IF(COUNTA(J393)=1,L393*1,"ERROR")))) -> 2.6
... A402: =IF(D402="","",A401) -> 2021-G-D3 | B402: =IF(D402="","",B401) -> 44539 | C402: =IF(D402="","",C401) -> Jakkalsputz | D402: SA4945 | E402: =IF(D402="","",VLOOKUP(D402,Master,3,FALSE)) -> Elzanne | F402: =IF(D402="","",VLOOKUP(D402,Master,4,FALSE)) -> Cronje | G402: =IF(D402="","",VLOOKUP(D402,Master,5,FALSE)) -> Ladies Senior | H402: =IF(D402="","",VLOOKUP(D402,Master,2,FALSE)) -> SA Ladies | J402: Ray Blue (Male) | K402: 44 | L402: =IF(K402="","",IF(I402="",ROUND(HLOOKUP(J402,kgList,K402,FALSE),1),ROUND(HLOOKUP(I402,kgList,K402,FALSE),1))) -> 2.6 | M402: =IF(L402="","",IF(COUNTA(I402:J402)>1,"Edible or Inedible",IF(COUNTA(I402)=1,L402*1,IF(COUNTA(J402)=1,L402*1,"ERROR")))) -> 2.6
A403: =IF(D403="","",A402) -> 2021-G-D3 | B403: =IF(D403="","",B402) -> 44539 | C403: =IF(D403="","",C402) -> Jakkalsputz | D403: SA8444 | E403: =IF(D403="","",VLOOKUP(D403,Master,3,FALSE)) -> Chantel | F403: =IF(D403="","",VLOOKUP(D403,Master,4,FALSE)) -> Carstens | G403: =IF(D403="","",VLOOKUP(D403,Master,5,FALSE)) -> Ladies Senior | H403: =IF(D403="","",VLOOKUP(D403,Master,2,FALSE)) -> SA Ladies | I403: Kob | K403: 62 | L403: =IF(K403="","",IF(I403="",ROUND(HLOOKUP(J403,kgList,K403,FALSE),1),ROUND(HLOOKUP(I403,kgList,K403,FALSE),1))) -> 2.5 | M403: =IF(L403="","",IF(COUNTA(I403:J403)>1,"Edible or Inedible",IF(COUNTA(I403)=1,L403*1,IF(COUNTA(J403)=1,L403*1,"ERROR")))) -> 2.5
...

Sheet Individuals
E2: GALA 2021 INDIVIDUALS | N2: Competition | O2: (Multiple Items) | Q2: INDIVIDUALS SHARK | S2: =G2 -> 0 | Y2: Competition | Z2: (Multiple Items) | AB2: INDIVIDUALS FISH | AD2: =S2 -> 0
B3: Competition | C3: (Multiple Items) | N3: Inedibles | O3: (Multiple Items) | Y3: Edibles | Z3: (Multiple Items)
G5: Values | S5: Values | AD5: Values
B6: ID | C6: Name | D6: Surname | E6: Status | F6: Team | G6: Count of Edibles | H6: Count of Inedibles | I6: Sum of kg | J6: Sum of Points | K6: League Points (300) | N6: ID | O6: Name | P6: Surname | Q6: Status | R6: Team | S6: Count of Inedibles | T6: Sum of kg | U6: Sum of Points | V6: League Points (200) | Y6: ID | Z6: Name | AA6: Surname | AB6: Status | AC6: Team | AD6: Count of Edibles | AE6: Sum of kg | AF6: Sum of Points | AG6: League Points (200)
A7: 1 | B7: SA4204 | C7: AJ | D7: De Beer | E7: Men Senior | F7: SA Seniors | H7: 26 | I7: 336.3 | J7: 336.3 | K7: 300 | L7: 1 | M7: 1 | N7: SA4204 | O7: AJ | P7: De Beer | Q7: Men Senior | R7: SA Seniors | S7: 26 | T7: 336.3 | U7: 336.3 | V7: 200 | W7: 1 | X7: 1 | Y7: N0030 | Z7: Ettiene | AA7: Stipp | AB7: Men Master | AC7: Nam Masters | AD7: 1 | AE7: 22.9 | AF7: 22.9 | AG7: 200 | AH7: 1
A8: 2 | B8: N0019 | C8: Johan | D8: Visser | E8: Men Senior | F8: Nam Seniors | H8: 17 | I8: 295 | J8: 295 | K8: =IF(J8=J7,K7,IF(J8=0,ROUNDDOWN(180,0),K7-L7)) -> 299 | L8: =IF(J8<J7,1,IF(J8=J7,L7+1,0)) -> 1 | M8: 2 | N8: N0019 | O8: Johan | P8: Visser | Q8: Men Senior | R8: Nam Seniors | S8: 17 | T8: 295 | U8: 295 | V8: =IF(U8=U7,V7,IF(U8=0,ROUNDDOWN(20,0),V7-W7)) -> 199 | W8: =IF(U8<U7,1,IF(U8=U7,W7+1,0)) -> 1 | X8: 2 | Y8: N0731 | Z8: Maryna | AA8: Viljoen | AB8: Ladies Senior | AC8: Nam Ladies | AD8: 1 | AE8: 18.8 | AF8: 18.8 | AG8: =IF(AF8=AF7,AG7,IF(AF8=0,ROUNDDOWN(20,0),AG7-AH7)) -> 199 | AH8: =IF(AF8<AF7,1,IF(AF8=AF7,AH7+1,0)) -> 1
A9: 3 | B9: N0007 | C9: Brian | D9: Curtis | E9: Men Senior | F9: Nam Seniors | H9: 17 | I9: 289.7 | J9: 289.7 | K9: =IF(J9=J8,K8,IF(J9=0,ROUNDDOWN(180,0),K8-L8)) -> 298 | L9: =IF(J9<J8,1,IF(J9=J8,L8+1,0)) -> 1 | M9: 3 | N9: N0007 | O9: Brian | P9: Curtis | Q9: Men Senior | R9: Nam Seniors | S9: 17 | T9: 289.7 | U9: 289.7 | V9: =IF(U9=U8,V8,IF(U9=0,ROUNDDOWN(20,0),V8-W8)) -> 198 | W9: =IF(U9<U8,1,IF(U9=U8,W8+1,0)) -> 1 | X9: 3 | Y9: SA8339 | Z9: Gareth | AA9: Dahl | AB9: Men U/21 | AC9: SA Men U/21 | AD9: 3 | AE9: 7.6 | AF9: 7.6 | AG9: =IF(AF9=AF8,AG8,IF(AF9=0,ROUNDDOWN(20,0),AG8-AH8)) -> 198 | AH9: =IF(AF9<AF8,1,IF(AF9=AF8,AH8+1,0)) -> 1
A10: 4 | B10: N0035 | C10: Johan | D10: Van Wyk | E10: Men Veteran | F10: Nam Seniors | H10: 16 | I10: 284.4 | J10: 284.4 | K10: =IF(J10=J9,K9,IF(J10=0,ROUNDDOWN(180,0),K9-L9)) -> 297 | L10: =IF(J10<J9,1,IF(J10=J9,L9+1,0)) -> 1 | M10: 4 | N10: N0035 | O10: Johan | P10: Van Wyk | Q10: Men Veteran | R10: Nam Seniors | S10: 16 | T10: 284.4 | U10: 284.4 | V10: =IF(U10=U9,V9,IF(U10=0,ROUNDDOWN(20,0),V9-W9)) -> 197 | W10: =IF(U10<U9,1,IF(U10=U9,W9+1,0)) -> 1 | X10: 4 | Y10: SA4251 | Z10: Thys | AA10: Basson | AB10: Men Grand Masters | AC10: SA Grand Masters | AD10: 4 | AE10: 6.5 | AF10: 6.5 | AG10: =IF(AF10=AF9,AG9,IF(AF10=0,ROUNDDOWN(20,0),AG9-AH9)) -> 197 | AH10: =IF(AF10<AF9,1,IF(AF10=AF9,AH9+1,0)) -> 1
A11: 5 | B11: N0024 | C11: Andrew | D11: Van Der Westhuizen | E11: Men Veteran | F11: Nam Seniors | G11: 1 | H11: 20 | I11: 265.7 | J11: 265.7 | K11: =IF(J11=J10,K10,IF(J11=0,ROUNDDOWN(180,0),K10-L10)) -> 296 | L11: =IF(J11<J10,1,IF(J11=J10,L10+1,0)) -> 1 | M11: 5 | N11: N0024 | O11: Andrew | P11: Van Der Westhuizen | Q11: Men Veteran | R11: Nam Seniors | S11: 20 | T11: 263.2 | U11: 263.2 | V11: =IF(U11=U10,V10,IF(U11=0,ROUNDDOWN(20,0),V10-W10)) -> 196 | W11: =IF(U11<U10,1,IF(U11=U10,W10+1,0)) -> 1 | X11: 5 | Y11: SA4945 | Z11: Elzanne | AA11: Cronje | AB11: Ladies Senior | AC11: SA Ladies | AD11: 3 | AE11: 5.8 | AF11: 5.8 | AG11: =IF(AF11=AF10,AG10,IF(AF11=0,ROUNDDOWN(20,0),AG10-AH10)) -> 196 | AH11: =IF(AF11<AF10,1,IF(AF11=AF10,AH10+1,0)) -> 1
A12: 6 | B12: N0031 | C12: Emil | D12: Prinsloo | E12: Men Veteran | F12: Nam Seniors | G12: 1 | H12: 12 | I12: 264.7 | J12: 264.7 | K12: =IF(J12=J11,K11,IF(J12=0,ROUNDDOWN(180,0),K11-L11)) -> 295 | L12: =IF(J12<J11,1,IF(J12=J11,L11+1,0)) -> 1 | M12: 6 | N12: N0031 | O12: Emil | P12: Prinsloo | Q12: Men Veteran | R12: Nam Seniors | S12: 12 | T12: 261.1 | U12: 261.1 | V12: =IF(U12=U11,V11,IF(U12=0,ROUNDDOWN(20,0),V11-W11)) -> 195 | W12: =IF(U12<U11,1,IF(U12=U11,W11+1,0)) -> 1 | X12: 6 | Y12: SA8340 | Z12: Corbin | AA12: Morris | AB12: Men U/21 | AC12: SA Men U/21 | AD12: 1 | AE12: 5 | AF12: 5 | AG12: =IF(AF12=AF11,AG11,IF(AF12=0,ROUNDDOWN(20,0),AG11-AH11)) -> 195 | AH12: =IF(AF12<AF11,1,IF(AF12=AF11,AH11+1,0)) -> 1
A13: 7 | B13: SA4534 | C13: Mike | D13: Bailey | E13: Men Master | F13: SA Masters | H13: 18 | I13: 258.7 | J13: 258.7 | K13: =IF(J13=J12,K12,IF(J13=0,ROUNDDOWN(180,0),K12-L12)) -> 294 | L13: =IF(J13<J12,1,IF(J13=J12,L12+1,0)) -> 1 | M13: 7 | N13: SA4534 | O13: Mike | P13: Bailey | Q13: Men Master | R13: SA Masters | S13: 18 | T13: 258.7 | U13: 258.7 | V13: =IF(U13=U12,V12,IF(U13=0,ROUNDDOWN(20,0),V12-W12)) -> 194 | W13: =IF(U13<U12,1,IF(U13=U12,W12+1,0)) -> 1 | X13: 7 | Y13: SA8444 | Z13: Chantel | AA13: Carstens | AB13: Ladies Senior | AC13: SA Ladies | AD13: 2 | AE13: 4.6 | AF13: 4.6 | AG13: =IF(AF13=AF12,AG12,IF(AF13=0,ROUNDDOWN(20,0),AG12-AH12)) -> 194 | AH13: =IF(AF13<AF12,1,IF(AF13=AF12,AH12+1,0)) -> 1
A14: 8 | B14: N0687 | C14: Barren | D14: Van Es | E14: Men Senior | F14: Nam Men U/21 | H14: 20 | I14: 254.4 | J14: 254.4 | K14: =IF(J14=J13,K13,IF(J14=0,ROUNDDOWN(180,0),K13-L13)) -> 293 | L14: =IF(J14<J13,1,IF(J14=J13,L13+1,0)) -> 1 | M14: 8 | N14: N0687 | O14: Barren | P14: Van Es | Q14: Men Senior | R14: Nam Men U/21 | S14: 20 | T14: 254.4 | U14: 254.4 | V14: =IF(U14=U13,V13,IF(U14=0,ROUNDDOWN(20,0),V13-W13)) -> 193 | W14: =IF(U14<U13,1,IF(U14=U13,W13+1,0)) -> 1 | X14: 8 | Y14: N0667 | Z14: Nadine | AA14: Downing | AB14: Ladies Senior | AC14: Nam Ladies | AD14: 2 | AE14: 4.6 | AF14: 4.6 | AG14: =IF(AF14=AF13,AG13,IF(AF14=0,ROUNDDOWN(20,0),AG13-AH13)) -> 194 | AH14: =IF(AF14<AF13,1,IF(AF14=AF13,AH13+1,0)) -> 2
A15: 9 | B15: SA8741 | C15: Prevashan | D15: Moodley | E15: Men Senior | F15: SA Seniors | H15: 22 | I15: 249 | J15: 249 | K15: =IF(J15=J14,K14,IF(J15=0,ROUNDDOWN(180,0),K14-L14)) -> 292 | L15: =IF(J15<J14,1,IF(J15=J14,L14+1,0)) -> 1 | M15: 9 | N15: SA8741 | O15: Prevashan | P15: Moodley | Q15: Men Senior | R15: SA Seniors | S15: 21 | T15: 246.3 | U15: 246.3 | V15: =IF(U15=U14,V14,IF(U15=0,ROUNDDOWN(20,0),V14-W14)) -> 192 | W15: =IF(U15<U14,1,IF(U15=U14,W14+1,0)) -> 1 | X15: 9 | Y15: N0757 | Z15: Brandon | AA15: Grane | AB15: Men U/21 | AC15: Nam Men U/21 | AD15: 3 | AE15: 4.3 | AF15: 4.3 | AG15: =IF(AF15=AF14,AG14,IF(AF15=0,ROUNDDOWN(20,0),AG14-AH14)) -> 192 | AH15: =IF(AF15<AF14,1,IF(AF15=AF14,AH14+1,0)) -> 1
A16: 10 | B16: SA3280 | C16: Louis | D16: Allison | E16: Men Senior | F16: SA Seniors | H16: 18 | I16: 228.8 | J16: 228.8 | K16: =IF(J16=J15,K15,IF(J16=0,ROUNDDOWN(180,0),K15-L15)) -> 291 | L16: =IF(J16<J15,1,IF(J16=J15,L15+1,0)) -> 1 | M16: 10 | N16: SA3280 | O16: Louis | P16: Allison | Q16: Men Senior | R16: SA Seniors | S16: 18 | T16: 228.8 | U16: 228.8 | V16: =IF(U16=U15,V15,IF(U16=0,ROUNDDOWN(20,0),V15-W15)) -> 191 | W16: =IF(U16<U15,1,IF(U16=U15,W15+1,0)) -> 1 | X16: 10 | Y16: N0031 | Z16: Emil | AA16: Prinsloo | AB16: Men Veteran | AC16: Nam Seniors | AD16: 1 | AE16: 3.6 | AF16: 3.6 | AG16: =IF(AF16=AF15,AG15,IF(AF16=0,ROUNDDOWN(20,0),AG15-AH15)) -> 191 | AH16: =IF(AF16<AF15,1,IF(AF16=AF15,AH15+1,0)) -> 1
A17: 11 | B17: SA2734 | C17: Raldo | D17: Potgieter | E17: Men Senior | F17: SA Seniors | H17: 19 | I17: 228.3 | J17: 228.3 | K17: =IF(J17=J16,K16,IF(J17=0,ROUNDDOWN(180,0),K16-L16)) -> 290 | L17: =IF(J17<J16,1,IF(J17=J16,L16+1,0)) -> 1 | M17: 11 | N17: SA2734 | O17: Raldo | P17: Potgieter | Q17: Men Senior | R17: SA Seniors | S17: 19 | T17: 228.3 | U17: 228.3 | V17: =IF(U17=U16,V16,IF(U17=0,ROUNDDOWN(20,0),V16-W16)) -> 190 | W17: =IF(U17<U16,1,IF(U17=U16,W16+1,0)) -> 1 | X17: 11 | Y17: N0024 | Z17: Andrew | AA17: Van Der Westhuizen | AB17: Men Veteran | AC17: Nam Seniors | AD17: 1 | AE17: 2.5 | AF17: 2.5 | AG17: =IF(AF17=AF16,AG16,IF(AF17=0,ROUNDDOWN(20,0),AG16-AH16)) -> 190 | AH17: =IF(AF17<AF16,1,IF(AF17=AF16,AH16+1,0)) -> 1
A18: 12 | B18: N0208 | C18: Adri | D18: Roets | E18: Men Master | F18: Nam Masters | G18: 1 | H18: 16 | I18: 215.3 | J18: 215.3 | K18: =IF(J18=J17,K17,IF(J18=0,ROUNDDOWN(180,0),K17-L17)) -> 289 | L18: =IF(J18<J17,1,IF(J18=J17,L17+1,0)) -> 1 | M18: 12 | N18: N0208 | O18: Adri | P18: Roets | Q18: Men Master | R18: Nam Masters | S18: 16 | T18: 214.2 | U18: 214.2 | V18: =IF(U18=U17,V17,IF(U18=0,ROUNDDOWN(20,0),V17-W17)) -> 189 | W18: =IF(U18<U17,1,IF(U18=U17,W17+1,0)) -> 1 | X18: 12 | Y18: SA1206 | Z18: Herman | AA18: Van Greunen | AB18: Men Grand Masters | AC18: SA Grand Masters | AD18: 2 | AE18: 2.1 | AF18: 2.1 | AG18: =IF(AF18=AF17,AG17,IF(AF18=0,ROUNDDOWN(20,0),AG17-AH17)) -> 189 | AH18: =IF(AF18<AF17,1,IF(AF18=AF17,AH17+1,0)) -> 1
A19: 13 | B19: SA1453 | C19: Robert | D19: Kyle | E19: Men Senior | F19: SA Seniors | H19: 23 | I19: 213.7 | J19: 213.7 | K19: =IF(J19=J18,K18,IF(J19=0,ROUNDDOWN(180,0),K18-L18)) -> 288 | L19: =IF(J19<J18,1,IF(J19=J18,L18+1,0)) -> 1 | M19: 13 | N19: SA1453 | O19: Robert | P19: Kyle | Q19: Men Senior | R19: SA Seniors | S19: 23 | T19: 213.7 | U19: 213.7 | V19: =IF(U19=U18,V18,IF(U19=0,ROUNDDOWN(20,0),V18-W18)) -> 188 | W19: =IF(U19<U18,1,IF(U19=U18,W18+1,0)) -> 1 | X19: 13 | Y19: SA8781 | Z19: Tim | AA19: Du Plessis | AB19: Men U/21 | AC19: SA Men U/21 | AD19: 1 | AE19: 2 | AF19: 2 | AG19: =IF(AF19=AF18,AG18,IF(AF19=0,ROUNDDOWN(20,0),AG18-AH18)) -> 188 | AH19: =IF(AF19<AF18,1,IF(AF19=AF18,AH18+1,0)) -> 1
A20: 14 | B20: SA3374 | C20: Greg | D20: Sutherland | E20: Men Senior | F20: SA Seniors | H20: 13 | I20: 209 | J20: 209 | K20: =IF(J20=J19,K19,IF(J20=0,ROUNDDOWN(180,0),K19-L19)) -> 287 | L20: =IF(J20<J19,1,IF(J20=J19,L19+1,0)) -> 1 | M20: 14 | N20: SA3374 | O20: Greg | P20: Sutherland | Q20: Men Senior | R20: SA Seniors | S20: 13 | T20: 209 | U20: 209 | V20: =IF(U20=U19,V19,IF(U20=0,ROUNDDOWN(20,0),V19-W19)) -> 187 | W20: =IF(U20<U19,1,IF(U20=U19,W19+1,0)) -> 1 | X20: 14 | Y20: SA6080 | Z20: Cara | AA20: Cowan | AB20: Ladies Senior | AC20: SA Ladies | AD20: 1 | AE20: 1.7 | AF20: 1.7 | AG20: =IF(AF20=AF19,AG19,IF(AF20=0,ROUNDDOWN(20,0),AG19-AH19)) -> 187 | AH20: =IF(AF20<AF19,1,IF(AF20=AF19,AH19+1,0)) -> 1
A21: 15 | B21: SA8340 | C21: Corbin | D21: Morris | E21: Men U/21 | F21: SA Men U/21 | G21: 1 | H21: 13 | I21: 208.2 | J21: 208.2 | K21: =IF(J21=J20,K20,IF(J21=0,ROUNDDOWN(180,0),K20-L20)) -> 286 | L21: =IF(J21<J20,1,IF(J21=J20,L20+1,0)) -> 1 | M21: 15 | N21: N0259 | O21: Henri | P21: Snyman | Q21: Men Veteran | R21: Nam Seniors | S21: 9 | T21: 203.3 | U21: 203.3 | V21: =IF(U21=U20,V20,IF(U21=0,ROUNDDOWN(20,0),V20-W20)) -> 186 | W21: =IF(U21<U20,1,IF(U21=U20,W20+1,0)) -> 1 | X21: 15 | Y21: N0150 | Z21: Lindie | AA21: Krauze | AB21: Ladies Senior | AC21: Nam Ladies | AD21: 1 | AE21: 1.3 | AF21: 1.3 | AG21: =IF(AF21=AF20,AG20,IF(AF21=0,ROUNDDOWN(20,0),AG20-AH20)) -> 186 | AH21: =IF(AF21<AF20,1,IF(AF21=AF20,AH20+1,0)) -> 1
A22: 16 | B22: N0259 | C22: Henri | D22: Snyman | E22: Men Veteran | F22: Nam Seniors | H22: 9 | I22: 203.3 | J22: 203.3 | K22: =IF(J22=J21,K21,IF(J22=0,ROUNDDOWN(180,0),K21-L21)) -> 285 | L22: =IF(J22<J21,1,IF(J22=J21,L21+1,0)) -> 1 | M22: 16 | N22: SA8340 | O22: Corbin | P22: Morris | Q22: Men U/21 | R22: SA Men U/21 | S22: 13 | T22: 203.2 | U22: 203.2 | V22: =IF(U22=U21,V21,IF(U22=0,ROUNDDOWN(20,0),V21-W21)) -> 185 | W22: =IF(U22<U21,1,IF(U22=U21,W21+1,0)) -> 1 | X22: 16 | Y22: SA6730 | Z22: Lance | AA22: Daniel | AB22: Men U/21 | AC22: SA Men U/21 | AD22: 1 | AE22: 1.2 | AF22: 1.2 | AG22: =IF(AF22=AF21,AG21,IF(AF22=0,ROUNDDOWN(20,0),AG21-AH21)) -> 185 | AH22: =IF(AF22<AF21,1,IF(AF22=AF21,AH21+1,0)) -> 1
A23: 17 | B23: SA8781 | C23: Tim | D23: Du Plessis | E23: Men U/21 | F23: SA Men U/21 | G23: 1 | H23: 14 | I23: 202.1 | J23: 202.1 | K23: =IF(J23=J22,K22,IF(J23=0,ROUNDDOWN(180,0),K22-L22)) -> 284 | L23: =IF(J23<J22,1,IF(J23=J22,L22+1,0)) -> 1 | M23: 17 | N23: SA8781 | O23: Tim | P23: Du Plessis | Q23: Men U/21 | R23: SA Men U/21 | S23: 14 | T23: 200.1 | U23: 200.1 | V23: =IF(U23=U22,V22,IF(U23=0,ROUNDDOWN(20,0),V22-W22)) -> 184 | W23: =IF(U23<U22,1,IF(U23=U22,W22+1,0)) -> 1 | X23: 17 | Y23: N0023 | Z23: Jörg | AA23: Walter | AB23: Men Grand Masters | AC23: Nam Grand Masters | AD23: 1 | AE23: 1.1 | AF23: 1.1 | AG23: =IF(AF23=AF22,AG22,IF(AF23=0,ROUNDDOWN(20,0),AG22-AH22)) -> 184 | AH23: =IF(AF23<AF22,1,IF(AF23=AF22,AH22+1,0)) -> 1
A24: 18 | B24: N0030 | C24: Ettiene | D24: Stipp | E24: Men Master | F24: Nam Masters | G24: 1 | H24: 11 | I24: 200.3 | J24: 200.3 | K24: =IF(J24=J23,K23,IF(J24=0,ROUNDDOWN(180,0),K23-L23)) -> 283 | L24: =IF(J24<J23,1,IF(J24=J23,L23+1,0)) -> 1 | M24: 18 | N24: N0023 | O24: Jörg | P24: Walter | Q24: Men Grand Masters | R24: Nam Grand Masters | S24: 18 | T24: 195.5 | U24: 195.5 | V24: =IF(U24=U23,V23,IF(U24=0,ROUNDDOWN(20,0),V23-W23)) -> 183 | W24: =IF(U24<U23,1,IF(U24=U23,W23+1,0)) -> 1 | X24: 18 | Y24: N0208 | Z24: Adri | AA24: Roets | AB24: Men Master | AC24: Nam Masters | AD24: 1 | AE24: 1.1 | AF24: 1.1 | AG24: =IF(AF24=AF23,AG23,IF(AF24=0,ROUNDDOWN(20,0),AG23-AH23)) -> 184 | AH24: =IF(AF24<AF23,1,IF(AF24=AF23,AH23+1,0)) -> 2
A25: 19 | B25: N0023 | C25: Jörg | D25: Walter | E25: Men Grand Masters | F25: Nam Grand Masters | G25: 1 | H25: 18 | I25: 196.6 | J25: 196.6 | K25: =IF(J25=J24,K24,IF(J25=0,ROUNDDOWN(180,0),K24-L24)) -> 282 | L25: =IF(J25<J24,1,IF(J25=J24,L24+1,0)) -> 1 | M25: 19 | N25: SA4139 | O25: Hendrico | P25: Lesch | Q25: Men Senior | R25: SA Seniors | S25: 17 | T25: 180.2 | U25: 180.2 | V25: =IF(U25=U24,V24,IF(U25=0,ROUNDDOWN(20,0),V24-W24)) -> 182 | W25: =IF(U25<U24,1,IF(U25=U24,W24+1,0)) -> 1 | X25: 19 | Y25: SA9752 | Z25: Ahmed | AA25: Belim | AB25: Men U/21 | AC25: SA Men U/21 | AD25: 1 | AE25: 1.1 | AF25: 1.1 | AG25: =IF(AF25=AF24,AG24,IF(AF25=0,ROUNDDOWN(20,0),AG24-AH24)) -> 184 | AH25: =IF(AF25<AF24,1,IF(AF25=AF24,AH24+1,0)) -> 3
A26: 20 | B26: SA4139 | C26: Hendrico | D26: Lesch | E26: Men Senior | F26: SA Seniors | H26: 17 | I26: 180.2 | J26: 180.2 | K26: =IF(J26=J25,K25,IF(J26=0,ROUNDDOWN(180,0),K25-L25)) -> 281 | L26: =IF(J26<J25,1,IF(J26=J25,L25+1,0)) -> 1 | M26: 20 | N26: N0030 | O26: Ettiene | P26: Stipp | Q26: Men Master | R26: Nam Masters | S26: 11 | T26: 177.4 | U26: 177.4 | V26: =IF(U26=U25,V25,IF(U26=0,ROUNDDOWN(20,0),V25-W25)) -> 181 | W26: =IF(U26<U25,1,IF(U26=U25,W25+1,0)) -> 1 | X26: 20 | Y26: N0146 | Z26: Danie | AA26: Du Toit | AB26: Men Grand Masters | AC26: Nam Grand Masters | AD26: 1 | AE26: 0.9 | AF26: 0.9 | AG26: =IF(AF26=AF25,AG25,IF(AF26=0,ROUNDDOWN(20,0),AG25-AH25)) -> 181 | AH26: =IF(AF26<AF25,1,IF(AF26=AF25,AH25+1,0)) -> 1
A27: 21 | B27: N0757 | C27: Brandon | D27: Grane | E27: Men U/21 | F27: Nam Men U/21 | G27: 3 | H27: 8 | I27: 173.1 | J27: 173.1 | K27: =IF(J27=J26,K26,IF(J27=0,ROUNDDOWN(180,0),K26-L26)) -> 280 | L27: =IF(J27<J26,1,IF(J27=J26,L26+1,0)) -> 1 | M27: 21 | N27: N0757 | O27: Brandon | P27: Grane | Q27: Men U/21 | R27: Nam Men U/21 | S27: 8 | T27: 168.8 | U27: 168.8 | V27: =IF(U27=U26,V26,IF(U27=0,ROUNDDOWN(20,0),V26-W26)) -> 180 | W27: =IF(U27<U26,1,IF(U27=U26,W26+1,0)) -> 1 | X27: 21 | Y27: N0180 | Z27: Elaine | AA27: Vorster | AB27: Ladies Senior | AC27: Nam Ladies | AD27: 1 | AE27: 0.9 | AF27: 0.9 | AG27: =IF(AF27=AF26,AG26,IF(AF27=0,ROUNDDOWN(20,0),AG26-AH26)) -> 181 | AH27: =IF(AF27<AF26,1,IF(AF27=AF26,AH26+1,0)) -> 2
A28: 22 | B28: N0008 | C28: Andre | D28: Coetzee | E28: Men Grand Masters | F28: Nam Grand Masters | H28: 15 | I28: 168.3 | J28: 168.3 | K28: =IF(J28=J27,K27,IF(J28=0,ROUNDDOWN(180,0),K27-L27)) -> 279 | L28: =IF(J28<J27,1,IF(J28=J27,L27+1,0)) -> 1 | M28: 22 | N28: N0008 | O28: Andre | P28: Coetzee | Q28: Men Grand Masters | R28: Nam Grand Masters | S28: 15 | T28: 168.3 | U28: 168.3 | V28: =IF(U28=U27,V27,IF(U28=0,ROUNDDOWN(20,0),V27-W27)) -> 179 | W28: =IF(U28<U27,1,IF(U28=U27,W27+1,0)) -> 1 | X28: 22 | Y28: N0697 | Z28: Annelien | AA28: Langenstrassen | AB28: Ladies Veteran | AC28: Nam Ladies | AD28: 1 | AE28: 0.8 | AF28: 0.8 | AG28: =IF(AF28=AF27,AG27,IF(AF28=0,ROUNDDOWN(20,0),AG27-AH27)) -> 179 | AH28: =IF(AF28<AF27,1,IF(AF28=AF27,AH27+1,0)) -> 1
A29: 23 | B29: SA0728 | C29: Wimpie | D29: Barnard | E29: Men Master | F29: SA Masters | H29: 13 | I29: 167.2 | J29: 167.2 | K29: =IF(J29=J28,K28,IF(J29=0,ROUNDDOWN(180,0),K28-L28)) -> 278 | L29: =IF(J29<J28,1,IF(J29=J28,L28+1,0)) -> 1 | M29: 23 | N29: SA0728 | O29: Wimpie | P29: Barnard | Q29: Men Master | R29: SA Masters | S29: 13 | T29: 167.2 | U29: 167.2 | V29: =IF(U29=U28,V28,IF(U29=0,ROUNDDOWN(20,0),V28-W28)) -> 178 | W29: =IF(U29<U28,1,IF(U29=U28,W28+1,0)) -> 1 | X29: 23 | Y29: Grand Total | AD29: 34 | AE29: 100.4 | AF29: 100.4 | AG29: =IF(AF29=AF28,AG28,IF(AF29=0,ROUNDDOWN(20,0),AG28-AH28)) -> 178 | AH29: =IF(AF29<AF28,1,IF(AF29=AF28,AH28+1,0)) -> 0
A30: 24 | B30: SA8796 | C30: Challen | D30: Gendall | E30: Men U/21 | F30: SA Men U/21 | H30: 10 | I30: 165.7 | J30: 165.7 | K30: =IF(J30=J29,K29,IF(J30=0,ROUNDDOWN(180,0),K29-L29)) -> 277 | L30: =IF(J30<J29,1,IF(J30=J29,L29+1,0)) -> 1 | M30: 24 | N30: SA8796 | O30: Challen | P30: Gendall | Q30: Men U/21 | R30: SA Men U/21 | S30: 10 | T30: 165.7 | U30: 165.7 | V30: =IF(U30=U29,V29,IF(U30=0,ROUNDDOWN(20,0),V29-W29)) -> 177 | W30: =IF(U30<U29,1,IF(U30=U29,W29+1,0)) -> 1 | X30: 24 | AG30: =IF(AF30=AF29,AG29,IF(AF30=0,ROUNDDOWN(20,0),AG29-AH29)) -> 20 | AH30: =IF(AF30<AF29,1,IF(AF30=AF29,AH29+1,0)) -> 1
A31: 25 | B31: N0004 | C31: Charles | D31: Bothma | E31: Men Grand Masters | F31: Nam Grand Masters | H31: 19 | I31: 164.4 | J31: 164.4 | K31: =IF(J31=J30,K30,IF(J31=0,ROUNDDOWN(180,0),K30-L30)) -> 276 | L31: =IF(J31<J30,1,IF(J31=J30,L30+1,0)) -> 1 | M31: 25 | N31: N0004 | O31: Charles | P31: Bothma | Q31: Men Grand Masters | R31: Nam Grand Masters | S31: 19 | T31: 164.4 | U31: 164.4 | V31: =IF(U31=U30,V30,IF(U31=0,ROUNDDOWN(20,0),V30-W30)) -> 176 | W31: =IF(U31<U30,1,IF(U31=U30,W30+1,0)) -> 1 | X31: 25 | AG31: =IF(AF31=AF30,AG30,IF(AF31=0,ROUNDDOWN(20,0),AG30-AH30)) -> 20 | AH31: =IF(AF31<AF30,1,IF(AF31=AF30,AH30+1,0)) -> 2
A32: 26 | B32: SA2079 | C32: Cullen | D32: Opperman | E32: Men U/21 | F32: SA Men U/21 | H32: 13 | I32: 162.3 | J32: 162.3 | K32: =IF(J32=J31,K31,IF(J32=0,ROUNDDOWN(180,0),K31-L31)) -> 275 | L32: =IF(J32<J31,1,IF(J32=J31,L31+1,0)) -> 1 | M32: 26 | N32: SA2079 | O32: Cullen | P32: Opperman | Q32: Men U/21 | R32: SA Men U/21 | S32: 13 | T32: 162.3 | U32: 162.3 | V32: =IF(U32=U31,V31,IF(U32=0,ROUNDDOWN(20,0),V31-W31)) -> 175 | W32: =IF(U32<U31,1,IF(U32=U31,W31+1,0)) -> 1 | X32: 26 | AG32: =IF(AF32=AF31,AG31,IF(AF32=0,ROUNDDOWN(20,0),AG31-AH31)) -> 20 | AH32: =IF(AF32<AF31,1,IF(AF32=AF31,AH31+1,0)) -> 3
A33: 27 | B33: N0401 | C33: Henco | D33: Snyman | E33: Men U/21 | F33: Nam Men U/21 | H33: 14 | I33: 156.7 | J33: 156.7 | K33: =IF(J33=J32,K32,IF(J33=0,ROUNDDOWN(180,0),K32-L32)) -> 274 | L33: =IF(J33<J32,1,IF(J33=J32,L32+1,0)) -> 1 | M33: 27 | N33: N0401 | O33: Henco | P33: Snyman | Q33: Men U/21 | R33: Nam Men U/21 | S33: 14 | T33: 156.7 | U33: 156.7 | V33: =IF(U33=U32,V32,IF(U33=0,ROUNDDOWN(20,0),V32-W32)) -> 174 | W33: =IF(U33<U32,1,IF(U33=U32,W32+1,0)) -> 1 | X33: 27 | AG33: =IF(AF33=AF32,AG32,IF(AF33=0,ROUNDDOWN(20,0),AG32-AH32)) -> 20 | AH33: =IF(AF33<AF32,1,IF(AF33=AF32,AH32+1,0)) -> 4
A34: 28 | B34: SA6730 | C34: Lance | D34: Daniel | E34: Men U/21 | F34: SA Men U/21 | G34: 1 | H34: 11 | I34: 153.5 | J34: 153.5 | K34: =IF(J34=J33,K33,IF(J34=0,ROUNDDOWN(180,0),K33-L33)) -> 273 | L34: =IF(J34<J33,1,IF(J34=J33,L33+1,0)) -> 1 | M34: 28 | N34: SA6730 | O34: Lance | P34: Daniel | Q34: Men U/21 | R34: SA Men U/21 | S34: 11 | T34: 152.3 | U34: 152.3 | V34: =IF(U34=U33,V33,IF(U34=0,ROUNDDOWN(20,0),V33-W33)) -> 173 | W34: =IF(U34<U33,1,IF(U34=U33,W33+1,0)) -> 1 | X34: 28 | AG34: =IF(AF34=AF33,AG33,IF(AF34=0,ROUNDDOWN(20,0),AG33-AH33)) -> 20 | AH34: =IF(AF34<AF33,1,IF(AF34=AF33,AH33+1,0)) -> 5
A35: 29 | B35: N0731 | C35: Maryna | D35: Viljoen | E35: Ladies Senior | F35: Nam Ladies | G35: 1 | H35: 15 | I35: 149.5 | J35: 149.5 | K35: =IF(J35=J34,K34,IF(J35=0,ROUNDDOWN(180,0),K34-L34)) -> 272 | L35: =IF(J35<J34,1,IF(J35=J34,L34+1,0)) -> 1 | M35: 29 | N35: N0307 | O35: Herman | P35: Krauze | Q35: Men U/21 | R35: Nam Men U/21 | S35: 12 | T35: 148.4 | U35: 148.4 | V35: =IF(U35=U34,V34,IF(U35=0,ROUNDDOWN(20,0),V34-W34)) -> 172 | W35: =IF(U35<U34,1,IF(U35=U34,W34+1,0)) -> 1 | X35: 29 | AG35: =IF(AF35=AF34,AG34,IF(AF35=0,ROUNDDOWN(20,0),AG34-AH34)) -> 20 | AH35: =IF(AF35<AF34,1,IF(AF35=AF34,AH34+1,0)) -> 6
A36: 30 | B36: N0307 | C36: Herman | D36: Krauze | E36: Men U/21 | F36: Nam Men U/21 | H36: 12 | I36: 148.4 | J36: 148.4 | K36: =IF(J36=J35,K35,IF(J36=0,ROUNDDOWN(180,0),K35-L35)) -> 271 | L36: =IF(J36<J35,1,IF(J36=J35,L35+1,0)) -> 1 | M36: 30 | N36: N0254 | O36: Grant | P36: Knight | Q36: Men Veteran | R36: Nam Seniors | S36: 11 | T36: 140.1 | U36: 140.1 | V36: =IF(U36=U35,V35,IF(U36=0,ROUNDDOWN(20,0),V35-W35)) -> 171 | W36: =IF(U36<U35,1,IF(U36=U35,W35+1,0)) -> 1 | X36: 30 | AG36: =IF(AF36=AF35,AG35,IF(AF36=0,ROUNDDOWN(20,0),AG35-AH35)) -> 20 | AH36: =IF(AF36<AF35,1,IF(AF36=AF35,AH35+1,0)) -> 7
A37: 31 | B37: N0254 | C37: Grant | D37: Knight | E37: Men Veteran | F37: Nam Seniors | H37: 11 | I37: 140.1 | J37: 140.1 | K37: =IF(J37=J36,K36,IF(J37=0,ROUNDDOWN(180,0),K36-L36)) -> 270 | L37: =IF(J37<J36,1,IF(J37=J36,L36+1,0)) -> 1 | M37: 31 | N37: N0731 | O37: Maryna | P37: Viljoen | Q37: Ladies Senior | R37: Nam Ladies | S37: 15 | T37: 130.7 | U37: 130.7 | V37: =IF(U37=U36,V36,IF(U37=0,ROUNDDOWN(20,0),V36-W36)) -> 170 | W37: =IF(U37<U36,1,IF(U37=U36,W36+1,0)) -> 1 | X37: 31 | AG37: =IF(AF37=AF36,AG36,IF(AF37=0,ROUNDDOWN(20,0),AG36-AH36)) -> 20 | AH37: =IF(AF37<AF36,1,IF(AF37=AF36,AH36+1,0)) -> 8
A38: 32 | B38: N0588 | C38: Lourens | D38: Fourie | E38: Men Master | F38: Nam Masters | H38: 4 | I38: 129.9 | J38: 129.9 | K38: =IF(J38=J37,K37,IF(J38=0,ROUNDDOWN(180,0),K37-L37)) -> 269 | L38: =IF(J38<J37,1,IF(J38=J37,L37+1,0)) -> 1 | M38: 32 | N38: N0588 | O38: Lourens | P38: Fourie | Q38: Men Master | R38: Nam Masters | S38: 4 | T38: 129.9 | U38: 129.9 | V38: =IF(U38=U37,V37,IF(U38=0,ROUNDDOWN(20,0),V37-W37)) -> 169 | W38: =IF(U38<U37,1,IF(U38=U37,W37+1,0)) -> 1 | X38: 32 | AG38: =IF(AF38=AF37,AG37,IF(AF38=0,ROUNDDOWN(20,0),AG37-AH37)) -> 20 | AH38: =IF(AF38<AF37,1,IF(AF38=AF37,AH37+1,0)) -> 9
A39: 33 | B39: SA3195 | C39: Gus | D39: Kaltenbrun | E39: Men Master | F39: SA Masters | H39: 14 | I39: 123.2 | J39: 123.2 | K39: =IF(J39=J38,K38,IF(J39=0,ROUNDDOWN(180,0),K38-L38)) -> 268 | L39: =IF(J39<J38,1,IF(J39=J38,L38+1,0)) -> 1 | M39: 33 | N39: SA3195 | O39: Gus | P39: Kaltenbrun | Q39: Men Master | R39: SA Masters | S39: 14 | T39: 123.2 | U39: 123.2 | V39: =IF(U39=U38,V38,IF(U39=0,ROUNDDOWN(20,0),V38-W38)) -> 168 | W39: =IF(U39<U38,1,IF(U39=U38,W38+1,0)) -> 1 | X39: 33 | AG39: =IF(AF39=AF38,AG38,IF(AF39=0,ROUNDDOWN(20,0),AG38-AH38)) -> 20 | AH39: =IF(AF39<AF38,1,IF(AF39=AF38,AH38+1,0)) -> 10
A40: 34 | B40: SA0638 | C40: Alan | D40: Prinsloo | E40: Men Grand Masters | F40: SA Grand Masters | H40: 14 | I40: 118.6 | J40: 118.6 | K40: =IF(J40=J39,K39,IF(J40=0,ROUNDDOWN(180,0),K39-L39)) -> 267 | L40: =IF(J40<J39,1,IF(J40=J39,L39+1,0)) -> 1 | M40: 34 | N40: SA0638 | O40: Alan | P40: Prinsloo | Q40: Men Grand Masters | R40: SA Grand Masters | S40: 14 | T40: 118.6 | U40: 118.6 | V40: =IF(U40=U39,V39,IF(U40=0,ROUNDDOWN(20,0),V39-W39)) -> 167 | W40: =IF(U40<U39,1,IF(U40=U39,W39+1,0)) -> 1 | X40: 34 | AG40: =IF(AF40=AF39,AG39,IF(AF40=0,ROUNDDOWN(20,0),AG39-AH39)) -> 20 | AH40: =IF(AF40<AF39,1,IF(AF40=AF39,AH39+1,0)) -> 11
A41: 35 | B41: N0409 | C41: Andre-Louis | D41: Stipp | E41: Men U/21 | F41: Nam Men U/21 | H41: 12 | I41: 115.8 | J41: 115.8 | K41: =IF(J41=J40,K40,IF(J41=0,ROUNDDOWN(180,0),K40-L40)) -> 266 | L41: =IF(J41<J40,1,IF(J41=J40,L40+1,0)) -> 1 | M41: 35 | N41: N0409 | O41: Andre-Louis | P41: Stipp | Q41: Men U/21 | R41: Nam Men U/21 | S41: 12 | T41: 115.8 | U41: 115.8 | V41: =IF(U41=U40,V40,IF(U41=0,ROUNDDOWN(20,0),V40-W40)) -> 166 | W41: =IF(U41<U40,1,IF(U41=U40,W40+1,0)) -> 1 | X41: 35 | AG41: =IF(AF41=AF40,AG40,IF(AF41=0,ROUNDDOWN(20,0),AG40-AH40)) -> 20 | AH41: =IF(AF41<AF40,1,IF(AF41=AF40,AH40+1,0)) -> 12
A42: 36 | B42: N0015 | C42: Herman | D42: Fourie | E42: Men Grand Masters | F42: Nam Grand Masters | H42: 12 | I42: 114.7 | J42: 114.7 | K42: =IF(J42=J41,K41,IF(J42=0,ROUNDDOWN(180,0),K41-L41)) -> 265 | L42: =IF(J42<J41,1,IF(J42=J41,L41+1,0)) -> 1 | M42: 36 | N42: N0015 | O42: Herman | P42: Fourie | Q42: Men Grand Masters | R42: Nam Grand Masters | S42: 12 | T42: 114.7 | U42: 114.7 | V42: =IF(U42=U41,V41,IF(U42=0,ROUNDDOWN(20,0),V41-W41)) -> 165 | W42: =IF(U42<U41,1,IF(U42=U41,W41+1,0)) -> 1 | X42: 36 | AG42: =IF(AF42=AF41,AG41,IF(AF42=0,ROUNDDOWN(20,0),AG41-AH41)) -> 20 | AH42: =IF(AF42<AF41,1,IF(AF42=AF41,AH41+1,0)) -> 13
A43: 37 | B43: N0041 | C43: Terence | D43: Clark | E43: Men Master | F43: Nam Masters | H43: 12 | I43: 114.5 | J43: 114.5 | K43: =IF(J43=J42,K42,IF(J43=0,ROUNDDOWN(180,0),K42-L42)) -> 264 | L43: =IF(J43<J42,1,IF(J43=J42,L42+1,0)) -> 1 | M43: 37 | N43: N0041 | O43: Terence | P43: Clark | Q43: Men Master | R43: Nam Masters | S43: 12 | T43: 114.5 | U43: 114.5 | V43: =IF(U43=U42,V42,IF(U43=0,ROUNDDOWN(20,0),V42-W42)) -> 164 | W43: =IF(U43<U42,1,IF(U43=U42,W42+1,0)) -> 1 | X43: 37 | AG43: =IF(AF43=AF42,AG42,IF(AF43=0,ROUNDDOWN(20,0),AG42-AH42)) -> 20 | AH43: =IF(AF43<AF42,1,IF(AF43=AF42,AH42+1,0)) -> 14
A44: 38 | B44: SA7476 | C44: Kabous | D44: Louw | E44: Ladies Senior | F44: SA Ladies | H44: 14 | I44: 113 | J44: 113 | K44: =IF(J44=J43,K43,IF(J44=0,ROUNDDOWN(180,0),K43-L43)) -> 263 | L44: =IF(J44<J43,1,IF(J44=J43,L43+1,0)) -> 1 | M44: 38 | N44: SA7476 | O44: Kabous | P44: Louw | Q44: Ladies Senior | R44: SA Ladies | S44: 14 | T44: 113 | U44: 113 | V44: =IF(U44=U43,V43,IF(U44=0,ROUNDDOWN(20,0),V43-W43)) -> 163 | W44: =IF(U44<U43,1,IF(U44=U43,W43+1,0)) -> 1 | X44: 38 | AG44: =IF(AF44=AF43,AG43,IF(AF44=0,ROUNDDOWN(20,0),AG43-AH43)) -> 20 | AH44: =IF(AF44<AF43,1,IF(AF44=AF43,AH43+1,0)) -> 15
A45: 39 | B45: SA8339 | C45: Gareth | D45: Dahl | E45: Men U/21 | F45: SA Men U/21 | G45: 3 | H45: 9 | I45: 110.1 | J45: 110.1 | K45: =IF(J45=J44,K44,IF(J45=0,ROUNDDOWN(180,0),K44-L44)) -> 262 | L45: =IF(J45<J44,1,IF(J45=J44,L44+1,0)) -> 1 | M45: 39 | N45: SA8339 | O45: Gareth | P45: Dahl | Q45: Men U/21 | R45: SA Men U/21 | S45: 9 | T45: 102.5 | U45: 102.5 | V45: =IF(U45=U44,V44,IF(U45=0,ROUNDDOWN(20,0),V44-W44)) -> 162 | W45: =IF(U45<U44,1,IF(U45=U44,W44+1,0)) -> 1 | X45: 39 | AG45: =IF(AF45=AF44,AG44,IF(AF45=0,ROUNDDOWN(20,0),AG44-AH44)) -> 20 | AH45: =IF(AF45<AF44,1,IF(AF45=AF44,AH44+1,0)) -> 16
A46: 40 | B46: SA8444 | C46: Chantel | D46: Carstens | E46: Ladies Senior | F46: SA Ladies | G46: 2 | H46: 15 | I46: 97.9 | J46: 97.9 | K46: =IF(J46=J45,K45,IF(J46=0,ROUNDDOWN(180,0),K45-L45)) -> 261 | L46: =IF(J46<J45,1,IF(J46=J45,L45+1,0)) -> 1 | M46: 40 | N46: N0283 | O46: Kevin | P46: Page | Q46: Men U/21 | R46: Nam Men U/21 | S46: 9 | T46: 96.7 | U46: 96.7 | V46: =IF(U46=U45,V45,IF(U46=0,ROUNDDOWN(20,0),V45-W45)) -> 161 | W46: =IF(U46<U45,1,IF(U46=U45,W45+1,0)) -> 1 | X46: 40 | AG46: =IF(AF46=AF45,AG45,IF(AF46=0,ROUNDDOWN(20,0),AG45-AH45)) -> 20 | AH46: =IF(AF46<AF45,1,IF(AF46=AF45,AH45+1,0)) -> 17
A47: 41 | B47: N0283 | C47: Kevin | D47: Page | E47: Men U/21 | F47: Nam Men U/21 | H47: 9 | I47: 96.7 | J47: 96.7 | K47: =IF(J47=J46,K46,IF(J47=0,ROUNDDOWN(180,0),K46-L46)) -> 260 | L47: =IF(J47<J46,1,IF(J47=J46,L46+1,0)) -> 1 | M47: 41 | N47: N0146 | O47: Danie | P47: Du Toit | Q47: Men Grand Masters | R47: Nam Grand Masters | S47: 10 | T47: 94.3 | U47: 94.3 | V47: =IF(U47=U46,V46,IF(U47=0,ROUNDDOWN(20,0),V46-W46)) -> 160 | W47: =IF(U47<U46,1,IF(U47=U46,W46+1,0)) -> 1 | X47: 41 | AG47: =IF(AF47=AF46,AG46,IF(AF47=0,ROUNDDOWN(20,0),AG46-AH46)) -> 20 | AH47: =IF(AF47<AF46,1,IF(AF47=AF46,AH46+1,0)) -> 18
A48: 42 | B48: N0146 | C48: Danie | D48: Du Toit | E48: Men Grand Masters | F48: Nam Grand Masters | G48: 1 | H48: 10 | I48: 95.2 | J48: 95.2 | K48: =IF(J48=J47,K47,IF(J48=0,ROUNDDOWN(180,0),K47-L47)) -> 259 | L48: =IF(J48<J47,1,IF(J48=J47,L47+1,0)) -> 1 | M48: 42 | N48: SA8444 | O48: Chantel | P48: Carstens | Q48: Ladies Senior | R48: SA Ladies | S48: 15 | T48: 93.3 | U48: 93.3 | V48: =IF(U48=U47,V47,IF(U48=0,ROUNDDOWN(20,0),V47-W47)) -> 159 | W48: =IF(U48<U47,1,IF(U48=U47,W47+1,0)) -> 1 | X48: 42 | AG48: =IF(AF48=AF47,AG47,IF(AF48=0,ROUNDDOWN(20,0),AG47-AH47)) -> 20 | AH48: =IF(AF48<AF47,1,IF(AF48=AF47,AH47+1,0)) -> 19
A49: 43 | B49: SA1404 | C49: Julian | D49: Pybus | E49: Men Grand Masters | F49: SA Grand Masters | H49: 10 | I49: 91.4 | J49: 91.4 | K49: =IF(J49=J48,K48,IF(J49=0,ROUNDDOWN(180,0),K48-L48)) -> 258 | L49: =IF(J49<J48,1,IF(J49=J48,L48+1,0)) -> 1 | M49: 43 | N49: SA1404 | O49: Julian | P49: Pybus | Q49: Men Grand Masters | R49: SA Grand Masters | S49: 10 | T49: 91.4 | U49: 91.4 | V49: =IF(U49=U48,V48,IF(U49=0,ROUNDDOWN(20,0),V48-W48)) -> 158 | W49: =IF(U49<U48,1,IF(U49=U48,W48+1,0)) -> 1 | X49: 43 | AG49: =IF(AF49=AF48,AG48,IF(AF49=0,ROUNDDOWN(20,0),AG48-AH48)) -> 20 | AH49: =IF(AF49<AF48,1,IF(AF49=AF48,AH48+1,0)) -> 20
A50: 44 | B50: N0704 | C50: Kay | D50: Bachran | E50: Men U/21 | F50: Nam Men U/21 | H50: 5 | I50: 91.3 | J50: 91.3 | K50: =IF(J50=J49,K49,IF(J50=0,ROUNDDOWN(180,0),K49-L49)) -> 257 | L50: =IF(J50<J49,1,IF(J50=J49,L49+1,0)) -> 1 | M50: 44 | N50: N0704 | O50: Kay | P50: Bachran | Q50: Men U/21 | R50: Nam Men U/21 | S50: 5 | T50: 91.3 | U50: 91.3 | V50: =IF(U50=U49,V49,IF(U50=0,ROUNDDOWN(20,0),V49-W49)) -> 157 | W50: =IF(U50<U49,1,IF(U50=U49,W49+1,0)) -> 1 | X50: 44 | AG50: =IF(AF50=AF49,AG49,IF(AF50=0,ROUNDDOWN(20,0),AG49-AH49)) -> 20 | AH50: =IF(AF50<AF49,1,IF(AF50=AF49,AH49+1,0)) -> 21
A51: 45 | B51: SA0610 | C51: Barry | D51: Wareham | E51: Men Master | F51: SA Masters | H51: 9 | I51: 90.1 | J51: 90.1 | K51: =IF(J51=J50,K50,IF(J51=0,ROUNDDOWN(180,0),K50-L50)) -> 256 | L51: =IF(J51<J50,1,IF(J51=J50,L50+1,0)) -> 1 | M51: 45 | N51: SA0610 | O51: Barry | P51: Wareham | Q51: Men Master | R51: SA Masters | S51: 9 | T51: 90.1 | U51: 90.1 | V51: =IF(U51=U50,V50,IF(U51=0,ROUNDDOWN(20,0),V50-W50)) -> 156 | W51: =IF(U51<U50,1,IF(U51=U50,W50+1,0)) -> 1 | X51: 45 | AG51: =IF(AF51=AF50,AG50,IF(AF51=0,ROUNDDOWN(20,0),AG50-AH50)) -> 20 | AH51: =IF(AF51<AF50,1,IF(AF51=AF50,AH50+1,0)) -> 22
A52: 46 | B52: N0091 | C52: Deon | D52: Jacobs | E52: Men Grand Masters | F52: Nam Grand Masters | H52: 8 | I52: 76.3 | J52: 76.3 | K52: =IF(J52=J51,K51,IF(J52=0,ROUNDDOWN(180,0),K51-L51)) -> 255 | L52: =IF(J52<J51,1,IF(J52=J51,L51+1,0)) -> 1 | M52: 46 | N52: N0091 | O52: Deon | P52: Jacobs | Q52: Men Grand Masters | R52: Nam Grand Masters | S52: 8 | T52: 76.3 | U52: 76.3 | V52: =IF(U52=U51,V51,IF(U52=0,ROUNDDOWN(20,0),V51-W51)) -> 155 | W52: =IF(U52<U51,1,IF(U52=U51,W51+1,0)) -> 1 | X52: 46 | AG52: =IF(AF52=AF51,AG51,IF(AF52=0,ROUNDDOWN(20,0),AG51-AH51)) -> 20 | AH52: =IF(AF52<AF51,1,IF(AF52=AF51,AH51+1,0)) -> 23
A53: 47 | B53: SA4251 | C53: Thys | D53: Basson | E53: Men Grand Masters | F53: SA Grand Masters | G53: 4 | H53: 10 | I53: 72.2 | J53: 72.2 | K53: =IF(J53=J52,K52,IF(J53=0,ROUNDDOWN(180,0),K52-L52)) -> 254 | L53: =IF(J53<J52,1,IF(J53=J52,L52+1,0)) -> 1 | M53: 47 | N53: SA8336 | O53: Paul | P53: Nel | Q53: Men Grand Masters | R53: SA Grand Masters | S53: 7 | T53: 71 | U53: 71 | V53: =IF(U53=U52,V52,IF(U53=0,ROUNDDOWN(20,0),V52-W52)) -> 154 | W53: =IF(U53<U52,1,IF(U53=U52,W52+1,0)) -> 1 | X53: 47 | AG53: =IF(AF53=AF52,AG52,IF(AF53=0,ROUNDDOWN(20,0),AG52-AH52)) -> 20 | AH53: =IF(AF53<AF52,1,IF(AF53=AF52,AH52+1,0)) -> 24
A54: 48 | B54: SA8336 | C54: Paul | D54: Nel | E54: Men Grand Masters | F54: SA Grand Masters | H54: 7 | I54: 71 | J54: 71 | K54: =IF(J54=J53,K53,IF(J54=0,ROUNDDOWN(180,0),K53-L53)) -> 253 | L54: =IF(J54<J53,1,IF(J54=J53,L53+1,0)) -> 1 | M54: 48 | N54: SA6868 | O54: Mariette | P54: Westraad | Q54: Ladies Senior | R54: SA Ladies | S54: 8 | T54: 66.8 | U54: 66.8 | V54: =IF(U54=U53,V53,IF(U54=0,ROUNDDOWN(20,0),V53-W53)) -> 153 | W54: =IF(U54<U53,1,IF(U54=U53,W53+1,0)) -> 1 | X54: 48 | AG54: =IF(AF54=AF53,AG53,IF(AF54=0,ROUNDDOWN(20,0),AG53-AH53)) -> 20 | AH54: =IF(AF54<AF53,1,IF(AF54=AF53,AH53+1,0)) -> 25
A55: 49 | B55: SA6868 | C55: Mariette | D55: Westraad | E55: Ladies Senior | F55: SA Ladies | H55: 8 | I55: 66.8 | J55: 66.8 | K55: =IF(J55=J54,K54,IF(J55=0,ROUNDDOWN(180,0),K54-L54)) -> 252 | L55: =IF(J55<J54,1,IF(J55=J54,L54+1,0)) -> 1 | M55: 49 | N55: SA4251 | O55: Thys | P55: Basson | Q55: Men Grand Masters | R55: SA Grand Masters | S55: 10 | T55: 65.7 | U55: 65.7 | V55: =IF(U55=U54,V54,IF(U55=0,ROUNDDOWN(20,0),V54-W54)) -> 152 | W55: =IF(U55<U54,1,IF(U55=U54,W54+1,0)) -> 1 | X55: 49 | AG55: =IF(AF55=AF54,AG54,IF(AF55=0,ROUNDDOWN(20,0),AG54-AH54)) -> 20 | AH55: =IF(AF55<AF54,1,IF(AF55=AF54,AH54+1,0)) -> 26
A56: 50 | B56: N0150 | C56: Lindie | D56: Krauze | E56: Ladies Senior | F56: Nam Ladies | G56: 1 | H56: 11 | I56: 62.3 | J56: 62.3 | K56: =IF(J56=J55,K55,IF(J56=0,ROUNDDOWN(180,0),K55-L55)) -> 251 | L56: =IF(J56<J55,1,IF(J56=J55,L55+1,0)) -> 1 | M56: 50 | N56: N0150 | O56: Lindie | P56: Krauze | Q56: Ladies Senior | R56: Nam Ladies | S56: 11 | T56: 61 | U56: 61 | V56: =IF(U56=U55,V55,IF(U56=0,ROUNDDOWN(20,0),V55-W55)) -> 151 | W56: =IF(U56<U55,1,IF(U56=U55,W55+1,0)) -> 1 | X56: 50 | AG56: =IF(AF56=AF55,AG55,IF(AF56=0,ROUNDDOWN(20,0),AG55-AH55)) -> 20 | AH56: =IF(AF56<AF55,1,IF(AF56=AF55,AH55+1,0)) -> 27
A57: 51 | B57: N0636 | C57: Lydia | D57: Cilliers | E57: Ladies Senior | F57: Nam Ladies | H57: 9 | I57: 60.7 | J57: 60.7 | K57: =IF(J57=J56,K56,IF(J57=0,ROUNDDOWN(180,0),K56-L56)) -> 250 | L57: =IF(J57<J56,1,IF(J57=J56,L56+1,0)) -> 1 | M57: 51 | N57: N0636 | O57: Lydia | P57: Cilliers | Q57: Ladies Senior | R57: Nam Ladies | S57: 9 | T57: 60.7 | U57: 60.7 | V57: =IF(U57=U56,V56,IF(U57=0,ROUNDDOWN(20,0),V56-W56)) -> 150 | W57: =IF(U57<U56,1,IF(U57=U56,W56+1,0)) -> 1 | X57: 51 | AG57: =IF(AF57=AF56,AG56,IF(AF57=0,ROUNDDOWN(20,0),AG56-AH56)) -> 20 | AH57: =IF(AF57<AF56,1,IF(AF57=AF56,AH56+1,0)) -> 28
A58: 52 | B58: SA3679 | C58: Nem | D58: Singh | E58: Men Master | F58: SA Masters | H58: 3 | I58: 60.7 | J58: 60.7 | K58: =IF(J58=J57,K57,IF(J58=0,ROUNDDOWN(180,0),K57-L57)) -> 250 | L58: =IF(J58<J57,1,IF(J58=J57,L57+1,0)) -> 2 | M58: 52 | N58: SA3679 | O58: Nem | P58: Singh | Q58: Men Master | R58: SA Masters | S58: 3 | T58: 60.7 | U58: 60.7 | V58: =IF(U58=U57,V57,IF(U58=0,ROUNDDOWN(20,0),V57-W57)) -> 150 | W58: =IF(U58<U57,1,IF(U58=U57,W57+1,0)) -> 2 | X58: 52 | AG58: =IF(AF58=AF57,AG57,IF(AF58=0,ROUNDDOWN(20,0),AG57-AH57)) -> 20 | AH58: =IF(AF58<AF57,1,IF(AF58=AF57,AH57+1,0)) -> 29
A59: 53 | B59: N0667 | C59: Nadine | D59: Downing | E59: Ladies Senior | F59: Nam Ladies | G59: 2 | H59: 11 | I59: 55.8 | J59: 55.8 | K59: =IF(J59=J58,K58,IF(J59=0,ROUNDDOWN(180,0),K58-L58)) -> 248 | L59: =IF(J59<J58,1,IF(J59=J58,L58+1,0)) -> 1 | M59: 53 | N59: N0667 | O59: Nadine | P59: Downing | Q59: Ladies Senior | R59: Nam Ladies | S59: 11 | T59: 51.2 | U59: 51.2 | V59: =IF(U59=U58,V58,IF(U59=0,ROUNDDOWN(20,0),V58-W58)) -> 148 | W59: =IF(U59<U58,1,IF(U59=U58,W58+1,0)) -> 1 | X59: 53 | AG59: =IF(AF59=AF58,AG58,IF(AF59=0,ROUNDDOWN(20,0),AG58-AH58)) -> 20 | AH59: =IF(AF59<AF58,1,IF(AF59=AF58,AH58+1,0)) -> 30
A60: 54 | B60: SA4945 | C60: Elzanne | D60: Cronje | E60: Ladies Senior | F60: SA Ladies | G60: 3 | H60: 8 | I60: 52.3 | J60: 52.3 | K60: =IF(J60=J59,K59,IF(J60=0,ROUNDDOWN(180,0),K59-L59)) -> 247 | L60: =IF(J60<J59,1,IF(J60=J59,L59+1,0)) -> 1 | M60: 54 | N60: SA2034 | O60: Hein | P60: Engelbrecht | Q60: Men Master | R60: SA Masters | S60: 4 | T60: 49.7 | U60: 49.7 | V60: =IF(U60=U59,V59,IF(U60=0,ROUNDDOWN(20,0),V59-W59)) -> 147 | W60: =IF(U60<U59,1,IF(U60=U59,W59+1,0)) -> 1 | X60: 54 | AG60: =IF(AF60=AF59,AG59,IF(AF60=0,ROUNDDOWN(20,0),AG59-AH59)) -> 20 | AH60: =IF(AF60<AF59,1,IF(AF60=AF59,AH59+1,0)) -> 31
A61: 55 | B61: Sa2034 | C61: Hein | D61: Engelbrecht | E61: Men Master | F61: SA Masters | H61: 4 | I61: 49.7 | J61: 49.7 | K61: =IF(J61=J60,K60,IF(J61=0,ROUNDDOWN(180,0),K60-L60)) -> 246 | L61: =IF(J61<J60,1,IF(J61=J60,L60+1,0)) -> 1 | M61: 55 | N61: N0013 | O61: Rodger | P61: Boon | Q61: Men Master | R61: Nam Masters | S61: 4 | T61: 47.9 | U61: 47.9 | V61: =IF(U61=U60,V60,IF(U61=0,ROUNDDOWN(20,0),V60-W60)) -> 146 | W61: =IF(U61<U60,1,IF(U61=U60,W60+1,0)) -> 1 | X61: 55 | AG61: =IF(AF61=AF60,AG60,IF(AF61=0,ROUNDDOWN(20,0),AG60-AH60)) -> 20 | AH61: =IF(AF61<AF60,1,IF(AF61=AF60,AH60+1,0)) -> 32
A62: 56 | B62: N0013 | C62: Rodger | D62: Boon | E62: Men Master | F62: Nam Masters | H62: 4 | I62: 47.9 | J62: 47.9 | K62: =IF(J62=J61,K61,IF(J62=0,ROUNDDOWN(180,0),K61-L61)) -> 245 | L62: =IF(J62<J61,1,IF(J62=J61,L61+1,0)) -> 1 | M62: 56 | N62: SA4945 | O62: Elzanne | P62: Cronje | Q62: Ladies Senior | R62: SA Ladies | S62: 8 | T62: 46.5 | U62: 46.5 | V62: =IF(U62=U61,V61,IF(U62=0,ROUNDDOWN(20,0),V61-W61)) -> 145 | W62: =IF(U62<U61,1,IF(U62=U61,W61+1,0)) -> 1 | X62: 56 | AG62: =IF(AF62=AF61,AG61,IF(AF62=0,ROUNDDOWN(20,0),AG61-AH61)) -> 20 | AH62: =IF(AF62<AF61,1,IF(AF62=AF61,AH61+1,0)) -> 33
A63: 57 | B63: SA9752 | C63: Ahmed | D63: Belim | E63: Men U/21 | F63: SA Men U/21 | G63: 1 | H63: 3 | I63: 46.4 | J63: 46.4 | K63: =IF(J63=J62,K62,IF(J63=0,ROUNDDOWN(180,0),K62-L62)) -> 244 | L63: =IF(J63<J62,1,IF(J63=J62,L62+1,0)) -> 1 | M63: 57 | N63: N0005 | O63: Lesley | P63: Page | Q63: Men Master | R63: Nam Masters | S63: 4 | T63: 45.5 | U63: 45.5 | V63: =IF(U63=U62,V62,IF(U63=0,ROUNDDOWN(20,0),V62-W62)) -> 144 | W63: =IF(U63<U62,1,IF(U63=U62,W62+1,0)) -> 1 | X63: 57 | AG63: =IF(AF63=AF62,AG62,IF(AF63=0,ROUNDDOWN(20,0),AG62-AH62)) -> 20 | AH63: =IF(AF63<AF62,1,IF(AF63=AF62,AH62+1,0)) -> 34
A64: 58 | B64: N0697 | C64: Annelien | D64: Langenstrassen | E64: Ladies Veteran | F64: Nam Ladies | G64: 1 | H64: 8 | I64: 46.2 | J64: 46.2 | K64: =IF(J64=J63,K63,IF(J64=0,ROUNDDOWN(180,0),K63-L63)) -> 243 | L64: =IF(J64<J63,1,IF(J64=J63,L63+1,0)) -> 1 | M64: 58 | N64: N0697 | O64: Annelien | P64: Langenstrassen | Q64: Ladies Veteran | R64: Nam Ladies | S64: 8 | T64: 45.4 | U64: 45.4 | V64: =IF(U64=U63,V63,IF(U64=0,ROUNDDOWN(20,0),V63-W63)) -> 143 | W64: =IF(U64<U63,1,IF(U64=U63,W63+1,0)) -> 1 | X64: 58 | AG64: =IF(AF64=AF63,AG63,IF(AF64=0,ROUNDDOWN(20,0),AG63-AH63)) -> 20 | AH64: =IF(AF64<AF63,1,IF(AF64=AF63,AH63+1,0)) -> 35
A65: 59 | B65: N0005 | C65: Lesley | D65: Page | E65: Men Master | F65: Nam Masters | H65: 4 | I65: 45.5 | J65: 45.5 | K65: =IF(J65=J64,K64,IF(J65=0,ROUNDDOWN(180,0),K64-L64)) -> 242 | L65: =IF(J65<J64,1,IF(J65=J64,L64+1,0)) -> 1 | M65: 59 | N65: SA9752 | O65: Ahmed | P65: Belim | Q65: Men U/21 | R65: SA Men U/21 | S65: 3 | T65: 45.3 | U65: 45.3 | V65: =IF(U65=U64,V64,IF(U65=0,ROUNDDOWN(20,0),V64-W64)) -> 142 | W65: =IF(U65<U64,1,IF(U65=U64,W64+1,0)) -> 1 | X65: 59 | AG65: =IF(AF65=AF64,AG64,IF(AF65=0,ROUNDDOWN(20,0),AG64-AH64)) -> 20 | AH65: =IF(AF65<AF64,1,IF(AF65=AF64,AH64+1,0)) -> 36
A66: 60 | B66: SA4206 | C66: Marina | D66: Fuchs | E66: Ladies Senior | F66: SA Ladies | H66: 5 | I66: 40.2 | J66: 40.2 | K66: =IF(J66=J65,K65,IF(J66=0,ROUNDDOWN(180,0),K65-L65)) -> 241 | L66: =IF(J66<J65,1,IF(J66=J65,L65+1,0)) -> 1 | M66: 60 | N66: SA4206 | O66: Marina | P66: Fuchs | Q66: Ladies Senior | R66: SA Ladies | S66: 5 | T66: 40.2 | U66: 40.2 | V66: =IF(U66=U65,V65,IF(U66=0,ROUNDDOWN(20,0),V65-W65)) -> 141 | W66: =IF(U66<U65,1,IF(U66=U65,W65+1,0)) -> 1 | X66: 60 | AG66: =IF(AF66=AF65,AG65,IF(AF66=0,ROUNDDOWN(20,0),AG65-AH65)) -> 20 | AH66: =IF(AF66<AF65,1,IF(AF66=AF65,AH65+1,0)) -> 37
A67: 61 | B67: N0073 | C67: Marina | D67: Kruger | E67: Ladies Senior | F67: Nam Ladies | H67: 6 | I67: 37.2 | J67: 37.2 | K67: =IF(J67=J66,K66,IF(J67=0,ROUNDDOWN(180,0),K66-L66)) -> 240 | L67: =IF(J67<J66,1,IF(J67=J66,L66+1,0)) -> 1 | M67: 61 | N67: N0073 | O67: Marina | P67: Kruger | Q67: Ladies Senior | R67: Nam Ladies | S67: 6 | T67: 37.2 | U67: 37.2 | V67: =IF(U67=U66,V66,IF(U67=0,ROUNDDOWN(20,0),V66-W66)) -> 140 | W67: =IF(U67<U66,1,IF(U67=U66,W66+1,0)) -> 1 | X67: 61 | AG67: =IF(AF67=AF66,AG66,IF(AF67=0,ROUNDDOWN(20,0),AG66-AH66)) -> 20 | AH67: =IF(AF67<AF66,1,IF(AF67=AF66,AH66+1,0)) -> 38
A68: 62 | B68: SA5578 | C68: Antoi | D68: Forbes | E68: Ladies Senior | F68: SA Ladies | H68: 6 | I68: 35.9 | J68: 35.9 | K68: =IF(J68=J67,K67,IF(J68=0,ROUNDDOWN(180,0),K67-L67)) -> 239 | L68: =IF(J68<J67,1,IF(J68=J67,L67+1,0)) -> 1 | M68: 62 | N68: SA5578 | O68: Antoi | P68: Forbes | Q68: Ladies Senior | R68: SA Ladies | S68: 6 | T68: 35.9 | U68: 35.9 | V68: =IF(U68=U67,V67,IF(U68=0,ROUNDDOWN(20,0),V67-W67)) -> 139 | W68: =IF(U68<U67,1,IF(U68=U67,W67+1,0)) -> 1 | X68: 62 | AG68: =IF(AF68=AF67,AG67,IF(AF68=0,ROUNDDOWN(20,0),AG67-AH67)) -> 20 | AH68: =IF(AF68<AF67,1,IF(AF68=AF67,AH67+1,0)) -> 39
A69: 63 | B69: SA4949 | C69: Kallie | D69: Erasmus | E69: Men Master | F69: SA Masters | H69: 8 | I69: 35.6 | J69: 35.6 | K69: =IF(J69=J68,K68,IF(J69=0,ROUNDDOWN(180,0),K68-L68)) -> 238 | L69: =IF(J69<J68,1,IF(J69=J68,L68+1,0)) -> 1 | M69: 63 | N69: SA4949 | O69: Kallie | P69: Erasmus | Q69: Men Master | R69: SA Masters | S69: 8 | T69: 35.6 | U69: 35.6 | V69: =IF(U69=U68,V68,IF(U69=0,ROUNDDOWN(20,0),V68-W68)) -> 138 | W69: =IF(U69<U68,1,IF(U69=U68,W68+1,0)) -> 1 | X69: 63 | AG69: =IF(AF69=AF68,AG68,IF(AF69=0,ROUNDDOWN(20,0),AG68-AH68)) -> 20 | AH69: =IF(AF69<AF68,1,IF(AF69=AF68,AH68+1,0)) -> 40
A70: 64 | B70: SA1206 | C70: Herman | D70: Van Greunen | E70: Men Grand Masters | F70: SA Grand Masters | G70: 2 | H70: 5 | I70: 33.8 | J70: 33.8 | K70: =IF(J70=J69,K69,IF(J70=0,ROUNDDOWN(180,0),K69-L69)) -> 237 | L70: =IF(J70<J69,1,IF(J70=J69,L69+1,0)) -> 1 | M70: 64 | N70: N0203 | O70: Andre | P70: Muller | Q70: Men Grand Masters | R70: Nam Grand Masters | S70: 10 | T70: 32.7 | U70: 32.7 | V70: =IF(U70=U69,V69,IF(U70=0,ROUNDDOWN(20,0),V69-W69)) -> 137 | W70: =IF(U70<U69,1,IF(U70=U69,W69+1,0)) -> 1 | X70: 64 | AG70: =IF(AF70=AF69,AG69,IF(AF70=0,ROUNDDOWN(20,0),AG69-AH69)) -> 20 | AH70: =IF(AF70<AF69,1,IF(AF70=AF69,AH69+1,0)) -> 41
A71: 65 | B71: N0203 | C71: Andre | D71: Muller | E71: Men Grand Masters | F71: Nam Grand Masters | H71: 10 | I71: 32.7 | J71: 32.7 | K71: =IF(J71=J70,K70,IF(J71=0,ROUNDDOWN(180,0),K70-L70)) -> 236 | L71: =IF(J71<J70,1,IF(J71=J70,L70+1,0)) -> 1 | M71: 65 | N71: SA1206 | O71: Herman | P71: Van Greunen | Q71: Men Grand Masters | R71: SA Grand Masters | S71: 5 | T71: 31.7 | U71: 31.7 | V71: =IF(U71=U70,V70,IF(U71=0,ROUNDDOWN(20,0),V70-W70)) -> 136 | W71: =IF(U71<U70,1,IF(U71=U70,W70+1,0)) -> 1 | X71: 65 | AG71: =IF(AF71=AF70,AG70,IF(AF71=0,ROUNDDOWN(20,0),AG70-AH70)) -> 20 | AH71: =IF(AF71<AF70,1,IF(AF71=AF70,AH70+1,0)) -> 42
A72: 66 | B72: SA2057 | C72: Colin | D72: Dawidowitz | E72: Men Grand Masters | F72: SA Grand Masters | H72: 3 | I72: 26.5 | J72: 26.5 | K72: =IF(J72=J71,K71,IF(J72=0,ROUNDDOWN(180,0),K71-L71)) -> 235 | L72: =IF(J72<J71,1,IF(J72=J71,L71+1,0)) -> 1 | M72: 66 | N72: SA2057 | O72: Colin | P72: Dawidowitz | Q72: Men Grand Masters | R72: SA Grand Masters | S72: 3 | T72: 26.5 | U72: 26.5 | V72: =IF(U72=U71,V71,IF(U72=0,ROUNDDOWN(20,0),V71-W71)) -> 135 | W72: =IF(U72<U71,1,IF(U72=U71,W71+1,0)) -> 1 | X72: 66 | AG72: =IF(AF72=AF71,AG71,IF(AF72=0,ROUNDDOWN(20,0),AG71-AH71)) -> 20 | AH72: =IF(AF72<AF71,1,IF(AF72=AF71,AH71+1,0)) -> 43
A73: 67 | B73: N0180 | C73: Elaine | D73: Vorster | E73: Ladies Senior | F73: Nam Ladies | G73: 1 | H73: 4 | I73: 23.1 | J73: 23.1 | K73: =IF(J73=J72,K72,IF(J73=0,ROUNDDOWN(180,0),K72-L72)) -> 234 | L73: =IF(J73<J72,1,IF(J73=J72,L72+1,0)) -> 1 | M73: 67 | N73: N0180 | O73: Elaine | P73: Vorster | Q73: Ladies Senior | R73: Nam Ladies | S73: 4 | T73: 22.2 | U73: 22.2 | V73: =IF(U73=U72,V72,IF(U73=0,ROUNDDOWN(20,0),V72-W72)) -> 134 | W73: =IF(U73<U72,1,IF(U73=U72,W72+1,0)) -> 1 | X73: 67 | AG73: =IF(AF73=AF72,AG72,IF(AF73=0,ROUNDDOWN(20,0),AG72-AH72)) -> 20 | AH73: =IF(AF73<AF72,1,IF(AF73=AF72,AH72+1,0)) -> 44
A74: 68 | B74: SA6080 | C74: Cara | D74: Cowan | E74: Ladies Senior | F74: SA Ladies | G74: 1 | H74: 5 | I74: 22.2 | J74: 22.2 | K74: =IF(J74=J73,K73,IF(J74=0,ROUNDDOWN(180,0),K73-L73)) -> 233 | L74: =IF(J74<J73,1,IF(J74=J73,L73+1,0)) -> 1 | M74: 68 | N74: SA6080 | O74: Cara | P74: Cowan | Q74: Ladies Senior | R74: SA Ladies | S74: 5 | T74: 20.5 | U74: 20.5 | V74: =IF(U74=U73,V73,IF(U74=0,ROUNDDOWN(20,0),V73-W73)) -> 133 | W74: =IF(U74<U73,1,IF(U74=U73,W73+1,0)) -> 1 | X74: 68 | AG74: =IF(AF74=AF73,AG73,IF(AF74=0,ROUNDDOWN(20,0),AG73-AH73)) -> 20 | AH74: =IF(AF74<AF73,1,IF(AF74=AF73,AH73+1,0)) -> 45
A75: 69 | B75: N0009 | C75: Henry | D75: Loubser | E75: Men Master | F75: Nam Masters | H75: 2 | I75: 10.7 | J75: 10.7 | K75: =IF(J75=J74,K74,IF(J75=0,ROUNDDOWN(180,0),K74-L74)) -> 232 | L75: =IF(J75<J74,1,IF(J75=J74,L74+1,0)) -> 1 | M75: 69 | N75: N0009 | O75: Henry | P75: Loubser | Q75: Men Master | R75: Nam Masters | S75: 2 | T75: 10.7 | U75: 10.7 | V75: =IF(U75=U74,V74,IF(U75=0,ROUNDDOWN(20,0),V74-W74)) -> 132 | W75: =IF(U75<U74,1,IF(U75=U74,W74+1,0)) -> 1 | X75: 69 | AG75: =IF(AF75=AF74,AG74,IF(AF75=0,ROUNDDOWN(20,0),AG74-AH74)) -> 20 | AH75: =IF(AF75<AF74,1,IF(AF75=AF74,AH74+1,0)) -> 46
A76: 70 | B76: SA4460 | C76: Mario | D76: Teixeira | E76: Men Grand Masters | F76: SA Grand Masters | H76: 1 | I76: 2.4 | J76: 2.4 | K76: =IF(J76=J75,K75,IF(J76=0,ROUNDDOWN(180,0),K75-L75)) -> 231 | L76: =IF(J76<J75,1,IF(J76=J75,L75+1,0)) -> 1 | M76: 70 | N76: SA4460 | O76: Mario | P76: Teixeira | Q76: Men Grand Masters | R76: SA Grand Masters | S76: 1 | T76: 2.4 | U76: 2.4 | V76: =IF(U76=U75,V75,IF(U76=0,ROUNDDOWN(20,0),V75-W75)) -> 131 | W76: =IF(U76<U75,1,IF(U76=U75,W75+1,0)) -> 1 | X76: 70 | AG76: =IF(AF76=AF75,AG75,IF(AF76=0,ROUNDDOWN(20,0),AG75-AH75)) -> 20 | AH76: =IF(AF76<AF75,1,IF(AF76=AF75,AH75+1,0)) -> 47
A77: 71 | B77: Grand Total | G77: 34 | H77: 782 | I77: 9149.4 | J77: 9149.4 | K77: =IF(J77=J76,K76,IF(J77=0,ROUNDDOWN(180,0),K76-L76)) -> 230 | L77: =IF(J77<J76,1,IF(J77=J76,L76+1,0)) -> 0 | M77: 71 | N77: Grand Total | S77: 781 | T77: 9046.3 | U77: 9046.3 | V77: =IF(U77=U76,V76,IF(U77=0,ROUNDDOWN(20,0),V76-W76)) -> 130 | W77: =IF(U77<U76,1,IF(U77=U76,W76+1,0)) -> 0 | X77: 71 | AG77: =IF(AF77=AF76,AG76,IF(AF77=0,ROUNDDOWN(20,0),AG76-AH76)) -> 20 | AH77: =IF(AF77<AF76,1,IF(AF77=AF76,AH76+1,0)) -> 48
A78: 72 | K78: =IF(J78=J77,K77,IF(J78=0,ROUNDDOWN(180,0),K77-L77)) -> 180 | L78: =IF(J78<J77,1,IF(J78=J77,L77+1,0)) -> 1 | M78: 72 | V78: =IF(U78=U77,V77,IF(U78=0,ROUNDDOWN(20,0),V77-W77)) -> 20 | W78: =IF(U78<U77,1,IF(U78=U77,W77+1,0)) -> 1 | X78: 72 | AG78: =IF(AF78=AF77,AG77,IF(AF78=0,ROUNDDOWN(20,0),AG77-AH77)) -> 20 | AH78: =IF(AF78<AF77,1,IF(AF78=AF77,AH77+1,0)) -> 49
A79: 73 | K79: =IF(J79=J78,K78,IF(J79=0,ROUNDDOWN(180,0),K78-L78)) -> 180 | L79: =IF(J79<J78,1,IF(J79=J78,L78+1,0)) -> 2 | M79: 73 | V79: =IF(U79=U78,V78,IF(U79=0,ROUNDDOWN(20,0),V78-W78)) -> 20 | W79: =IF(U79<U78,1,IF(U79=U78,W78+1,0)) -> 2 | X79: 73 | AG79: =IF(AF79=AF78,AG78,IF(AF79=0,ROUNDDOWN(20,0),AG78-AH78)) -> 20 | AH79: =IF(AF79<AF78,1,IF(AF79=AF78,AH78+1,0)) -> 50
A80: 74 | K80: =IF(J80=J79,K79,IF(J80=0,ROUNDDOWN(180,0),K79-L79)) -> 180 | L80: =IF(J80<J79,1,IF(J80=J79,L79+1,0)) -> 3 | M80: 74 | V80: =IF(U80=U79,V79,IF(U80=0,ROUNDDOWN(20,0),V79-W79)) -> 20 | W80: =IF(U80<U79,1,IF(U80=U79,W79+1,0)) -> 3 | X80: 74 | AG80: =IF(AF80=AF79,AG79,IF(AF80=0,ROUNDDOWN(20,0),AG79-AH79)) -> 20 | AH80: =IF(AF80<AF79,1,IF(AF80=AF79,AH79+1,0)) -> 51
A81: 75 | K81: =IF(J81=J80,K80,IF(J81=0,ROUNDDOWN(180,0),K80-L80)) -> 180 | L81: =IF(J81<J80,1,IF(J81=J80,L80+1,0)) -> 4 | M81: 75 | V81: =IF(U81=U80,V80,IF(U81=0,ROUNDDOWN(20,0),V80-W80)) -> 20 | W81: =IF(U81<U80,1,IF(U81=U80,W80+1,0)) -> 4 | X81: 75 | AG81: =IF(AF81=AF80,AG80,IF(AF81=0,ROUNDDOWN(20,0),AG80-AH80)) -> 20 | AH81: =IF(AF81<AF80,1,IF(AF81=AF80,AH80+1,0)) -> 52
A82: 76 | K82: =IF(J82=J81,K81,IF(J82=0,ROUNDDOWN(180,0),K81-L81)) -> 180 | L82: =IF(J82<J81,1,IF(J82=J81,L81+1,0)) -> 5 | M82: 76 | V82: =IF(U82=U81,V81,IF(U82=0,ROUNDDOWN(20,0),V81-W81)) -> 20 | W82: =IF(U82<U81,1,IF(U82=U81,W81+1,0)) -> 5 | X82: 76 | AG82: =IF(AF82=AF81,AG81,IF(AF82=0,ROUNDDOWN(20,0),AG81-AH81)) -> 20 | AH82: =IF(AF82<AF81,1,IF(AF82=AF81,AH81+1,0)) -> 53
A83: 77 | K83: =IF(J83=J82,K82,IF(J83=0,ROUNDDOWN(180,0),K82-L82)) -> 180 | L83: =IF(J83<J82,1,IF(J83=J82,L82+1,0)) -> 6 | M83: 77 | V83: =IF(U83=U82,V82,IF(U83=0,ROUNDDOWN(20,0),V82-W82)) -> 20 | W83: =IF(U83<U82,1,IF(U83=U82,W82+1,0)) -> 6 | X83: 77 | AG83: =IF(AF83=AF82,AG82,IF(AF83=0,ROUNDDOWN(20,0),AG82-AH82)) -> 20 | AH83: =IF(AF83<AF82,1,IF(AF83=AF82,AH82+1,0)) -> 54
A84: 78 | K84: =IF(J84=J83,K83,IF(J84=0,ROUNDDOWN(180,0),K83-L83)) -> 180 | L84: =IF(J84<J83,1,IF(J84=J83,L83+1,0)) -> 7 | M84: 78 | V84: =IF(U84=U83,V83,IF(U84=0,ROUNDDOWN(20,0),V83-W83)) -> 20 | W84: =IF(U84<U83,1,IF(U84=U83,W83+1,0)) -> 7 | X84: 78 | AG84: =IF(AF84=AF83,AG83,IF(AF84=0,ROUNDDOWN(20,0),AG83-AH83)) -> 20 | AH84: =IF(AF84<AF83,1,IF(AF84=AF83,AH83+1,0)) -> 55
A85: 79 | K85: =IF(J85=J84,K84,IF(J85=0,ROUNDDOWN(180,0),K84-L84)) -> 180 | L85: =IF(J85<J84,1,IF(J85=J84,L84+1,0)) -> 8 | M85: 79 | V85: =IF(U85=U84,V84,IF(U85=0,ROUNDDOWN(20,0),V84-W84)) -> 20 | W85: =IF(U85<U84,1,IF(U85=U84,W84+1,0)) -> 8 | X85: 79 | AG85: =IF(AF85=AF84,AG84,IF(AF85=0,ROUNDDOWN(20,0),AG84-AH84)) -> 20 | AH85: =IF(AF85<AF84,1,IF(AF85=AF84,AH84+1,0)) -> 56
A86: 80 | K86: =IF(J86=J85,K85,IF(J86=0,ROUNDDOWN(180,0),K85-L85)) -> 180 | L86: =IF(J86<J85,1,IF(J86=J85,L85+1,0)) -> 9 | M86: 80 | V86: =IF(U86=U85,V85,IF(U86=0,ROUNDDOWN(20,0),V85-W85)) -> 20 | W86: =IF(U86<U85,1,IF(U86=U85,W85+1,0)) -> 9 | X86: 80 | AG86: =IF(AF86=AF85,AG85,IF(AF86=0,ROUNDDOWN(20,0),AG85-AH85)) -> 20 | AH86: =IF(AF86<AF85,1,IF(AF86=AF85,AH85+1,0)) -> 57
A87: 81 | K87: =IF(J87=J86,K86,IF(J87=0,ROUNDDOWN(180,0),K86-L86)) -> 180 | L87: =IF(J87<J86,1,IF(J87=J86,L86+1,0)) -> 10 | M87: 81 | V87: =IF(U87=U86,V86,IF(U87=0,ROUNDDOWN(20,0),V86-W86)) -> 20 | W87: =IF(U87<U86,1,IF(U87=U86,W86+1,0)) -> 10 | X87: 81 | AG87: =IF(AF87=AF86,AG86,IF(AF87=0,ROUNDDOWN(20,0),AG86-AH86)) -> 20 | AH87: =IF(AF87<AF86,1,IF(AF87=AF86,AH86+1,0)) -> 58
A88: 82 | K88: =IF(J88=J87,K87,IF(J88=0,ROUNDDOWN(180,0),K87-L87)) -> 180 | L88: =IF(J88<J87,1,IF(J88=J87,L87+1,0)) -> 11 | M88: 82 | V88: =IF(U88=U87,V87,IF(U88=0,ROUNDDOWN(20,0),V87-W87)) -> 20 | W88: =IF(U88<U87,1,IF(U88=U87,W87+1,0)) -> 11 | X88: 82 | AG88: =IF(AF88=AF87,AG87,IF(AF88=0,ROUNDDOWN(20,0),AG87-AH87)) -> 20 | AH88: =IF(AF88<AF87,1,IF(AF88=AF87,AH87+1,0)) -> 59
A89: 83 | K89: =IF(J89=J88,K88,IF(J89=0,ROUNDDOWN(180,0),K88-L88)) -> 180 | L89: =IF(J89<J88,1,IF(J89=J88,L88+1,0)) -> 12 | M89: 83 | V89: =IF(U89=U88,V88,IF(U89=0,ROUNDDOWN(20,0),V88-W88)) -> 20 | W89: =IF(U89<U88,1,IF(U89=U88,W88+1,0)) -> 12 | X89: 83 | AG89: =IF(AF89=AF88,AG88,IF(AF89=0,ROUNDDOWN(20,0),AG88-AH88)) -> 20 | AH89: =IF(AF89<AF88,1,IF(AF89=AF88,AH88+1,0)) -> 60
... A186: 180 | K186: =IF(J186=J185,K185,IF(J186=0,ROUNDDOWN(180,0),K185-L185)) -> 180 | L186: =IF(J186<J185,1,IF(J186=J185,L185+1,0)) -> 109 | M186: 180 | V186: =IF(U186=U185,V185,IF(U186=0,ROUNDDOWN(20,0),V185-W185)) -> 20 | W186: =IF(U186<U185,1,IF(U186=U185,W185+1,0)) -> 109 | X186: 180 | AG186: =IF(AF186=AF185,AG185,IF(AF186=0,ROUNDDOWN(20,0),AG185-AH185)) -> 20 | AH186: =IF(AF186<AF185,1,IF(AF186=AF185,AH185+1,0)) -> 157
A187: 181 | K187: 20 | L187: =IF(J187<J186,1,IF(J187=J186,L186+1,0)) -> 110 | M187: 181 | V187: =IF(U187=U186,V186,IF(U187=0,ROUNDDOWN(20,0),V186-W186)) -> 20 | W187: =IF(U187<U186,1,IF(U187=U186,W186+1,0)) -> 110 | X187: 181 | AG187: =IF(AF187=AF186,AG186,IF(AF187=0,ROUNDDOWN(20,0),AG186-AH186)) -> 20 | AH187: =IF(AF187<AF186,1,IF(AF187=AF186,AH186+1,0)) -> 158
A188: 182 | K188: =IF(J188=J187,K187,IF(J188=0,ROUNDDOWN(180,0),K187-L187)) -> 20 | L188: =IF(J188<J187,1,IF(J188=J187,L187+1,0)) -> 111 | M188: 182 | V188: =IF(U188=U187,V187,IF(U188=0,ROUNDDOWN(20,0),V187-W187)) -> 20 | W188: =IF(U188<U187,1,IF(U188=U187,W187+1,0)) -> 111 | X188: 182 | AG188: =IF(AF188=AF187,AG187,IF(AF188=0,ROUNDDOWN(20,0),AG187-AH187)) -> 20 | AH188: =IF(AF188<AF187,1,IF(AF188=AF187,AH187+1,0)) -> 159
A189: 183 | K189: =IF(J189=J188,K188,IF(J189=0,ROUNDDOWN(180,0),K188-L188)) -> 20 | L189: =IF(J189<J188,1,IF(J189=J188,L188+1,0)) -> 112 | M189: 183 | V189: =IF(U189=U188,V188,IF(U189=0,ROUNDDOWN(20,0),V188-W188)) -> 20 | W189: =IF(U189<U188,1,IF(U189=U188,W188+1,0)) -> 112 | X189: 183 | AG189: =IF(AF189=AF188,AG188,IF(AF189=0,ROUNDDOWN(20,0),AG188-AH188)) -> 20 | AH189: =IF(AF189<AF188,1,IF(AF189=AF188,AH188+1,0)) -> 160
A190: 184 | K190: =IF(J190=J189,K189,IF(J190=0,ROUNDDOWN(180,0),K189-L189)) -> 20 | L190: =IF(J190<J189,1,IF(J190=J189,L189+1,0)) -> 113 | M190: 184 | V190: =IF(U190=U189,V189,IF(U190=0,ROUNDDOWN(20,0),V189-W189)) -> 20 | W190: =IF(U190<U189,1,IF(U190=U189,W189+1,0)) -> 113 | X190: 184 | AG190: =IF(AF190=AF189,AG189,IF(AF190=0,ROUNDDOWN(20,0),AG189-AH189)) -> 20 | AH190: =IF(AF190<AF189,1,IF(AF190=AF189,AH189+1,0)) -> 161
A191: 185 | K191: =IF(J191=J190,K190,IF(J191=0,ROUNDDOWN(180,0),K190-L190)) -> 20 | L191: =IF(J191<J190,1,IF(J191=J190,L190+1,0)) -> 114 | M191: 185 | V191: =IF(U191=U190,V190,IF(U191=0,ROUNDDOWN(20,0),V190-W190)) -> 20 | W191: =IF(U191<U190,1,IF(U191=U190,W190+1,0)) -> 114 | X191: 185 | AG191: =IF(AF191=AF190,AG190,IF(AF191=0,ROUNDDOWN(20,0),AG190-AH190)) -> 20 | AH191: =IF(AF191<AF190,1,IF(AF191=AF190,AH190+1,0)) -> 162
A192: 186 | K192: =IF(J192=J191,K191,IF(J192=0,ROUNDDOWN(180,0),K191-L191)) -> 20 | L192: =IF(J192<J191,1,IF(J192=J191,L191+1,0)) -> 115 | M192: 186 | V192: =IF(U192=U191,V191,IF(U192=0,ROUNDDOWN(20,0),V191-W191)) -> 20 | W192: =IF(U192<U191,1,IF(U192=U191,W191+1,0)) -> 115 | X192: 186 | AG192: =IF(AF192=AF191,AG191,IF(AF192=0,ROUNDDOWN(20,0),AG191-AH191)) -> 20 | AH192: =IF(AF192<AF191,1,IF(AF192=AF191,AH191+1,0)) -> 163
A193: 187 | K193: =IF(J193=J192,K192,IF(J193=0,ROUNDDOWN(180,0),K192-L192)) -> 20 | L193: =IF(J193<J192,1,IF(J193=J192,L192+1,0)) -> 116 | M193: 187 | V193: =IF(U193=U192,V192,IF(U193=0,ROUNDDOWN(20,0),V192-W192)) -> 20 | W193: =IF(U193<U192,1,IF(U193=U192,W192+1,0)) -> 116 | X193: 187 | AG193: =IF(AF193=AF192,AG192,IF(AF193=0,ROUNDDOWN(20,0),AG192-AH192)) -> 20 | AH193: =IF(AF193<AF192,1,IF(AF193=AF192,AH192+1,0)) -> 164
A194: 188 | K194: =IF(J194=J193,K193,IF(J194=0,ROUNDDOWN(180,0),K193-L193)) -> 20 | L194: =IF(J194<J193,1,IF(J194=J193,L193+1,0)) -> 117 | M194: 188 | V194: =IF(U194=U193,V193,IF(U194=0,ROUNDDOWN(20,0),V193-W193)) -> 20 | W194: =IF(U194<U193,1,IF(U194=U193,W193+1,0)) -> 117 | X194: 188 | AG194: =IF(AF194=AF193,AG193,IF(AF194=0,ROUNDDOWN(20,0),AG193-AH193)) -> 20 | AH194: =IF(AF194<AF193,1,IF(AF194=AF193,AH193+1,0)) -> 165
A195: 189 | K195: =IF(J195=J194,K194,IF(J195=0,ROUNDDOWN(180,0),K194-L194)) -> 20 | L195: =IF(J195<J194,1,IF(J195=J194,L194+1,0)) -> 118 | M195: 189 | V195: =IF(U195=U194,V194,IF(U195=0,ROUNDDOWN(20,0),V194-W194)) -> 20 | W195: =IF(U195<U194,1,IF(U195=U194,W194+1,0)) -> 118 | X195: 189 | AG195: =IF(AF195=AF194,AG194,IF(AF195=0,ROUNDDOWN(20,0),AG194-AH194)) -> 20 | AH195: =IF(AF195<AF194,1,IF(AF195=AF194,AH194+1,0)) -> 166
A196: 190 | K196: =IF(J196=J195,K195,IF(J196=0,ROUNDDOWN(180,0),K195-L195)) -> 20 | L196: =IF(J196<J195,1,IF(J196=J195,L195+1,0)) -> 119 | M196: 190 | V196: =IF(U196=U195,V195,IF(U196=0,ROUNDDOWN(20,0),V195-W195)) -> 20 | W196: =IF(U196<U195,1,IF(U196=U195,W195+1,0)) -> 119 | X196: 190 | AG196: =IF(AF196=AF195,AG195,IF(AF196=0,ROUNDDOWN(20,0),AG195-AH195)) -> 20 | AH196: =IF(AF196<AF195,1,IF(AF196=AF195,AH195+1,0)) -> 167
A197: 191 | K197: =IF(J197=J196,K196,IF(J197=0,ROUNDDOWN(180,0),K196-L196)) -> 20 | L197: =IF(J197<J196,1,IF(J197=J196,L196+1,0)) -> 120 | M197: 191 | V197: =IF(U197=U196,V196,IF(U197=0,ROUNDDOWN(20,0),V196-W196)) -> 20 | W197: =IF(U197<U196,1,IF(U197=U196,W196+1,0)) -> 120 | X197: 191 | AG197: =IF(AF197=AF196,AG196,IF(AF197=0,ROUNDDOWN(20,0),AG196-AH196)) -> 20 | AH197: =IF(AF197<AF196,1,IF(AF197=AF196,AH196+1,0)) -> 168
A198: 192 | K198: =IF(J198=J197,K197,IF(J198=0,ROUNDDOWN(180,0),K197-L197)) -> 20 | L198: =IF(J198<J197,1,IF(J198=J197,L197+1,0)) -> 121 | M198: 192 | V198: =IF(U198=U197,V197,IF(U198=0,ROUNDDOWN(20,0),V197-W197)) -> 20 | W198: =IF(U198<U197,1,IF(U198=U197,W197+1,0)) -> 121 | X198: 192 | AG198: =IF(AF198=AF197,AG197,IF(AF198=0,ROUNDDOWN(20,0),AG197-AH197)) -> 20 | AH198: =IF(AF198<AF197,1,IF(AF198=AF197,AH197+1,0)) -> 169
...

Sheet TOP6
B2: TOP 6 ANGLERS | D2: =Individuals!S2 -> 0
A4: ID | B4: Name | C4: Surname | D4: Status | E4: Club | F4: No. Edibles | G4: No. Inedibles | H4: Sum of kg | I4: Sum of Points | J4: League Points | K4: kg Top6 | L4: Top 6 Points
A6: N0011 | B6: Johan | C6: Mostert | D6: Men Senior | E6: Atlantic Angling Club | G6: 4 | H6: 102.8 | I6: 102.8 | J6: 298 | K6: =IF(H6>0,H6,0)+IF(H7>0,H7,0)+IF(H8>0,H8,0)+IF(H9>0,H9,0)+IF(H10>0,H10,0)+IF(H11>0,H11,0) -> 223.5 | L6: =IF(H6>0,J6,0)+IF(H7>0,J7,0)+IF(H8>0,J8,0)+IF(H9>0,J9,0)+IF(H10>0,J10,0)+IF(H11>0,J11,0) -> 1501 | M6: a | N6: b | O6: Copy data from Individuals
A7: N0145 | B7: Hennie | C7: Roets | D7: Men Veteran | E7: Atlantic Angling Club | F7: 2 | G7: 4 | H7: 30.4 | I7: 30.4 | J7: 256 | M7: a | O7: Mombakkies not counting towards top6 points
A8: N0023 | B8: Jörg | C8: Walter | D8: Men Grand Masters | E8: Atlantic Angling Club | G8: 4 | H8: 25.3 | I8: 25.3 | J8: 246 | M8: a
A9: N0208 | B9: Adri | C9: Roets | D9: Men Veteran | E9: Atlantic Angling Club | G9: 2 | H9: 24.8 | I9: 24.8 | J9: 242 | M9: a
A10: N0622 | B10: Flip | C10: Scheepers | D10: Men Senior | E10: Atlantic Angling Club | G10: 2 | H10: 20.2 | I10: 20.2 | J10: 230 | M10: a
A11: N0835 | B11: Jacobus | C11: Steyl | D11: Men Grand Masters | E11: Atlantic Angling Club | F11: 2 | G11: 2 | H11: 20 | I11: 20 | J11: 229 | M11: a
A12: N0144 | B12: Sarah | C12: Coetzee | D12: Ladies Master | E12: Atlantic Angling Club | F12: 1 | H12: 1.2 | I12: 1.2 | J12: 221
A13: N0028 | B13: George | C13: Coetzee | D13: Men Master | E13: Atlantic Angling Club | H13: 0 | I13: 0 | J13: 48
A14: N0737 | B14: Johan | C14: Walters | D14: Men Veteran | E14: Atlantic Angling Club | H14: 0 | I14: 0 | J14: 48
A15: N0205 | B15: Pieter | C15: van Wyk | D15: Men Master | E15: Benguella | G15: 2 | H15: 27 | I15: 27 | J15: 251 | K15: =IF(H15>0,H15,0)+IF(H16>0,H16,0)+IF(H17>0,H17,0)+IF(H18>0,H18,0)+IF(H19>0,H19,0)+IF(H20>0,H20,0) -> 112.5 | L15: =IF(H15>0,J15,0)+IF(H16>0,J16,0)+IF(H17>0,J17,0)+IF(H18>0,J18,0)+IF(H19>0,J19,0)+IF(H20>0,J20,0) -> 1338 | M15: a | N15: b
A16: N0225 | B16: Graham | C16: Gramovsky | D16: Men Veteran | E16: Benguella | G16: 3 | H16: 20.8 | I16: 20.8 | J16: 231 | M16: a
A17: N0030 | B17: Etienne | C17: Stipp | D17: Men Master | E17: Benguella | G17: 2 | H17: 18.4 | I17: 18.4 | J17: 223 | M17: a
A18: N0860 | B18: Adrian | C18: Steenkamp | D18: Men U/16 | E18: Benguella | G18: 1 | H18: 16.2 | I18: 16.2 | J18: 215 | M18: a
A19: N0502 | B19: Louis | C19: Arangies | D19: Men Veteran | E19: Benguella | F19: 1 | G19: 2 | H19: 15.5 | I19: 15.5 | J19: 211 | M19: a
A20: N0761 | B20: Stefano | C20: Strappazzon | D20: Men Senior | E20: Benguella | G20: 4 | H20: 14.6 | I20: 14.6 | J20: 207 | M20: a
A21: N0199 | B21: Karel | C21: v/d Bank | D21: Men Grand Masters | E21: Benguella | H21: 0 | I21: 0 | J21: 48
A22: N0172 | B22: Pieter PJ | C22: van Wyk | D22: Men Senior | E22: Benguella | H22: 0 | I22: 0 | J22: 48
A23: N0251 | B23: Pieter | C23: De Beer | D23: Men Master | E23: Benguella | H23: 0 | I23: 0 | J23: 48
A24: N0062 | B24: Piet | C24: Weitz | D24: Men Grand Masters | E24: Benguella | H24: 0 | I24: 0 | J24: 48
A25: N0282 | B25: Wessel | C25: Louw | D25: Men Veteran | E25: Benguella | G25: 1 | H25: 0 | I25: 0 | J25: 48
A26: N0502 | B26: Louis | C26: Arangies | D26: Men Veteran | E26: Benguella | H26: 0 | I26: 0 | J26: 48
A27: N0134 | B27: Hennie | C27: Cloete | D27: Men Master | E27: Benguella | H27: 0 | I27: 0 | J27: 48
A28: N0091 | B28: Deon | C28: Jacobs | D28: Men Grand Masters | E28: Benguella | H28: 0 | I28: 0 | J28: 48
A29: N0409 | B29: Andre-Louis | C29: Stipp | D29: Men U/16 | E29: Benguella | H29: 0 | I29: 0 | J29: 48
A30: N0636 | B30: Lydia | C30: Cilliers | D30: Ladies Senior | E30: Benguella | H30: 0 | I30: 0 | J30: 48
A31: N0331 | B31: Chris | C31: Coetzee | D31: Men Grand Masters | E31: Benguella | H31: 0 | I31: 0 | J31: 48
A32: N0518 | B32: Harald | C32: Piek | D32: Men Veteran | E32: Benguella | H32: 0 | I32: 0 | J32: 48
A33: N0150 | B33: Lindie | C33: Krauze | D33: Ladies Veteran | E33: Henties Bay | G33: 3 | H33: 55.7 | I33: 55.7 | J33: 288 | K33: =IF(H33>0,H33,0)+IF(H34>0,H34,0)+IF(H35>0,H35,0)+IF(H36>0,H36,0)+IF(H37>0,H37,0)+IF(H38>0,H38,0) -> 212.4 | L33: =IF(H33>0,J33,0)+IF(H34>0,J34,0)+IF(H35>0,J35,0)+IF(H36>0,J36,0)+IF(H37>0,J37,0)+IF(H38>0,J38,0) -> 1571 | M33: a | N33: b
A34: N0588 | B34: Lourens | C34: Fourie | D34: Men Master | E34: Henties Bay | G34: 5 | H34: 45.4 | I34: 45.4 | J34: 281 | M34: a
A35: N0044 | B35: Leon | C35: Krauze | D35: Men Veteran | E35: Henties Bay | G35: 3 | H35: 34.7 | I35: 34.7 | J35: 265 | M35: a
A36: N0307 | B36: Herman | C36: Krauze | D36: Men U/16 | E36: Henties Bay | G36: 3 | H36: 32.1 | I36: 32.1 | J36: 261 | M36: a
A37: N0195 | B37: Louis | C37: Fenaux | D37: Men Veteran | E37: Henties Bay | G37: 3 | H37: 22.8 | I37: 22.8 | J37: 240 | M37: a
A38: N0180 | B38: Elaine | C38: Vorster | D38: Ladies Veteran | E38: Henties Bay | G38: 2 | H38: 21.7 | I38: 21.7 | J38: 236 | M38: a
A39: N0052 | B39: Kai | C39: Metzger | D39: Men Senior | E39: Henties Bay | F39: 1 | H39: 1.5 | I39: 1.5 | J39: 231
A40: N0123 | B40: Veronica | C40: Nel | D40: Ladies Master | E40: Henties Bay | G40: 1 | H40: 1.1 | I40: 1.1 | J40: 217
A41: N0515 | B41: Johan | C41: Burger | D41: Men Veteran | E41: Henties Bay | F41: 1 | H41: 0.8 | I41: 0.8 | J41: 206
A42: N0734 | B42: Bianca | C42: Schmidlin | D42: Ladies Senior | E42: Henties Bay | F42: 1 | H42: 0.8 | I42: 0.8 | J42: 206
A43: N0736 | B43: Sylvia | C43: Horn | D43: Ladies Veteran | E43: Henties Bay | F43: 1 | H43: 0.7 | I43: 0.7 | J43: 199
A44: N0307 | B44: Herman | C44: Krauze | D44: Men U/16 | E44: Henties Bay | F44: 1 | H44: 0.5 | I44: 0.5 | J44: 194
A45: N0043 | B45: Cecil | C45: Laubscher | D45: Ladies Veteran | E45: Henties Bay | F45: 1 | H45: 0.5 | I45: 0.5 | J45: 194
A46: N0686 | B46: Willem | C46: Beukes | D46: Men Senior | E46: Henties Bay | H46: 0 | I46: 0 | J46: 48
A47: N0621 | B47: Nedjilka | C47: Kohler | D47: Ladies Veteran | E47: Henties Bay | H47: 0 | I47: 0 | J47: 48
A48: N0180 | B48: Elaine | C48: Vorster | D48: Ladies Senior | E48: Henties Bay | H48: 0 | I48: 0 | J48: 48
A49: N0150 | B49: Lindie | C49: Krauze | D49: Ladies Veteran | E49: Henties Bay | H49: 0 | I49: 0 | J49: 48
A50: N0235 | B50: Herbert | C50: Schmidlin | D50: Men Veteran | E50: Henties Bay | H50: 0 | I50: 0 | J50: 48
A51: N0074 | B51: Corne | C51: Agenbag | D51: Men U/21 | E51: Henties Bay | H51: 0 | I51: 0 | J51: 48
A52: N0639 | B52: Jano | C52: Burger | D52: Men Senior | E52: Henties Bay | H52: 0 | I52: 0 | J52: 48
A53: N0201 | B53: Chris | C53: Vorster | D53: Men Senior | E53: Henties Bay | H53: 0 | I53: 0 | J53: 48
A54: N0195 | B54: Louis | C54: Fenaux | D54: Men Senior | E54: Henties Bay | H54: 0 | I54: 0 | J54: 48
A55: N0095 | B55: Simen | C55: Andersen | D55: Men Master | E55: Henties Bay | H55: 0 | I55: 0 | J55: 48
A56: N0748 | B56: Gert | C56: Muller | D56: Senior | E56: Henties Bay | H56: 0 | I56: 0 | J56: 48
A57: N0114 | B57: Michele | C57: Andersen | D57: Ladies Grand Masters | E57: Henties Bay | H57: 0 | I57: 0 | J57: 48
... A63: N0520 | B63: Lourens | C63: Willers | D63: Men Senior | E63: Henties Bay | H63: 0 | I63: 0 | J63: 48
A64: N0540 | B64: Murry | C64: Lewis | D64: Men Senior | E64: Mako | G64: 4 | H64: 64.2 | I64: 64.2 | J64: 294 | K64: =IF(H64>0,H64,0)+IF(H65>0,H65,0)+IF(H66>0,H66,0)+IF(H67>0,H67,0)+IF(H68>0,H68,0)+IF(H69>0,H69,0) -> 243.6 | L64: =IF(H64>0,J64,0)+IF(H65>0,J65,0)+IF(H66>0,J66,0)+IF(H67>0,J67,0)+IF(H68>0,J68,0)+IF(H69>0,J69,0) -> 1616 | M64: a | N64: b
A65: N0019 | B65: Johan | C65: Visser | D65: Men Senior | E65: Mako | G65: 5 | H65: 53.2 | I65: 53.2 | J65: 285 | M65: a
A66: N0024 | B66: Andrew | C66: v/d Westhuizen | D66: Men Veteran | E66: Mako | G66: 5 | H66: 37.1 | I66: 37.1 | J66: 269 | M66: a
A67: N0086 | B67: Hendrik | C67: Dry | D67: Men Veteran | E67: Mako | G67: 3 | H67: 32.6 | I67: 32.6 | J67: 264 | M67: a
A68: N0496 | B68: Rudi | C68: Swartz | D68: Men Veteran | E68: Mako | G68: 3 | H68: 31.1 | I68: 31.1 | J68: 257 | M68: a
A69: N0694 | B69: Angelique | C69: Connoway | D69: Ladies Senior | E69: Mako | G69: 4 | H69: 25.4 | I69: 25.4 | J69: 247 | M69: a
A70: N0185 | B70: Sue | C70: Drake | D70: Ladies Grand Masters | E70: Mako | F70: 1 | H70: 1.4 | I70: 1.4 | J70: 226
A71: N0038 | B71: Hein | C71: Lintvelt | D71: Men Senior | E71: Mako | G71: 1 | H71: 1.4 | I71: 1.4 | J71: 226
A72: N0484 | B72: Willem | C72: De Klerk | D72: Men Senior | E72: Mako | G72: 1 | H72: 1.2 | I72: 1.2 | J72: 221
A73: N0019 | B73: Johan | C73: Visser | D73: Men Senior | E73: Mako | G73: 1 | H73: 1.1 | I73: 1.1 | J73: 217
A74: N0117 | B74: Andrew | C74: van Schalkwyk | D74: Men Senior | E74: Mako | F74: 1 | H74: 0.8 | I74: 0.8 | J74: 206
A75: N0531 | B75: Rudi(Jnr.) | C75: Swartz | D75: Men U/16 | E75: Mako | F75: 1 | H75: 0.5 | I75: 0.5 | J75: 194
A76: N0667 | B76: Nadine | C76: Downing | D76: Ladies Veteran | E76: Mako | H76: 0 | I76: 0 | J76: 48
A77: N0086 | B77: Hendrik | C77: Dry | D77: Men Senior | E77: Mako | H77: 0 | I77: 0 | J77: 48
A78: N0671 | B78: Judy | C78: Lagenhoven | D78: Ladies Senior | E78: Mako | H78: 0 | I78: 0 | J78: 48
A79: N0017 | B79: Riaan | C79: Tap | D79: Men Senior | E79: Mako | H79: 0 | I79: 0 | J79: 48
A80: N0694 | B80: Angelique | C80: De Klerk | D80: Ladies Senior | E80: Mako | H80: 0 | I80: 0 | J80: 48
A81: N0701 | B81: Ritz | C81: Nel | D81: Men Veteran | E81: Mako | H81: 0 | I81: 0 | J81: 48
A82: N0057 | B82: Jeri | C82: Drake | D82: Men Grand Masters | E82: Mako | H82: 0 | I82: 0 | J82: 48
A83: N0013 | B83: Rodger | C83: Boon | D83: Men Master | E83: Namib Park | G83: 2 | H83: 25.9 | I83: 25.9 | J83: 249 | K83: =IF(H83>0,H83,0)+IF(H84>0,H84,0)+IF(H85>0,H85,0)+IF(H86>0,H86,0)+IF(H87>0,H87,0)+IF(H88>0,H88,0) -> 98.3 | L83: =IF(H83>0,J83,0)+IF(H84>0,J84,0)+IF(H85>0,J85,0)+IF(H86>0,J86,0)+IF(H87>0,J87,0)+IF(H88>0,J88,0) -> 1275 | M83: a | N83: b
A84: N0118 | B84: Olaf | C84: Coetzee | D84: Men Senior | E84: Namib Park | G84: 3 | H84: 21.9 | I84: 21.9 | J84: 237 | M84: a
A85: N0008 | B85: Andre | C85: Coetzee | D85: Men Grand Masters | E85: Namib Park | F85: 1 | G85: 5 | H85: 16.2 | I85: 16.2 | J85: 215 | M85: a
A86: N0644 | B86: Mark | C86: v/d Merwe | D86: Men U/16 | E86: Namib Park | G86: 4 | H86: 15.3 | I86: 15.3 | J86: 209 | M86: a
A87: N0162 | B87: Coennie | C87: Steyn | D87: Men Master | E87: Namib Park | F87: 2 | G87: 3 | H87: 12.6 | I87: 12.6 | J87: 201 | M87: a
A88: N0055 | B88: Morne | C88: Von Bosch | D88: Men Senior | E88: Namib Park | G88: 1 | H88: 6.4 | I88: 6.4 | J88: 164 | M88: a
A89: N0149 | B89: Sammy | C89: Sales | D89: Men Senior | E89: Namib Park | H89: 0 | I89: 0 | J89: 48
A90: N0029 | B90: Carel | C90: De Jager | D90: Men Senior | E90: Namib Park | H90: 0 | I90: 0 | J90: 48
A91: N0569 | B91: Derek | C91: Van Zyl | D91: Men Veteran | E91: Namib Park | H91: 0 | I91: 0 | J91: 48
A92: N0162 | B92: Coennie | C92: Steyn | D92: Men Master | E92: Namib Park | H92: 0 | I92: 0 | J92: 48
A93: N0657 | B93: Johannes | C93: Kotze | D93: Men Senior | E93: Okahandja | G93: 5 | H93: 43.5 | I93: 43.5 | J93: 278 | K93: =IF(H93>0,H93,0)+IF(H94>0,H94,0)+IF(H95>0,H95,0)+IF(H96>0,H96,0)+IF(H97>0,H97,0)+IF(H98>0,H98,0) -> 150.1 | L93: =IF(H93>0,J93,0)+IF(H94>0,J94,0)+IF(H95>0,J95,0)+IF(H96>0,J96,0)+IF(H97>0,J97,0)+IF(H98>0,J98,0) -> 1418 | M93: a | N93: b
A94: N0207 | B94: Ettienne | C94: Erasmus | D94: Men Veteran | E94: Okahandja | G94: 8 | H94: 32.4 | I94: 32.4 | J94: 263 | M94: a
A95: N0255 | B95: Heiko | C95: Doll | D95: Men Veteran | E95: Okahandja | G95: 8 | H95: 32.3 | I95: 32.3 | J95: 262 | M95: a
A96: N0648 | B96: Schane | C96: Junius | D96: Ladies Senior | E96: Okahandja | G96: 5 | H96: 17.7 | I96: 17.7 | J96: 221 | M96: a
A97: N0844 | B97: Heiko JNR | C97: Doll | D97: Men U/16 | E97: Okahandja | G97: 4 | H97: 14 | I97: 14 | J97: 204 | M97: a
A98: N0522 | B98: Louw | C98: Durand | D98: Men Veteran | E98: Okahandja | G98: 3 | H98: 10.2 | I98: 10.2 | J98: 190 | M98: a
A99: N0015 | B99: Herman | C99: Fourie | D99: Men Master | E99: Okahandja | H99: 0 | I99: 0 | J99: 48
A100: N0130 | B100: Loandro | C100: Erasmus | D100: Men U/21 | E100: Okahandja | H100: 0 | I100: 0 | J100: 48
A101: N0649 | B101: Andre | C101: Kruger | D101: Men Senior | E101: Okahandja | H101: 0 | I101: 0 | J101: 48
A102: N0207 | B102: Ettienne | C102: Erasmus | D102: Men Veteran | E102: Okahandja | H102: 0 | I102: 0 | J102: 48
A103: N0742 | B103: Errens | C103: v/d Merwe | D103: Men Senior | E103: Okahandja | H103: 0 | I103: 0 | J103: 48
A104: N0598 | B104: Henning | C104: van Wyk | D104: Men Senior | E104: Okahandja | H104: 0 | I104: 0 | J104: 48
A105: N0104 | B105: Ettiene | C105: Coetzee | D105: Men Veteran | E105: Okahandja | H105: 0 | I105: 0 | J105: 48
A106: N0648 | B106: Schane | C106: Junius | D106: Ladies Senior | E106: Okahandja | H106: 0 | I106: 0 | J106: 48
A107: N0642 | B107: Kiaan | C107: Fourie | D107: Men U/21 | E107: Okahandja | H107: 0 | I107: 0 | J107: 48
A108: N0679 | B108: Joubert | C108: Devout | D108: Men U/16 | E108: Okahandja | H108: 0 | I108: 0 | J108: 48
...

Sheet Clubs
A2: CLUB POSITION | C2: =Individuals!G2 -> 0
C4: =C2 -> 0
B5: Team | C5: Top 6 kg | D5: Top 6 Points | E5: Club Points
A6: 1 | B6: Penguin | C6: 389.2 | D6: 1706 | E6: 50
A7: 2 | B7: Orca Angling Club | C7: 395 | D7: 1703 | E7: 49
A8: 3 | B8: Walvis Bay | C8: 279.4 | D8: 1670 | E8: 48
A9: 4 | B9: Mako | C9: 243.6 | D9: 1616 | E9: 47
A10: 5 | B10: Henties Bay | C10: 212.4 | D10: 1571 | E10: 46
A11: 6 | B11: Atlantic Angling Club | C11: 223.5 | D11: 1501 | E11: 45
A12: 7 | B12: Seagulls WVB | C12: 187.9 | D12: 1476 | E12: 44
A13: 8 | B13: Seagulls WHK | C13: 147.9 | D13: 1419 | E13: 43
A14: 9 | B14: Okahandja | C14: 150.1 | D14: 1418 | E14: 42
A15: 10 | B15: Otjiwarongo | C15: 220 | D15: 1417 | E15: 41
A16: 11 | B16: Benguella | C16: 106.3 | D16: 1338 | E16: 40
A17: 12 | B17: Welwitschia | C17: 117.4 | D17: 1320 | E17: 39
... A20: 15 | B20: Skeleton Coast | C20: 104.6 | D20: 571 | E20: 36

Sheet MenSenior
A2: Competition | B2: (Multiple Items)
A3: Status | B3: (Multiple Items) | D3: Senior Men
A5: ID | B5: Name | C5: Surname | D5: Team | E5: No. Edibles | F5: No. of Inedibles | G5: Total kg | H5: Total Points | I5: Category Points (200)
A6: SA4204 | B6: AJ | C6: De Beer | D6: SA Seniors | F6: 26 | G6: 336.3 | H6: 336.3 | I6: 200 | J6: 1
A7: N0019 | B7: Johan | C7: Visser | D7: Nam Seniors | F7: 17 | G7: 295 | H7: 295 | I7: =IF(H7=H6,I6,IF(H7=0,ROUNDDOWN(20,0),I6-J6)) -> 199 | J7: =IF(H7<H6,1,IF(H7=H6,J6+1,0)) -> 1
A8: N0007 | B8: Brian | C8: Curtis | D8: Nam Seniors | F8: 17 | G8: 289.7 | H8: 289.7 | I8: =IF(H8=H7,I7,IF(H8=0,ROUNDDOWN(20,0),I7-J7)) -> 198 | J8: =IF(H8<H7,1,IF(H8=H7,J7+1,0)) -> 1
A9: N0035 | B9: Johan | C9: Van Wyk | D9: Nam Seniors | F9: 16 | G9: 284.4 | H9: 284.4 | I9: =IF(H9=H8,I8,IF(H9=0,ROUNDDOWN(20,0),I8-J8)) -> 197 | J9: =IF(H9<H8,1,IF(H9=H8,J8+1,0)) -> 1
A10: N0024 | B10: Andrew | C10: Van Der Westhuizen | D10: Nam Seniors | E10: 1 | F10: 20 | G10: 265.7 | H10: 265.7 | I10: =IF(H10=H9,I9,IF(H10=0,ROUNDDOWN(20,0),I9-J9)) -> 196 | J10: =IF(H10<H9,1,IF(H10=H9,J9+1,0)) -> 1
A11: N0031 | B11: Emil | C11: Prinsloo | D11: Nam Seniors | E11: 1 | F11: 12 | G11: 264.7 | H11: 264.7 | I11: =IF(H11=H10,I10,IF(H11=0,ROUNDDOWN(20,0),I10-J10)) -> 195 | J11: =IF(H11<H10,1,IF(H11=H10,J10+1,0)) -> 1
A12: SA8741 | B12: Prevashan | C12: Moodley | D12: SA Seniors | F12: 22 | G12: 249 | H12: 249 | I12: =IF(H12=H11,I11,IF(H12=0,ROUNDDOWN(20,0),I11-J11)) -> 194 | J12: =IF(H12<H11,1,IF(H12=H11,J11+1,0)) -> 1
A13: SA3280 | B13: Louis | C13: Allison | D13: SA Seniors | F13: 18 | G13: 228.8 | H13: 228.8 | I13: =IF(H13=H12,I12,IF(H13=0,ROUNDDOWN(20,0),I12-J12)) -> 193 | J13: =IF(H13<H12,1,IF(H13=H12,J12+1,0)) -> 1
A14: SA2734 | B14: Raldo | C14: Potgieter | D14: SA Seniors | F14: 19 | G14: 228.3 | H14: 228.3 | I14: =IF(H14=H13,I13,IF(H14=0,ROUNDDOWN(20,0),I13-J13)) -> 192 | J14: =IF(H14<H13,1,IF(H14=H13,J13+1,0)) -> 1
A15: SA1453 | B15: Robert | C15: Kyle | D15: SA Seniors | F15: 23 | G15: 213.7 | H15: 213.7 | I15: =IF(H15=H14,I14,IF(H15=0,ROUNDDOWN(20,0),I14-J14)) -> 191 | J15: =IF(H15<H14,1,IF(H15=H14,J14+1,0)) -> 1
A16: SA3374 | B16: Greg | C16: Sutherland | D16: SA Seniors | F16: 13 | G16: 209 | H16: 209 | I16: =IF(H16=H15,I15,IF(H16=0,ROUNDDOWN(20,0),I15-J15)) -> 190 | J16: =IF(H16<H15,1,IF(H16=H15,J15+1,0)) -> 1
A17: N0259 | B17: Henri | C17: Snyman | D17: Nam Seniors | F17: 9 | G17: 203.3 | H17: 203.3 | I17: =IF(H17=H16,I16,IF(H17=0,ROUNDDOWN(20,0),I16-J16)) -> 189 | J17: =IF(H17<H16,1,IF(H17=H16,J16+1,0)) -> 1
A18: SA4139 | B18: Hendrico | C18: Lesch | D18: SA Seniors | F18: 17 | G18: 180.2 | H18: 180.2 | I18: =IF(H18=H17,I17,IF(H18=0,ROUNDDOWN(20,0),I17-J17)) -> 188 | J18: =IF(H18<H17,1,IF(H18=H17,J17+1,0)) -> 1
A19: N0254 | B19: Grant | C19: Knight | D19: Nam Seniors | F19: 11 | G19: 140.1 | H19: 140.1 | I19: =IF(H19=H18,I18,IF(H19=0,ROUNDDOWN(20,0),I18-J18)) -> 187 | J19: =IF(H19<H18,1,IF(H19=H18,J18+1,0)) -> 1
E20: =SUM(E6:E19) -> 2 | F20: =SUM(F6:F19) -> 240 | G20: =SUM(G6:G19) -> 3388.2 | H20: =SUM(H6:H19) -> 3388.2 | I20: =IF(H20=H19,I19,IF(H20=0,ROUNDDOWN(20,0),I19-J19)) -> 186 | J20: =IF(H20<H19,1,IF(H20=H19,J19+1,0)) -> 0
I21: =IF(H21=H20,I20,IF(H21=0,ROUNDDOWN(20,0),I20-J20)) -> 20 | J21: =IF(H21<H20,1,IF(H21=H20,J20+1,0)) -> 1
C22: Team | D22: Day 1 | E22: Day 2 | F22: Day 3 | G22: Total | J22: =IF(I22=H21,I21,IF(I22=0,ROUNDDOWN(20,0),I21-J21)) -> 20
C23: Nam Senior Men | D23: 917.6 | E23: 315 | F23: 510.3 | G23: =SUM(D23:F23) -> 1742.9 | J23: =IF(I23=I22,J22,IF(I23=0,ROUNDDOWN(20,0),J22-K22)) -> 20
C24: SA Senior Men | D24: 759.7 | E24: 370.6 | F24: 515 | G24: =SUM(D24,E24,F24) -> 1645.3 | J24: =IF(I24=I23,J23,IF(I24=0,ROUNDDOWN(20,0),J23-K23)) -> 20
I25: =IF(H25=I24,J24,IF(H25=0,ROUNDDOWN(20,0),J24-K24)) -> 20 | J25: =IF(H25<I24,1,IF(H25=I24,K24+1,0)) -> 1
F26: Top 6
F27: Nam | G27: SA | I27: =IF(H27=H25,I25,IF(H27=0,ROUNDDOWN(20,0),I25-J25)) -> 20 | J27: =IF(H27<H25,1,IF(H27=H25,J25+1,0)) -> 2
F28: 295 | G28: 336.3 | I28: =IF(H28=H27,I27,IF(H28=0,ROUNDDOWN(20,0),I27-J27)) -> 20 | J28: =IF(H28<H27,1,IF(H28=H27,J27+1,0)) -> 3
F29: 289.7 | G29: 249 | I29: =IF(H29=H28,I28,IF(H29=0,ROUNDDOWN(20,0),I28-J28)) -> 20 | J29: =IF(H29<H28,1,IF(H29=H28,J28+1,0)) -> 4
F30: 284.4 | G30: 228.8 | I30: =IF(H30=H29,I29,IF(H30=0,ROUNDDOWN(20,0),I29-J29)) -> 20 | J30: =IF(H30<H29,1,IF(H30=H29,J29+1,0)) -> 5
F31: 265.7 | G31: 228.3 | I31: =IF(H31=H30,I30,IF(H31=0,ROUNDDOWN(20,0),I30-J30)) -> 20 | J31: =IF(H31<H30,1,IF(H31=H30,J30+1,0)) -> 6
F32: 264.7 | G32: 213.7 | I32: =IF(H32=H31,I31,IF(H32=0,ROUNDDOWN(20,0),I31-J31)) -> 20 | J32: =IF(H32<H31,1,IF(H32=H31,J31+1,0)) -> 7
F33: 203.3 | G33: 209 | I33: =IF(H33=H32,I32,IF(H33=0,ROUNDDOWN(20,0),I32-J32)) -> 20 | J33: =IF(H33<H32,1,IF(H33=H32,J32+1,0)) -> 8
F34: =SUM(F28:F33) -> 1602.8 | G34: =SUM(G28:G33) -> 1465.1 | I34: =IF(H34=H33,I33,IF(H34=0,ROUNDDOWN(20,0),I33-J33)) -> 20 | J34: =IF(H34<H33,1,IF(H34=H33,J33+1,0)) -> 9
I35: =IF(H35=H34,I34,IF(H35=0,ROUNDDOWN(20,0),I34-J34)) -> 20 | J35: =IF(H35<H34,1,IF(H35=H34,J34+1,0)) -> 10
I36: =IF(H36=H35,I35,IF(H36=0,ROUNDDOWN(20,0),I35-J35)) -> 20 | J36: =IF(H36<H35,1,IF(H36=H35,J35+1,0)) -> 11
I37: =IF(H37=H36,I36,IF(H37=0,ROUNDDOWN(20,0),I36-J36)) -> 20 | J37: =IF(H37<H36,1,IF(H37=H36,J36+1,0)) -> 12
I38: =IF(H38=H37,I37,IF(H38=0,ROUNDDOWN(20,0),I37-J37)) -> 20 | J38: =IF(H38<H37,1,IF(H38=H37,J37+1,0)) -> 13
I39: =IF(H39=H38,I38,IF(H39=0,ROUNDDOWN(20,0),I38-J38)) -> 20 | J39: =IF(H39<H38,1,IF(H39=H38,J38+1,0)) -> 14
I40: =IF(H40=H39,I39,IF(H40=0,ROUNDDOWN(20,0),I39-J39)) -> 20 | J40: =IF(H40<H39,1,IF(H40=H39,J39+1,0)) -> 15
I41: =IF(H41=H40,I40,IF(H41=0,ROUNDDOWN(20,0),I40-J40)) -> 20 | J41: =IF(H41<H40,1,IF(H41=H40,J40+1,0)) -> 16
I42: =IF(H42=H41,I41,IF(H42=0,ROUNDDOWN(20,0),I41-J41)) -> 20 | J42: =IF(H42<H41,1,IF(H42=H41,J41+1,0)) -> 17
I43: =IF(H43=H42,I42,IF(H43=0,ROUNDDOWN(20,0),I42-J42)) -> 20 | J43: =IF(H43<H42,1,IF(H43=H42,J42+1,0)) -> 18
I44: =IF(H44=H43,I43,IF(H44=0,ROUNDDOWN(20,0),I43-J43)) -> 20 | J44: =IF(H44<H43,1,IF(H44=H43,J43+1,0)) -> 19
I45: =IF(H45=H44,I44,IF(H45=0,ROUNDDOWN(20,0),I44-J44)) -> 20 | J45: =IF(H45<H44,1,IF(H45=H44,J44+1,0)) -> 20
I46: =IF(H46=H45,I45,IF(H46=0,ROUNDDOWN(20,0),I45-J45)) -> 20 | J46: =IF(H46<H45,1,IF(H46=H45,J45+1,0)) -> 21
... I90: =IF(H90=H89,I89,IF(H90=0,ROUNDDOWN(20,0),I89-J89)) -> 20 | J90: =IF(H90<H89,1,IF(H90=H89,J89+1,0)) -> 65

Sheet Men U21
A2: Competition | B2: (Multiple Items)
A3: Status | B3: (Multiple Items) | D3: Men U/21
A5: ID | B5: Name | C5: Surname | D5: Team | E5: No. Edibles | F5: No. of Inedibles | G5: Total kg | H5: Total Points | I5: Category Points (50)
A6: N0687 | B6: Barren | C6: Van Es | D6: Nam Men U/21 | F6: 20 | G6: 254.4 | H6: 254.4 | I6: 50
A7: SA8340 | B7: Corbin | C7: Morris | D7: SA Men U/21 | E7: 1 | F7: 13 | G7: 208.2 | H7: 208.2 | I7: =IF(H7=H6,I6,IF(H7=0,ROUNDDOWN(20,0),I6-J6)) -> 50
A8: SA8781 | B8: Tim | C8: Du Plessis | D8: SA Men U/21 | E8: 1 | F8: 14 | G8: 202.1 | H8: 202.1 | I8: =IF(H8=H7,I7,IF(H8=0,ROUNDDOWN(20,0),I7-J7)) -> 50
A9: N0757 | B9: Brandon | C9: Grane | D9: Nam Men U/21 | E9: 3 | F9: 8 | G9: 173.1 | H9: 173.1 | I9: =IF(H9=H8,I8,IF(H9=0,ROUNDDOWN(20,0),I8-J8)) -> 50
A10: SA8796 | B10: Challen | C10: Gendall | D10: SA Men U/21 | F10: 10 | G10: 165.7 | H10: 165.7 | I10: =IF(H10=H9,I9,IF(H10=0,ROUNDDOWN(20,0),I9-J9)) -> 50
A11: SA2079 | B11: Cullen | C11: Opperman | D11: SA Men U/21 | F11: 13 | G11: 162.3 | H11: 162.3 | I11: =IF(H11=H10,I10,IF(H11=0,ROUNDDOWN(20,0),I10-J10)) -> 50
A12: N0401 | B12: Henco | C12: Snyman | D12: Nam Men U/21 | F12: 14 | G12: 156.7 | H12: 156.7 | I12: =IF(H12=H11,I11,IF(H12=0,ROUNDDOWN(20,0),I11-J11)) -> 50
A13: SA6730 | B13: Lance | C13: Daniel | D13: SA Men U/21 | E13: 1 | F13: 11 | G13: 153.5 | H13: 153.5 | I13: =IF(H13=H12,I12,IF(H13=0,ROUNDDOWN(20,0),I12-J12)) -> 50
A14: N0307 | B14: Herman | C14: Krauze | D14: Nam Men U/21 | F14: 12 | G14: 148.4 | H14: 148.4 | I14: =IF(H14=H13,I13,IF(H14=0,ROUNDDOWN(20,0),I13-J13)) -> 50
A15: N0409 | B15: Andre-Louis | C15: Stipp | D15: Nam Men U/21 | F15: 12 | G15: 115.8 | H15: 115.8 | I15: =IF(H15=H14,I14,IF(H15=0,ROUNDDOWN(20,0),I14-J14)) -> 50
A16: SA8339 | B16: Gareth | C16: Dahl | D16: SA Men U/21 | E16: 3 | F16: 9 | G16: 110.1 | H16: 110.1 | I16: =IF(H16=H15,I15,IF(H16=0,ROUNDDOWN(20,0),I15-J15)) -> 50
A17: N0283 | B17: Kevin | C17: Page | D17: Nam Men U/21 | F17: 9 | G17: 96.7 | H17: 96.7 | I17: =IF(H17=H16,I16,IF(H17=0,ROUNDDOWN(20,0),I16-J16)) -> 50
A18: N0704 | B18: Kay | C18: Bachran | D18: Nam Men U/21 | F18: 5 | G18: 91.3 | H18: 91.3 | I18: =IF(H18=H17,I17,IF(H18=0,ROUNDDOWN(20,0),I17-J17)) -> 50
A19: SA9752 | B19: Ahmed | C19: Belim | D19: SA Men U/21 | E19: 1 | F19: 3 | G19: 46.4 | H19: 46.4 | I19: =IF(H19=H18,I18,IF(H19=0,ROUNDDOWN(20,0),I18-J18)) -> 50
E20: =SUM(E6:E19) -> 10 | F20: =SUM(F6:F19) -> 153 | G20: =SUM(G6:G19) -> 2084.7 | H20: =SUM(H6:H19) -> 2084.7 | I20: =IF(H20=H19,I19,IF(H20=0,ROUNDDOWN(20,0),I19-J19)) -> 50
I21: =IF(H21=H20,I20,IF(H21=0,ROUNDDOWN(20,0),I20-J20)) -> 20
D22: Team | E22: Day 1 | F22: Day 2 | G22: Day 3 | H22: Total
D23: Nam U/21 | E23: 491.5 | F23: 283.2 | G23: 261.7 | H23: =SUM(E23:G23) -> 1036.4
D24: SA U/21 | E24: 419.5 | F24: 257.9 | G24: 370.9 | H24: =SUM(E24:G24) -> 1048.3
I25: =IF(H25=J24,K24,IF(H25=0,ROUNDDOWN(20,0),K24-L24)) -> 0
G26: Top 6 | I26: =IF(H26=H25,I25,IF(H26=0,ROUNDDOWN(20,0),I25-J25)) -> 0
G27: Nam | H27: SA | I27: =IF(H27=H26,I26,IF(H27=0,ROUNDDOWN(20,0),I26-J26)) -> 0
G28: 254.4 | H28: 208.2 | I28: =IF(H28=H27,I27,IF(H28=0,ROUNDDOWN(20,0),I27-J27)) -> 0
G29: 173.1 | H29: 202.1 | I29: =IF(H29=H28,I28,IF(H29=0,ROUNDDOWN(20,0),I28-J28)) -> 0
G30: 156.7 | H30: 165.7 | I30: =IF(H30=H29,I29,IF(H30=0,ROUNDDOWN(20,0),I29-J29)) -> 0
G31: 148.4 | H31: 162.3 | I31: =IF(H31=H30,I30,IF(H31=0,ROUNDDOWN(20,0),I30-J30)) -> 0
G32: 115.8 | H32: 153.5 | I32: =IF(H32=H31,I31,IF(H32=0,ROUNDDOWN(20,0),I31-J31)) -> 0
G33: 96.7 | H33: 110.1 | I33: =IF(H33=H32,I32,IF(H33=0,ROUNDDOWN(20,0),I32-J32)) -> 0
G34: =SUM(G28:G33) -> 945.1 | H34: =SUM(H28:H33) -> 1001.9 | I34: =IF(H34=H33,I33,IF(H34=0,ROUNDDOWN(20,0),I33-J33)) -> 0
I35: =IF(H35=H34,I34,IF(H35=0,ROUNDDOWN(20,0),I34-J34)) -> 20
I36: =IF(H36=H35,I35,IF(H36=0,ROUNDDOWN(20,0),I35-J35)) -> 20
I37: =IF(H37=H36,I36,IF(H37=0,ROUNDDOWN(20,0),I36-J36)) -> 20
I38: =IF(H38=H37,I37,IF(H38=0,ROUNDDOWN(20,0),I37-J37)) -> 20
I39: =IF(H39=H38,I38,IF(H39=0,ROUNDDOWN(20,0),I38-J38)) -> 20
I40: =IF(H40=H39,I39,IF(H40=0,ROUNDDOWN(20,0),I39-J39)) -> 20
I41: =IF(H41=H40,I40,IF(H41=0,ROUNDDOWN(20,0),I40-J40)) -> 20
I42: =IF(H42=H41,I41,IF(H42=0,ROUNDDOWN(20,0),I41-J41)) -> 20
I43: =IF(H43=H42,I42,IF(H43=0,ROUNDDOWN(20,0),I42-J42)) -> 20
I44: =IF(H44=H43,I43,IF(H44=0,ROUNDDOWN(20,0),I43-J43)) -> 20
I45: =IF(H45=H44,I44,IF(H45=0,ROUNDDOWN(20,0),I44-J44)) -> 20
I46: =IF(H46=H45,I45,IF(H46=0,ROUNDDOWN(20,0),I45-J45)) -> 20
... I68: =IF(H68=H67,I67,IF(H68=0,ROUNDDOWN(20,0),I67-J67)) -> 20

Sheet Ladies
A2: Competition | B2: (Multiple Items)
A3: Status | B3: (Multiple Items) | D3: Ladies
A5: ID | B5: Name | C5: Surname | D5: Team | E5: No. Edibles | F5: No. of Inedibles | G5: Total kg | H5: Total Points | I5: Category Points (50)
A6: N0731 | B6: Maryna | C6: Viljoen | D6: Nam Ladies | E6: 1 | F6: 15 | G6: 149.5 | H6: 149.5 | I6: 50
A7: SA7476 | B7: Kabous | C7: Louw | D7: SA Ladies | F7: 14 | G7: 113 | H7: 113 | I7: =IF(H7=H6,I6,IF(H7=0,ROUNDDOWN(20,0),I6-J6)) -> 50
A8: SA8444 | B8: Chantel | C8: Carstens | D8: SA Ladies | E8: 2 | F8: 15 | G8: 97.9 | H8: 97.9 | I8: =IF(H8=H7,I7,IF(H8=0,ROUNDDOWN(20,0),I7-J7)) -> 50
A9: SA6868 | B9: Mariette | C9: Westraad | D9: SA Ladies | F9: 8 | G9: 66.8 | H9: 66.8 | I9: =IF(H9=H8,I8,IF(H9=0,ROUNDDOWN(20,0),I8-J8)) -> 50
A10: N0150 | B10: Lindie | C10: Krauze | D10: Nam Ladies | E10: 1 | F10: 11 | G10: 62.3 | H10: 62.3 | I10: =IF(H10=H9,I9,IF(H10=0,ROUNDDOWN(20,0),I9-J9)) -> 50
A11: N0636 | B11: Lydia | C11: Cilliers | D11: Nam Ladies | F11: 9 | G11: 60.7 | H11: 60.7 | I11: =IF(H11=H10,I10,IF(H11=0,ROUNDDOWN(20,0),I10-J10)) -> 50
A12: N0667 | B12: Nadine | C12: Downing | D12: Nam Ladies | E12: 2 | F12: 11 | G12: 55.8 | H12: 55.8 | I12: =IF(H12=H11,I11,IF(H12=0,ROUNDDOWN(20,0),I11-J11)) -> 50
A13: SA4945 | B13: Elzanne | C13: Cronje | D13: SA Ladies | E13: 3 | F13: 8 | G13: 52.3 | H13: 52.3 | I13: =IF(H13=H12,I12,IF(H13=0,ROUNDDOWN(20,0),I12-J12)) -> 50
A14: N0697 | B14: Annelien | C14: Langenstrassen | D14: Nam Ladies | E14: 1 | F14: 8 | G14: 46.2 | H14: 46.2 | I14: =IF(H14=H13,I13,IF(H14=0,ROUNDDOWN(20,0),I13-J13)) -> 50
A15: SA4206 | B15: Marina | C15: Fuchs | D15: SA Ladies | F15: 5 | G15: 40.2 | H15: 40.2 | I15: =IF(H15=H14,I14,IF(H15=0,ROUNDDOWN(20,0),I14-J14)) -> 50
A16: N0073 | B16: Marina | C16: Kruger | D16: Nam Ladies | F16: 6 | G16: 37.2 | H16: 37.2 | I16: =IF(H16=H15,I15,IF(H16=0,ROUNDDOWN(20,0),I15-J15)) -> 50
A17: SA5578 | B17: Antoi | C17: Forbes | D17: SA Ladies | F17: 6 | G17: 35.9 | H17: 35.9 | I17: =IF(H17=H16,I16,IF(H17=0,ROUNDDOWN(20,0),I16-J16)) -> 50
A18: N0180 | B18: Elaine | C18: Vorster | D18: Nam Ladies | E18: 1 | F18: 4 | G18: 23.1 | H18: 23.1 | I18: =IF(H18=H17,I17,IF(H18=0,ROUNDDOWN(20,0),I17-J17)) -> 50
A19: SA6080 | B19: Cara | C19: Cowan | D19: SA Ladies | E19: 1 | F19: 5 | G19: 22.2 | H19: 22.2 | I19: =IF(H19=H18,I18,IF(H19=0,ROUNDDOWN(20,0),I18-J18)) -> 50
E20: =SUM(E6:E19) -> 12 | F20: =SUM(F6:F19) -> 125 | G20: =SUM(G6:G19) -> 863.1 | H20: =SUM(H6:H19) -> 863.1 | I20: =IF(H20=H19,I19,IF(H20=0,ROUNDDOWN(20,0),I19-J19)) -> 50
D22: Team | E22: Day 1 | F22: Day 2 | G22: Day 3 | H22: Total
D23: Nam Ladies | E23: 258.1 | F23: 93.1 | G23: 83.6 | H23: =SUM(E23:G23) -> 434.8
D24: SA Ladies | E24: 161.8 | F24: 130.9 | G24: 135.6 | H24: =SUM(E24:G24) -> 428.3
I25: =IF(H25=J24,K24,IF(H25=0,ROUNDDOWN(20,0),K24-L24)) -> 0
G26: Top 6 | I26: =IF(#REF!=#REF!,#REF!,IF(#REF!=0,ROUNDDOWN(20,0),#REF!-#REF!)) -> #REF!
G27: Nam | H27: SA | I27: =IF(#REF!=#REF!,I26,IF(#REF!=0,ROUNDDOWN(20,0),I26-J26)) -> #REF!
G28: 149.5 | H28: 113 | I28: =IF(#REF!=#REF!,I27,IF(#REF!=0,ROUNDDOWN(20,0),I27-J27)) -> #REF!
G29: 62.3 | H29: 97.9 | I29: =IF(#REF!=#REF!,I28,IF(#REF!=0,ROUNDDOWN(20,0),I28-J28)) -> #REF!
G30: 60.7 | H30: 66.8 | I30: =IF(#REF!=#REF!,I29,IF(#REF!=0,ROUNDDOWN(20,0),I29-J29)) -> #REF!
G31: 55.8 | H31: 52.3 | I31: =IF(#REF!=#REF!,I30,IF(#REF!=0,ROUNDDOWN(20,0),I30-J30)) -> #REF!
G32: 46.2 | H32: 40.2 | I32: =IF(#REF!=#REF!,I31,IF(#REF!=0,ROUNDDOWN(20,0),I31-J31)) -> #REF!
G33: 37.2 | H33: 35.9 | I33: =IF(#REF!=#REF!,I32,IF(#REF!=0,ROUNDDOWN(20,0),I32-J32)) -> #REF!
G34: =SUM(G28:G33) -> 411.7 | H34: =SUM(H28:H33) -> 406.1 | I34: =IF(#REF!=#REF!,I33,IF(#REF!=0,ROUNDDOWN(20,0),I33-J33)) -> #REF!
I35: =IF(H35=#REF!,I34,IF(H35=0,ROUNDDOWN(20,0),I34-J34)) -> #REF!
I36: =IF(H36=H35,I35,IF(H36=0,ROUNDDOWN(20,0),I35-J35)) -> #REF!
I37: =IF(H37=H36,I36,IF(H37=0,ROUNDDOWN(20,0),I36-J36)) -> #REF!
I38: =IF(H38=H37,I37,IF(H38=0,ROUNDDOWN(20,0),I37-J37)) -> #REF!
I39: =IF(H39=H38,I38,IF(H39=0,ROUNDDOWN(20,0),I38-J38)) -> #REF!
I40: =IF(H40=H39,I39,IF(H40=0,ROUNDDOWN(20,0),I39-J39)) -> #REF!
I41: =IF(H41=H40,I40,IF(H41=0,ROUNDDOWN(20,0),I40-J40)) -> #REF!
I42: =IF(H42=H41,I41,IF(H42=0,ROUNDDOWN(20,0),I41-J41)) -> #REF!
I43: =IF(H43=H42,I42,IF(H43=0,ROUNDDOWN(20,0),I42-J42)) -> #REF!
I44: =IF(H44=H43,I43,IF(H44=0,ROUNDDOWN(20,0),I43-J43)) -> #REF!
I45: =IF(H45=H44,I44,IF(H45=0,ROUNDDOWN(20,0),I44-J44)) -> #REF!
I46: =IF(H46=H45,I45,IF(H46=0,ROUNDDOWN(20,0),I45-J45)) -> #REF!
I47: =IF(H47=H46,I46,IF(H47=0,ROUNDDOWN(20,0),I46-J46)) -> #REF!
... I68: =IF(H68=H67,I67,IF(H68=0,ROUNDDOWN(20,0),I67-J67)) -> #REF!

Sheet MenMasters
A2: Competition | B2: (Multiple Items)
A3: Status | B3: (Multiple Items) | D3: Men Masters
A5: ID | B5: Name | C5: Surname | D5: Team | E5: No. Edibles | F5: No. of Inedibles | G5: Total kg | H5: Total Points | I5: Category Points (50)
A6: SA4534 | B6: Mike | C6: Bailey | D6: SA Masters | F6: 18 | G6: 258.7 | H6: 258.7 | I6: 50
A7: N0208 | B7: Adri | C7: Roets | D7: Nam Masters | E7: 1 | F7: 16 | G7: 215.3 | H7: 215.3 | I7: =IF(H7=H6,I6,IF(H7=0,ROUNDDOWN(20,0),I6-J6)) -> 50
A8: N0030 | B8: Ettiene | C8: Stipp | D8: Nam Masters | E8: 1 | F8: 11 | G8: 200.3 | H8: 200.3 | I8: =IF(H8=H7,I7,IF(H8=0,ROUNDDOWN(20,0),I7-J7)) -> 50
A9: SA0728 | B9: Wimpie | C9: Barnard | D9: SA Masters | F9: 13 | G9: 167.2 | H9: 167.2 | I9: =IF(H9=H8,I8,IF(H9=0,ROUNDDOWN(20,0),I8-J8)) -> 50
A10: N0588 | B10: Lourens | C10: Fourie | D10: Nam Masters | F10: 4 | G10: 129.9 | H10: 129.9 | I10: =IF(H10=H9,I9,IF(H10=0,ROUNDDOWN(20,0),I9-J9)) -> 50
A11: SA3195 | B11: Gus | C11: Kaltenbrun | D11: SA Masters | F11: 14 | G11: 123.2 | H11: 123.2 | I11: =IF(H11=H10,I10,IF(H11=0,ROUNDDOWN(20,0),I10-J10)) -> 50
A12: N0041 | B12: Terence | C12: Clark | D12: Nam Masters | F12: 12 | G12: 114.5 | H12: 114.5 | I12: =IF(H12=H11,I11,IF(H12=0,ROUNDDOWN(20,0),I11-J11)) -> 50
A13: SA0610 | B13: Barry | C13: Wareham | D13: SA Masters | F13: 9 | G13: 90.1 | H13: 90.1 | I13: =IF(H13=H12,I12,IF(H13=0,ROUNDDOWN(20,0),I12-J12)) -> 50
A14: SA3679 | B14: Nem | C14: Singh | D14: SA Masters | F14: 3 | G14: 60.7 | H14: 60.7 | I14: =IF(H14=H13,I13,IF(H14=0,ROUNDDOWN(20,0),I13-J13)) -> 50
A15: SA2034 | B15: Hein | C15: Engelbrecht | D15: SA Masters | F15: 4 | G15: 49.7 | H15: 49.7 | I15: =IF(H15=H14,I14,IF(H15=0,ROUNDDOWN(20,0),I14-J14)) -> 50
A16: N0013 | B16: Rodger | C16: Boon | D16: Nam Masters | F16: 4 | G16: 47.9 | H16: 47.9 | I16: =IF(H16=H15,I15,IF(H16=0,ROUNDDOWN(20,0),I15-J15)) -> 50
A17: N0005 | B17: Lesley | C17: Page | D17: Nam Masters | F17: 4 | G17: 45.5 | H17: 45.5 | I17: =IF(H17=H16,I16,IF(H17=0,ROUNDDOWN(20,0),I16-J16)) -> 50
A18: SA4949 | B18: Kallie | C18: Erasmus | D18: SA Masters | F18: 8 | G18: 35.6 | H18: 35.6 | I18: =IF(H18=H17,I17,IF(H18=0,ROUNDDOWN(20,0),I17-J17)) -> 50
A19: N0009 | B19: Henry | C19: Loubser | D19: Nam Masters | F19: 2 | G19: 10.7 | H19: 10.7 | I19: =IF(H19=H18,I18,IF(H19=0,ROUNDDOWN(20,0),I18-J18)) -> 50
E20: =SUM(E6:E19) -> 2 | F20: =SUM(F6:F19) -> 122 | G20: =SUM(G6:G19) -> 1549.3 | H20: =SUM(H6:H19) -> 1549.3 | I20: =IF(H20=H19,I19,IF(H20=0,ROUNDDOWN(20,0),I19-J19)) -> 50
I21: =IF(H21=H20,I20,IF(H21=0,ROUNDDOWN(20,0),I20-J20)) -> 20
D22: Team | E22: Day 1 | F22: Day 2 | G22: Day 3 | H22: Total
D23: SA Masters | E23: 308.7 | F23: 286.9 | G23: 189.6 | H23: =SUM(E23:G23) -> 785.2
D24: Nam Masters | E24: 355.6 | F24: 165.9 | G24: 242.6 | H24: =SUM(E24:G24) -> 764.1
I25: =IF(H25=J24,K24,IF(H25=0,ROUNDDOWN(20,0),K24-L24)) -> 0
G26: Top 6 | I26: =IF(#REF!=#REF!,#REF!,IF(#REF!=0,ROUNDDOWN(20,0),#REF!-#REF!)) -> #REF!
G27: Nam | H27: SA | I27: =IF(#REF!=#REF!,I26,IF(#REF!=0,ROUNDDOWN(20,0),I26-J26)) -> #REF!
G28: 215.3 | H28: 258.7 | I28: =IF(#REF!=#REF!,I27,IF(#REF!=0,ROUNDDOWN(20,0),I27-J27)) -> #REF!
G29: 200.3 | H29: 167.2 | I29: =IF(#REF!=#REF!,I28,IF(#REF!=0,ROUNDDOWN(20,0),I28-J28)) -> #REF!
G30: 129.9 | H30: 123.2 | I30: =IF(#REF!=#REF!,I29,IF(#REF!=0,ROUNDDOWN(20,0),I29-J29)) -> #REF!
G31: 114.5 | H31: 90.1 | I31: =IF(#REF!=#REF!,I30,IF(#REF!=0,ROUNDDOWN(20,0),I30-J30)) -> #REF!
G32: 47.9 | H32: 60.7 | I32: =IF(#REF!=#REF!,I31,IF(#REF!=0,ROUNDDOWN(20,0),I31-J31)) -> #REF!
G33: 45.5 | H33: 49.7 | I33: =IF(#REF!=#REF!,I32,IF(#REF!=0,ROUNDDOWN(20,0),I32-J32)) -> #REF!
G34: =SUM(G28:G33) -> 753.4 | H34: =SUM(H28:H33) -> 749.6 | I34: =IF(#REF!=#REF!,I33,IF(#REF!=0,ROUNDDOWN(20,0),I33-J33)) -> #REF!
I35: =IF(H35=#REF!,I34,IF(H35=0,ROUNDDOWN(20,0),I34-J34)) -> #REF!
I36: =IF(H36=H35,I35,IF(H36=0,ROUNDDOWN(20,0),I35-J35)) -> #REF!
I37: =IF(H37=H36,I36,IF(H37=0,ROUNDDOWN(20,0),I36-J36)) -> #REF!
I38: =IF(H38=H37,I37,IF(H38=0,ROUNDDOWN(20,0),I37-J37)) -> #REF!
I39: =IF(H39=H38,I38,IF(H39=0,ROUNDDOWN(20,0),I38-J38)) -> #REF!
I40: =IF(H40=H39,I39,IF(H40=0,ROUNDDOWN(20,0),I39-J39)) -> #REF!
I41: =IF(H41=H40,I40,IF(H41=0,ROUNDDOWN(20,0),I40-J40)) -> #REF!
I42: =IF(H42=H41,I41,IF(H42=0,ROUNDDOWN(20,0),I41-J41)) -> #REF!
I43: =IF(H43=H42,I42,IF(H43=0,ROUNDDOWN(20,0),I42-J42)) -> #REF!
I44: =IF(H44=H43,I43,IF(H44=0,ROUNDDOWN(20,0),I43-J43)) -> #REF!
I45: =IF(H45=H44,I44,IF(H45=0,ROUNDDOWN(20,0),I44-J44)) -> #REF!
I46: =IF(H46=H45,I45,IF(H46=0,ROUNDDOWN(20,0),I45-J45)) -> #REF!
I47: =IF(H47=H46,I46,IF(H47=0,ROUNDDOWN(20,0),I46-J46)) -> #REF!
... I67: =IF(H67=H66,I66,IF(H67=0,ROUNDDOWN(20,0),I66-J66)) -> #REF!

Sheet MenGrandMasters
A2: Competition | B2: (Multiple Items)
A3: Status | B3: Men Grand Masters | D3: Men Grand Masters
A5: ID | B5: Name | C5: Surname | D5: Team | E5: No. Edibles | F5: No. of Inedibles | G5: Total kg | H5: Total Points | I5: Category Points (50)
A6: N0023 | B6: Jörg | C6: Walter | D6: Nam Grand Masters | E6: 1 | F6: 18 | G6: 196.6 | H6: 196.6 | I6: 50
A7: N0008 | B7: Andre | C7: Coetzee | D7: Nam Grand Masters | F7: 15 | G7: 168.3 | H7: 168.3 | I7: =IF(H7=H6,I6,IF(H7=0,ROUNDDOWN(20,0),I6-J6)) -> 50
A8: N0004 | B8: Charles | C8: Bothma | D8: Nam Grand Masters | F8: 19 | G8: 164.4 | H8: 164.4 | I8: =IF(H8=H7,I7,IF(H8=0,ROUNDDOWN(20,0),I7-J7)) -> 50
A9: SA0638 | B9: Alan | C9: Prinsloo | D9: SA Grand Masters | F9: 14 | G9: 118.6 | H9: 118.6 | I9: =IF(H9=H8,I8,IF(H9=0,ROUNDDOWN(20,0),I8-J8)) -> 50
A10: N0015 | B10: Herman | C10: Fourie | D10: Nam Grand Masters | F10: 12 | G10: 114.7 | H10: 114.7 | I10: =IF(H10=H9,I9,IF(H10=0,ROUNDDOWN(20,0),I9-J9)) -> 50
A11: N0146 | B11: Danie | C11: Du Toit | D11: Nam Grand Masters | E11: 1 | F11: 10 | G11: 95.2 | H11: 95.2 | I11: =IF(H11=H10,I10,IF(H11=0,ROUNDDOWN(20,0),I10-J10)) -> 50
A12: SA1404 | B12: Julian | C12: Pybus | D12: SA Grand Masters | F12: 10 | G12: 91.4 | H12: 91.4 | I12: =IF(H12=H11,I11,IF(H12=0,ROUNDDOWN(20,0),I11-J11)) -> 50
A13: N0091 | B13: Deon | C13: Jacobs | D13: Nam Grand Masters | F13: 8 | G13: 76.3 | H13: 76.3 | I13: =IF(H13=H12,I12,IF(H13=0,ROUNDDOWN(20,0),I12-J12)) -> 50
A14: SA4251 | B14: Thys | C14: Basson | D14: SA Grand Masters | E14: 4 | F14: 10 | G14: 72.2 | H14: 72.2 | I14: =IF(H14=H13,I13,IF(H14=0,ROUNDDOWN(20,0),I13-J13)) -> 50
A15: SA8336 | B15: Paul | C15: Nel | D15: SA Grand Masters | F15: 7 | G15: 71 | H15: 71 | I15: =IF(H15=H14,I14,IF(H15=0,ROUNDDOWN(20,0),I14-J14)) -> 50
A16: SA1206 | B16: Herman | C16: Van Greunen | D16: SA Grand Masters | E16: 2 | F16: 5 | G16: 33.8 | H16: 33.8 | I16: =IF(H16=H15,I15,IF(H16=0,ROUNDDOWN(20,0),I15-J15)) -> 50
A17: N0203 | B17: Andre | C17: Muller | D17: Nam Grand Masters | F17: 10 | G17: 32.7 | H17: 32.7 | I17: =IF(H17=H16,I16,IF(H17=0,ROUNDDOWN(20,0),I16-J16)) -> 50
A18: SA2057 | B18: Colin | C18: Dawidowitz | D18: SA Grand Masters | F18: 3 | G18: 26.5 | H18: 26.5 | I18: =IF(H18=H17,I17,IF(H18=0,ROUNDDOWN(20,0),I17-J17)) -> 50
A19: SA4460 | B19: Mario | C19: Teixeira | D19: SA Grand Masters | F19: 1 | G19: 2.4 | H19: 2.4 | I19: =IF(H19=H18,I18,IF(H19=0,ROUNDDOWN(20,0),I18-J18)) -> 50
E20: =SUM(E6:E19) -> 8 | F20: =SUM(F6:F19) -> 142 | G20: =SUM(G6:G19) -> 1264.1 | H20: =SUM(H6:H19) -> 1264.1 | I20: =IF(H20=H19,I19,IF(H20=0,ROUNDDOWN(20,0),I19-J19)) -> 50
I21: =IF(H21=H20,I20,IF(H21=0,ROUNDDOWN(20,0),I20-J20)) -> 20
D22: Team | E22: Day 1 | F22: Day 2 | G22: Day 3 | H22: Total
D23: Nam Grand Masters | E23: 426.5 | F23: 182.4 | G23: 239.3 | H23: =SUM(E23:G23) -> 848.2
D24: SA Grand Masters | E24: 187.5 | F24: 82 | G24: 146.4 | H24: =SUM(E24:G24) -> 415.9
I25: =IF(H25=#REF!,#REF!,IF(H25=0,ROUNDDOWN(20,0),#REF!-#REF!)) -> #REF!
G26: Top 6 | I26: =IF(#REF!=H25,I25,IF(#REF!=0,ROUNDDOWN(20,0),I25-J25)) -> #REF!
G27: Nam | H27: SA | I27: =IF(#REF!=#REF!,I26,IF(#REF!=0,ROUNDDOWN(20,0),I26-J26)) -> #REF!
G28: 196.6 | H28: 118.6 | I28: =IF(#REF!=#REF!,I27,IF(#REF!=0,ROUNDDOWN(20,0),I27-J27)) -> #REF!
G29: 168.3 | H29: 91.4 | I29: =IF(#REF!=#REF!,I28,IF(#REF!=0,ROUNDDOWN(20,0),I28-J28)) -> #REF!
G30: 164.4 | H30: 72.2 | I30: =IF(#REF!=#REF!,I29,IF(#REF!=0,ROUNDDOWN(20,0),I29-J29)) -> #REF!
G31: 114.7 | H31: 71 | I31: =IF(#REF!=#REF!,I30,IF(#REF!=0,ROUNDDOWN(20,0),I30-J30)) -> #REF!
G32: 95.2 | H32: 33.8 | I32: =IF(#REF!=#REF!,I31,IF(#REF!=0,ROUNDDOWN(20,0),I31-J31)) -> #REF!
G33: 76.3 | H33: 26.5 | I33: =IF(#REF!=#REF!,I32,IF(#REF!=0,ROUNDDOWN(20,0),I32-J32)) -> #REF!
G34: =SUM(G28:G33) -> 815.5 | H34: =SUM(H28:H33) -> 413.5 | I34: =IF(#REF!=#REF!,I33,IF(#REF!=0,ROUNDDOWN(20,0),I33-J33)) -> #REF!
I35: =IF(H35=#REF!,I34,IF(H35=0,ROUNDDOWN(20,0),I34-J34)) -> #REF!
I36: =IF(H36=H35,I35,IF(H36=0,ROUNDDOWN(20,0),I35-J35)) -> #REF!
I37: =IF(H37=H36,I36,IF(H37=0,ROUNDDOWN(20,0),I36-J36)) -> #REF!
I38: =IF(H38=H37,I37,IF(H38=0,ROUNDDOWN(20,0),I37-J37)) -> #REF!
I39: =IF(H39=H38,I38,IF(H39=0,ROUNDDOWN(20,0),I38-J38)) -> #REF!
I40: =IF(H40=H39,I39,IF(H40=0,ROUNDDOWN(20,0),I39-J39)) -> #REF!
I41: =IF(H41=H40,I40,IF(H41=0,ROUNDDOWN(20,0),I40-J40)) -> #REF!
I42: =IF(H42=H41,I41,IF(H42=0,ROUNDDOWN(20,0),I41-J41)) -> #REF!
I43: =IF(H43=H42,I42,IF(H43=0,ROUNDDOWN(20,0),I42-J42)) -> #REF!
I44: =IF(H44=H43,I43,IF(H44=0,ROUNDDOWN(20,0),I43-J43)) -> #REF!
I45: =IF(H45=H44,I44,IF(H45=0,ROUNDDOWN(20,0),I44-J44)) -> #REF!
I46: =IF(H46=H45,I45,IF(H46=0,ROUNDDOWN(20,0),I45-J45)) -> #REF!
I47: =IF(H47=H46,I46,IF(H47=0,ROUNDDOWN(20,0),I46-J46)) -> #REF!
... I66: =IF(H66=H65,I65,IF(H66=0,ROUNDDOWN(20,0),I65-J65)) -> #REF!

Sheet MenVeterans
L1: Competition | M1: (Multiple Items) | V1: Competition | W1: (Multiple Items)
A2: Competition | B2: (Multiple Items) | C2: =$B$3&" "& Individuals!$G$2 -> Men Veteran | L2: Status | M2: Men Veteran | N2: =$B$3&" "& Individuals!$G$2 -> Men Veteran | V2: Status | W2: Men Veteran | X2: =$B$3&" "& Individuals!$G$2 -> Men Veteran
A3: Status | B3: Men Veteran | D3: LEAGUE | L3: Inedibles | M3: (Multiple Items) | O3: SHARKS | V3: Edibles | W3: (Multiple Items) | Y3: FISH
A5: ID | B5: Name | C5: Surname | D5: Team | E5: No. Edibles | F5: No. of Inedibles | G5: Total kg | H5: Total Points | I5: Category Points (100) | L5: ID | M5: Name | N5: Surname | O5: Team | P5: No. Inedibles | Q5: Total kg | R5: Total Points | S5: Category Points (100) | V5: ID | W5: Name | X5: Surname | Y5: Team | Z5: NO. Edibles | AA5: Total kg | AB5: Total Points | AC5: Category Points (100)
I6: 100 | J6: 1 | S6: 50 | T6: 1 | AC6: 50 | AD6: 1
I7: =IF(H7=H6,I6,IF(H7=0,ROUNDDOWN(20,0),I6-J6)) -> 100 | J7: =IF(H7<H6,1,IF(H7=H6,J6+1,0)) -> 2 | S7: =IF(R7=R6,S6,IF(R7=0,ROUNDDOWN(0,0),S6-T6)) -> 50 | T7: =IF(R7<R6,1,IF(R7=R6,T6+1,0)) -> 2 | AC7: =IF(AB7=AB6,AC6,IF(AB7=0,ROUNDDOWN(0,0),AC6-AD6)) -> 50 | AD7: =IF(AB7<AB6,1,IF(AB7=AB6,AD6+1,0)) -> 2
I8: =IF(H8=H7,I7,IF(H8=0,ROUNDDOWN(20,0),I7-J7)) -> 100 | J8: =IF(H8<H7,1,IF(H8=H7,J7+1,0)) -> 3 | S8: =IF(R8=R7,S7,IF(R8=0,ROUNDDOWN(0,0),S7-T7)) -> 50 | T8: =IF(R8<R7,1,IF(R8=R7,T7+1,0)) -> 3 | AC8: =IF(AB8=AB7,AC7,IF(AB8=0,ROUNDDOWN(0,0),AC7-AD7)) -> 50 | AD8: =IF(AB8<AB7,1,IF(AB8=AB7,AD7+1,0)) -> 3
I9: =IF(H9=H8,I8,IF(H9=0,ROUNDDOWN(20,0),I8-J8)) -> 100 | J9: =IF(H9<H8,1,IF(H9=H8,J8+1,0)) -> 4 | S9: =IF(R9=R8,S8,IF(R9=0,ROUNDDOWN(0,0),S8-T8)) -> 50 | T9: =IF(R9<R8,1,IF(R9=R8,T8+1,0)) -> 4 | AC9: =IF(AB9=AB8,AC8,IF(AB9=0,ROUNDDOWN(0,0),AC8-AD8)) -> 50 | AD9: =IF(AB9<AB8,1,IF(AB9=AB8,AD8+1,0)) -> 4
I10: =IF(H10=H9,I9,IF(H10=0,ROUNDDOWN(20,0),I9-J9)) -> 100 | J10: =IF(H10<H9,1,IF(H10=H9,J9+1,0)) -> 5 | S10: =IF(R10=R9,S9,IF(R10=0,ROUNDDOWN(0,0),S9-T9)) -> 50 | T10: =IF(R10<R9,1,IF(R10=R9,T9+1,0)) -> 5 | AC10: =IF(AB10=AB9,AC9,IF(AB10=0,ROUNDDOWN(0,0),AC9-AD9)) -> 50 | AD10: =IF(AB10<AB9,1,IF(AB10=AB9,AD9+1,0)) -> 5
I11: =IF(H11=H10,I10,IF(H11=0,ROUNDDOWN(20,0),I10-J10)) -> 100 | J11: =IF(H11<H10,1,IF(H11=H10,J10+1,0)) -> 6 | S11: =IF(R11=R10,S10,IF(R11=0,ROUNDDOWN(0,0),S10-T10)) -> 50 | T11: =IF(R11<R10,1,IF(R11=R10,T10+1,0)) -> 6 | AC11: =IF(AB11=AB10,AC10,IF(AB11=0,ROUNDDOWN(0,0),AC10-AD10)) -> 50 | AD11: =IF(AB11<AB10,1,IF(AB11=AB10,AD10+1,0)) -> 6
I12: =IF(H12=H11,I11,IF(H12=0,ROUNDDOWN(20,0),I11-J11)) -> 100 | J12: =IF(H12<H11,1,IF(H12=H11,J11+1,0)) -> 7 | S12: =IF(R12=R11,S11,IF(R12=0,ROUNDDOWN(0,0),S11-T11)) -> 50 | T12: =IF(R12<R11,1,IF(R12=R11,T11+1,0)) -> 7 | AC12: =IF(AB12=AB11,AC11,IF(AB12=0,ROUNDDOWN(0,0),AC11-AD11)) -> 50 | AD12: =IF(AB12<AB11,1,IF(AB12=AB11,AD11+1,0)) -> 7
I13: =IF(H13=H12,I12,IF(H13=0,ROUNDDOWN(20,0),I12-J12)) -> 100 | J13: =IF(H13<H12,1,IF(H13=H12,J12+1,0)) -> 8 | S13: =IF(R13=R12,S12,IF(R13=0,ROUNDDOWN(0,0),S12-T12)) -> 50 | T13: =IF(R13<R12,1,IF(R13=R12,T12+1,0)) -> 8 | AC13: =IF(AB13=AB12,AC12,IF(AB13=0,ROUNDDOWN(0,0),AC12-AD12)) -> 50 | AD13: =IF(AB13<AB12,1,IF(AB13=AB12,AD12+1,0)) -> 8
I14: =IF(H14=H13,I13,IF(H14=0,ROUNDDOWN(20,0),I13-J13)) -> 100 | J14: =IF(H14<H13,1,IF(H14=H13,J13+1,0)) -> 9 | S14: =IF(R14=R13,S13,IF(R14=0,ROUNDDOWN(0,0),S13-T13)) -> 50 | T14: =IF(R14<R13,1,IF(R14=R13,T13+1,0)) -> 9 | AC14: =IF(AB14=AB13,AC13,IF(AB14=0,ROUNDDOWN(0,0),AC13-AD13)) -> 50 | AD14: =IF(AB14<AB13,1,IF(AB14=AB13,AD13+1,0)) -> 9
I15: =IF(H15=H14,I14,IF(H15=0,ROUNDDOWN(20,0),I14-J14)) -> 100 | J15: =IF(H15<H14,1,IF(H15=H14,J14+1,0)) -> 10 | S15: =IF(R15=R14,S14,IF(R15=0,ROUNDDOWN(0,0),S14-T14)) -> 50 | T15: =IF(R15<R14,1,IF(R15=R14,T14+1,0)) -> 10 | AC15: =IF(AB15=AB14,AC14,IF(AB15=0,ROUNDDOWN(0,0),AC14-AD14)) -> 50 | AD15: =IF(AB15<AB14,1,IF(AB15=AB14,AD14+1,0)) -> 10
I16: =IF(H16=H15,I15,IF(H16=0,ROUNDDOWN(20,0),I15-J15)) -> 100 | J16: =IF(H16<H15,1,IF(H16=H15,J15+1,0)) -> 11 | S16: =IF(R16=R15,S15,IF(R16=0,ROUNDDOWN(0,0),S15-T15)) -> 50 | T16: =IF(R16<R15,1,IF(R16=R15,T15+1,0)) -> 11 | AC16: =IF(AB16=AB15,AC15,IF(AB16=0,ROUNDDOWN(0,0),AC15-AD15)) -> 50 | AD16: =IF(AB16<AB15,1,IF(AB16=AB15,AD15+1,0)) -> 11
I17: =IF(H17=H16,I16,IF(H17=0,ROUNDDOWN(20,0),I16-J16)) -> 100 | J17: =IF(H17<H16,1,IF(H17=H16,J16+1,0)) -> 12 | S17: =IF(R17=R16,S16,IF(R17=0,ROUNDDOWN(0,0),S16-T16)) -> 50 | T17: =IF(R17<R16,1,IF(R17=R16,T16+1,0)) -> 12 | AC17: =IF(AB17=AB16,AC16,IF(AB17=0,ROUNDDOWN(0,0),AC16-AD16)) -> 50 | AD17: =IF(AB17<AB16,1,IF(AB17=AB16,AD16+1,0)) -> 12
I18: =IF(H18=H17,I17,IF(H18=0,ROUNDDOWN(20,0),I17-J17)) -> 100 | J18: =IF(H18<H17,1,IF(H18=H17,J17+1,0)) -> 13 | S18: =IF(R18=R17,S17,IF(R18=0,ROUNDDOWN(0,0),S17-T17)) -> 50 | T18: =IF(R18<R17,1,IF(R18=R17,T17+1,0)) -> 13 | AC18: =IF(AB18=AB17,AC17,IF(AB18=0,ROUNDDOWN(0,0),AC17-AD17)) -> 50 | AD18: =IF(AB18<AB17,1,IF(AB18=AB17,AD17+1,0)) -> 13
... I68: =IF(H68=H67,I67,IF(H68=0,ROUNDDOWN(20,0),I67-J67)) -> 100 | J68: =IF(H68<H67,1,IF(H68=H67,J67+1,0)) -> 63 | S68: =IF(R68=R67,S67,IF(R68=0,ROUNDDOWN(0,0),S67-T67)) -> 50 | T68: =IF(R68<R67,1,IF(R68=R67,T67+1,0)) -> 63 | AC68: =IF(AB68=AB67,AC67,IF(AB68=0,ROUNDDOWN(0,0),AC67-AD67)) -> 50 | AD68: =IF(AB68<AB67,1,IF(AB68=AB67,AD67+1,0)) -> 63

Sheet Men U16
L1: Competition | M1: (Multiple Items) | V1: Competition | W1: (Multiple Items)
A2: Competition | B2: (Multiple Items) | C2: =$B$3&" "& Individuals!$G$2 -> (Multiple Items) | L2: Status | M2: (Multiple Items) | N2: =$B$3&" "& Individuals!$G$2 -> (Multiple Items) | V2: Status | W2: (Multiple Items) | X2: =$B$3&" "& Individuals!$G$2 -> (Multiple Items)
A3: Status | B3: (Multiple Items) | D3: LEAGUE | L3: Inedibles | M3: (Multiple Items) | O3: SHARKS | V3: Edibles | W3: (Multiple Items) | Y3: FISH
