Workbook

Sheet SA A
A1: DAY 1 - TUE 5 OCT 2021
A2: VAN HEERDEN | B2: A | C2: KURZ | D2: D | E2: FURNISS | F2: M | G2: PEINKE | H2: D | I2: VAN BREDA | J2: D | K2: LYNCH | L2: M | M2: RAPSON | N2: W
A3: SPECIE | B3: KG | C3: SPECIE | D3: KG | E3: SPECIE | F3: KG | G3: SPECIE | H3: KG | I3: SPECIE | J3: KG | K3: SPECIE | L3: KG | M3: SPECIE | N3: KG
A4: SOUPFIN | B4: 1.8 | C4: SOUPFIN | D4: 2.7 | G4: SPEARNOSE | H4: 1.7 | I4: BLUE RAY | J4: 1 | K4: BLUE RAY | L4: 2
A5: SANDY | B5: 1.6 | C5: ST JOSEPH | D5: 4.6 | G5: BLUE RAY | H5: 16 | I5: BLUE RAY | J5: 2.3
C6: BLUE RAY | D6: 2.8 | G6: SOUPFIN | H6: 2.9
G7: SOUPFIN | H7: 1.5
B19: =SUM(B4:B18) -> 3.4 | D19: =SUM(D4:D18) -> 10.1 | F19: =SUM(F4:F18) -> 0 | H19: =SUM(H4:H18) -> 22.1 | J19: =SUM(J4:J18) -> 3.3 | L19: =SUM(L4:L18) -> 2 | N19: =SUM(N4:N18) -> 0 | O19: =SUM(A19:N19) -> 40.9
M20: KOB | N20: 17.4
O23: =SUM(O19+O27) -> 58.3
B27: =SUM(B20:B26) -> 0 | D27: =SUM(D20:D26) -> 0 | F27: =SUM(F20:F26) -> 0 | H27: =SUM(H20:H26) -> 0 | J27: =SUM(J20:J26) -> 0 | L27: =SUM(L20:L26) -> 0 | N27: =SUM(N20:N26) -> 17.4 | O27: =SUM(A27:N27) -> 17.4
A30: DAY 2 - WED 6 OCT 2021
A31: =A2 -> VAN HEERDEN | B31: =B2 -> A | C31: =C2 -> KURZ | D31: =D2 -> D | E31: =E2 -> FURNISS | F31: =F2 -> M | G31: =G2 -> PEINKE | H31: =H2 -> D | ... N31: =N2 -> W
A32: SPECIE | B32: KG | C32: SPECIE | D32: KG | E32: SPECIE | F32: KG | G32: SPECIE | H32: KG | I32: SPECIE | J32: KG | K32: SPECIE | L32: KG | M32: SPECIE | N32: KG
A33: BLUE RAY | B33: 2.8 | C33: BLUE RAY | D33: 5.7 | E33: BLUE RAY | F33: 3 | G33: BLUE RAY | H33: 10.2 | I33: SPEARNOSE | J33: 15.4 | K33: BLUE RAY | L33: 13.2 | M33: BLUE RAY | N33: 7.7
A34: BLUE RAY | B34: 9.7 | C34: EAGLE | D34: 2.4 | E34: BLUE RAY | F34: 13.2 | G34: BLUE RAY | H34: 3 | I34: RAGGIE | J34: 160.7 | K34: EAGLE | L34: 2.5 | M34: BLUE RAY | N34: 1.5
A35: BLUE RAY | B35: 2.8 | C35: BLUE RAY | D35: 10.2 | E35: SANDY | F35: 1.6 | G35: BLUE RAY | H35: 2.5 | I35: BLUE RAY | J35: 4.7 | K35: EAGLE | L35: 2.5 | M35: BLUE RAY | N35: 6.9
A36: BLUE RAY | B36: 9.7 | C36: BLUE RAY | D36: 13.2 | E36: BLUE RAY | F36: 1.2 | G36: SANDY | H36: 2.2 | K36: SANTER | L36: 1.3 | M36: DIAMOND | N36: 19.1
A37: BLUE RAY | B37: 15.3 | C37: BLUE RAY | D37: 7.7 | E37: BLUE RAY | F37: 1.7 | G37: BLUE RAY | H37: 17.5 | K37: BLUE RAY | L37: 13.2 | M37: BLUE RAY | N37: 10.8
A38: BLUE RAY | B38: 10.2 | E38: BLUE RAY | F38: 14.6 | G38: BLUE RAY | H38: 12 | K38: BLUE RAY | L38: 9.7 | M38: EAGLE | N38: 3
A39: BLUE RAY | B39: 10.2 | E39: BLUE RAY | F39: 2.8 | K39: STRIPED CATSHARK | L39: 3.9
A40: BLUE RAY | B40: 12.6 | E40: BLUE RAY | F40: 20.8 | K40: BLUE RAY | L40: 11.4
E41: BLUE RAY | F41: 9.7 | K41: BLUE RAY | L41: 12
E42: BLUE RAY | F42: 12 | K42: BLUE RAY | L42: 10.8
E43: BLUE RAY | F43: 7.7 | K43: BLUE RAY | L43: 2.3
B48: =SUM(B33:B47) -> 73.3 | D48: =SUM(D33:D47) -> 39.2 | F48: =SUM(F33:F47) -> 88.3 | H48: =SUM(H33:H47) -> 47.4 | J48: =SUM(J33:J47) -> 180.8 | L48: =SUM(L33:L47) -> 82.8 | N48: =SUM(N33:N47) -> 49 | O48: =SUM(A48:N48) -> 560.8
I49: GRUNTER | J49: 1.1
O52: =SUM(O48+O56) -> 561.9
B56: =SUM(B49:B55) -> 0 | D56: =SUM(D49:D55) -> 0 | F56: =SUM(F49:F55) -> 0 | H56: =SUM(H49:H55) -> 0 | J56: =SUM(J49:J55) -> 1.1 | L56: =SUM(L49:L55) -> 0 | N56: =SUM(N49:N55) -> 0 | O56: =SUM(A56:N56) -> 1.1
A59: DAY 3 - THU 7 OCT 2021
A60: =A2 -> VAN HEERDEN | B60: =B2 -> A | C60: =C2 -> KURZ | D60: =D2 -> D | E60: =E2 -> FURNISS | F60: =F2 -> M | G60: =G2 -> PEINKE | H60: =H2 -> D | ... N60: =N2 -> W
A61: SPECIE | B61: KG | C61: SPECIE | D61: KG | E61: SPECIE | F61: KG | G61: SPECIE | H61: KG | I61: SPECIE | J61: KG | K61: SPECIE | L61: KG | M61: SPECIE | N61: KG
A62: EAGLE | B62: 12.1 | C62: ST JOSEPH | D62: 5.4 | E62: BLUE RAY | F62: 4.4 | G62: BRONZIE | H62: 2.7 | K62: EAGLE | L62: 2.4 | M62: ST JOSEPH | N62: 4.6
E63: EAGLE | F63: 7.1 | G63: BRONZIE | H63: 2.1
E64: BISCUIT | F64: 2.3 | G64: BRONZIE | H64: 2.2
B77: =SUM(B62:B76) -> 12.1 | D77: =SUM(D62:D76) -> 5.4 | F77: =SUM(F62:F76) -> 13.8 | H77: =SUM(H62:H76) -> 7 | J77: =SUM(J62:J76) -> 0 | L77: =SUM(L62:L76) -> 2.4 | N77: =SUM(N62:N76) -> 4.6 | O77: =SUM(A77:N77) -> 45.3
O81: =SUM(O77+O85) -> 45.3
B85: =SUM(B78:B84) -> 0 | D85: =SUM(D78:D84) -> 0 | F85: =SUM(F78:F84) -> 0 | H85: =SUM(H78:H84) -> 0 | J85: =SUM(J78:J84) -> 0 | L85: =SUM(L78:L84) -> 0 | N85: =SUM(N78:N84) -> 0 | O85: =SUM(A85:N85) -> 0
A88: DAY 1 - TUE 5 OCT 2021
A89: ANGLER | C89: MASS | D89: MASS | E89: POINTS | F89: AMOUNT | G89: AMOUNT
A90: NAME | B90: INI | C90: EDIBLE | D90: NON-ED | E90: ACC | F90: EDIBLE | G90: NON-ED
A91: =A2 -> VAN HEERDEN | B91: =B2 -> A | C91: =SUM(B27) -> 0 | D91: =SUM(B19) -> 3.4 | E91: =SUM(D91+C91) -> 3.4 | F91: =COUNTA(A20:A26) -> 0 | G91: =COUNTA(A4:A18) -> 2
A92: =C2 -> KURZ | B92: =D2 -> D | C92: =SUM(D27) -> 0 | D92: =SUM(D19) -> 10.1 | E92: =SUM(D92+C92) -> 10.1 | F92: =COUNTA(C20:C26) -> 0 | G92: =COUNTA(C4:C18) -> 3
A93: =E2 -> FURNISS | B93: =F2 -> M | C93: =SUM(F27) -> 0 | D93: =SUM(F19) -> 0 | E93: =SUM(D93+C93) -> 0 | F93: =COUNTA(E20:E26) -> 0 | G93: =COUNTA(E4:E18) -> 0
A94: =G2 -> PEINKE | B94: =H2 -> D | C94: =SUM(H27) -> 0 | D94: =SUM(H19) -> 22.1 | E94: =SUM(D94+C94) -> 22.1 | F94: =COUNTA(G20:G26) -> 0 | G94: =COUNTA(G4:G18) -> 4
A95: =I2 -> VAN BREDA | B95: =J2 -> D | C95: =SUM(J27) -> 0 | D95: =SUM(J19) -> 3.3 | E95: =SUM(D95+C95) -> 3.3 | F95: =COUNTA(I20:I26) -> 0 | G95: =COUNTA(I4:I18) -> 2
A96: =K2 -> LYNCH | B96: =L2 -> M | C96: =SUM(L27) -> 0 | D96: =SUM(L19) -> 2 | E96: =SUM(D96+C96) -> 2 | F96: =COUNTA(K20:K26) -> 0 | G96: =COUNTA(K4:K18) -> 1
A97: =M2 -> RAPSON | B97: =N2 -> W | C97: =SUM(N27) -> 17.4 | D97: =SUM(N19) -> 0 | E97: =SUM(D97+C97) -> 17.4 | F97: =COUNTA(M20:M26) -> 1 | G97: =COUNTA(M4:M18) -> 0
A98: DAY TOTAL | C98: =SUM(C91:C97) -> 17.4 | D98: =SUM(D91:D97) -> 40.9 | E98: =SUM(E91:E97) -> 58.3 | F98: =SUM(F91:F97) -> 1 | G98: =SUM(G91:G97) -> 12
A101: DAY 2 - WED 6 OCT 2021
A102: ANGLER | C102: MASS | D102: MASS | E102: POINTS | F102: AMOUNT | G102: AMOUNT
A103: NAME | B103: INI | C103: EDIBLE | D103: NON-ED | E103: ACC | F103: EDIBLE | G103: NON-ED
A104: =A2 -> VAN HEERDEN | B104: =B2 -> A | C104: =SUM(B56) -> 0 | D104: =SUM(B48) -> 73.3 | E104: =SUM(D104+C104) -> 73.3 | F104: =COUNTA(A49:A56) -> 0 | G104: =COUNTA(A33:A47) -> 8
A105: =C2 -> KURZ | B105: =D2 -> D | C105: =SUM(D56) -> 0 | D105: =SUM(D48) -> 39.2 | E105: =SUM(D105+C105) -> 39.2 | F105: =COUNTA(C49:C56) -> 0 | G105: =COUNTA(C33:C47) -> 5
A106: =E2 -> FURNISS | B106: =F2 -> M | C106: =SUM(F56) -> 0 | D106: =SUM(F48) -> 88.3 | E106: =SUM(D106+C106) -> 88.3 | F106: =COUNTA(E49:E56) -> 0 | G106: =COUNTA(E33:E47) -> 11
A107: =G2 -> PEINKE | B107: =H2 -> D | C107: =SUM(H56) -> 0 | D107: =SUM(H48) -> 47.4 | E107: =SUM(D107+C107) -> 47.4 | F107: =COUNTA(G49:G56) -> 0 | G107: =COUNTA(G33:G47) -> 6
A108: =I2 -> VAN BREDA | B108: =J2 -> D | C108: =SUM(J56) -> 1.1 | D108: =SUM(J48) -> 180.8 | E108: =SUM(D108+C108) -> 181.9 | F108: =COUNTA(I49:I56) -> 1 | G108: =COUNTA(I33:I47) -> 3
A109: =K2 -> LYNCH | B109: =L2 -> M | C109: =SUM(L56) -> 0 | D109: =SUM(L48) -> 82.8 | E109: =SUM(D109+C109) -> 82.8 | F109: =COUNTA(K49:K56) -> 0 | G109: =COUNTA(K33:K48) -> 11
A110: =M2 -> RAPSON | B110: =N2 -> W | C110: =SUM(N56) -> 0 | D110: =SUM(N48) -> 49 | E110: =SUM(D110+C110) -> 49 | F110: =COUNTA(M49:M56) -> 0 | G110: =COUNTA(M33:M47) -> 6
A111: DAY TOTAL | C111: =SUM(C104:C110) -> 1.1 | D111: =SUM(D104:D110) -> 560.8 | E111: =SUM(E104:E110) -> 561.9 | F111: =SUM(F104:F110) -> 1 | G111: =SUM(G104:G110) -> 50
A114: DAY 3 - THU 7 OCT 2021
A115: ANGLER | C115: MASS | D115: MASS | E115: POINTS | F115: AMOUNT | G115: AMOUNT
A116: NAME | B116: INI | C116: EDIBLE | D116: NON-ED | E116: ACC | F116: EDIBLE | G116: NON-ED
A117: =A2 -> VAN HEERDEN | B117: =B2 -> A | C117: =SUM(B85) -> 0 | D117: =SUM(B77) -> 12.1 | E117: =SUM(D117+C117) -> 12.1 | F117: =COUNTA(A78:A84) -> 0 | G117: =COUNTA(A62:A76) -> 1
A118: =C2 -> KURZ | B118: =D2 -> D | C118: =SUM(D85) -> 0 | D118: =SUM(D77) -> 5.4 | E118: =SUM(D118+C118) -> 5.4 | F118: =COUNTA(C78:C84) -> 0 | G118: =COUNTA(C62:C76) -> 1
A119: =E2 -> FURNISS | B119: =F2 -> M | C119: =SUM(F85) -> 0 | D119: =SUM(F77) -> 13.8 | E119: =SUM(D119+C119) -> 13.8 | F119: =COUNTA(E78:E84) -> 0 | G119: =COUNTA(E62:E76) -> 3
A120: =G2 -> PEINKE | B120: =H2 -> D | C120: =SUM(H85) -> 0 | D120: =SUM(H77) -> 7 | E120: =SUM(D120+C120) -> 7 | F120: =COUNTA(G78:G84) -> 0 | G120: =COUNTA(G62:G76) -> 3
A121: =I2 -> VAN BREDA | B121: =J2 -> D | C121: =SUM(J85) -> 0 | D121: =SUM(J77) -> 0 | E121: =SUM(D121+C121) -> 0 | F121: =COUNTA(I78:I84) -> 0 | G121: =COUNTA(I62:I76) -> 0
A122: =K2 -> LYNCH | B122: =L2 -> M | C122: =SUM(L85) -> 0 | D122: =SUM(L77) -> 2.4 | E122: =SUM(D122+C122) -> 2.4 | F122: =COUNTA(K78:K84) -> 0 | G122: =COUNTA(K62:K76) -> 1
A123: =M2 -> RAPSON | B123: =N2 -> W | C123: =SUM(N85) -> 0 | D123: =SUM(N77) -> 4.6 | E123: =SUM(D123+C123) -> 4.6 | F123: =COUNTA(M78:M84) -> 0 | G123: =COUNTA(M62:M76) -> 1
A124: DAY TOTAL | C124: =SUM(C117:C123) -> 0 | D124: =SUM(D117:D123) -> 45.3 | E124: =SUM(E117:E123) -> 45.3 | F124: =SUM(F117:F123) -> 0 | G124: =SUM(G117:G123) -> 10
A127: POINTS ACCUMULATED - TUE 5 OCT to THU 7 OCT 2021
A128: ANGLER | C128: MASS | D128: MASS | E128: POINTS | F128: AMOUNT | G128: AMOUNT | H128: TOTAL
A129: NAME | B129: INI | C129: EDIBLE | D129: NON-ED | E129: ACC | F129: EDIBLE | G129: NON-ED | H129: FISH
A130: =A2 -> VAN HEERDEN | B130: =B2 -> A | C130: =SUM(C117+C104+C91) -> 0 | D130: =SUM(D91+D104+D117) -> 88.8 | E130: =SUM(E117+E104+E91) -> 88.8 | F130: =SUM(F91+F104+F117) -> 0 | G130: =SUM(G91+G104+G117) -> 11 | H130: =SUM(F130:G130) -> 11
A131: =C2 -> KURZ | B131: =D2 -> D | C131: =SUM(C118+C105+C92) -> 0 | D131: =SUM(D92+D105+D118) -> 54.7 | E131: =SUM(E118+E105+E92) -> 54.7 | F131: =SUM(F92+F105+F118) -> 0 | G131: =SUM(G92+G105+G118) -> 9 | H131: =SUM(F131:G131) -> 9
A132: =E2 -> FURNISS | B132: =F2 -> M | C132: =SUM(C119+C106+C93) -> 0 | D132: =SUM(D93+D106+D119) -> 102.1 | E132: =SUM(E119+E106+E93) -> 102.1 | F132: =SUM(F93+F106+F119) -> 0 | G132: =SUM(G93+G106+G119) -> 14 | H132: =SUM(F132:G132) -> 14
A133: =G2 -> PEINKE | B133: =H2 -> D | C133: =SUM(C120+C107+C94) -> 0 | D133: =SUM(D94+D107+D120) -> 76.5 | E133: =SUM(E120+E107+E94) -> 76.5 | F133: =SUM(F94+F107+F120) -> 0 | G133: =SUM(G94+G107+G120) -> 13 | H133: =SUM(F133:G133) -> 13
A134: =I2 -> VAN BREDA | B134: =J2 -> D | C134: =SUM(C121+C108+C95) -> 1.1 | D134: =SUM(D95+D108+D121) -> 184.1 | E134: =SUM(E121+E108+E95) -> 185.2 | F134: =SUM(F95+F108+F121) -> 1 | G134: =SUM(G95+G108+G121) -> 5 | H134: =SUM(F134:G134) -> 6
A135: =K2 -> LYNCH | B135: =L2 -> M | C135: =SUM(C122+C109+C96) -> 0 | D135: =SUM(D96+D109+D122) -> 87.2 | E135: =SUM(E122+E109+E96) -> 87.2 | F135: =SUM(F96+F109+F122) -> 0 | G135: =SUM(G96+G109+G122) -> 13 | H135: =SUM(F135+G135) -> 13
A136: =M2 -> RAPSON | B136: =N2 -> W | C136: =SUM(C123+C110+C97) -> 17.4 | D136: =SUM(D97+D110+D123) -> 53.6 | E136: =SUM(E123+E110+E97) -> 71 | F136: =SUM(F97+F110+F123) -> 1 | G136: =SUM(G97+G110+G123) -> 7 | H136: =SUM(F136:G136) -> 8
A137: WEEK TOTAL | C137: =SUM(C130:C136) -> 18.5 | D137: =SUM(D130:D136) -> 647 | E137: =SUM(E130:E136) -> 665.5 | F137: =SUM(F130:F136) -> 2 | G137: =SUM(G130:G136) -> 72 | H137: =SUM(H130:H136) -> 74

Sheet SA B
A1: DAY 1 - TUE 5 OCT 2021
A2: VAN EMMENES | B2: D | C2: VERSTER | D2: D | E2: REYNOLDS | F2: N | G2: BUSSE | H2: C | I2: TERBLANCHE | J2: E | K2: ESPACH | L2: H | M2: LOTRIET | N2: J
A3: SPECIE | B3: KG | C3: SPECIE | D3: KG | E3: SPECIE | F3: KG | G3: SPECIE | H3: KG | I3: SPECIE | J3: KG | K3: SPECIE | L3: KG | M3: SPECIE | N3: KG
C4: BLUE RAY | D4: 6.1 | E4: BLUE RAY | F4: 1.5 | M4: BLUE RAY | N4: 1.4
C5: BLUE RAY | D5: 1.5
C6: BLUE RAY | D6: 1.3
C7: BLUE RAY | D7: 3.8
C8: BLUE RAY | D8: 1
C9: BLUE RAY | D9: 3.7
B19: =SUM(B4:B18) -> 0 | D19: =SUM(D4:D18) -> 17.4 | F19: =SUM(F4:F18) -> 1.5 | H19: =SUM(H4:H18) -> 0 | J19: =SUM(J4:J18) -> 0 | L19: =SUM(L4:L18) -> 0 | N19: =SUM(N4:N18) -> 1.4 | O19: =SUM(A19:N19) -> 20.3
O23: =SUM(O19+O27) -> 20.3
B27: =SUM(B20:B26) -> 0 | D27: =SUM(D20:D26) -> 0 | F27: =SUM(F20:F26) -> 0 | H27: =SUM(H20:H26) -> 0 | J27: =SUM(J20:J26) -> 0 | L27: =SUM(L20:L26) -> 0 | N27: =SUM(N20:N26) -> 0 | O27: =SUM(A27:N27) -> 0
A30: DAY 2 - WED 6 OCT 2021
A31: =A2 -> VAN EMMENES | B31: =B2 -> D | C31: =C2 -> VERSTER | D31: =D2 -> D | E31: =E2 -> REYNOLDS | F31: =F2 -> N | G31: =G2 -> BUSSE | H31: =H2 -> C | ... N31: =N2 -> J
A32: SPECIE | B32: KG | C32: SPECIE | D32: KG | E32: SPECIE | F32: KG | G32: SPECIE | H32: KG | I32: SPECIE | J32: KG | K32: SPECIE | L32: KG | M32: SPECIE | N32: KG
A33: BLUE RAY | B33: 9.7 | C33: BLUE RAY | D33: 3.5 | E33: BLUE RAY | F33: 2.6 | K33: BLUE RAY | L33: 2.6 | M33: SPEARNOSE | N33: 23.4
A34: BLUE RAY | B34: 11.4 | C34: BLUE RAY | D34: 8.2 | E34: BLUE RAY | F34: 1.8 | K34: BLUE RAY | L34: 2.6 | M34: DIAMOND | N34: 12.7
A35: BLUE RAY | B35: 12.6 | C35: SANDSHARK | D35: 1.6 | E35: BLUE RAY | F35: 1.5 | K35: DUSKY | L35: 4.8 | M35: SANDY | N35: 3
A36: BLUE RAY | B36: 12 | E36: SANDY | F36: 1.3 | M36: BLUE RAY | N36: 13.2
A37: BLUE RAY | B37: 12.6 | E37: STRIPED CATSHARK | F37: 4.6
A38: BLUE RAY | B38: 10.2 | E38: BLUE RAY | F38: 2.8
E39: EAGLE | F39: 1.8
E40: BLUE RAY | F40: 2
B48: =SUM(B33:B47) -> 68.5 | D48: =SUM(D33:D47) -> 13.3 | F48: =SUM(F33:F47) -> 18.4 | H48: =SUM(H33:H47) -> 0 | J48: =SUM(J33:J47) -> 0 | L48: =SUM(L33:L47) -> 10 | N48: =SUM(N33:N47) -> 52.3 | O48: =SUM(A48:N48) -> 162.5
M49: KOB | N49: 5.4
O52: =SUM(O48+O56) -> 167.9
B56: =SUM(B49:B55) -> 0 | D56: =SUM(D49:D55) -> 0 | F56: =SUM(F49:F55) -> 0 | H56: =SUM(H49:H55) -> 0 | J56: =SUM(J49:J55) -> 0 | L56: =SUM(L49:L55) -> 0 | N56: =SUM(N49:N55) -> 5.4 | O56: =SUM(A56:N56) -> 5.4
A59: DAY 3 - THU 7 OCT 2021
A60: =A2 -> VAN EMMENES | B60: =B2 -> D | C60: =C2 -> VERSTER | D60: =D2 -> D | E60: =E2 -> REYNOLDS | F60: =F2 -> N | G60: =G2 -> BUSSE | H60: =H2 -> C | ... N60: =N2 -> J
A61: SPECIE | B61: KG | C61: SPECIE | D61: KG | E61: SPECIE | F61: KG | G61: SPECIE | H61: KG | I61: SPECIE | J61: KG | K61: SPECIE | L61: KG | M61: SPECIE | N61: KG
A62: BRONZIE | B62: 2.2 | E62: BRONZIE | F62: 2.2 | G62: SANDY | H62: 1.1 | I62: ST JOSEPH | J62: 6.8
B77: =SUM(B62:B76) -> 2.2 | D77: =SUM(D62:D76) -> 0 | F77: =SUM(F62:F76) -> 2.2 | H77: =SUM(H62:H76) -> 1.1 | J77: =SUM(J62:J76) -> 6.8 | L77: =SUM(L62:L76) -> 0 | N77: =SUM(N62:N76) -> 0 | O77: =SUM(A77:N77) -> 12.3
O81: =SUM(O77+O85) -> 12.3
B85: =SUM(B78:B84) -> 0 | D85: =SUM(D78:D84) -> 0 | F85: =SUM(F78:F84) -> 0 | H85: =SUM(H78:H84) -> 0 | J85: =SUM(J78:J84) -> 0 | L85: =SUM(L78:L84) -> 0 | N85: =SUM(N78:N84) -> 0 | O85: =SUM(A85:N85) -> 0
A88: DAY 1 - TUE 5 OCT 2021
A89: ANGLER | C89: MASS | D89: MASS | E89: POINTS | F89: AMOUNT | G89: AMOUNT
A90: NAME | B90: INI | C90: EDIBLE | D90: NON-ED | E90: ACC | F90: EDIBLE | G90: NON-ED
A91: =A2 -> VAN EMMENES | B91: =B2 -> D | C91: =SUM(B27) -> 0 | D91: =SUM(B19) -> 0 | E91: =SUM(D91+C91) -> 0 | F91: =COUNTA(A20:A26) -> 0 | G91: =COUNTA(A4:A18) -> 0
A92: =C2 -> VERSTER | B92: =D2 -> D | C92: =SUM(D27) -> 0 | D92: =SUM(D19) -> 17.4 | E92: =SUM(D92+C92) -> 17.4 | F92: =COUNTA(C20:C26) -> 0 | G92: =COUNTA(C4:C18) -> 6
A93: =E2 -> REYNOLDS | B93: =F2 -> N | C93: =SUM(F27) -> 0 | D93: =SUM(F19) -> 1.5 | E93: =SUM(D93+C93) -> 1.5 | F93: =COUNTA(E20:E26) -> 0 | G93: =COUNTA(E4:E18) -> 1
A94: =G2 -> BUSSE | B94: =H2 -> C | C94: =SUM(H27) -> 0 | D94: =SUM(H19) -> 0 | E94: =SUM(D94+C94) -> 0 | F94: =COUNTA(G20:G26) -> 0 | G94: =COUNTA(G4:G18) -> 0
A95: =I2 -> TERBLANCHE | B95: =J2 -> E | C95: =SUM(J27) -> 0 | D95: =SUM(J19) -> 0 | E95: =SUM(D95+C95) -> 0 | F95: =COUNTA(I20:I26) -> 0 | G95: =COUNTA(I4:I18) -> 0
A96: =K2 -> ESPACH | B96: =L2 -> H | C96: =SUM(L27) -> 0 | D96: =SUM(L19) -> 0 | E96: =SUM(D96+C96) -> 0 | F96: =COUNTA(K20:K26) -> 0 | G96: =COUNTA(K4:K18) -> 0
A97: =M2 -> LOTRIET | B97: =N2 -> J | C97: =SUM(N27) -> 0 | D97: =SUM(N19) -> 1.4 | E97: =SUM(D97+C97) -> 1.4 | F97: =COUNTA(M20:M26) -> 0 | G97: =COUNTA(M4:M18) -> 1
A98: DAY TOTAL | C98: =SUM(C91:C97) -> 0 | D98: =SUM(D91:D97) -> 20.3 | E98: =SUM(E91:E97) -> 20.3 | F98: =SUM(F91:F97) -> 0 | G98: =SUM(G91:G97) -> 8
A101: DAY 2 - WED 6 OCT 2021
A102: ANGLER | C102: MASS | D102: MASS | E102: POINTS | F102: AMOUNT | G102: AMOUNT
A103: NAME | B103: INI | C103: EDIBLE | D103: NON-ED | E103: ACC | F103: EDIBLE | G103: NON-ED
A104: =A2 -> VAN EMMENES | B104: =B2 -> D | C104: =SUM(B56) -> 0 | D104: =SUM(B48) -> 68.5 | E104: =SUM(D104+C104) -> 68.5 | F104: =COUNTA(A49:A56) -> 0 | G104: =COUNTA(A33:A47) -> 6
A105: =C2 -> VERSTER | B105: =D2 -> D | C105: =SUM(D56) -> 0 | D105: =SUM(D48) -> 13.3 | E105: =SUM(D105+C105) -> 13.3 | F105: =COUNTA(C49:C56) -> 0 | G105: =COUNTA(C33:C47) -> 3
A106: =E2 -> REYNOLDS | B106: =F2 -> N | C106: =SUM(F56) -> 0 | D106: =SUM(F48) -> 18.4 | E106: =SUM(D106+C106) -> 18.4 | F106: =COUNTA(E49:E56) -> 0 | G106: =COUNTA(E33:E47) -> 8
A107: =G2 -> BUSSE | B107: =H2 -> C | C107: =SUM(H56) -> 0 | D107: =SUM(H48) -> 0 | E107: =SUM(D107+C107) -> 0 | F107: =COUNTA(G49:G56) -> 0 | G107: =COUNTA(G33:G47) -> 0
A108: =I2 -> TERBLANCHE | B108: =J2 -> E | C108: =SUM(J56) -> 0 | D108: =SUM(J48) -> 0 | E108: =SUM(D108+C108) -> 0 | F108: =COUNTA(I49:I56) -> 0 | G108: =COUNTA(I33:I47) -> 0
A109: =K2 -> ESPACH | B109: =L2 -> H | C109: =SUM(L56) -> 0 | D109: =SUM(L48) -> 10 | E109: =SUM(D109+C109) -> 10 | F109: =COUNTA(K49:K56) -> 0 | G109: =COUNTA(K33:K48) -> 3
A110: =M2 -> LOTRIET | B110: =N2 -> J | C110: =SUM(N56) -> 5.4 | D110: =SUM(N48) -> 52.3 | E110: =SUM(D110+C110) -> 57.7 | F110: =COUNTA(M49:M56) -> 1 | G110: =COUNTA(M33:M47) -> 4
A111: DAY TOTAL | C111: =SUM(C104:C110) -> 5.4 | D111: =SUM(D104:D110) -> 162.5 | E111: =SUM(E104:E110) -> 167.9 | F111: =SUM(F104:F110) -> 1 | G111: =SUM(G104:G110) -> 24
A114: DAY 3 - THU 7 OCT 2021
A115: ANGLER | C115: MASS | D115: MASS | E115: POINTS | F115: AMOUNT | G115: AMOUNT
A116: NAME | B116: INI | C116: EDIBLE | D116: NON-ED | E116: ACC | F116: EDIBLE | G116: NON-ED
A117: =A2 -> VAN EMMENES | B117: =B2 -> D | C117: =SUM(B85) -> 0 | D117: =SUM(B77) -> 2.2 | E117: =SUM(D117+C117) -> 2.2 | F117: =COUNTA(A78:A84) -> 0 | G117: =COUNTA(A62:A76) -> 1
A118: =C2 -> VERSTER | B118: =D2 -> D | C118: =SUM(D85) -> 0 | D118: =SUM(D77) -> 0 | E118: =SUM(D118+C118) -> 0 | F118: =COUNTA(C78:C84) -> 0 | G118: =COUNTA(C62:C76) -> 0
A119: =E2 -> REYNOLDS | B119: =F2 -> N | C119: =SUM(F85) -> 0 | D119: =SUM(F77) -> 2.2 | E119: =SUM(D119+C119) -> 2.2 | F119: =COUNTA(E78:E84) -> 0 | G119: =COUNTA(E62:E76) -> 1
A120: =G2 -> BUSSE | B120: =H2 -> C | C120: =SUM(H85) -> 0 | D120: =SUM(H77) -> 1.1 | E120: =SUM(D120+C120) -> 1.1 | F120: =COUNTA(G78:G84) -> 0 | G120: =COUNTA(G62:G76) -> 1
A121: =I2 -> TERBLANCHE | B121: =J2 -> E | C121: =SUM(J85) -> 0 | D121: =SUM(J77) -> 6.8 | E121: =SUM(D121+C121) -> 6.8 | F121: =COUNTA(I78:I84) -> 0 | G121: =COUNTA(I62:I76) -> 1
A122: =K2 -> ESPACH | B122: =L2 -> H | C122: =SUM(L85) -> 0 | D122: =SUM(L77) -> 0 | E122: =SUM(D122+C122) -> 0 | F122: =COUNTA(K78:K84) -> 0 | G122: =COUNTA(K62:K76) -> 0
A123: =M2 -> LOTRIET | B123: =N2 -> J | C123: =SUM(N85) -> 0 | D123: =SUM(N77) -> 0 | E123: =SUM(D123+C123) -> 0 | F123: =COUNTA(M78:M84) -> 0 | G123: =COUNTA(M62:M76) -> 0
A124: DAY TOTAL | C124: =SUM(C117:C123) -> 0 | D124: =SUM(D117:D123) -> 12.3 | E124: =SUM(E117:E123) -> 12.3 | F124: =SUM(F117:F123) -> 0 | G124: =SUM(G117:G123) -> 4
A127: POINTS ACCUMULATED - TUE 5 OCT to THU 7 OCT 2021
A128: ANGLER | C128: MASS | D128: MASS | E128: POINTS | F128: AMOUNT | G128: AMOUNT | H128: TOTAL
A129: NAME | B129: INI | C129: EDIBLE | D129: NON-ED | E129: ACC | F129: EDIBLE | G129: NON-ED | H129: FISH
A130: =A2 -> VAN EMMENES | B130: =B2 -> D | C130: =SUM(C117+C104+C91) -> 0 | D130: =SUM(D91+D104+D117) -> 70.7 | E130: =SUM(E117+E104+E91) -> 70.7 | F130: =SUM(F91+F104+F117) -> 0 | G130: =SUM(G91+G104+G117) -> 7 | H130: =SUM(F130:G130) -> 7
A131: =C2 -> VERSTER | B131: =D2 -> D | C131: =SUM(C118+C105+C92) -> 0 | D131: =SUM(D92+D105+D118) -> 30.7 | E131: =SUM(E118+E105+E92) -> 30.7 | F131: =SUM(F92+F105+F118) -> 0 | G131: =SUM(G92+G105+G118) -> 9 | H131: =SUM(F131:G131) -> 9
A132: =E2 -> REYNOLDS | B132: =F2 -> N | C132: =SUM(C119+C106+C93) -> 0 | D132: =SUM(D93+D106+D119) -> 22.1 | E132: =SUM(E119+E106+E93) -> 22.1 | F132: =SUM(F93+F106+F119) -> 0 | G132: =SUM(G93+G106+G119) -> 10 | H132: =SUM(F132:G132) -> 10
A133: =G2 -> BUSSE | B133: =H2 -> C | C133: =SUM(C120+C107+C94) -> 0 | D133: =SUM(D94+D107+D120) -> 1.1 | E133: =SUM(E120+E107+E94) -> 1.1 | F133: =SUM(F94+F107+F120) -> 0 | G133: =SUM(G94+G107+G120) -> 1 | H133: =SUM(F133:G133) -> 1
A134: =I2 -> TERBLANCHE | B134: =J2 -> E | C134: =SUM(C121+C108+C95) -> 0 | D134: =SUM(D95+D108+D121) -> 6.8 | E134: =SUM(E121+E108+E95) -> 6.8 | F134: =SUM(F95+F108+F121) -> 0 | G134: =SUM(G95+G108+G121) -> 1 | H134: =SUM(F134:G134) -> 1
A135: =K2 -> ESPACH | B135: =L2 -> H | C135: =SUM(C122+C109+C96) -> 0 | D135: =SUM(D96+D109+D122) -> 10 | E135: =SUM(E122+E109+E96) -> 10 | F135: =SUM(F96+F109+F122) -> 0 | G135: =SUM(G96+G109+G122) -> 3 | H135: =SUM(F135+G135) -> 3
A136: =M2 -> LOTRIET | B136: =N2 -> J | C136: =SUM(C123+C110+C97) -> 5.4 | D136: =SUM(D97+D110+D123) -> 53.7 | E136: =SUM(E123+E110+E97) -> 59.1 | F136: =SUM(F97+F110+F123) -> 1 | G136: =SUM(G97+G110+G123) -> 5 | H136: =SUM(F136:G136) -> 6
A137: WEEK TOTAL | C137: =SUM(C130:C136) -> 5.4 | D137: =SUM(D130:D136) -> 195.1 | E137: =SUM(E130:E136) -> 200.5 | F137: =SUM(F130:F136) -> 1 | G137: =SUM(G130:G136) -> 36 | H137: =SUM(H130:H136) -> 37

Sheet SA INL
A1: DAY 1 - TUE 5 OCT 2021
A2: THERON | B2: JB | C2: BARNARD | D2: W | E2: GOVENDER | F2: J | G2: VAN ZYL | H2: D | I2: OLIVIER | J2: T | K2: JACOBS | L2: G | M2: DASRATH | N2: D
A3: SPECIE | B3: KG | C3: SPECIE | D3: KG | E3: SPECIE | F3: KG | G3: SPECIE | H3: KG | I3: SPECIE | J3: KG | K3: SPECIE | L3: KG | M3: SPECIE | N3: KG
A4: BLUE RAY | B4: 4.1 | C4: BLUE RAY | D4: 3 | G4: BLUE RAY | H4: 3.3 | I4: BLUE RAY | J4: 4 | K4: BLUE RAY | L4: 1.3 | M4: BLUE RAY | N4: 2.6
A5: BLUE RAY | B5: 2 | C5: BLUE RAY | D5: 1.5 | I5: EAGLE | J5: 1 | K5: BLUE RAY | L5: 2.8 | M5: BLUE RAY | N5: 3.5
A6: BLUE RAY | B6: 2.8 | C6: BLUE RAY | D6: 2.4 | K6: BLUE RAY | L6: 1.7 | M6: BLUE RAY | N6: 1.5
A7: BLUE RAY | B7: 2.4 | C7: BLUE RAY | D7: 2.3
C8: ST JOSEPH | D8: 5.1
C9: BLUE RAY | D9: 3.7
C10: BLUE RAY | D10: 2.3
B19: =SUM(B4:B18) -> 11.3 | D19: =SUM(D4:D18) -> 20.3 | F19: =SUM(F4:F18) -> 0 | H19: =SUM(H4:H18) -> 3.3 | J19: =SUM(J4:J18) -> 5 | L19: =SUM(L4:L18) -> 5.8 | N19: =SUM(N4:N18) -> 7.6 | O19: =SUM(A19:N19) -> 53.3
M20: BLACKTAIL | N20: 1
O23: =SUM(O19+O27) -> 54.3
B27: =SUM(B20:B26) -> 0 | D27: =SUM(D20:D26) -> 0 | F27: =SUM(F20:F26) -> 0 | H27: =SUM(H20:H26) -> 0 | J27: =SUM(J20:J26) -> 0 | L27: =SUM(L20:L26) -> 0 | N27: =SUM(N20:N26) -> 1 | O27: =SUM(A27:N27) -> 1
A30: DAY 2 - WED 6 OCT 2021
A31: =A2 -> THERON | B31: =B2 -> JB | C31: =C2 -> BARNARD | D31: =D2 -> W | E31: =E2 -> GOVENDER | F31: =F2 -> J | G31: =G2 -> VAN ZYL | H31: =H2 -> D | ... N31: =N2 -> D
A32: SPECIE | B32: KG | C32: SPECIE | D32: KG | E32: SPECIE | F32: KG | G32: SPECIE | H32: KG | I32: SPECIE | J32: KG | K32: SPECIE | L32: KG | M32: SPECIE | N32: KG
A33: BLUE RAY | B33: 2.8 | C33: BLUE RAY | D33: 2.6 | E33: BLUE RAY | F33: 9.2 | G33: BLUE RAY | H33: 2.1 | I33: SANDY | J33: 2.5 | K33: SANDY | L33: 4.1 | M33: BLUE RAY | N33: 13.2
A34: DIAMOND | B34: 9.9 | C34: BLUE RAY | D34: 2.5 | E34: BLUE RAY | F34: 2.8 | G34: BLUE RAY | H34: 2 | I34: BLUE RAY | J34: 2 | K34: BLUE RAY | L34: 13.2 | M34: BLUE RAY | N34: 2.8
A35: BLUE RAY | B35: 13.2 | C35: BLUE RAY | D35: 10.2 | G35: SANDY | H35: 1.1 | I35: BLUE RAY | J35: 3.3 | K35: BLUE RAY | L35: 12 | M35: BLUE RAY | N35: 2.1
A36: BLUE RAY | B36: 15.3 | C36: BLUE RAY | D36: 3.7 | G36: BLUE RAY | H36: 1.4 | K36: BLUE RAY | L36: 14.6 | M36: BLUE RAY | N36: 2.5
A37: BLUE RAY | B37: 16 | G37: BLUE RAY | H37: 1.8 | K37: BLUE RAY | L37: 2.6 | M37: EAGLE | N37: 20
A38: BLUE RAY | B38: 10.8 | G38: BLUE RAY | H38: 2.5 | K38: BLUE RAY | L38: 2.8 | M38: BLUE RAY | N38: 2
M39: SANDY | N39: 2.5
B48: =SUM(B33:B47) -> 68 | D48: =SUM(D33:D47) -> 19 | F48: =SUM(F33:F47) -> 12 | H48: =SUM(H33:H47) -> 10.9 | J48: =SUM(J33:J47) -> 7.8 | L48: =SUM(L33:L47) -> 49.3 | N48: =SUM(N33:N47) -> 45.1 | O48: =SUM(A48:N48) -> 212.1
C49: BAARDMAN | D49: 3
O52: =SUM(O48+O56) -> 215.1
B56: =SUM(B49:B55) -> 0 | D56: =SUM(D49:D55) -> 3 | F56: =SUM(F49:F55) -> 0 | H56: =SUM(H49:H55) -> 0 | J56: =SUM(J49:J55) -> 0 | L56: =SUM(L49:L55) -> 0 | N56: =SUM(N49:N55) -> 0 | O56: =SUM(A56:N56) -> 3
A59: DAY 3 - THU 7 OCT 2021
A60: =A2 -> THERON | B60: =B2 -> JB | C60: =C2 -> BARNARD | D60: =D2 -> W | E60: =E2 -> GOVENDER | F60: =F2 -> J | G60: =G2 -> VAN ZYL | H60: =H2 -> D | ... N60: =N2 -> D
A61: SPECIE | B61: KG | C61: SPECIE | D61: KG | E61: SPECIE | F61: KG | G61: SPECIE | H61: KG | I61: SPECIE | J61: KG | K61: SPECIE | L61: KG | M61: SPECIE | N61: KG
C62: BLUE RAY | D62: 2.4 | I62: BLUE RAY | J62: 7.3
C63: SANDY | D63: 1.4
B77: =SUM(B62:B76) -> 0 | D77: =SUM(D62:D76) -> 3.8 | F77: =SUM(F62:F76) -> 0 | H77: =SUM(H62:H76) -> 0 | J77: =SUM(J62:J76) -> 7.3 | L77: =SUM(L62:L76) -> 0 | N77: =SUM(N62:N76) -> 0 | O77: =SUM(A77:N77) -> 11.1
O81: =SUM(O77+O85) -> 11.1
B85: =SUM(B78:B84) -> 0 | D85: =SUM(D78:D84) -> 0 | F85: =SUM(F78:F84) -> 0 | H85: =SUM(H78:H84) -> 0 | J85: =SUM(J78:J84) -> 0 | L85: =SUM(L78:L84) -> 0 | N85: =SUM(N78:N84) -> 0 | O85: =SUM(A85:N85) -> 0
A88: DAY 1 - TUE 5 OCT 2021
A89: ANGLER | C89: MASS | D89: MASS | E89: POINTS | F89: AMOUNT | G89: AMOUNT
A90: NAME | B90: INI | C90: EDIBLE | D90: NON-ED | E90: ACC | F90: EDIBLE | G90: NON-ED
A91: =A2 -> THERON | B91: =B2 -> JB | C91: =SUM(B27) -> 0 | D91: =SUM(B19) -> 11.3 | E91: =SUM(D91+C91) -> 11.3 | F91: =COUNTA(A20:A26) -> 0 | G91: =COUNTA(A4:A18) -> 4
A92: =C2 -> BARNARD | B92: =D2 -> W | C92: =SUM(D27) -> 0 | D92: =SUM(D19) -> 20.3 | E92: =SUM(D92+C92) -> 20.3 | F92: =COUNTA(C20:C26) -> 0 | G92: =COUNTA(C4:C18) -> 7
A93: =E2 -> GOVENDER | B93: =F2 -> J | C93: =SUM(F27) -> 0 | D93: =SUM(F19) -> 0 | E93: =SUM(D93+C93) -> 0 | F93: =COUNTA(E20:E26) -> 0 | G93: =COUNTA(E4:E18) -> 0
A94: =G2 -> VAN ZYL | B94: =H2 -> D | C94: =SUM(H27) -> 0 | D94: =SUM(H19) -> 3.3 | E94: =SUM(D94+C94) -> 3.3 | F94: =COUNTA(G20:G26) -> 0 | G94: =COUNTA(G4:G18) -> 1
A95: =I2 -> OLIVIER | B95: =J2 -> T | C95: =SUM(J27) -> 0 | D95: =SUM(J19) -> 5 | E95: =SUM(D95+C95) -> 5 | F95: =COUNTA(I20:I26) -> 0 | G95: =COUNTA(I4:I18) -> 2
A96: =K2 -> JACOBS | B96: =L2 -> G | C96: =SUM(L27) -> 0 | D96: =SUM(L19) -> 5.8 | E96: =SUM(D96+C96) -> 5.8 | F96: =COUNTA(K20:K26) -> 0 | G96: =COUNTA(K4:K18) -> 3
A97: =M2 -> DASRATH | B97: =N2 -> D | C97: =SUM(N27) -> 1 | D97: =SUM(N19) -> 7.6 | E97: =SUM(D97+C97) -> 8.6 | F97: =COUNTA(M20:M26) -> 1 | G97: =COUNTA(M4:M18) -> 3
A98: DAY TOTAL | C98: =SUM(C91:C97) -> 1 | D98: =SUM(D91:D97) -> 53.3 | E98: =SUM(E91:E97) -> 54.3 | F98: =SUM(F91:F97) -> 1 | G98: =SUM(G91:G97) -> 20
A101: DAY 2 - WED 6 OCT 2021
A102: ANGLER | C102: MASS | D102: MASS | E102: POINTS | F102: AMOUNT | G102: AMOUNT
A103: NAME | B103: INI | C103: EDIBLE | D103: NON-ED | E103: ACC | F103: EDIBLE | G103: NON-ED
A104: =A2 -> THERON | B104: =B2 -> JB | C104: =SUM(B56) -> 0 | D104: =SUM(B48) -> 68 | E104: =SUM(D104+C104) -> 68 | F104: =COUNTA(A49:A56) -> 0 | G104: =COUNTA(A33:A47) -> 6
A105: =C2 -> BARNARD | B105: =D2 -> W | C105: =SUM(D56) -> 3 | D105: =SUM(D48) -> 19 | E105: =SUM(D105+C105) -> 22 | F105: =COUNTA(C49:C56) -> 1 | G105: =COUNTA(C33:C47) -> 4
A106: =E2 -> GOVENDER | B106: =F2 -> J | C106: =SUM(F56) -> 0 | D106: =SUM(F48) -> 12 | E106: =SUM(D106+C106) -> 12 | F106: =COUNTA(E49:E56) -> 0 | G106: =COUNTA(E33:E47) -> 2
A107: =G2 -> VAN ZYL | B107: =H2 -> D | C107: =SUM(H56) -> 0 | D107: =SUM(H48) -> 10.9 | E107: =SUM(D107+C107) -> 10.9 | F107: =COUNTA(G49:G56) -> 0 | G107: =COUNTA(G33:G47) -> 6
A108: =I2 -> OLIVIER | B108: =J2 -> T | C108: =SUM(J56) -> 0 | D108: =SUM(J48) -> 7.8 | E108: =SUM(D108+C108) -> 7.8 | F108: =COUNTA(I49:I56) -> 0 | G108: =COUNTA(I33:I47) -> 3
A109: =K2 -> JACOBS | B109: =L2 -> G | C109: =SUM(L56) -> 0 | D109: =SUM(L48) -> 49.3 | E109: =SUM(D109+C109) -> 49.3 | F109: =COUNTA(K49:K56) -> 0 | G109: =COUNTA(K33:K48) -> 6
A110: =M2 -> DASRATH | B110: =N2 -> D | C110: =SUM(N56) -> 0 | D110: =SUM(N48) -> 45.1 | E110: =SUM(D110+C110) -> 45.1 | F110: =COUNTA(M49:M56) -> 0 | G110: =COUNTA(M33:M47) -> 7
A111: DAY TOTAL | C111: =SUM(C104:C110) -> 3 | D111: =SUM(D104:D110) -> 212.1 | E111: =SUM(E104:E110) -> 215.1 | F111: =SUM(F104:F110) -> 1 | G111: =SUM(G104:G110) -> 34
A114: DAY 3 - THU 7 OCT 2021
A115: ANGLER | C115: MASS | D115: MASS | E115: POINTS | F115: AMOUNT | G115: AMOUNT
A116: NAME | B116: INI | C116: EDIBLE | D116: NON-ED | E116: ACC | F116: EDIBLE | G116: NON-ED
A117: =A2 -> THERON | B117: =B2 -> JB | C117: =SUM(B85) -> 0 | D117: =SUM(B77) -> 0 | E117: =SUM(D117+C117) -> 0 | F117: =COUNTA(A78:A84) -> 0 | G117: =COUNTA(A62:A76) -> 0
A118: =C2 -> BARNARD | B118: =D2 -> W | C118: =SUM(D85) -> 0 | D118: =SUM(D77) -> 3.8 | E118: =SUM(D118+C118) -> 3.8 | F118: =COUNTA(C78:C84) -> 0 | G118: =COUNTA(C62:C76) -> 2
A119: =E2 -> GOVENDER | B119: =F2 -> J | C119: =SUM(F85) -> 0 | D119: =SUM(F77) -> 0 | E119: =SUM(D119+C119) -> 0 | F119: =COUNTA(E78:E84) -> 0 | G119: =COUNTA(E62:E76) -> 0
A120: =G2 -> VAN ZYL | B120: =H2 -> D | C120: =SUM(H85) -> 0 | D120: =SUM(H77) -> 0 | E120: =SUM(D120+C120) -> 0 | F120: =COUNTA(G78:G84) -> 0 | G120: =COUNTA(G62:G76) -> 0
A121: =I2 -> OLIVIER | B121: =J2 -> T | C121: =SUM(J85) -> 0 | D121: =SUM(J77) -> 7.3 | E121: =SUM(D121+C121) -> 7.3 | F121: =COUNTA(I78:I84) -> 0 | G121: =COUNTA(I62:I76) -> 1
A122: =K2 -> JACOBS | B122: =L2 -> G | C122: =SUM(L85) -> 0 | D122: =SUM(L77) -> 0 | E122: =SUM(D122+C122) -> 0 | F122: =COUNTA(K78:K84) -> 0 | G122: =COUNTA(K62:K76) -> 0
A123: =M2 -> DASRATH | B123: =N2 -> D | C123: =SUM(N85) -> 0 | D123: =SUM(N77) -> 0 | E123: =SUM(D123+C123) -> 0 | F123: =COUNTA(M78:M84) -> 0 | G123: =COUNTA(M62:M76) -> 0
A124: DAY TOTAL | C124: =SUM(C117:C123) -> 0 | D124: =SUM(D117:D123) -> 11.1 | E124: =SUM(E117:E123) -> 11.1 | F124: =SUM(F117:F123) -> 0 | G124: =SUM(G117:G123) -> 3
A127: POINTS ACCUMULATED - TUE 5 OCT to THU 7 OCT 2021
A128: ANGLER | C128: MASS | D128: MASS | E128: POINTS | F128: AMOUNT | G128: AMOUNT | H128: TOTAL
A129: NAME | B129: INI | C129: EDIBLE | D129: NON-ED | E129: ACC | F129: EDIBLE | G129: NON-ED | H129: FISH
A130: =A2 -> THERON | B130: =B2 -> JB | C130: =SUM(C117+C104+C91) -> 0 | D130: =SUM(D91+D104+D117) -> 79.3 | E130: =SUM(E117+E104+E91) -> 79.3 | F130: =SUM(F91+F104+F117) -> 0 | G130: =SUM(G91+G104+G117) -> 10 | H130: =SUM(F130:G130) -> 10
A131: =C2 -> BARNARD | B131: =D2 -> W | C131: =SUM(C118+C105+C92) -> 3 | D131: =SUM(D92+D105+D118) -> 43.1 | E131: =SUM(E118+E105+E92) -> 46.1 | F131: =SUM(F92+F105+F118) -> 1 | G131: =SUM(G92+G105+G118) -> 13 | H131: =SUM(F131:G131) -> 14
A132: =E2 -> GOVENDER | B132: =F2 -> J | C132: =SUM(C119+C106+C93) -> 0 | D132: =SUM(D93+D106+D119) -> 12 | E132: =SUM(E119+E106+E93) -> 12 | F132: =SUM(F93+F106+F119) -> 0 | G132: =SUM(G93+G106+G119) -> 2 | H132: =SUM(F132:G132) -> 2
A133: =G2 -> VAN ZYL | B133: =H2 -> D | C133: =SUM(C120+C107+C94) -> 0 | D133: =SUM(D94+D107+D120) -> 14.2 | E133: =SUM(E120+E107+E94) -> 14.2 | F133: =SUM(F94+F107+F120) -> 0 | G133: =SUM(G94+G107+G120) -> 7 | H133: =SUM(F133:G133) -> 7
A134: =I2 -> OLIVIER | B134: =J2 -> T | C134: =SUM(C121+C108+C95) -> 0 | D134: =SUM(D95+D108+D121) -> 20.1 | E134: =SUM(E121+E108+E95) -> 20.1 | F134: =SUM(F95+F108+F121) -> 0 | G134: =SUM(G95+G108+G121) -> 6 | H134: =SUM(F134:G134) -> 6
A135: =K2 -> JACOBS | B135: =L2 -> G | C135: =SUM(C122+C109+C96) -> 0 | D135: =SUM(D96+D109+D122) -> 55.1 | E135: =SUM(E122+E109+E96) -> 55.1 | F135: =SUM(F96+F109+F122) -> 0 | G135: =SUM(G96+G109+G122) -> 9 | H135: =SUM(F135+G135) -> 9
A136: =M2 -> DASRATH | B136: =N2 -> D | C136: =SUM(C123+C110+C97) -> 1 | D136: =SUM(D97+D110+D123) -> 52.7 | E136: =SUM(E123+E110+E97) -> 53.7 | F136: =SUM(F97+F110+F123) -> 1 | G136: =SUM(G97+G110+G123) -> 10 | H136: =SUM(F136:G136) -> 11
A137: WEEK TOTAL | C137: =SUM(C130:C136) -> 4 | D137: =SUM(D130:D136) -> 276.5 | E137: =SUM(E130:E136) -> 280.5 | F137: =SUM(F130:F136) -> 2 | G137: =SUM(G130:G136) -> 57 | H137: =SUM(H130:H136) -> 59

Sheet SA MAS
A1: DAY 1 - TUE 5 OCT 2021
A2: PIENAAR | B2: F | C2: MARTIN | D2: R | E2: HYMAN | F2: M | G2: PEINKE | H2: L | I2: MC FARLANE | J2: B | K2: MELLET | L2: A | M2: VAN ZYL | N2: J
A3: SPECIE | B3: KG | C3: SPECIE | D3: KG | E3: SPECIE | F3: KG | G3: SPECIE | H3: KG | I3: SPECIE | J3: KG | K3: SPECIE | L3: KG | M3: SPECIE | N3: KG
A4: SANDY | B4: 1.2 | C4: BLUE RAY | D4: 2.8 | E4: BLUE RAY | F4: 1.8 | G4: BLUE RAY | H4: 1.3 | I4: BLUE RAY | J4: 2.8 | K4: SANDY | L4: 1.8 | M4: BLUE RAY | N4: 1.2
E5: BLUE RAY | F5: 3.3 | G5: SANDY | H5: 1.4 | M5: BLUE RAY | N5: 2.8
E6: BLUE RAY | F6: 2.1 | G6: SANDY | H6: 1.4 | M6: BLUE RAY | N6: 8.2
E7: BLUE RAY | F7: 2.1 | G7: SANDY | H7: 1.6
E8: BLUE RAY | F8: 7.7
B19: =SUM(B4:B18) -> 1.2 | D19: =SUM(D4:D18) -> 2.8 | F19: =SUM(F4:F18) -> 17 | H19: =SUM(H4:H18) -> 5.7 | J19: =SUM(J4:J18) -> 2.8 | L19: =SUM(L4:L18) -> 1.8 | N19: =SUM(N4:N18) -> 12.2 | O19: =SUM(A19:N19) -> 43.5
O23: =SUM(O19+O27) -> 43.5
B27: =SUM(B20:B26) -> 0 | D27: =SUM(D20:D26) -> 0 | F27: =SUM(F20:F26) -> 0 | H27: =SUM(H20:H26) -> 0 | J27: =SUM(J20:J26) -> 0 | L27: =SUM(L20:L26) -> 0 | N27: =SUM(N20:N26) -> 0 | O27: =SUM(A27:N27) -> 0
A30: DAY 2 - WED 6 OCT 2021
A31: =A2 -> PIENAAR | B31: =B2 -> F | C31: =C2 -> MARTIN | D31: =D2 -> R | E31: =E2 -> HYMAN | F31: =F2 -> M | G31: =G2 -> PEINKE | H31: =H2 -> L | ... N31: =N2 -> J
A32: SPECIE | B32: KG | C32: SPECIE | D32: KG | E32: SPECIE | F32: KG | G32: SPECIE | H32: KG | I32: SPECIE | J32: KG | K32: SPECIE | L32: KG | M32: SPECIE | N32: KG
A33: BLUE RAY | B33: 6.1 | C33: BLUE RAY | D33: 10.2 | E33: BLUE RAY | F33: 3.5 | G33: BLUE RAY | H33: 2.4 | I33: BLUE RAY | J33: 2 | K33: SANDY | L33: 3 | M33: SMOOTH HOUND | N33: 10.3
A34: BLUE RAY | B34: 12.6 | C34: BLUE RAY | D34: 13.2 | E34: BLUE RAY | F34: 3 | G34: BLUE RAY | H34: 2.5 | I34: BLUE RAY | J34: 2.5 | K34: BLUE RAY | L34: 2.6 | M34: BLUE RAY | N34: 10.8
C35: BLUE RAY | D35: 9.2 | E35: BLUE RAY | F35: 3 | G35: BLUE RAY | H35: 2.6 | I35: BLUE RAY | J35: 3.5 | K35: EAGLE | L35: 8 | M35: BLUE RAY | N35: 10.8
E36: BLUE RAY | F36: 3 | G36: SANDY | H36: 3 | I36: BLUE RAY | J36: 9.7 | K36: SANDY | L36: 2.2 | M36: BLUE RAY | N36: 3
E37: BLUE RAY | F37: 3 | G37: BLUE RAY | H37: 2.6 | M37: BLUE RAY | N37: 2.6
E38: BLUE RAY | F38: 2.3 | G38: BLUE RAY | H38: 2
E39: BLUE RAY | F39: 6.1 | G39: SANDY | H39: 2.4
E40: BLUE RAY | F40: 7.7
E41: BLUE RAY | F41: 2.3
E42: BLUE RAY | F42: 9.7
B48: =SUM(B33:B47) -> 18.7 | D48: =SUM(D33:D47) -> 32.6 | F48: =SUM(F33:F47) -> 43.6 | H48: =SUM(H33:H47) -> 17.5 | J48: =SUM(J33:J47) -> 17.7 | L48: =SUM(L33:L47) -> 15.8 | N48: =SUM(N33:N47) -> 37.5 | O48: =SUM(A48:N48) -> 183.4
O52: =SUM(O48+O56) -> 183.4
B56: =SUM(B49:B55) -> 0 | D56: =SUM(D49:D55) -> 0 | F56: =SUM(F49:F55) -> 0 | H56: =SUM(H49:H55) -> 0 | J56: =SUM(J49:J55) -> 0 | L56: =SUM(L49:L55) -> 0 | N56: =SUM(N49:N55) -> 0 | O56: =SUM(A56:N56) -> 0
A59: DAY 3 - THU 7 OCT 2021
A60: =A2 -> PIENAAR | B60: =B2 -> F | C60: =C2 -> MARTIN | D60: =D2 -> R | E60: =E2 -> HYMAN | F60: =F2 -> M | G60: =G2 -> PEINKE | H60: =H2 -> L | ... N60: =N2 -> J
A61: SPECIE | B61: KG | C61: SPECIE | D61: KG | E61: SPECIE | F61: KG | G61: SPECIE | H61: KG | I61: SPECIE | J61: KG | K61: SPECIE | L61: KG | M61: SPECIE | N61: KG
I62: BLUE RAY | J62: 1.3
B77: =SUM(B62:B76) -> 0 | D77: =SUM(D62:D76) -> 0 | F77: =SUM(F62:F76) -> 0 | H77: =SUM(H62:H76) -> 0 | J77: =SUM(J62:J76) -> 1.3 | L77: =SUM(L62:L76) -> 0 | N77: =SUM(N62:N76) -> 0 | O77: =SUM(A77:N77) -> 1.3
O81: =SUM(O77+O85) -> 1.3
B85: =SUM(B78:B84) -> 0 | D85: =SUM(D78:D84) -> 0 | F85: =SUM(F78:F84) -> 0 | H85: =SUM(H78:H84) -> 0 | J85: =SUM(J78:J84) -> 0 | L85: =SUM(L78:L84) -> 0 | N85: =SUM(N78:N84) -> 0 | O85: =SUM(A85:N85) -> 0
A88: DAY 1 - TUE 5 OCT 2021
A89: ANGLER | C89: MASS | D89: MASS | E89: POINTS | F89: AMOUNT | G89: AMOUNT
A90: NAME | B90: INI | C90: EDIBLE | D90: NON-ED | E90: ACC | F90: EDIBLE | G90: NON-ED
A91: =A2 -> PIENAAR | B91: =B2 -> F | C91: =SUM(B27) -> 0 | D91: =SUM(B19) -> 1.2 | E91: =SUM(D91+C91) -> 1.2 | F91: =COUNTA(A20:A26) -> 0 | G91: =COUNTA(A4:A18) -> 1
A92: =C2 -> MARTIN | B92: =D2 -> R | C92: =SUM(D27) -> 0 | D92: =SUM(D19) -> 2.8 | E92: =SUM(D92+C92) -> 2.8 | F92: =COUNTA(C20:C26) -> 0 | G92: =COUNTA(C4:C18) -> 1
A93: =E2 -> HYMAN | B93: =F2 -> M | C93: =SUM(F27) -> 0 | D93: =SUM(F19) -> 17 | E93: =SUM(D93+C93) -> 17 | F93: =COUNTA(E20:E26) -> 0 | G93: =COUNTA(E4:E18) -> 5
A94: =G2 -> PEINKE | B94: =H2 -> L | C94: =SUM(H27) -> 0 | D94: =SUM(H19) -> 5.7 | E94: =SUM(D94+C94) -> 5.7 | F94: =COUNTA(G20:G26) -> 0 | G94: =COUNTA(G4:G18) -> 4
A95: =I2 -> MC FARLANE | B95: =J2 -> B | C95: =SUM(J27) -> 0 | D95: =SUM(J19) -> 2.8 | E95: =SUM(D95+C95) -> 2.8 | F95: =COUNTA(I20:I26) -> 0 | G95: =COUNTA(I4:I18) -> 1
A96: =K2 -> MELLET | B96: =L2 -> A | C96: =SUM(L27) -> 0 | D96: =SUM(L19) -> 1.8 | E96: =SUM(D96+C96) -> 1.8 | F96: =COUNTA(K20:K26) -> 0 | G96: =COUNTA(K4:K18) -> 1
A97: =M2 -> VAN ZYL | B97: =N2 -> J | C97: =SUM(N27) -> 0 | D97: =SUM(N19) -> 12.2 | E97: =SUM(D97+C97) -> 12.2 | F97: =COUNTA(M20:M26) -> 0 | G97: =COUNTA(M4:M18) -> 3
A98: DAY TOTAL | C98: =SUM(C91:C97) -> 0 | D98: =SUM(D91:D97) -> 43.5 | E98: =SUM(E91:E97) -> 43.5 | F98: =SUM(F91:F97) -> 0 | G98: =SUM(G91:G97) -> 16
A101: DAY 2 - WED 6 OCT 2021
A102: ANGLER | C102: MASS | D102: MASS | E102: POINTS | F102: AMOUNT | G102: AMOUNT
A103: NAME | B103: INI | C103: EDIBLE | D103: NON-ED | E103: ACC | F103: EDIBLE | G103: NON-ED
A104: =A2 -> PIENAAR | B104: =B2 -> F | C104: =SUM(B56) -> 0 | D104: =SUM(B48) -> 18.7 | E104: =SUM(D104+C104) -> 18.7 | F104: =COUNTA(A49:A56) -> 0 | G104: =COUNTA(A33:A47) -> 2
A105: =C2 -> MARTIN | B105: =D2 -> R | C105: =SUM(D56) -> 0 | D105: =SUM(D48) -> 32.6 | E105: =SUM(D105+C105) -> 32.6 | F105: =COUNTA(C49:C56) -> 0 | G105: =COUNTA(C33:C47) -> 3
A106: =E2 -> HYMAN | B106: =F2 -> M | C106: =SUM(F56) -> 0 | D106: =SUM(F48) -> 43.6 | E106: =SUM(D106+C106) -> 43.6 | F106: =COUNTA(E49:E56) -> 0 | G106: =COUNTA(E33:E47) -> 10
A107: =G2 -> PEINKE | B107: =H2 -> L | C107: =SUM(H56) -> 0 | D107: =SUM(H48) -> 17.5 | E107: =SUM(D107+C107) -> 17.5 | F107: =COUNTA(G49:G56) -> 0 | G107: =COUNTA(G33:G47) -> 7
A108: =I2 -> MC FARLANE | B108: =J2 -> B | C108: =SUM(J56) -> 0 | D108: =SUM(J48) -> 17.7 | E108: =SUM(D108+C108) -> 17.7 | F108: =COUNTA(I49:I56) -> 0 | G108: =COUNTA(I33:I47) -> 4
A109: =K2 -> MELLET | B109: =L2 -> A | C109: =SUM(L56) -> 0 | D109: =SUM(L48) -> 15.8 | E109: =SUM(D109+C109) -> 15.8 | F109: =COUNTA(K49:K56) -> 0 | G109: =COUNTA(K33:K48) -> 4
A110: =M2 -> VAN ZYL | B110: =N2 -> J | C110: =SUM(N56) -> 0 | D110: =SUM(N48) -> 37.5 | E110: =SUM(D110+C110) -> 37.5 | F110: =COUNTA(M49:M56) -> 0 | G110: =COUNTA(M33:M47) -> 5
A111: DAY TOTAL | C111: =SUM(C104:C110) -> 0 | D111: =SUM(D104:D110) -> 183.4 | E111: =SUM(E104:E110) -> 183.4 | F111: =SUM(F104:F110) -> 0 | G111: =SUM(G104:G110) -> 35
A114: DAY 3 - THU 7 OCT 2021
A115: ANGLER | C115: MASS | D115: MASS | E115: POINTS | F115: AMOUNT | G115: AMOUNT
A116: NAME | B116: INI | C116: EDIBLE | D116: NON-ED | E116: ACC | F116: EDIBLE | G116: NON-ED
A117: =A2 -> PIENAAR | B117: =B2 -> F | C117: =SUM(B85) -> 0 | D117: =SUM(B77) -> 0 | E117: =SUM(D117+C117) -> 0 | F117: =COUNTA(A78:A84) -> 0 | G117: =COUNTA(A62:A76) -> 0
A118: =C2 -> MARTIN | B118: =D2 -> R | C118: =SUM(D85) -> 0 | D118: =SUM(D77) -> 0 | E118: =SUM(D118+C118) -> 0 | F118: =COUNTA(C78:C84) -> 0 | G118: =COUNTA(C62:C76) -> 0
A119: =E2 -> HYMAN | B119: =F2 -> M | C119: =SUM(F85) -> 0 | D119: =SUM(F77) -> 0 | E119: =SUM(D119+C119) -> 0 | F119: =COUNTA(E78:E84) -> 0 | G119: =COUNTA(E62:E76) -> 0
A120: =G2 -> PEINKE | B120: =H2 -> L | C120: =SUM(H85) -> 0 | D120: =SUM(H77) -> 0 | E120: =SUM(D120+C120) -> 0 | F120: =COUNTA(G78:G84) -> 0 | G120: =COUNTA(G62:G76) -> 0
A121: =I2 -> MC FARLANE | B121: =J2 -> B | C121: =SUM(J85) -> 0 | D121: =SUM(J77) -> 1.3 | E121: =SUM(D121+C121) -> 1.3 | F121: =COUNTA(I78:I84) -> 0 | G121: =COUNTA(I62:I76) -> 1
A122: =K2 -> MELLET | B122: =L2 -> A | C122: =SUM(L85) -> 0 | D122: =SUM(L77) -> 0 | E122: =SUM(D122+C122) -> 0 | F122: =COUNTA(K78:K84) -> 0 | G122: =COUNTA(K62:K76) -> 0
A123: =M2 -> VAN ZYL | B123: =N2 -> J | C123: =SUM(N85) -> 0 | D123: =SUM(N77) -> 0 | E123: =SUM(D123+C123) -> 0 | F123: =COUNTA(M78:M84) -> 0 | G123: =COUNTA(M62:M76) -> 0
A124: DAY TOTAL | C124: =SUM(C117:C123) -> 0 | D124: =SUM(D117:D123) -> 1.3 | E124: =SUM(E117:E123) -> 1.3 | F124: =SUM(F117:F123) -> 0 | G124: =SUM(G117:G123) -> 1
A127: POINTS ACCUMULATED - TUE 5 OCT to THU 7 OCT 2021
A128: ANGLER | C128: MASS | D128: MASS | E128: POINTS | F128: AMOUNT | G128: AMOUNT | H128: TOTAL
A129: NAME | B129: INI | C129: EDIBLE | D129: NON-ED | E129: ACC | F129: EDIBLE | G129: NON-ED | H129: FISH
A130: =A2 -> PIENAAR | B130: =B2 -> F | C130: =SUM(C117+C104+C91) -> 0 | D130: =SUM(D91+D104+D117) -> 19.9 | E130: =SUM(E117+E104+E91) -> 19.9 | F130: =SUM(F91+F104+F117) -> 0 | G130: =SUM(G91+G104+G117) -> 3 | H130: =SUM(F130:G130) -> 3
A131: =C2 -> MARTIN | B131: =D2 -> R | C131: =SUM(C118+C105+C92) -> 0 | D131: =SUM(D92+D105+D118) -> 35.4 | E131: =SUM(E118+E105+E92) -> 35.4 | F131: =SUM(F92+F105+F118) -> 0 | G131: =SUM(G92+G105+G118) -> 4 | H131: =SUM(F131:G131) -> 4
A132: =E2 -> HYMAN | B132: =F2 -> M | C132: =SUM(C119+C106+C93) -> 0 | D132: =SUM(D93+D106+D119) -> 60.6 | E132: =SUM(E119+E106+E93) -> 60.6 | F132: =SUM(F93+F106+F119) -> 0 | G132: =SUM(G93+G106+G119) -> 15 | H132: =SUM(F132:G132) -> 15
A133: =G2 -> PEINKE | B133: =H2 -> L | C133: =SUM(C120+C107+C94) -> 0 | D133: =SUM(D94+D107+D120) -> 23.2 | E133: =SUM(E120+E107+E94) -> 23.2 | F133: =SUM(F94+F107+F120) -> 0 | G133: =SUM(G94+G107+G120) -> 11 | H133: =SUM(F133:G133) -> 11
A134: =I2 -> MC FARLANE | B134: =J2 -> B | C134: =SUM(C121+C108+C95) -> 0 | D134: =SUM(D95+D108+D121) -> 21.8 | E134: =SUM(E121+E108+E95) -> 21.8 | F134: =SUM(F95+F108+F121) -> 0 | G134: =SUM(G95+G108+G121) -> 6 | H134: =SUM(F134:G134) -> 6
A135: =K2 -> MELLET | B135: =L2 -> A | C135: =SUM(C122+C109+C96) -> 0 | D135: =SUM(D96+D109+D122) -> 17.6 | E135: =SUM(E122+E109+E96) -> 17.6 | F135: =SUM(F96+F109+F122) -> 0 | G135: =SUM(G96+G109+G122) -> 5 | H135: =SUM(F135+G135) -> 5
A136: =M2 -> VAN ZYL | B136: =N2 -> J | C136: =SUM(C123+C110+C97) -> 0 | D136: =SUM(D97+D110+D123) -> 49.7 | E136: =SUM(E123+E110+E97) -> 49.7 | F136: =SUM(F97+F110+F123) -> 0 | G136: =SUM(G97+G110+G123) -> 8 | H136: =SUM(F136:G136) -> 8
A137: WEEK TOTAL | C137: =SUM(C130:C136) -> 0 | D137: =SUM(D130:D136) -> 228.2 | E137: =SUM(E130:E136) -> 228.2 | F137: =SUM(F130:F136) -> 0 | G137: =SUM(G130:G136) -> 52 | H137: =SUM(H130:H136) -> 52

Sheet SA DEV
A1: DAY 1 - TUE 5 OCT 2021
A2: ABRAHAMS | B2: S | C2: VAN NIEKERK | D2: A | E2: ESTERHUIZEN | F2: B | G2: ENGELBRECHT | H2: G | I2: COCHIUS | J2: R | K2: GOVENDER | L2: K | M2: BESTER | N2: M
A3: SPECIE | B3: KG | C3: SPECIE | D3: KG | E3: SPECIE | F3: KG | G3: SPECIE | H3: KG | I3: SPECIE | J3: KG | K3: SPECIE | L3: KG | M3: SPECIE | N3: KG
A4: SANDY | B4: 1.4 | E4: BLUE RAY | F4: 7.3 | G4: BLUE RAY | H4: 8.7 | K4: BLUE RAY | L4: 3 | M4: BLUE RAY | N4: 2.8
A5: BLUE RAY | B5: 1.3 | K5: BLUE RAY | L5: 2.6 | M5: BLUE RAY | N5: 3
A6: BLUE RAY | B6: 2.4 | K6: SANDY | L6: 1.4
A7: BLUE RAY | B7: 3 | K7: SANDY | L7: 2.2
A8: BLUE RAY | B8: 2.2 | K8: BLUE RAY | L8: 2.1
A9: BLUE RAY | B9: 2
B19: =SUM(B4:B18) -> 12.3 | D19: =SUM(D4:D18) -> 0 | F19: =SUM(F4:F18) -> 7.3 | H19: =SUM(H4:H18) -> 8.7 | J19: =SUM(J4:J18) -> 0 | L19: =SUM(L4:L18) -> 11.3 | N19: =SUM(N4:N18) -> 5.8 | O19: =SUM(A19:N19) -> 45.4
M20: BAARDMAN | N20: 5.4
O23: =SUM(O19+O27) -> 50.8
B27: =SUM(B20:B26) -> 0 | D27: =SUM(D20:D26) -> 0 | F27: =SUM(F20:F26) -> 0 | H27: =SUM(H20:H26) -> 0 | J27: =SUM(J20:J26) -> 0 | L27: =SUM(L20:L26) -> 0 | N27: =SUM(N20:N26) -> 5.4 | O27: =SUM(A27:N27) -> 5.4
A30: DAY 2 - WED 6 OCT 2021
A31: =A2 -> ABRAHAMS | B31: =B2 -> S | C31: =C2 -> VAN NIEKERK | D31: =D2 -> A | E31: =E2 -> ESTERHUIZEN | F31: =F2 -> B | G31: =G2 -> ENGELBRECHT | H31: =H2 -> G | ... N31: =N2 -> M
A32: SPECIE | B32: KG | C32: SPECIE | D32: KG | E32: SPECIE | F32: KG | G32: SPECIE | H32: KG | I32: SPECIE | J32: KG | K32: SPECIE | L32: KG | M32: SPECIE | N32: KG
A33: BLUE RAY | B33: 2.3 | C33: BLUE RAY | D33: 2.6 | E33: BLUE RAY | F33: 2.8 | G33: SANDY | H33: 2.2 | I33: BLUE RAY | J33: 1.5 | K33: BLUE RAY | L33: 13.9 | M33: BLUE RAY | N33: 2.8
C34: BLUE RAY | D34: 11.4 | E34: BLUE RAY | F34: 13.2 | G34: BLUE RAY | H34: 2.6 | I34: BLUE RAY | J34: 8.2 | K34: BLUE RAY | L34: 11.4 | M34: BLUE RAY | N34: 2.5
C35: BLUE RAY | D35: 10.2 | E35: BLUE RAY | F35: 13.2 | G35: BLUE RAY | H35: 11.4 | I35: BLUE RAY | J35: 2.6 | K35: BLUE RAY | L35: 1.8 | M35: BLUE RAY | N35: 7.3
C36: BLUE RAY | D36: 2 | E36: BLUE RAY | F36: 3.3 | G36: BLUE RAY | H36: 15.3 | I36: BLUE RAY | J36: 3.3 | K36: BLUE RAY | L36: 1.8 | M36: BLUE RAY | N36: 10.2
C37: SANDY | D37: 3.5 | E37: BLUE RAY | F37: 12 | M37: BLUE RAY | N37: 2.1
C38: BLUE RAY | D38: 10.2 | M38: BLUE RAY | N38: 2.6
C39: BLUE RAY | D39: 3.8
B48: =SUM(B33:B47) -> 2.3 | D48: =SUM(D33:D47) -> 43.7 | F48: =SUM(F33:F47) -> 44.5 | H48: =SUM(H33:H47) -> 31.5 | J48: =SUM(J33:J47) -> 15.6 | L48: =SUM(L33:L47) -> 28.9 | N48: =SUM(N33:N47) -> 27.5 | O48: =SUM(A48:N48) -> 194
C49: KOB | D49: 1.8
O52: =SUM(O48+O56) -> 195.8
B56: =SUM(B49:B55) -> 0 | D56: =SUM(D49:D55) -> 1.8 | F56: =SUM(F49:F55) -> 0 | H56: =SUM(H49:H55) -> 0 | J56: =SUM(J49:J55) -> 0 | L56: =SUM(L49:L55) -> 0 | N56: =SUM(N49:N55) -> 0 | O56: =SUM(A56:N56) -> 1.8
A59: DAY 3 - THU 7 OCT 2021
A60: =A2 -> ABRAHAMS | B60: =B2 -> S | C60: =C2 -> VAN NIEKERK | D60: =D2 -> A | E60: =E2 -> ESTERHUIZEN | F60: =F2 -> B | G60: =G2 -> ENGELBRECHT | H60: =H2 -> G | ... N60: =N2 -> M
A61: SPECIE | B61: KG | C61: SPECIE | D61: KG | E61: SPECIE | F61: KG | G61: SPECIE | H61: KG | I61: SPECIE | J61: KG | K61: SPECIE | L61: KG | M61: SPECIE | N61: KG
I62: ST JOSEPH | J62: 2.4 | K62: SANDY | L62: 1.6 | M62: BLUE RAY | N62: 2.1
M63: BLUE RAY | N63: 3
M64: SANDY | N64: 1.3
M65: ST JOSEPH | N65: 5.8
M66: SANDY | N66: 1.6
M67: EAGLE | N67: 3
B77: =SUM(B62:B76) -> 0 | D77: =SUM(D62:D76) -> 0 | F77: =SUM(F62:F76) -> 0 | H77: =SUM(H62:H76) -> 0 | J77: =SUM(J62:J76) -> 2.4 | L77: =SUM(L62:L76) -> 1.6 | N77: =SUM(N62:N76) -> 16.8 | O77: =SUM(A77:N77) -> 20.8
O81: =SUM(O77+O85) -> 20.8
B85: =SUM(B78:B84) -> 0 | D85: =SUM(D78:D84) -> 0 | F85: =SUM(F78:F84) -> 0 | H85: =SUM(H78:H84) -> 0 | J85: =SUM(J78:J84) -> 0 | L85: =SUM(L78:L84) -> 0 | N85: =SUM(N78:N84) -> 0 | O85: =SUM(A85:N85) -> 0
A88: DAY 1 - TUE 5 OCT 2021
A89: ANGLER | C89: MASS | D89: MASS | E89: POINTS | F89: AMOUNT | G89: AMOUNT
A90: NAME | B90: INI | C90: EDIBLE | D90: NON-ED | E90: ACC | F90: EDIBLE | G90: NON-ED
A91: =A2 -> ABRAHAMS | B91: =B2 -> S | C91: =SUM(B27) -> 0 | D91: =SUM(B19) -> 12.3 | E91: =SUM(D91+C91) -> 12.3 | F91: =COUNTA(A20:A26) -> 0 | G91: =COUNTA(A4:A18) -> 6
A92: =C2 -> VAN NIEKERK | B92: =D2 -> A | C92: =SUM(D27) -> 0 | D92: =SUM(D19) -> 0 | E92: =SUM(D92+C92) -> 0 | F92: =COUNTA(C20:C26) -> 0 | G92: =COUNTA(C4:C18) -> 0
A93: =E2 -> ESTERHUIZEN | B93: =F2 -> B | C93: =SUM(F27) -> 0 | D93: =SUM(F19) -> 7.3 | E93: =SUM(D93+C93) -> 7.3 | F93: =COUNTA(E20:E26) -> 0 | G93: =COUNTA(E4:E18) -> 1
A94: =G2 -> ENGELBRECHT | B94: =H2 -> G | C94: =SUM(H27) -> 0 | D94: =SUM(H19) -> 8.7 | E94: =SUM(D94+C94) -> 8.7 | F94: =COUNTA(G20:G26) -> 0 | G94: =COUNTA(G4:G18) -> 1
A95: =I2 -> COCHIUS | B95: =J2 -> R | C95: =SUM(J27) -> 0 | D95: =SUM(J19) -> 0 | E95: =SUM(D95+C95) -> 0 | F95: =COUNTA(I20:I26) -> 0 | G95: =COUNTA(I4:I18) -> 0
A96: =K2 -> GOVENDER | B96: =L2 -> K | C96: =SUM(L27) -> 0 | D96: =SUM(L19) -> 11.3 | E96: =SUM(D96+C96) -> 11.3 | F96: =COUNTA(K20:K26) -> 0 | G96: =COUNTA(K4:K18) -> 5
A97: =M2 -> BESTER | B97: =N2 -> M | C97: =SUM(N27) -> 5.4 | D97: =SUM(N19) -> 5.8 | E97: =SUM(D97+C97) -> 11.2 | F97: =COUNTA(M20:M26) -> 1 | G97: =COUNTA(M4:M18) -> 2
A98: DAY TOTAL | C98: =SUM(C91:C97) -> 5.4 | D98: =SUM(D91:D97) -> 45.4 | E98: =SUM(E91:E97) -> 50.8 | F98: =SUM(F91:F97) -> 1 | G98: =SUM(G91:G97) -> 15
A101: DAY 2 - WED 6 OCT 2021
A102: ANGLER | C102: MASS | D102: MASS | E102: POINTS | F102: AMOUNT | G102: AMOUNT
A103: NAME | B103: INI | C103: EDIBLE | D103: NON-ED | E103: ACC | F103: EDIBLE | G103: NON-ED
A104: =A2 -> ABRAHAMS | B104: =B2 -> S | C104: =SUM(B56) -> 0 | D104: =SUM(B48) -> 2.3 | E104: =SUM(D104+C104) -> 2.3 | F104: =COUNTA(A49:A56) -> 0 | G104: =COUNTA(A33:A47) -> 1
A105: =C2 -> VAN NIEKERK | B105: =D2 -> A | C105: =SUM(D56) -> 1.8 | D105: =SUM(D48) -> 43.7 | E105: =SUM(D105+C105) -> 45.5 | F105: =COUNTA(C49:C56) -> 1 | G105: =COUNTA(C33:C47) -> 7
A106: =E2 -> ESTERHUIZEN | B106: =F2 -> B | C106: =SUM(F56) -> 0 | D106: =SUM(F48) -> 44.5 | E106: =SUM(D106+C106) -> 44.5 | F106: =COUNTA(E49:E56) -> 0 | G106: =COUNTA(E33:E47) -> 5
A107: =G2 -> ENGELBRECHT | B107: =H2 -> G | C107: =SUM(H56) -> 0 | D107: =SUM(H48) -> 31.5 | E107: =SUM(D107+C107) -> 31.5 | F107: =COUNTA(G49:G56) -> 0 | G107: =COUNTA(G33:G47) -> 4
A108: =I2 -> COCHIUS | B108: =J2 -> R | C108: =SUM(J56) -> 0 | D108: =SUM(J48) -> 15.6 | E108: =SUM(D108+C108) -> 15.6 | F108: =COUNTA(I49:I56) -> 0 | G108: =COUNTA(I33:I47) -> 4
A109: =K2 -> GOVENDER | B109: =L2 -> K | C109: =SUM(L56) -> 0 | D109: =SUM(L48) -> 28.9 | E109: =SUM(D109+C109) -> 28.9 | F109: =COUNTA(K49:K56) -> 0 | G109: =COUNTA(K33:K48) -> 4
A110: =M2 -> BESTER | B110: =N2 -> M | C110: =SUM(N56) -> 0 | D110: =SUM(N48) -> 27.5 | E110: =SUM(D110+C110) -> 27.5 | F110: =COUNTA(M49:M56) -> 0 | G110: =COUNTA(M33:M47) -> 6
A111: DAY TOTAL | C111: =SUM(C104:C110) -> 1.8 | D111: =SUM(D104:D110) -> 194 | E111: =SUM(E104:E110) -> 195.8 | F111: =SUM(F104:F110) -> 1 | G111: =SUM(G104:G110) -> 31
A114: DAY 3 - THU 7 OCT 2021
A115: ANGLER | C115: MASS | D115: MASS | E115: POINTS | F115: AMOUNT | G115: AMOUNT
A116: NAME | B116: INI | C116: EDIBLE | D116: NON-ED | E116: ACC | F116: EDIBLE | G116: NON-ED
A117: =A2 -> ABRAHAMS | B117: =B2 -> S | C117: =SUM(B85) -> 0 | D117: =SUM(B77) -> 0 | E117: =SUM(D117+C117) -> 0 | F117: =COUNTA(A78:A84) -> 0 | G117: =COUNTA(A62:A76) -> 0
A118: =C2 -> VAN NIEKERK | B118: =D2 -> A | C118: =SUM(D85) -> 0 | D118: =SUM(D77) -> 0 | E118: =SUM(D118+C118) -> 0 | F118: =COUNTA(C78:C84) -> 0 | G118: =COUNTA(C62:C76) -> 0
A119: =E2 -> ESTERHUIZEN | B119: =F2 -> B | C119: =SUM(F85) -> 0 | D119: =SUM(F77) -> 0 | E119: =SUM(D119+C119) -> 0 | F119: =COUNTA(E78:E84) -> 0 | G119: =COUNTA(E62:E76) -> 0
A120: =G2 -> ENGELBRECHT | B120: =H2 -> G | C120: =SUM(H85) -> 0 | D120: =SUM(H77) -> 0 | E120: =SUM(D120+C120) -> 0 | F120: =COUNTA(G78:G84) -> 0 | G120: =COUNTA(G62:G76) -> 0
A121: =I2 -> COCHIUS | B121: =J2 -> R | C121: =SUM(J85) -> 0 | D121: =SUM(J77) -> 2.4 | E121: =SUM(D121+C121) -> 2.4 | F121: =COUNTA(I78:I84) -> 0 | G121: =COUNTA(I62:I76) -> 1
A122: =K2 -> GOVENDER | B122: =L2 -> K | C122: =SUM(L85) -> 0 | D122: =SUM(L77) -> 1.6 | E122: =SUM(D122+C122) -> 1.6 | F122: =COUNTA(K78:K84) -> 0 | G122: =COUNTA(K62:K76) -> 1
A123: =M2 -> BESTER | B123: =N2 -> M | C123: =SUM(N85) -> 0 | D123: =SUM(N77) -> 16.8 | E123: =SUM(D123+C123) -> 16.8 | F123: =COUNTA(M78:M84) -> 0 | G123: =COUNTA(M62:M76) -> 6
A124: DAY TOTAL | C124: =SUM(C117:C123) -> 0 | D124: =SUM(D117:D123) -> 20.8 | E124: =SUM(E117:E123) -> 20.8 | F124: =SUM(F117:F123) -> 0 | G124: =SUM(G117:G123) -> 8
A127: POINTS ACCUMULATED - TUE 5 OCT to THU 7 OCT 2021
A128: ANGLER | C128: MASS | D128: MASS | E128: POINTS | F128: AMOUNT | G128: AMOUNT | H128: TOTAL
A129: NAME | B129: INI | C129: EDIBLE | D129: NON-ED | E129: ACC | F129: EDIBLE | G129: NON-ED | H129: FISH
A130: =A2 -> ABRAHAMS | B130: =B2 -> S | C130: =SUM(C117+C104+C91) -> 0 | D130: =SUM(D91+D104+D117) -> 14.6 | E130: =SUM(E117+E104+E91) -> 14.6 | F130: =SUM(F91+F104+F117) -> 0 | G130: =SUM(G91+G104+G117) -> 7 | H130: =SUM(F130:G130) -> 7
A131: =C2 -> VAN NIEKERK | B131: =D2 -> A | C131: =SUM(C118+C105+C92) -> 1.8 | D131: =SUM(D92+D105+D118) -> 43.7 | E131: =SUM(E118+E105+E92) -> 45.5 | F131: =SUM(F92+F105+F118) -> 1 | G131: =SUM(G92+G105+G118) -> 7 | H131: =SUM(F131:G131) -> 8
A132: =E2 -> ESTERHUIZEN | B132: =F2 -> B | C132: =SUM(C119+C106+C93) -> 0 | D132: =SUM(D93+D106+D119) -> 51.8 | E132: =SUM(E119+E106+E93) -> 51.8 | F132: =SUM(F93+F106+F119) -> 0 | G132: =SUM(G93+G106+G119) -> 6 | H132: =SUM(F132:G132) -> 6
A133: =G2 -> ENGELBRECHT | B133: =H2 -> G | C133: =SUM(C120+C107+C94) -> 0 | D133: =SUM(D94+D107+D120) -> 40.2 | E133: =SUM(E120+E107+E94) -> 40.2 | F133: =SUM(F94+F107+F120) -> 0 | G133: =SUM(G94+G107+G120) -> 5 | H133: =SUM(F133:G133) -> 5
A134: =I2 -> COCHIUS | B134: =J2 -> R | C134: =SUM(C121+C108+C95) -> 0 | D134: =SUM(D95+D108+D121) -> 18 | E134: =SUM(E121+E108+E95) -> 18 | F134: =SUM(F95+F108+F121) -> 0 | G134: =SUM(G95+G108+G121) -> 5 | H134: =SUM(F134:G134) -> 5
A135: =K2 -> GOVENDER | B135: =L2 -> K | C135: =SUM(C122+C109+C96) -> 0 | D135: =SUM(D96+D109+D122) -> 41.8 | E135: =SUM(E122+E109+E96) -> 41.8 | F135: =SUM(F96+F109+F122) -> 0 | G135: =SUM(G96+G109+G122) -> 10 | H135: =SUM(F135+G135) -> 10
A136: =M2 -> BESTER | B136: =N2 -> M | C136: =SUM(C123+C110+C97) -> 5.4 | D136: =SUM(D97+D110+D123) -> 50.1 | E136: =SUM(E123+E110+E97) -> 55.5 | F136: =SUM(F97+F110+F123) -> 1 | G136: =SUM(G97+G110+G123) -> 14 | H136: =SUM(F136:G136) -> 15
A137: WEEK TOTAL | C137: =SUM(C130:C136) -> 7.2 | D137: =SUM(D130:D136) -> 260.2 | E137: =SUM(E130:E136) -> 267.4 | F137: =SUM(F130:F136) -> 2 | G137: =SUM(G130:G136) -> 54 | H137: =SUM(H130:H136) -> 56

Sheet SA LAD
A1: DAY 1 - TUE 5 OCT 2021
A2: VAN DER POEL | B2: A | C2: JONCK | D2: M | E2: VENTER | F2: W | G2: VISSER | H2: A | I2: BREET | J2: S | K2: BOTHA | L2: S | M2: DE VILLERS | N2: L
A3: SPECIE | B3: KG | C3: SPECIE | D3: KG | E3: SPECIE | F3: KG | G3: SPECIE | H3: KG | I3: SPECIE | J3: KG | K3: SPECIE | L3: KG | M3: SPECIE | N3: KG
A4: THORNTAIL | B4: 3.2 | C4: BLUE RAY | D4: 5 | E4: BLUE RAY | F4: 2 | G4: BLUE RAY | H4: 4.1
A5: BLUE RAY | B5: 2 | G5: SANDY | H5: 2.2
A6: BLUE RAY | B6: 2.8 | G6: SANDY | H6: 1.8
B19: =SUM(B4:B18) -> 8 | D19: =SUM(D4:D18) -> 5 | F19: =SUM(F4:F18) -> 2 | H19: =SUM(H4:H18) -> 8.1 | J19: =SUM(J4:J18) -> 0 | L19: =SUM(L4:L18) -> 0 | N19: =SUM(N4:N18) -> 0 | O19: =SUM(A19:N19) -> 23.1
O23: =SUM(O19+O27) -> 23.1
B27: =SUM(B20:B26) -> 0 | D27: =SUM(D20:D26) -> 0 | F27: =SUM(F20:F26) -> 0 | H27: =SUM(H20:H26) -> 0 | J27: =SUM(J20:J26) -> 0 | L27: =SUM(L20:L26) -> 0 | N27: =SUM(N20:N26) -> 0 | O27: =SUM(A27:N27) -> 0
A30: DAY 2 - WED 6 OCT 2021
A31: =A2 -> VAN DER POEL | B31: =B2 -> A | C31: =C2 -> JONCK | D31: =D2 -> M | E31: =E2 -> VENTER | F31: =F2 -> W | G31: =G2 -> VISSER | H31: =H2 -> A | ... N31: =N2 -> L
A32: SPECIE | B32: KG | C32: SPECIE | D32: KG | E32: SPECIE | F32: KG | G32: SPECIE | H32: KG | I32: SPECIE | J32: KG | K32: SPECIE | L32: KG | M32: SPECIE | N32: KG
A33: BLUE RAY | B33: 2.3 | E33: SANDY | F33: 1.3 | G33: SANDY | H33: 2.2 | I33: SANDY | J33: 2.4 | K33: BLUE RAY | L33: 3.3 | M33: BLUE RAY | N33: 6.9
A34: SMOOTH HOUND | B34: 17.5 | E34: BLUE RAY | F34: 3 | G34: SANDY | H34: 2.8 | I34: BLUE RAY | J34: 13.9 | K34: BLUE RAY | L34: 10.8 | M34: BLUE RAY | N34: 2.8
A35: DUSKY | B35: 7.3 | E35: BLUE RAY | F35: 3.3 | I35: BLUE RAY | J35: 12.6 | M35: BLUE RAY | N35: 2.2
I36: BLUE RAY | J36: 1.1
B48: =SUM(B33:B47) -> 27.1 | D48: =SUM(D33:D47) -> 0 | F48: =SUM(F33:F47) -> 7.6 | H48: =SUM(H33:H47) -> 5 | J48: =SUM(J33:J47) -> 30 | L48: =SUM(L33:L47) -> 14.1 | N48: =SUM(N33:N47) -> 11.9 | O48: =SUM(A48:N48) -> 95.7
O52: =SUM(O48+O56) -> 95.7
B56: =SUM(B49:B55) -> 0 | D56: =SUM(D49:D55) -> 0 | F56: =SUM(F49:F55) -> 0 | H56: =SUM(H49:H55) -> 0 | J56: =SUM(J49:J55) -> 0 | L56: =SUM(L49:L55) -> 0 | N56: =SUM(N49:N55) -> 0 | O56: =SUM(A56:N56) -> 0
A59: DAY 3 - THU 7 OCT 2021
A60: =A2 -> VAN DER POEL | B60: =B2 -> A | C60: =C2 -> JONCK | D60: =D2 -> M | E60: =E2 -> VENTER | F60: =F2 -> W | G60: =G2 -> VISSER | H60: =H2 -> A | ... N60: =N2 -> L
A61: SPECIE | B61: KG | C61: SPECIE | D61: KG | E61: SPECIE | F61: KG | G61: SPECIE | H61: KG | I61: SPECIE | J61: KG | K61: SPECIE | L61: KG | M61: SPECIE | N61: KG
A62: SANDY | B62: 2.2 | G62: BLUE RAY | H62: 5.4 | I62: SANDY | J62: 1.2
A63: BARBEL | B63: 1.2 | G63: SANDY | H63: 1.1 | I63: ST JOSEPH | J63: 4.6
B77: =SUM(B62:B76) -> 3.4 | D77: =SUM(D62:D76) -> 0 | F77: =SUM(F62:F76) -> 0 | H77: =SUM(H62:H76) -> 6.5 | J77: =SUM(J62:J76) -> 5.8 | L77: =SUM(L62:L76) -> 0 | N77: =SUM(N62:N76) -> 0 | O77: =SUM(A77:N77) -> 15.7
O81: =SUM(O77+O85) -> 15.7
B85: =SUM(B78:B84) -> 0 | D85: =SUM(D78:D84) -> 0 | F85: =SUM(F78:F84) -> 0 | H85: =SUM(H78:H84) -> 0 | J85: =SUM(J78:J84) -> 0 | L85: =SUM(L78:L84) -> 0 | N85: =SUM(N78:N84) -> 0 | O85: =SUM(A85:N85) -> 0
A88: DAY 1 - TUE 5 OCT 2021
A89: ANGLER | C89: MASS | D89: MASS | E89: POINTS | F89: AMOUNT | G89: AMOUNT
A90: NAME | B90: INI | C90: EDIBLE | D90: NON-ED | E90: ACC | F90: EDIBLE | G90: NON-ED
A91: =A2 -> VAN DER POEL | B91: =B2 -> A | C91: =SUM(B27) -> 0 | D91: =SUM(B19) -> 8 | E91: =SUM(D91+C91) -> 8 | F91: =COUNTA(A20:A26) -> 0 | G91: =COUNTA(A4:A18) -> 3
A92: =C2 -> JONCK | B92: =D2 -> M | C92: =SUM(D27) -> 0 | D92: =SUM(D19) -> 5 | E92: =SUM(D92+C92) -> 5 | F92: =COUNTA(C20:C26) -> 0 | G92: =COUNTA(C4:C18) -> 1
A93: =E2 -> VENTER | B93: =F2 -> W | C93: =SUM(F27) -> 0 | D93: =SUM(F19) -> 2 | E93: =SUM(D93+C93) -> 2 | F93: =COUNTA(E20:E26) -> 0 | G93: =COUNTA(E4:E18) -> 1
A94: =G2 -> VISSER | B94: =H2 -> A | C94: =SUM(H27) -> 0 | D94: =SUM(H19) -> 8.1 | E94: =SUM(D94+C94) -> 8.1 | F94: =COUNTA(G20:G26) -> 0 | G94: =COUNTA(G4:G18) -> 3
A95: =I2 -> BREET | B95: =J2 -> S | C95: =SUM(J27) -> 0 | D95: =SUM(J19) -> 0 | E95: =SUM(D95+C95) -> 0 | F95: =COUNTA(I20:I26) -> 0 | G95: =COUNTA(I4:I18) -> 0
A96: =K2 -> BOTHA | B96: =L2 -> S | C96: =SUM(L27) -> 0 | D96: =SUM(L19) -> 0 | E96: =SUM(D96+C96) -> 0 | F96: =COUNTA(K20:K26) -> 0 | G96: =COUNTA(K4:K18) -> 0
A97: =M2 -> DE VILLERS | B97: =N2 -> L | C97: =SUM(N27) -> 0 | D97: =SUM(N19) -> 0 | E97: =SUM(D97+C97) -> 0 | F97: =COUNTA(M20:M26) -> 0 | G97: =COUNTA(M4:M18) -> 0
A98: DAY TOTAL | C98: =SUM(C91:C97) -> 0 | D98: =SUM(D91:D97) -> 23.1 | E98: =SUM(E91:E97) -> 23.1 | F98: =SUM(F91:F97) -> 0 | G98: =SUM(G91:G97) -> 8
A101: DAY 2 - WED 6 OCT 2021
A102: ANGLER | C102: MASS | D102: MASS | E102: POINTS | F102: AMOUNT | G102: AMOUNT
A103: NAME | B103: INI | C103: EDIBLE | D103: NON-ED | E103: ACC | F103: EDIBLE | G103: NON-ED
A104: =A2 -> VAN DER POEL | B104: =B2 -> A | C104: =SUM(B56) -> 0 | D104: =SUM(B48) -> 27.1 | E104: =SUM(D104+C104) -> 27.1 | F104: =COUNTA(A49:A56) -> 0 | G104: =COUNTA(A33:A47) -> 3
A105: =C2 -> JONCK | B105: =D2 -> M | C105: =SUM(D56) -> 0 | D105: =SUM(D48) -> 0 | E105: =SUM(D105+C105) -> 0 | F105: =COUNTA(C49:C56) -> 0 | G105: =COUNTA(C33:C47) -> 0
A106: =E2 -> VENTER | B106: =F2 -> W | C106: =SUM(F56) -> 0 | D106: =SUM(F48) -> 7.6 | E106: =SUM(D106+C106) -> 7.6 | F106: =COUNTA(E49:E56) -> 0 | G106: =COUNTA(E33:E47) -> 3
A107: =G2 -> VISSER | B107: =H2 -> A | C107: =SUM(H56) -> 0 | D107: =SUM(H48) -> 5 | E107: =SUM(D107+C107) -> 5 | F107: =COUNTA(G49:G56) -> 0 | G107: =COUNTA(G33:G47) -> 2
A108: =I2 -> BREET | B108: =J2 -> S | C108: =SUM(J56) -> 0 | D108: =SUM(J48) -> 30 | E108: =SUM(D108+C108) -> 30 | F108: =COUNTA(I49:I56) -> 0 | G108: =COUNTA(I33:I47) -> 4
A109: =K2 -> BOTHA | B109: =L2 -> S | C109: =SUM(L56) -> 0 | D109: =SUM(L48) -> 14.1 | E109: =SUM(D109+C109) -> 14.1 | F109: =COUNTA(K49:K56) -> 0 | G109: =COUNTA(K33:K48) -> 2
A110: =M2 -> DE VILLERS | B110: =N2 -> L | C110: =SUM(N56) -> 0 | D110: =SUM(N48) -> 11.9 | E110: =SUM(D110+C110) -> 11.9 | F110: =COUNTA(M49:M56) -> 0 | G110: =COUNTA(M33:M47) -> 3
A111: DAY TOTAL | C111: =SUM(C104:C110) -> 0 | D111: =SUM(D104:D110) -> 95.7 | E111: =SUM(E104:E110) -> 95.7 | F111: =SUM(F104:F110) -> 0 | G111: =SUM(G104:G110) -> 17
A114: DAY 3 - THU 7 OCT 2021
A115: ANGLER | C115: MASS | D115: MASS | E115: POINTS | F115: AMOUNT | G115: AMOUNT
A116: NAME | B116: INI | C116: EDIBLE | D116: NON-ED | E116: ACC | F116: EDIBLE | G116: NON-ED
A117: =A2 -> VAN DER POEL | B117: =B2 -> A | C117: =SUM(B85) -> 0 | D117: =SUM(B77) -> 3.4 | E117: =SUM(D117+C117) -> 3.4 | F117: =COUNTA(A78:A84) -> 0 | G117: =COUNTA(A62:A76) -> 2
A118: =C2 -> JONCK | B118: =D2 -> M | C118: =SUM(D85) -> 0 | D118: =SUM(D77) -> 0 | E118: =SUM(D118+C118) -> 0 | F118: =COUNTA(C78:C84) -> 0 | G118: =COUNTA(C62:C76) -> 0
A119: =E2 -> VENTER | B119: =F2 -> W | C119: =SUM(F85) -> 0 | D119: =SUM(F77) -> 0 | E119: =SUM(D119+C119) -> 0 | F119: =COUNTA(E78:E84) -> 0 | G119: =COUNTA(E62:E76) -> 0
A120: =G2 -> VISSER | B120: =H2 -> A | C120: =SUM(H85) -> 0 | D120: =SUM(H77) -> 6.5 | E120: =SUM(D120+C120) -> 6.5 | F120: =COUNTA(G78:G84) -> 0 | G120: =COUNTA(G62:G76) -> 2
A121: =I2 -> BREET | B121: =J2 -> S | C121: =SUM(J85) -> 0 | D121: =SUM(J77) -> 5.8 | E121: =SUM(D121+C121) -> 5.8 | F121: =COUNTA(I78:I84) -> 0 | G121: =COUNTA(I62:I76) -> 2
A122: =K2 -> BOTHA | B122: =L2 -> S | C122: =SUM(L85) -> 0 | D122: =SUM(L77) -> 0 | E122: =SUM(D122+C122) -> 0 | F122: =COUNTA(K78:K84) -> 0 | G122: =COUNTA(K62:K76) -> 0
A123: =M2 -> DE VILLERS | B123: =N2 -> L | C123: =SUM(N85) -> 0 | D123: =SUM(N77) -> 0 | E123: =SUM(D123+C123) -> 0 | F123: =COUNTA(M78:M84) -> 0 | G123: =COUNTA(M62:M76) -> 0
A124: DAY TOTAL | C124: =SUM(C117:C123) -> 0 | D124: =SUM(D117:D123) -> 15.7 | E124: =SUM(E117:E123) -> 15.7 | F124: =SUM(F117:F123) -> 0 | G124: =SUM(G117:G123) -> 6
A127: POINTS ACCUMULATED - TUE 5 OCT to THU 7 OCT 2021
A128: ANGLER | C128: MASS | D128: MASS | E128: POINTS | F128: AMOUNT | G128: AMOUNT | H128: TOTAL
A129: NAME | B129: INI | C129: EDIBLE | D129: NON-ED | E129: ACC | F129: EDIBLE | G129: NON-ED | H129: FISH
A130: =A2 -> VAN DER POEL | B130: =B2 -> A | C130: =SUM(C117+C104+C91) -> 0 | D130: =SUM(D91+D104+D117) -> 38.5 | E130: =SUM(E117+E104+E91) -> 38.5 | F130: =SUM(F91+F104+F117) -> 0 | G130: =SUM(G91+G104+G117) -> 8 | H130: =SUM(F130:G130) -> 8
A131: =C2 -> JONCK | B131: =D2 -> M | C131: =SUM(C118+C105+C92) -> 0 | D131: =SUM(D92+D105+D118) -> 5 | E131: =SUM(E118+E105+E92) -> 5 | F131: =SUM(F92+F105+F118) -> 0 | G131: =SUM(G92+G105+G118) -> 1 | H131: =SUM(F131:G131) -> 1
A132: =E2 -> VENTER | B132: =F2 -> W | C132: =SUM(C119+C106+C93) -> 0 | D132: =SUM(D93+D106+D119) -> 9.6 | E132: =SUM(E119+E106+E93) -> 9.6 | F132: =SUM(F93+F106+F119) -> 0 | G132: =SUM(G93+G106+G119) -> 4 | H132: =SUM(F132:G132) -> 4
A133: =G2 -> VISSER | B133: =H2 -> A | C133: =SUM(C120+C107+C94) -> 0 | D133: =SUM(D94+D107+D120) -> 19.6 | E133: =SUM(E120+E107+E94) -> 19.6 | F133: =SUM(F94+F107+F120) -> 0 | G133: =SUM(G94+G107+G120) -> 7 | H133: =SUM(F133:G133) -> 7
A134: =I2 -> BREET | B134: =J2 -> S | C134: =SUM(C121+C108+C95) -> 0 | D134: =SUM(D95+D108+D121) -> 35.8 | E134: =SUM(E121+E108+E95) -> 35.8 | F134: =SUM(F95+F108+F121) -> 0 | G134: =SUM(G95+G108+G121) -> 6 | H134: =SUM(F134:G134) -> 6
A135: =K2 -> BOTHA | B135: =L2 -> S | C135: =SUM(C122+C109+C96) -> 0 | D135: =SUM(D96+D109+D122) -> 14.1 | E135: =SUM(E122+E109+E96) -> 14.1 | F135: =SUM(F96+F109+F122) -> 0 | G135: =SUM(G96+G109+G122) -> 2 | H135: =SUM(F135+G135) -> 2
A136: =M2 -> DE VILLERS | B136: =N2 -> L | C136: =SUM(C123+C110+C97) -> 0 | D136: =SUM(D97+D110+D123) -> 11.9 | E136: =SUM(E123+E110+E97) -> 11.9 | F136: =SUM(F97+F110+F123) -> 0 | G136: =SUM(G97+G110+G123) -> 3 | H136: =SUM(F136:G136) -> 3
A137: WEEK TOTAL | C137: =SUM(C130:C136) -> 0 | D137: =SUM(D130:D136) -> 134.5 | E137: =SUM(E130:E136) -> 134.5 | F137: =SUM(F130:F136) -> 0 | G137: =SUM(G130:G136) -> 31 | H137: =SUM(H130:H136) -> 31

Sheet NA A
A1: DAY 1 - TUE 5 OCT 2021
A2: LANGENSTRASSEN | B2: A | C2: CORDIER | D2: W | E2: POTGIETER | F2: C | G2: FENAUX | H2: L | I2: VENTER | J2: M | K2: ROETS | L2: H | M2: VILJOEN | N2: L
A3: SPECIE | B3: KG | C3: SPECIE | D3: KG | E3: SPECIE | F3: KG | G3: SPECIE | H3: KG | I3: SPECIE | J3: KG | K3: SPECIE | L3: KG | M3: SPECIE | N3: KG
A4: BLUE RAY | B4: 2.2 | C4: BRONZIE | D4: 2.2 | E4: BLUE RAY | F4: 2.8 | G4: SANDY | H4: 2.2
A5: ST JOSEPH | B5: 4.1 | C5: ST JOSEPH | D5: 5.6 | E5: BLUE RAY | F5: 2.8 | G5: MARBLE RAY | H5: 2.4
A6: BLUE RAY | B6: 2.5
A7: BLUE RAY | B7: 1.5
B19: =SUM(B4:B18) -> 10.3 | D19: =SUM(D4:D18) -> 7.8 | F19: =SUM(F4:F18) -> 5.6 | H19: =SUM(H4:H18) -> 4.6 | J19: =SUM(J4:J18) -> 0 | L19: =SUM(L4:L18) -> 0 | N19: =SUM(N4:N18) -> 0 | O19: =SUM(A19:N19) -> 28.3
K20: KOB | L20: 3.7
O23: =SUM(O19+O27) -> 32
B27: =SUM(B20:B26) -> 0 | D27: =SUM(D20:D26) -> 0 | F27: =SUM(F20:F26) -> 0 | H27: =SUM(H20:H26) -> 0 | J27: =SUM(J20:J26) -> 0 | L27: =SUM(L20:L26) -> 3.7 | N27: =SUM(N20:N26) -> 0 | O27: =SUM(A27:N27) -> 3.7
A30: DAY 2 - WED 6 OCT 2021
A31: =A2 -> LANGENSTRASSEN | B31: =B2 -> A | C31: =C2 -> CORDIER | D31: =D2 -> W | E31: =E2 -> POTGIETER | F31: =F2 -> C | G31: =G2 -> FENAUX | H31: =H2 -> L | ... N31: =N2 -> L
A32: SPECIE | B32: KG | C32: SPECIE | D32: KG | E32: SPECIE | F32: KG | G32: SPECIE | H32: KG | I32: SPECIE | J32: KG | K32: SPECIE | L32: KG | M32: SPECIE | N32: KG
A33: BLUE RAY | B33: 1.5 | C33: BLUE RAY | D33: 4.1 | E33: STRIPED CATSHARK | F33: 4.6 | G33: BLUE RAY | H33: 10.2 | I33: BLUE RAY | J33: 2 | K33: SANDY | L33: 2.9 | M33: BLUE RAY | N33: 17.5
A34: BLUE RAY | B34: 2.1 | C34: BLUE RAY | D34: 2.6 | E34: EAGLE | F34: 1.4 | G34: BLUE RAY | H34: 3 | I34: BLUE RAY | J34: 2.6 | K34: DIAMOND | L34: 9.3 | M34: BLUE RAY | N34: 9.7
A35: BLUE RAY | B35: 10.2 | E35: BLUE RAY | F35: 2 | G35: BLUE RAY | H35: 12.6 | I35: BLUE RAY | J35: 10.8 | K35: STRIPED CATSHARK | L35: 5.4 | M35: STRIPED CATSHARK | N35: 5.1
A36: BLUE RAY | B36: 9.7 | E36: BLUE RAY | F36: 2.5 | G36: BLUE RAY | H36: 3.5 | K36: BLUE RAY | L36: 2.6
A37: BLUE RAY | B37: 11.4 | K37: BLUE RAY | L37: 2
K38: BLUE RAY | L38: 2.6
K39: BLUE RAY | L39: 9.7
B48: =SUM(B33:B47) -> 34.9 | D48: =SUM(D33:D47) -> 6.7 | F48: =SUM(F33:F47) -> 10.5 | H48: =SUM(H33:H47) -> 29.3 | J48: =SUM(J33:J47) -> 15.4 | L48: =SUM(L33:L47) -> 34.5 | N48: =SUM(N33:N47) -> 32.3 | O48: =SUM(A48:N48) -> 163.6
G49: KOB | H49: 2.5
O52: =SUM(O48+O56) -> 166.1
B56: =SUM(B49:B55) -> 0 | D56: =SUM(D49:D55) -> 0 | F56: =SUM(F49:F55) -> 0 | H56: =SUM(H49:H55) -> 2.5 | J56: =SUM(J49:J55) -> 0 | L56: =SUM(L49:L55) -> 0 | N56: =SUM(N49:N55) -> 0 | O56: =SUM(A56:N56) -> 2.5
A59: DAY 3 - THU 7 OCT 2021
A60: =A2 -> LANGENSTRASSEN | B60: =B2 -> A | C60: =C2 -> CORDIER | D60: =D2 -> W | E60: =E2 -> POTGIETER | F60: =F2 -> C | G60: =G2 -> FENAUX | H60: =H2 -> L | ... N60: =N2 -> L
A61: SPECIE | B61: KG | C61: SPECIE | D61: KG | E61: SPECIE | F61: KG | G61: SPECIE | H61: KG | I61: SPECIE | J61: KG | K61: SPECIE | L61: KG | M61: SPECIE | N61: KG
B77: =SUM(B62:B76) -> 0 | D77: =SUM(D62:D76) -> 0 | F77: =SUM(F62:F76) -> 0 | H77: =SUM(H62:H76) -> 0 | J77: =SUM(J62:J76) -> 0 | L77: =SUM(L62:L76) -> 0 | N77: =SUM(N62:N76) -> 0 | O77: =SUM(A77:N77) -> 0
O81: =SUM(O77+O85) -> 0
B85: =SUM(B78:B84) -> 0 | D85: =SUM(D78:D84) -> 0 | F85: =SUM(F78:F84) -> 0 | H85: =SUM(H78:H84) -> 0 | J85: =SUM(J78:J84) -> 0 | L85: =SUM(L78:L84) -> 0 | N85: =SUM(N78:N84) -> 0 | O85: =SUM(A85:N85) -> 0
A88: DAY 1 - TUE 5 OCT 2021
A89: ANGLER | C89: MASS | D89: MASS | E89: POINTS | F89: AMOUNT | G89: AMOUNT
A90: NAME | B90: INI | C90: EDIBLE | D90: NON-ED | E90: ACC | F90: EDIBLE | G90: NON-ED
A91: =A2 -> LANGENSTRASSEN | B91: =B2 -> A | C91: =SUM(B27) -> 0 | D91: =SUM(B19) -> 10.3 | E91: =SUM(D91+C91) -> 10.3 | F91: =COUNTA(A20:A26) -> 0 | G91: =COUNTA(A4:A18) -> 4
A92: =C2 -> CORDIER | B92: =D2 -> W | C92: =SUM(D27) -> 0 | D92: =SUM(D19) -> 7.8 | E92: =SUM(D92+C92) -> 7.8 | F92: =COUNTA(C20:C26) -> 0 | G92: =COUNTA(C4:C18) -> 2
A93: =E2 -> POTGIETER | B93: =F2 -> C | C93: =SUM(F27) -> 0 | D93: =SUM(F19) -> 5.6 | E93: =SUM(D93+C93) -> 5.6 | F93: =COUNTA(E20:E26) -> 0 | G93: =COUNTA(E4:E18) -> 2
A94: =G2 -> FENAUX | B94: =H2 -> L | C94: =SUM(H27) -> 0 | D94: =SUM(H19) -> 4.6 | E94: =SUM(D94+C94) -> 4.6 | F94: =COUNTA(G20:G26) -> 0 | G94: =COUNTA(G4:G18) -> 2
A95: =I2 -> VENTER | B95: =J2 -> M | C95: =SUM(J27) -> 0 | D95: =SUM(J19) -> 0 | E95: =SUM(D95+C95) -> 0 | F95: =COUNTA(I20:I26) -> 0 | G95: =COUNTA(I4:I18) -> 0
A96: =K2 -> ROETS | B96: =L2 -> H | C96: =SUM(L27) -> 3.7 | D96: =SUM(L19) -> 0 | E96: =SUM(D96+C96) -> 3.7 | F96: =COUNTA(K20:K26) -> 1 | G96: =COUNTA(K4:K18) -> 0
A97: =M2 -> VILJOEN | B97: =N2 -> L | C97: =SUM(N27) -> 0 | D97: =SUM(N19) -> 0 | E97: =SUM(D97+C97) -> 0 | F97: =COUNTA(M20:M26) -> 0 | G97: =COUNTA(M4:M18) -> 0
A98: DAY TOTAL | C98: =SUM(C91:C97) -> 3.7 | D98: =SUM(D91:D97) -> 28.3 | E98: =SUM(E91:E97) -> 32 | F98: =SUM(F91:F97) -> 1 | G98: =SUM(G91:G97) -> 10
A101: DAY 2 - WED 6 OCT 2021
A102: ANGLER | C102: MASS | D102: MASS | E102: POINTS | F102: AMOUNT | G102: AMOUNT
A103: NAME | B103: INI | C103: EDIBLE | D103: NON-ED | E103: ACC | F103: EDIBLE | G103: NON-ED
A104: =A2 -> LANGENSTRASSEN | B104: =B2 -> A | C104: =SUM(B56) -> 0 | D104: =SUM(B48) -> 34.9 | E104: =SUM(D104+C104) -> 34.9 | F104: =COUNTA(A49:A56) -> 0 | G104: =COUNTA(A33:A47) -> 5
A105: =C2 -> CORDIER | B105: =D2 -> W | C105: =SUM(D56) -> 0 | D105: =SUM(D48) -> 6.7 | E105: =SUM(D105+C105) -> 6.7 | F105: =COUNTA(C49:C56) -> 0 | G105: =COUNTA(C33:C47) -> 2
A106: =E2 -> POTGIETER | B106: =F2 -> C | C106: =SUM(F56) -> 0 | D106: =SUM(F48) -> 10.5 | E106: =SUM(D106+C106) -> 10.5 | F106: =COUNTA(E49:E56) -> 0 | G106: =COUNTA(E33:E47) -> 4
A107: =G2 -> FENAUX | B107: =H2 -> L | C107: =SUM(H56) -> 2.5 | D107: =SUM(H48) -> 29.3 | E107: =SUM(D107+C107) -> 31.8 | F107: =COUNTA(G49:G56) -> 1 | G107: =COUNTA(G33:G47) -> 4
A108: =I2 -> VENTER | B108: =J2 -> M | C108: =SUM(J56) -> 0 | D108: =SUM(J48) -> 15.4 | E108: =SUM(D108+C108) -> 15.4 | F108: =COUNTA(I49:I56) -> 0 | G108: =COUNTA(I33:I47) -> 3
A109: =K2 -> ROETS | B109: =L2 -> H | C109: =SUM(L56) -> 0 | D109: =SUM(L48) -> 34.5 | E109: =SUM(D109+C109) -> 34.5 | F109: =COUNTA(K49:K56) -> 0 | G109: =COUNTA(K33:K48) -> 7
A110: =M2 -> VILJOEN | B110: =N2 -> L | C110: =SUM(N56) -> 0 | D110: =SUM(N48) -> 32.3 | E110: =SUM(D110+C110) -> 32.3 | F110: =COUNTA(M49:M56) -> 0 | G110: =COUNTA(M33:M47) -> 3
A111: DAY TOTAL | C111: =SUM(C104:C110) -> 2.5 | D111: =SUM(D104:D110) -> 163.6 | E111: =SUM(E104:E110) -> 166.1 | F111: =SUM(F104:F110) -> 1 | G111: =SUM(G104:G110) -> 28
A114: DAY 3 - THU 7 OCT 2021
A115: ANGLER | C115: MASS | D115: MASS | E115: POINTS | F115: AMOUNT | G115: AMOUNT
A116: NAME | B116: INI | C116: EDIBLE | D116: NON-ED | E116: ACC | F116: EDIBLE | G116: NON-ED
A117: =A2 -> LANGENSTRASSEN | B117: =B2 -> A | C117: =SUM(B85) -> 0 | D117: =SUM(B77) -> 0 | E117: =SUM(D117+C117) -> 0 | F117: =COUNTA(A78:A84) -> 0 | G117: =COUNTA(A62:A76) -> 0
A118: =C2 -> CORDIER | B118: =D2 -> W | C118: =SUM(D85) -> 0 | D118: =SUM(D77) -> 0 | E118: =SUM(D118+C118) -> 0 | F118: =COUNTA(C78:C84) -> 0 | G118: =COUNTA(C62:C76) -> 0
A119: =E2 -> POTGIETER | B119: =F2 -> C | C119: =SUM(F85) -> 0 | D119: =SUM(F77) -> 0 | E119: =SUM(D119+C119) -> 0 | F119: =COUNTA(E78:E84) -> 0 | G119: =COUNTA(E62:E76) -> 0
A120: =G2 -> FENAUX | B120: =H2 -> L | C120: =SUM(H85) -> 0 | D120: =SUM(H77) -> 0 | E120: =SUM(D120+C120) -> 0 | F120: =COUNTA(G78:G84) -> 0 | G120: =COUNTA(G62:G76) -> 0
A121: =I2 -> VENTER | B121: =J2 -> M | C121: =SUM(J85) -> 0 | D121: =SUM(J77) -> 0 | E121: =SUM(D121+C121) -> 0 | F121: =COUNTA(I78:I84) -> 0 | G121: =COUNTA(I62:I76) -> 0
A122: =K2 -> ROETS | B122: =L2 -> H | C122: =SUM(L85) -> 0 | D122: =SUM(L77) -> 0 | E122: =SUM(D122+C122) -> 0 | F122: =COUNTA(K78:K84) -> 0 | G122: =COUNTA(K62:K76) -> 0
A123: =M2 -> VILJOEN | B123: =N2 -> L | C123: =SUM(N85) -> 0 | D123: =SUM(N77) -> 0 | E123: =SUM(D123+C123) -> 0 | F123: =COUNTA(M78:M84) -> 0 | G123: =COUNTA(M62:M76) -> 0
A124: DAY TOTAL | C124: =SUM(C117:C123) -> 0 | D124: =SUM(D117:D123) -> 0 | E124: =SUM(E117:E123) -> 0 | F124: =SUM(F117:F123) -> 0 | G124: =SUM(G117:G123) -> 0
A127: POINTS ACCUMULATED - TUE 5 OCT to THU 7 OCT 2021
A128: ANGLER | C128: MASS | D128: MASS | E128: POINTS | F128: AMOUNT | G128: AMOUNT | H128: TOTAL
A129: NAME | B129: INI | C129: EDIBLE | D129: NON-ED | E129: ACC | F129: EDIBLE | G129: NON-ED | H129: FISH
A130: =A2 -> LANGENSTRASSEN | B130: =B2 -> A | C130: =SUM(C117+C104+C91) -> 0 | D130: =SUM(D91+D104+D117) -> 45.2 | E130: =SUM(E117+E104+E91) -> 45.2 | F130: =SUM(F91+F104+F117) -> 0 | G130: =SUM(G91+G104+G117) -> 9 | H130: =SUM(F130:G130) -> 9
A131: =C2 -> CORDIER | B131: =D2 -> W | C131: =SUM(C118+C105+C92) -> 0 | D131: =SUM(D92+D105+D118) -> 14.5 | E131: =SUM(E118+E105+E92) -> 14.5 | F131: =SUM(F92+F105+F118) -> 0 | G131: =SUM(G92+G105+G118) -> 4 | H131: =SUM(F131:G131) -> 4
A132: =E2 -> POTGIETER | B132: =F2 -> C | C132: =SUM(C119+C106+C93) -> 0 | D132: =SUM(D93+D106+D119) -> 16.1 | E132: =SUM(E119+E106+E93) -> 16.1 | F132: =SUM(F93+F106+F119) -> 0 | G132: =SUM(G93+G106+G119) -> 6 | H132: =SUM(F132:G132) -> 6
A133: =G2 -> FENAUX | B133: =H2 -> L | C133: =SUM(C120+C107+C94) -> 2.5 | D133: =SUM(D94+D107+D120) -> 33.9 | E133: =SUM(E120+E107+E94) -> 36.4 | F133: =SUM(F94+F107+F120) -> 1 | G133: =SUM(G94+G107+G120) -> 6 | H133: =SUM(F133:G133) -> 7
A134: =I2 -> VENTER | B134: =J2 -> M | C134: =SUM(C121+C108+C95) -> 0 | D134: =SUM(D95+D108+D121) -> 15.4 | E134: =SUM(E121+E108+E95) -> 15.4 | F134: =SUM(F95+F108+F121) -> 0 | G134: =SUM(G95+G108+G121) -> 3 | H134: =SUM(F134:G134) -> 3
A135: =K2 -> ROETS | B135: =L2 -> H | C135: =SUM(C122+C109+C96) -> 3.7 | D135: =SUM(D96+D109+D122) -> 34.5 | E135: =SUM(E122+E109+E96) -> 38.2 | F135: =SUM(F96+F109+F122) -> 1 | G135: =SUM(G96+G109+G122) -> 7 | H135: =SUM(F135+G135) -> 8
A136: =M2 -> VILJOEN | B136: =N2 -> L | C136: =SUM(C123+C110+C97) -> 0 | D136: =SUM(D97+D110+D123) -> 32.3 | E136: =SUM(E123+E110+E97) -> 32.3 | F136: =SUM(F97+F110+F123) -> 0 | G136: =SUM(G97+G110+G123) -> 3 | H136: =SUM(F136:G136) -> 3
A137: WEEK TOTAL | C137: =SUM(C130:C136) -> 6.2 | D137: =SUM(D130:D136) -> 191.9 | E137: =SUM(E130:E136) -> 198.1 | F137: =SUM(F130:F136) -> 2 | G137: =SUM(G130:G136) -> 38 | H137: =SUM(H130:H136) -> 40

Sheet NA B
A1: DAY 1 - TUE 5 OCT 2021
A2: VAN RIET | B2: W | C2: KOTZE | D2: J | E2: VAN RENSBURG | F2: G | G2: VAN AARDE | H2: P | I2: POTGIETER | J2: T | K2: HERMANN | L2: J | M2: VAN NIEKERK | N2: J
A3: SPECIE | B3: KG | C3: SPECIE | D3: KG | E3: SPECIE | F3: KG | G3: SPECIE | H3: KG | I3: SPECIE | J3: KG | K3: SPECIE | L3: KG | M3: SPECIE | N3: KG
A4: BLUE RAY | B4: 2.5 | C4: BLUE RAY | D4: 3.3 | E4: BLUE RAY | F4: 2.4 | G4: SOUPFIN | H4: 2.7 | I4: BLUE RAY | J4: 8.7 | K4: RAGGIE | L4: 21.7 | M4: BLUE RAY | N4: 1.5
C5: BLUE RAY | D5: 3.3 | E5: BLUE RAY | F5: 2.6 | G5: ST JOSEPH | H5: 5.6 | K5: BLUE RAY | L5: 2.5
C6: BLUE RAY | D6: 8.2 | E6: BLUE RAY | F6: 2.6 | G6: BLUE RAY | H6: 5 | K6: BLUE RAY | L6: 3.5
C7: BLUE RAY | D7: 3.5 | G7: BLUE RAY | H7: 3 | K7: ST JOSEPH | L7: 3.6
C8: BLUE RAY | D8: 2.8
B19: =SUM(B4:B18) -> 2.5 | D19: =SUM(D4:D18) -> 21.1 | F19: =SUM(F4:F18) -> 7.6 | H19: =SUM(H4:H18) -> 16.3 | J19: =SUM(J4:J18) -> 8.7 | L19: =SUM(L4:L18) -> 31.3 | N19: =SUM(N4:N18) -> 1.5 | O19: =SUM(A19:N19) -> 89
O23: =SUM(O19+O27) -> 89
B27: =SUM(B20:B26) -> 0 | D27: =SUM(D20:D26) -> 0 | F27: =SUM(F20:F26) -> 0 | H27: =SUM(H20:H26) -> 0 | J27: =SUM(J20:J26) -> 0 | L27: =SUM(L20:L26) -> 0 | N27: =SUM(N20:N26) -> 0 | O27: =SUM(A27:N27) -> 0
A30: DAY 2 - WED 6 OCT 2021
A31: =A2 -> VAN RIET | B31: =B2 -> W | C31: =C2 -> KOTZE | D31: =D2 -> J | E31: =E2 -> VAN RENSBURG | F31: =F2 -> G | G31: =G2 -> VAN AARDE | H31: =H2 -> P | ... N31: =N2 -> J
A32: SPECIE | B32: KG | C32: SPECIE | D32: KG | E32: SPECIE | F32: KG | G32: SPECIE | H32: KG | I32: SPECIE | J32: KG | K32: SPECIE | L32: KG | M32: SPECIE | N32: KG
A33: SANDY | B33: 2.4 | C33: SANDY | D33: 2.2 | E33: BLUE RAY | F33: 4.1 | G33: BLUE RAY | H33: 3 | I33: STRIPED CATSHARK | J33: 5.6 | K33: BLUE RAY | L33: 16.8 | M33: BLUE RAY | N33: 2.3
A34: BLUE RAY | B34: 2.6 | C34: BLUE RAY | D34: 3.5 | G34: BLUE RAY | H34: 1.7 | I34: BLUE RAY | J34: 1.7 | K34: DIAMOND | L34: 9 | M34: BLUE RAY | N34: 17.5
A35: BLUE RAY | B35: 9.7 | C35: BLUE RAY | D35: 3 | G35: BLUE RAY | H35: 2.1 | I35: BLUE RAY | J35: 3.7 | M35: BLUE RAY | N35: 2.3
C36: BLUE RAY | D36: 10.8 | G36: BLUE RAY | H36: 2.8 | I36: BLUE RAY | J36: 10.2
C37: DUCKBILL | D37: 9.1 | G37: BLUE RAY | H37: 5.4 | I37: BLUE RAY | J37: 9.2
C38: BLUE RAY | D38: 16 | G38: BLUE RAY | H38: 1.4 | I38: EAGLE | J38: 1.2
G39: BLUE RAY | H39: 10.8
G40: BLUE RAY | H40: 17.5
G41: BLUE RAY | H41: 47.7
B48: =SUM(B33:B47) -> 14.7 | D48: =SUM(D33:D47) -> 44.6 | F48: =SUM(F33:F47) -> 4.1 | H48: =SUM(H33:H47) -> 92.4 | J48: =SUM(J33:J47) -> 31.6 | L48: =SUM(L33:L47) -> 25.8 | N48: =SUM(N33:N47) -> 22.1 | O48: =SUM(A48:N48) -> 235.3
O52: =SUM(O48+O56) -> 235.3
B56: =SUM(B49:B55) -> 0 | D56: =SUM(D49:D55) -> 0 | F56: =SUM(F49:F55) -> 0 | H56: =SUM(H49:H55) -> 0 | J56: =SUM(J49:J55) -> 0 | L56: =SUM(L49:L55) -> 0 | N56: =SUM(N49:N55) -> 0 | O56: =SUM(A56:N56) -> 0
A59: DAY 3 - THU 7 OCT 2021
A60: =A2 -> VAN RIET | B60: =B2 -> W | C60: =C2 -> KOTZE | D60: =D2 -> J | E60: =E2 -> VAN RENSBURG | F60: =F2 -> G | G60: =G2 -> VAN AARDE | H60: =H2 -> P | ... N60: =N2 -> J
A61: SPECIE | B61: KG | C61: SPECIE | D61: KG | E61: SPECIE | F61: KG | G61: SPECIE | H61: KG | I61: SPECIE | J61: KG | K61: SPECIE | L61: KG | M61: SPECIE | N61: KG
A62: BRONZIE | B62: 2.7 | C62: BLUE RAY | D62: 10.2 | E62: BRONZIE | F62: 3 | G62: RAGGIE | H62: 11.3 | I62: SANDY | J62: 1.4 | M62: SANDY | N62: 1.5
C63: BLUE RAY | D63: 2.6
B77: =SUM(B62:B76) -> 2.7 | D77: =SUM(D62:D76) -> 12.8 | F77: =SUM(F62:F76) -> 3 | H77: =SUM(H62:H76) -> 11.3 | J77: =SUM(J62:J76) -> 1.4 | L77: =SUM(L62:L76) -> 0 | N77: =SUM(N62:N76) -> 1.5 | O77: =SUM(A77:N77) -> 32.7
O81: =SUM(O77+O85) -> 32.7
B85: =SUM(B78:B84) -> 0 | D85: =SUM(D78:D84) -> 0 | F85: =SUM(F78:F84) -> 0 | H85: =SUM(H78:H84) -> 0 | J85: =SUM(J78:J84) -> 0 | L85: =SUM(L78:L84) -> 0 | N85: =SUM(N78:N84) -> 0 | O85: =SUM(A85:N85) -> 0
A88: DAY 1 - TUE 5 OCT 2021
A89: ANGLER | C89: MASS | D89: MASS | E89: POINTS | F89: AMOUNT | G89: AMOUNT
A90: NAME | B90: INI | C90: EDIBLE | D90: NON-ED | E90: ACC | F90: EDIBLE | G90: NON-ED
A91: =A2 -> VAN RIET | B91: =B2 -> W | C91: =SUM(B27) -> 0 | D91: =SUM(B19) -> 2.5 | E91: =SUM(D91+C91) -> 2.5 | F91: =COUNTA(A20:A26) -> 0 | G91: =COUNTA(A4:A18) -> 1
A92: =C2 -> KOTZE | B92: =D2 -> J | C92: =SUM(D27) -> 0 | D92: =SUM(D19) -> 21.1 | E92: =SUM(D92+C92) -> 21.1 | F92: =COUNTA(C20:C26) -> 0 | G92: =COUNTA(C4:C18) -> 5
A93: =E2 -> VAN RENSBURG | B93: =F2 -> G | C93: =SUM(F27) -> 0 | D93: =SUM(F19) -> 7.6 | E93: =SUM(D93+C93) -> 7.6 | F93: =COUNTA(E20:E26) -> 0 | G93: =COUNTA(E4:E18) -> 3
A94: =G2 -> VAN AARDE | B94: =H2 -> P | C94: =SUM(H27) -> 0 | D94: =SUM(H19) -> 16.3 | E94: =SUM(D94+C94) -> 16.3 | F94: =COUNTA(G20:G26) -> 0 | G94: =COUNTA(G4:G18) -> 4
A95: =I2 -> POTGIETER | B95: =J2 -> T | C95: =SUM(J27) -> 0 | D95: =SUM(J19) -> 8.7 | E95: =SUM(D95+C95) -> 8.7 | F95: =COUNTA(I20:I26) -> 0 | G95: =COUNTA(I4:I18) -> 1
A96: =K2 -> HERMANN | B96: =L2 -> J | C96: =SUM(L27) -> 0 | D96: =SUM(L19) -> 31.3 | E96: =SUM(D96+C96) -> 31.3 | F96: =COUNTA(K20:K26) -> 0 | G96: =COUNTA(K4:K18) -> 4
A97: =M2 -> VAN NIEKERK | B97: =N2 -> J | C97: =SUM(N27) -> 0 | D97: =SUM(N19) -> 1.5 | E97: =SUM(D97+C97) -> 1.5 | F97: =COUNTA(M20:M26) -> 0 | G97: =COUNTA(M4:M18) -> 1
A98: DAY TOTAL | C98: =SUM(C91:C97) -> 0 | D98: =SUM(D91:D97) -> 89 | E98: =SUM(E91:E97) -> 89 | F98: =SUM(F91:F97) -> 0 | G98: =SUM(G91:G97) -> 19
A101: DAY 2 - WED 6 OCT 2021
A102: ANGLER | C102: MASS | D102: MASS | E102: POINTS | F102: AMOUNT | G102: AMOUNT
A103: NAME | B103: INI | C103: EDIBLE | D103: NON-ED | E103: ACC | F103: EDIBLE | G103: NON-ED
A104: =A2 -> VAN RIET | B104: =B2 -> W | C104: =SUM(B56) -> 0 | D104: =SUM(B48) -> 14.7 | E104: =SUM(D104+C104) -> 14.7 | F104: =COUNTA(A49:A56) -> 0 | G104: =COUNTA(A33:A47) -> 3
A105: =C2 -> KOTZE | B105: =D2 -> J | C105: =SUM(D56) -> 0 | D105: =SUM(D48) -> 44.6 | E105: =SUM(D105+C105) -> 44.6 | F105: =COUNTA(C49:C56) -> 0 | G105: =COUNTA(C33:C47) -> 6
A106: =E2 -> VAN RENSBURG | B106: =F2 -> G | C106: =SUM(F56) -> 0 | D106: =SUM(F48) -> 4.1 | E106: =SUM(D106+C106) -> 4.1 | F106: =COUNTA(E49:E56) -> 0 | G106: =COUNTA(E33:E47) -> 1
A107: =G2 -> VAN AARDE | B107: =H2 -> P | C107: =SUM(H56) -> 0 | D107: =SUM(H48) -> 92.4 | E107: =SUM(D107+C107) -> 92.4 | F107: =COUNTA(G49:G56) -> 0 | G107: =COUNTA(G33:G47) -> 9
A108: =I2 -> POTGIETER | B108: =J2 -> T | C108: =SUM(J56) -> 0 | D108: =SUM(J48) -> 31.6 | E108: =SUM(D108+C108) -> 31.6 | F108: =COUNTA(I49:I56) -> 0 | G108: =COUNTA(I33:I47) -> 6
A109: =K2 -> HERMANN | B109: =L2 -> J | C109: =SUM(L56) -> 0 | D109: =SUM(L48) -> 25.8 | E109: =SUM(D109+C109) -> 25.8 | F109: =COUNTA(K49:K56) -> 0 | G109: =COUNTA(K33:K48) -> 2
A110: =M2 -> VAN NIEKERK | B110: =N2 -> J | C110: =SUM(N56) -> 0 | D110: =SUM(N48) -> 22.1 | E110: =SUM(D110+C110) -> 22.1 | F110: =COUNTA(M49:M56) -> 0 | G110: =COUNTA(M33:M47) -> 3
A111: DAY TOTAL | C111: =SUM(C104:C110) -> 0 | D111: =SUM(D104:D110) -> 235.3 | E111: =SUM(E104:E110) -> 235.3 | F111: =SUM(F104:F110) -> 0 | G111: =SUM(G104:G110) -> 30
A114: DAY 3 - THU 7 OCT 2021
A115: ANGLER | C115: MASS | D115: MASS | E115: POINTS | F115: AMOUNT | G115: AMOUNT
A116: NAME | B116: INI | C116: EDIBLE | D116: NON-ED | E116: ACC | F116: EDIBLE | G116: NON-ED
A117: =A2 -> VAN RIET | B117: =B2 -> W | C117: =SUM(B85) -> 0 | D117: =SUM(B77) -> 2.7 | E117: =SUM(D117+C117) -> 2.7 | F117: =COUNTA(A78:A84) -> 0 | G117: =COUNTA(A62:A76) -> 1
A118: =C2 -> KOTZE | B118: =D2 -> J | C118: =SUM(D85) -> 0 | D118: =SUM(D77) -> 12.8 | E118: =SUM(D118+C118) -> 12.8 | F118: =COUNTA(C78:C84) -> 0 | G118: =COUNTA(C62:C76) -> 2
A119: =E2 -> VAN RENSBURG | B119: =F2 -> G | C119: =SUM(F85) -> 0 | D119: =SUM(F77) -> 3 | E119: =SUM(D119+C119) -> 3 | F119: =COUNTA(E78:E84) -> 0 | G119: =COUNTA(E62:E76) -> 1
A120: =G2 -> VAN AARDE | B120: =H2 -> P | C120: =SUM(H85) -> 0 | D120: =SUM(H77) -> 11.3 | E120: =SUM(D120+C120) -> 11.3 | F120: =COUNTA(G78:G84) -> 0 | G120: =COUNTA(G62:G76) -> 1
A121: =I2 -> POTGIETER | B121: =J2 -> T | C121: =SUM(J85) -> 0 | D121: =SUM(J77) -> 1.4 | E121: =SUM(D121+C121) -> 1.4 | F121: =COUNTA(I78:I84) -> 0 | G121: =COUNTA(I62:I76) -> 1
A122: =K2 -> HERMANN | B122: =L2 -> J | C122: =SUM(L85) -> 0 | D122: =SUM(L77) -> 0 | E122: =SUM(D122+C122) -> 0 | F122: =COUNTA(K78:K84) -> 0 | G122: =COUNTA(K62:K76) -> 0
A123: =M2 -> VAN NIEKERK | B123: =N2 -> J | C123: =SUM(N85) -> 0 | D123: =SUM(N77) -> 1.5 | E123: =SUM(D123+C123) -> 1.5 | F123: =COUNTA(M78:M84) -> 0 | G123: =COUNTA(M62:M76) -> 1
A124: DAY TOTAL | C124: =SUM(C117:C123) -> 0 | D124: =SUM(D117:D123) -> 32.7 | E124: =SUM(E117:E123) -> 32.7 | F124: =SUM(F117:F123) -> 0 | G124: =SUM(G117:G123) -> 7
A127: POINTS ACCUMULATED - TUE 5 OCT to THU 7 OCT 2021
A128: ANGLER | C128: MASS | D128: MASS | E128: POINTS | F128: AMOUNT | G128: AMOUNT | H128: TOTAL
A129: NAME | B129: INI | C129: EDIBLE | D129: NON-ED | E129: ACC | F129: EDIBLE | G129: NON-ED | H129: FISH
A130: =A2 -> VAN RIET | B130: =B2 -> W | C130: =SUM(C117+C104+C91) -> 0 | D130: =SUM(D91+D104+D117) -> 19.9 | E130: =SUM(E117+E104+E91) -> 19.9 | F130: =SUM(F91+F104+F117) -> 0 | G130: =SUM(G91+G104+G117) -> 5 | H130: =SUM(F130:G130) -> 5
A131: =C2 -> KOTZE | B131: =D2 -> J | C131: =SUM(C118+C105+C92) -> 0 | D131: =SUM(D92+D105+D118) -> 78.5 | E131: =SUM(E118+E105+E92) -> 78.5 | F131: =SUM(F92+F105+F118) -> 0 | G131: =SUM(G92+G105+G118) -> 13 | H131: =SUM(F131:G131) -> 13
A132: =E2 -> VAN RENSBURG | B132: =F2 -> G | C132: =SUM(C119+C106+C93) -> 0 | D132: =SUM(D93+D106+D119) -> 14.7 | E132: =SUM(E119+E106+E93) -> 14.7 | F132: =SUM(F93+F106+F119) -> 0 | G132: =SUM(G93+G106+G119) -> 5 | H132: =SUM(F132:G132) -> 5
A133: =G2 -> VAN AARDE | B133: =H2 -> P | C133: =SUM(C120+C107+C94) -> 0 | D133: =SUM(D94+D107+D120) -> 120 | E133: =SUM(E120+E107+E94) -> 120 | F133: =SUM(F94+F107+F120) -> 0 | G133: =SUM(G94+G107+G120) -> 14 | H133: =SUM(F133:G133) -> 14
A134: =I2 -> POTGIETER | B134: =J2 -> T | C134: =SUM(C121+C108+C95) -> 0 | D134: =SUM(D95+D108+D121) -> 41.7 | E134: =SUM(E121+E108+E95) -> 41.7 | F134: =SUM(F95+F108+F121) -> 0 | G134: =SUM(G95+G108+G121) -> 8 | H134: =SUM(F134:G134) -> 8
A135: =K2 -> HERMANN | B135: =L2 -> J | C135: =SUM(C122+C109+C96) -> 0 | D135: =SUM(D96+D109+D122) -> 57.1 | E135: =SUM(E122+E109+E96) -> 57.1 | F135: =SUM(F96+F109+F122) -> 0 | G135: =SUM(G96+G109+G122) -> 6 | H135: =SUM(F135+G135) -> 6
A136: =M2 -> VAN NIEKERK | B136: =N2 -> J | C136: =SUM(C123+C110+C97) -> 0 | D136: =SUM(D97+D110+D123) -> 25.1 | E136: =SUM(E123+E110+E97) -> 25.1 | F136: =SUM(F97+F110+F123) -> 0 | G136: =SUM(G97+G110+G123) -> 5 | H136: =SUM(F136:G136) -> 5
A137: WEEK TOTAL | C137: =SUM(C130:C136) -> 0 | D137: =SUM(D130:D136) -> 357 | E137: =SUM(E130:E136) -> 357 | F137: =SUM(F130:F136) -> 0 | G137: =SUM(G130:G136) -> 56 | H137: =SUM(H130:H136) -> 56

Sheet NA VET
A1: DAY 1 - TUE 5 OCT 2021
A2: VAN DEN HEUVEL | B2: S | C2: SWANEPOEL | D2: S | E2: VAN ZYL | F2: R | G2: DOLL | H2: H | I2: JANSEN VAN VUUREN | J2: M | K2: HUGO | L2: M | M2: KRUAER | N2: G
A3: SPECIE | B3: KG | C3: SPECIE | D3: KG | E3: SPECIE | F3: KG | G3: SPECIE | H3: KG | I3: SPECIE | J3: KG | K3: SPECIE | L3: KG | M3: SPECIE | N3: KG
A4: BLUE RAY | B4: 2.5 | C4: BLUE RAY | D4: 2.2 | E4: BLUE RAY | F4: 2.1 | G4: SPEARNOSE | H4: 1.5 | I4: BLUE RAY | J4: 9.2 | K4: BLUE RAY | L4: 2.8
A5: BLUE RAY | B5: 3.8 | C5: BLUE RAY | D5: 1.1 | E5: BLUE RAY | F5: 3.3 | G5: BLUE RAY | H5: 3.5 | I5: SANDY | J5: 2.1 | K5: BLUE RAY | L5: 3.5
E6: BLUE RAY | F6: 2.1 | G6: BLUE RAY | H6: 2.6 | K6: BLUE RAY | L6: 7.3
E7: BLUE RAY | F7: 2.6
E8: BLUE RAY | F8: 1.8
E9: BLUE RAY | F9: 3.5
E10: BLUE RAY | F10: 12
B19: =SUM(B4:B18) -> 6.3 | D19: =SUM(D4:D18) -> 3.3 | F19: =SUM(F4:F18) -> 27.4 | H19: =SUM(H4:H18) -> 7.6 | J19: =SUM(J4:J18) -> 11.3 | L19: =SUM(L4:L18) -> 13.6 | N19: =SUM(N4:N18) -> 0 | O19: =SUM(A19:N19) -> 69.5
M20: ELF | N20: 1
O23: =SUM(O19+O27) -> 70.5
B27: =SUM(B20:B26) -> 0 | D27: =SUM(D20:D26) -> 0 | F27: =SUM(F20:F26) -> 0 | H27: =SUM(H20:H26) -> 0 | J27: =SUM(J20:J26) -> 0 | L27: =SUM(L20:L26) -> 0 | N27: =SUM(N20:N26) -> 1 | O27: =SUM(A27:N27) -> 1
A30: DAY 2 - WED 6 OCT 2021
A31: =A2 -> VAN DEN HEUVEL | B31: =B2 -> S | C31: =C2 -> SWANEPOEL | D31: =D2 -> S | E31: =E2 -> VAN ZYL | F31: =F2 -> R | G31: =G2 -> DOLL | H31: =H2 -> H | ... N31: =N2 -> G
A32: SPECIE | B32: KG | C32: SPECIE | D32: KG | E32: SPECIE | F32: KG | G32: SPECIE | H32: KG | I32: SPECIE | J32: KG | K32: SPECIE | L32: KG | M32: SPECIE | N32: KG
A33: EAGLE | B33: 2.8 | C33: ST JOSEPH | D33: 4.9 | E33: EAGLE | F33: 8 | G33: BLUE RAY | H33: 2.6 | I33: BLUE RAY | J33: 1.8 | K33: BLUE RAY | L33: 9.7 | M33: BLUE RAY | N33: 12
A34: BLUE RAY | B34: 3 | C34: BLUE RAY | D34: 1.5 | E34: BLUE RAY | F34: 11.4 | G34: BLUE RAY | H34: 3 | I34: BLUE RAY | J34: 2 | K34: BLUE RAY | L34: 14.6 | M34: BLUE RAY | N34: 10.8
A35: RAGGIE | B35: 55.3 | C35: BLUE RAY | D35: 2.8 | E35: BLUE RAY | F35: 11.4 | G35: BLUE RAY | H35: 2.1 | I35: BLUE RAY | J35: 13.2 | K35: BLUE RAY | L35: 2.8
A36: BLUE RAY | B36: 10.2 | C36: BLUE RAY | D36: 10.2 | G36: BLUE RAY | H36: 10.2 | I36: BLUE RAY | J36: 2.1 | K36: BLUE RAY | L36: 2
G37: BLUE RAY | H37: 13.9 | I37: BLUE RAY | J37: 9.7 | K37: BLUE RAY | L37: 2.6
I38: BLUE RAY | J38: 2.3
B48: =SUM(B33:B47) -> 71.3 | D48: =SUM(D33:D47) -> 19.4 | F48: =SUM(F33:F47) -> 30.8 | H48: =SUM(H33:H47) -> 31.8 | J48: =SUM(J33:J47) -> 31.1 | L48: =SUM(L33:L47) -> 31.7 | N48: =SUM(N33:N47) -> 22.8 | O48: =SUM(A48:N48) -> 238.9
C49: KOB | D49: 1.4
O52: =SUM(O48+O56) -> 240.3
B56: =SUM(B49:B55) -> 0 | D56: =SUM(D49:D55) -> 1.4 | F56: =SUM(F49:F55) -> 0 | H56: =SUM(H49:H55) -> 0 | J56: =SUM(J49:J55) -> 0 | L56: =SUM(L49:L55) -> 0 | N56: =SUM(N49:N55) -> 0 | O56: =SUM(A56:N56) -> 1.4
A59: DAY 3 - THU 7 OCT 2021
A60: =A2 -> VAN DEN HEUVEL | B60: =B2 -> S | C60: =C2 -> SWANEPOEL | D60: =D2 -> S | E60: =E2 -> VAN ZYL | F60: =F2 -> R | G60: =G2 -> DOLL | H60: =H2 -> H | ... N60: =N2 -> G
A61: SPECIE | B61: KG | C61: SPECIE | D61: KG | E61: SPECIE | F61: KG | G61: SPECIE | H61: KG | I61: SPECIE | J61: KG | K61: SPECIE | L61: KG | M61: SPECIE | N61: KG
A62: SOUPFIN | B62: 3.5 | C62: BLUE RAY | D62: 2 | I62: SMOOTH HOUND | J62: 9.8 | K62: BLUE RAY | L62: 1.3
B77: =SUM(B62:B76) -> 3.5 | D77: =SUM(D62:D76) -> 2 | F77: =SUM(F62:F76) -> 0 | H77: =SUM(H62:H76) -> 0 | J77: =SUM(J62:J76) -> 9.8 | L77: =SUM(L62:L76) -> 1.3 | N77: =SUM(N62:N76) -> 0 | O77: =SUM(A77:N77) -> 16.6
O81: =SUM(O77+O85) -> 16.6
B85: =SUM(B78:B84) -> 0 | D85: =SUM(D78:D84) -> 0 | F85: =SUM(F78:F84) -> 0 | H85: =SUM(H78:H84) -> 0 | J85: =SUM(J78:J84) -> 0 | L85: =SUM(L78:L84) -> 0 | N85: =SUM(N78:N84) -> 0 | O85: =SUM(A85:N85) -> 0
A88: DAY 1 - TUE 5 OCT 2021
A89: ANGLER | C89: MASS | D89: MASS | E89: POINTS | F89: AMOUNT | G89: AMOUNT
A90: NAME | B90: INI | C90: EDIBLE | D90: NON-ED | E90: ACC | F90: EDIBLE | G90: NON-ED
A91: =A2 -> VAN DEN HEUVEL | B91: =B2 -> S | C91: =SUM(B27) -> 0 | D91: =SUM(B19) -> 6.3 | E91: =SUM(D91+C91) -> 6.3 | F91: =COUNTA(A20:A26) -> 0 | G91: =COUNTA(A4:A18) -> 2
A92: =C2 -> SWANEPOEL | B92: =D2 -> S | C92: =SUM(D27) -> 0 | D92: =SUM(D19) -> 3.3 | E92: =SUM(D92+C92) -> 3.3 | F92: =COUNTA(C20:C26) -> 0 | G92: =COUNTA(C4:C18) -> 2
A93: =E2 -> VAN ZYL | B93: =F2 -> R | C93: =SUM(F27) -> 0 | D93: =SUM(F19) -> 27.4 | E93: =SUM(D93+C93) -> 27.4 | F93: =COUNTA(E20:E26) -> 0 | G93: =COUNTA(E4:E18) -> 7
A94: =G2 -> DOLL | B94: =H2 -> H | C94: =SUM(H27) -> 0 | D94: =SUM(H19) -> 7.6 | E94: =SUM(D94+C94) -> 7.6 | F94: =COUNTA(G20:G26) -> 0 | G94: =COUNTA(G4:G18) -> 3
A95: =I2 -> JANSEN VAN VUUREN | B95: =J2 -> M | C95: =SUM(J27) -> 0 | D95: =SUM(J19) -> 11.3 | E95: =SUM(D95+C95) -> 11.3 | F95: =COUNTA(I20:I26) -> 0 | G95: =COUNTA(I4:I18) -> 2
A96: =K2 -> HUGO | B96: =L2 -> M | C96: =SUM(L27) -> 0 | D96: =SUM(L19) -> 13.6 | E96: =SUM(D96+C96) -> 13.6 | F96: =COUNTA(K20:K26) -> 0 | G96: =COUNTA(K4:K18) -> 3
A97: =M2 -> KRUAER | B97: =N2 -> G | C97: =SUM(N27) -> 1 | D97: =SUM(N19) -> 0 | E97: =SUM(D97+C97) -> 1 | F97: =COUNTA(M20:M26) -> 1 | G97: =COUNTA(M4:M18) -> 0
A98: DAY TOTAL | C98: =SUM(C91:C97) -> 1 | D98: =SUM(D91:D97) -> 69.5 | E98: =SUM(E91:E97) -> 70.5 | F98: =SUM(F91:F97) -> 1 | G98: =SUM(G91:G97) -> 19
A101: DAY 2 - WED 6 OCT 2021
A102: ANGLER | C102: MASS | D102: MASS | E102: POINTS | F102: AMOUNT | G102: AMOUNT
A103: NAME | B103: INI | C103: EDIBLE | D103: NON-ED | E103: ACC | F103: EDIBLE | G103: NON-ED
A104: =A2 -> VAN DEN HEUVEL | B104: =B2 -> S | C104: =SUM(B56) -> 0 | D104: =SUM(B48) -> 71.3 | E104: =SUM(D104+C104) -> 71.3 | F104: =COUNTA(A49:A56) -> 0 | G104: =COUNTA(A33:A47) -> 4
A105: =C2 -> SWANEPOEL | B105: =D2 -> S | C105: =SUM(D56) -> 1.4 | D105: =SUM(D48) -> 19.4 | E105: =SUM(D105+C105) -> 20.8 | F105: =COUNTA(C49:C56) -> 1 | G105: =COUNTA(C33:C47) -> 4
A106: =E2 -> VAN ZYL | B106: =F2 -> R | C106: =SUM(F56) -> 0 | D106: =SUM(F48) -> 30.8 | E106: =SUM(D106+C106) -> 30.8 | F106: =COUNTA(E49:E56) -> 0 | G106: =COUNTA(E33:E47) -> 3
A107: =G2 -> DOLL | B107: =H2 -> H | C107: =SUM(H56) -> 0 | D107: =SUM(H48) -> 31.8 | E107: =SUM(D107+C107) -> 31.8 | F107: =COUNTA(G49:G56) -> 0 | G107: =COUNTA(G33:G47) -> 5
A108: =I2 -> JANSEN VAN VUUREN | B108: =J2 -> M | C108: =SUM(J56) -> 0 | D108: =SUM(J48) -> 31.1 | E108: =SUM(D108+C108) -> 31.1 | F108: =COUNTA(I49:I56) -> 0 | G108: =COUNTA(I33:I47) -> 6
A109: =K2 -> HUGO | B109: =L2 -> M | C109: =SUM(L56) -> 0 | D109: =SUM(L48) -> 31.7 | E109: =SUM(D109+C109) -> 31.7 | F109: =COUNTA(K49:K56) -> 0 | G109: =COUNTA(K33:K48) -> 5
A110: =M2 -> KRUAER | B110: =N2 -> G | C110: =SUM(N56) -> 0 | D110: =SUM(N48) -> 22.8 | E110: =SUM(D110+C110) -> 22.8 | F110: =COUNTA(M49:M56) -> 0 | G110: =COUNTA(M33:M47) -> 2
A111: DAY TOTAL | C111: =SUM(C104:C110) -> 1.4 | D111: =SUM(D104:D110) -> 238.9 | E111: =SUM(E104:E110) -> 240.3 | F111: =SUM(F104:F110) -> 1 | G111: =SUM(G104:G110) -> 29
A114: DAY 3 - THU 7 OCT 2021
A115: ANGLER | C115: MASS | D115: MASS | E115: POINTS | F115: AMOUNT | G115: AMOUNT
A116: NAME | B116: INI | C116: EDIBLE | D116: NON-ED | E116: ACC | F116: EDIBLE | G116: NON-ED
A117: =A2 -> VAN DEN HEUVEL | B117: =B2 -> S | C117: =SUM(B85) -> 0 | D117: =SUM(B77) -> 3.5 | E117: =SUM(D117+C117) -> 3.5 | F117: =COUNTA(A78:A84) -> 0 | G117: =COUNTA(A62:A76) -> 1
A118: =C2 -> SWANEPOEL | B118: =D2 -> S | C118: =SUM(D85) -> 0 | D118: =SUM(D77) -> 2 | E118: =SUM(D118+C118) -> 2 | F118: =COUNTA(C78:C84) -> 0 | G118: =COUNTA(C62:C76) -> 1
A119: =E2 -> VAN ZYL | B119: =F2 -> R | C119: =SUM(F85) -> 0 | D119: =SUM(F77) -> 0 | E119: =SUM(D119+C119) -> 0 | F119: =COUNTA(E78:E84) -> 0 | G119: =COUNTA(E62:E76) -> 0
A120: =G2 -> DOLL | B120: =H2 -> H | C120: =SUM(H85) -> 0 | D120: =SUM(H77) -> 0 | E120: =SUM(D120+C120) -> 0 | F120: =COUNTA(G78:G84) -> 0 | G120: =COUNTA(G62:G76) -> 0
A121: =I2 -> JANSEN VAN VUUREN | B121: =J2 -> M | C121: =SUM(J85) -> 0 | D121: =SUM(J77) -> 9.8 | E121: =SUM(D121+C121) -> 9.8 | F121: =COUNTA(I78:I84) -> 0 | G121: =COUNTA(I62:I76) -> 1
A122: =K2 -> HUGO | B122: =L2 -> M | C122: =SUM(L85) -> 0 | D122: =SUM(L77) -> 1.3 | E122: =SUM(D122+C122) -> 1.3 | F122: =COUNTA(K78:K84) -> 0 | G122: =COUNTA(K62:K76) -> 1
A123: =M2 -> KRUAER | B123: =N2 -> G | C123: =SUM(N85) -> 0 | D123: =SUM(N77) -> 0 | E123: =SUM(D123+C123) -> 0 | F123: =COUNTA(M78:M84) -> 0 | G123: =COUNTA(M62:M76) -> 0
A124: DAY TOTAL | C124: =SUM(C117:C123) -> 0 | D124: =SUM(D117:D123) -> 16.6 | E124: =SUM(E117:E123) -> 16.6 | F124: =SUM(F117:F123) -> 0 | G124: =SUM(G117:G123) -> 4
A127: POINTS ACCUMULATED - TUE 5 OCT to THU 7 OCT 2021
A128: ANGLER | C128: MASS | D128: MASS | E128: POINTS | F128: AMOUNT | G128: AMOUNT | H128: TOTAL
A129: NAME | B129: INI | C129: EDIBLE | D129: NON-ED | E129: ACC | F129: EDIBLE | G129: NON-ED | H129: FISH
A130: =A2 -> VAN DEN HEUVEL | B130: =B2 -> S | C130: =SUM(C117+C104+C91) -> 0 | D130: =SUM(D91+D104+D117) -> 81.1 | E130: =SUM(E117+E104+E91) -> 81.1 | F130: =SUM(F91+F104+F117) -> 0 | G130: =SUM(G91+G104+G117) -> 7 | H130: =SUM(F130:G130) -> 7
A131: =C2 -> SWANEPOEL | B131: =D2 -> S | C131: =SUM(C118+C105+C92) -> 1.4 | D131: =SUM(D92+D105+D118) -> 24.7 | E131: =SUM(E118+E105+E92) -> 26.1 | F131: =SUM(F92+F105+F118) -> 1 | G131: =SUM(G92+G105+G118) -> 7 | H131: =SUM(F131:G131) -> 8
A132: =E2 -> VAN ZYL | B132: =F2 -> R | C132: =SUM(C119+C106+C93) -> 0 | D132: =SUM(D93+D106+D119) -> 58.2 | E132: =SUM(E119+E106+E93) -> 58.2 | F132: =SUM(F93+F106+F119) -> 0 | G132: =SUM(G93+G106+G119) -> 10 | H132: =SUM(F132:G132) -> 10
A133: =G2 -> DOLL | B133: =H2 -> H | C133: =SUM(C120+C107+C94) -> 0 | D133: =SUM(D94+D107+D120) -> 39.4 | E133: =SUM(E120+E107+E94) -> 39.4 | F133: =SUM(F94+F107+F120) -> 0 | G133: =SUM(G94+G107+G120) -> 8 | H133: =SUM(F133:G133) -> 8
A134: =I2 -> JANSEN VAN VUUREN | B134: =J2 -> M | C134: =SUM(C121+C108+C95) -> 0 | D134: =SUM(D95+D108+D121) -> 52.2 | E134: =SUM(E121+E108+E95) -> 52.2 | F134: =SUM(F95+F108+F121) -> 0 | G134: =SUM(G95+G108+G121) -> 9 | H134: =SUM(F134:G134) -> 9
A135: =K2 -> HUGO | B135: =L2 -> M | C135: =SUM(C122+C109+C96) -> 0 | D135: =SUM(D96+D109+D122) -> 46.6 | E135: =SUM(E122+E109+E96) -> 46.6 | F135: =SUM(F96+F109+F122) -> 0 | G135: =SUM(G96+G109+G122) -> 9 | H135: =SUM(F135+G135) -> 9
A136: =M2 -> KRUAER | B136: =N2 -> G | C136: =SUM(C123+C110+C97) -> 1 | D136: =SUM(D97+D110+D123) -> 22.8 | E136: =SUM(E123+E110+E97) -> 23.8 | F136: =SUM(F97+F110+F123) -> 1 | G136: =SUM(G97+G110+G123) -> 2 | H136: =SUM(F136:G136) -> 3
A137: WEEK TOTAL | C137: =SUM(C130:C136) -> 2.4 | D137: =SUM(D130:D136) -> 325 | E137: =SUM(E130:E136) -> 327.4 | F137: =SUM(F130:F136) -> 2 | G137: =SUM(G130:G136) -> 52 | H137: =SUM(H130:H136) -> 54

Sheet NA MAS
A1: DAY 1 - TUE 5 OCT 2021
A2: AGENBACH | B2: J | C2: DIEDERICKS | D2: B | E2: ANDERSON | F2: S | G2: FERREIRA | H2: F | I2: VENTER | J2: J | K2: BEZUIDENHOUT | L2: A | M2: KRUGER | N2: S
A3: SPECIE | B3: KG | C3: SPECIE | D3: KG | E3: SPECIE | F3: KG | G3: SPECIE | H3: KG | I3: SPECIE | J3: KG | K3: SPECIE | L3: KG | M3: SPECIE | N3: KG
A4: ST JOSEPH | B4: 6.2 | E4: BRONZIE | F4: 2.7 | I4: SANDY | J4: 3 | M4: SANDY | N4: 1.9
A5: ST JOSEPH | B5: 7.1
A6: SANDY | B6: 1.1
B19: =SUM(B4:B18) -> 14.4 | D19: =SUM(D4:D18) -> 0 | F19: =SUM(F4:F18) -> 2.7 | H19: =SUM(H4:H18) -> 0 | J19: =SUM(J4:J18) -> 3 | L19: =SUM(L4:L18) -> 0 | N19: =SUM(N4:N18) -> 1.9 | O19: =SUM(A19:N19) -> 22
E20: KOB | F20: 17.4
O23: =SUM(O19+O27) -> 39.4
B27: =SUM(B20:B26) -> 0 | D27: =SUM(D20:D26) -> 0 | F27: =SUM(F20:F26) -> 17.4 | H27: =SUM(H20:H26) -> 0 | J27: =SUM(J20:J26) -> 0 | L27: =SUM(L20:L26) -> 0 | N27: =SUM(N20:N26) -> 0 | O27: =SUM(A27:N27) -> 17.4
A30: DAY 2 - WED 6 OCT 2021
A31: =A2 -> AGENBACH | B31: =B2 -> J | C31: =C2 -> DIEDERICKS | D31: =D2 -> B | E31: =E2 -> ANDERSON | F31: =F2 -> S | G31: =G2 -> FERREIRA | H31: =H2 -> F | ... N31: =N2 -> S
A32: SPECIE | B32: KG | C32: SPECIE | D32: KG | E32: SPECIE | F32: KG | G32: SPECIE | H32: KG | I32: SPECIE | J32: KG | K32: SPECIE | L32: KG | M32: SPECIE | N32: KG
A33: BLUE RAY | B33: 12.6 | C33: BLUE RAY | D33: 8.2 | E33: BLUE RAY | F33: 2.6 | G33: BLUE RAY | H33: 19.2 | I33: BLUE RAY | J33: 3.3 | K33: LEOPARD CATSHARK | L33: 1.2 | M33: SANDY | N33: 1.5
A34: BLUE RAY | B34: 9.7 | E34: BLUE RAY | F34: 10.8 | K34: BLUE RAY | L34: 16.8 | M34: BLUE RAY | N34: 13.9
A35: BLUE RAY | B35: 11.4 | E35: BLUE RAY | F35: 13.2 | K35: BLUE RAY | L35: 10.8 | M35: BLUE RAY | N35: 12.6
A36: BLUE RAY | B36: 10.8 | E36: BLUE RAY | F36: 11.4 | K36: BLUE RAY | L36: 3.3 | M36: BLUE RAY | N36: 10.2
A37: BLUE RAY | B37: 12.6 | E37: BLUE RAY | F37: 3.8 | K37: BLUE RAY | L37: 10.8
E38: BLUE RAY | F38: 14.6
E39: BLUE RAY | F39: 2.3
B48: =SUM(B33:B47) -> 57.1 | D48: =SUM(D33:D47) -> 8.2 | F48: =SUM(F33:F47) -> 58.7 | H48: =SUM(H33:H47) -> 19.2 | J48: =SUM(J33:J47) -> 3.3 | L48: =SUM(L33:L47) -> 42.9 | N48: =SUM(N33:N47) -> 38.2 | O48: =SUM(A48:N48) -> 227.6
C49: KOB | D49: 5
O52: =SUM(O48+O56) -> 232.6
B56: =SUM(B49:B55) -> 0 | D56: =SUM(D49:D55) -> 5 | F56: =SUM(F49:F55) -> 0 | H56: =SUM(H49:H55) -> 0 | J56: =SUM(J49:J55) -> 0 | L56: =SUM(L49:L55) -> 0 | N56: =SUM(N49:N55) -> 0 | O56: =SUM(A56:N56) -> 5
A59: DAY 3 - THU 7 OCT 2021
A60: =A2 -> AGENBACH | B60: =B2 -> J | C60: =C2 -> DIEDERICKS | D60: =D2 -> B | E60: =E2 -> ANDERSON | F60: =F2 -> S | G60: =G2 -> FERREIRA | H60: =H2 -> F | ... N60: =N2 -> S
A61: SPECIE | B61: KG | C61: SPECIE | D61: KG | E61: SPECIE | F61: KG | G61: SPECIE | H61: KG | I61: SPECIE | J61: KG | K61: SPECIE | L61: KG | M61: SPECIE | N61: KG
C62: BLUE RAY | D62: 1.5 | I62: BLUE RAY | J62: 12 | K62: EAGLE | L62: 10.5
B77: =SUM(B62:B76) -> 0 | D77: =SUM(D62:D76) -> 1.5 | F77: =SUM(F62:F76) -> 0 | H77: =SUM(H62:H76) -> 0 | J77: =SUM(J62:J76) -> 12 | L77: =SUM(L62:L76) -> 10.5 | N77: =SUM(N62:N76) -> 0 | O77: =SUM(A77:N77) -> 24
M78: KOB | N78: 3.6
O81: =SUM(O77+O85) -> 27.6
B85: =SUM(B78:B84) -> 0 | D85: =SUM(D78:D84) -> 0 | F85: =SUM(F78:F84) -> 0 | H85: =SUM(H78:H84) -> 0 | J85: =SUM(J78:J84) -> 0 | L85: =SUM(L78:L84) -> 0 | N85: =SUM(N78:N84) -> 3.6 | O85: =SUM(A85:N85) -> 3.6
A88: DAY 1 - TUE 5 OCT 2021
A89: ANGLER | C89: MASS | D89: MASS | E89: POINTS | F89: AMOUNT | G89: AMOUNT
A90: NAME | B90: INI | C90: EDIBLE | D90: NON-ED | E90: ACC | F90: EDIBLE | G90: NON-ED
A91: =A2 -> AGENBACH | B91: =B2 -> J | C91: =SUM(B27) -> 0 | D91: =SUM(B19) -> 14.4 | E91: =SUM(D91+C91) -> 14.4 | F91: =COUNTA(A20:A26) -> 0 | G91: =COUNTA(A4:A18) -> 3
A92: =C2 -> DIEDERICKS | B92: =D2 -> B | C92: =SUM(D27) -> 0 | D92: =SUM(D19) -> 0 | E92: =SUM(D92+C92) -> 0 | F92: =COUNTA(C20:C26) -> 0 | G92: =COUNTA(C4:C18) -> 0
A93: =E2 -> ANDERSON | B93: =F2 -> S | C93: =SUM(F27) -> 17.4 | D93: =SUM(F19) -> 2.7 | E93: =SUM(D93+C93) -> 20.1 | F93: =COUNTA(E20:E26) -> 1 | G93: =COUNTA(E4:E18) -> 1
A94: =G2 -> FERREIRA | B94: =H2 -> F | C94: =SUM(H27) -> 0 | D94: =SUM(H19) -> 0 | E94: =SUM(D94+C94) -> 0 | F94: =COUNTA(G20:G26) -> 0 | G94: =COUNTA(G4:G18) -> 0
A95: =I2 -> VENTER | B95: =J2 -> J | C95: =SUM(J27) -> 0 | D95: =SUM(J19) -> 3 | E95: =SUM(D95+C95) -> 3 | F95: =COUNTA(I20:I26) -> 0 | G95: =COUNTA(I4:I18) -> 1
A96: =K2 -> BEZUIDENHOUT | B96: =L2 -> A | C96: =SUM(L27) -> 0 | D96: =SUM(L19) -> 0 | E96: =SUM(D96+C96) -> 0 | F96: =COUNTA(K20:K26) -> 0 | G96: =COUNTA(K4:K18) -> 0
A97: =M2 -> KRUGER | B97: =N2 -> S | C97: =SUM(N27) -> 0 | D97: =SUM(N19) -> 1.9 | E97: =SUM(D97+C97) -> 1.9 | F97: =COUNTA(M20:M26) -> 0 | G97: =COUNTA(M4:M18) -> 1
A98: DAY TOTAL | C98: =SUM(C91:C97) -> 17.4 | D98: =SUM(D91:D97) -> 22 | E98: =SUM(E91:E97) -> 39.4 | F98: =SUM(F91:F97) -> 1 | G98: =SUM(G91:G97) -> 6
A101: DAY 2 - WED 6 OCT 2021
A102: ANGLER | C102: MASS | D102: MASS | E102: POINTS | F102: AMOUNT | G102: AMOUNT
A103: NAME | B103: INI | C103: EDIBLE | D103: NON-ED | E103: ACC | F103: EDIBLE | G103: NON-ED
A104: =A2 -> AGENBACH | B104: =B2 -> J | C104: =SUM(B56) -> 0 | D104: =SUM(B48) -> 57.1 | E104: =SUM(D104+C104) -> 57.1 | F104: =COUNTA(A49:A56) -> 0 | G104: =COUNTA(A33:A47) -> 5
A105: =C2 -> DIEDERICKS | B105: =D2 -> B | C105: =SUM(D56) -> 5 | D105: =SUM(D48) -> 8.2 | E105: =SUM(D105+C105) -> 13.2 | F105: =COUNTA(C49:C56) -> 1 | G105: =COUNTA(C33:C47) -> 1
A106: =E2 -> ANDERSON | B106: =F2 -> S | C106: =SUM(F56) -> 0 | D106: =SUM(F48) -> 58.7 | E106: =SUM(D106+C106) -> 58.7 | F106: =COUNTA(E49:E56) -> 0 | G106: =COUNTA(E33:E47) -> 7
A107: =G2 -> FERREIRA | B107: =H2 -> F | C107: =SUM(H56) -> 0 | D107: =SUM(H48) -> 19.2 | E107: =SUM(D107+C107) -> 19.2 | F107: =COUNTA(G49:G56) -> 0 | G107: =COUNTA(G33:G47) -> 1
A108: =I2 -> VENTER | B108: =J2 -> J | C108: =SUM(J56) -> 0 | D108: =SUM(J48) -> 3.3 | E108: =SUM(D108+C108) -> 3.3 | F108: =COUNTA(I49:I56) -> 0 | G108: =COUNTA(I33:I47) -> 1
A109: =K2 -> BEZUIDENHOUT | B109: =L2 -> A | C109: =SUM(L56) -> 0 | D109: =SUM(L48) -> 42.9 | E109: =SUM(D109+C109) -> 42.9 | F109: =COUNTA(K49:K56) -> 0 | G109: =COUNTA(K33:K48) -> 5
A110: =M2 -> KRUGER | B110: =N2 -> S | C110: =SUM(N56) -> 0 | D110: =SUM(N48) -> 38.2 | E110: =SUM(D110+C110) -> 38.2 | F110: =COUNTA(M49:M56) -> 0 | G110: =COUNTA(M33:M47) -> 4
A111: DAY TOTAL | C111: =SUM(C104:C110) -> 5 | D111: =SUM(D104:D110) -> 227.6 | E111: =SUM(E104:E110) -> 232.6 | F111: =SUM(F104:F110) -> 1 | G111: =SUM(G104:G110) -> 24
A114: DAY 3 - THU 7 OCT 2021
A115: ANGLER | C115: MASS | D115: MASS | E115: POINTS | F115: AMOUNT | G115: AMOUNT
A116: NAME | B116: INI | C116: EDIBLE | D116: NON-ED | E116: ACC | F116: EDIBLE | G116: NON-ED
A117: =A2 -> AGENBACH | B117: =B2 -> J | C117: =SUM(B85) -> 0 | D117: =SUM(B77) -> 0 | E117: =SUM(D117+C117) -> 0 | F117: =COUNTA(A78:A84) -> 0 | G117: =COUNTA(A62:A76) -> 0
A118: =C2 -> DIEDERICKS | B118: =D2 -> B | C118: =SUM(D85) -> 0 | D118: =SUM(D77) -> 1.5 | E118: =SUM(D118+C118) -> 1.5 | F118: =COUNTA(C78:C84) -> 0 | G118: =COUNTA(C62:C76) -> 1
A119: =E2 -> ANDERSON | B119: =F2 -> S | C119: =SUM(F85) -> 0 | D119: =SUM(F77) -> 0 | E119: =SUM(D119+C119) -> 0 | F119: =COUNTA(E78:E84) -> 0 | G119: =COUNTA(E62:E76) -> 0
A120: =G2 -> FERREIRA | B120: =H2 -> F | C120: =SUM(H85) -> 0 | D120: =SUM(H77) -> 0 | E120: =SUM(D120+C120) -> 0 | F120: =COUNTA(G78:G84) -> 0 | G120: =COUNTA(G62:G76) -> 0
A121: =I2 -> VENTER | B121: =J2 -> J | C121: =SUM(J85) -> 0 | D121: =SUM(J77) -> 12 | E121: =SUM(D121+C121) -> 12 | F121: =COUNTA(I78:I84) -> 0 | G121: =COUNTA(I62:I76) -> 1
A122: =K2 -> BEZUIDENHOUT | B122: =L2 -> A | C122: =SUM(L85) -> 0 | D122: =SUM(L77) -> 10.5 | E122: =SUM(D122+C122) -> 10.5 | F122: =COUNTA(K78:K84) -> 0 | G122: =COUNTA(K62:K76) -> 1
A123: =M2 -> KRUGER | B123: =N2 -> S | C123: =SUM(N85) -> 3.6 | D123: =SUM(N77) -> 0 | E123: =SUM(D123+C123) -> 3.6 | F123: =COUNTA(M78:M84) -> 1 | G123: =COUNTA(M62:M76) -> 0
A124: DAY TOTAL | C124: =SUM(C117:C123) -> 3.6 | D124: =SUM(D117:D123) -> 24 | E124: =SUM(E117:E123) -> 27.6 | F124: =SUM(F117:F123) -> 1 | G124: =SUM(G117:G123) -> 3
A127: POINTS ACCUMULATED - TUE 5 OCT to THU 7 OCT 2021
A128: ANGLER | C128: MASS | D128: MASS | E128: POINTS | F128: AMOUNT | G128: AMOUNT | H128: TOTAL
A129: NAME | B129: INI | C129: EDIBLE | D129: NON-ED | E129: ACC | F129: EDIBLE | G129: NON-ED | H129: FISH
A130: =A2 -> AGENBACH | B130: =B2 -> J | C130: =SUM(C117+C104+C91) -> 0 | D130: =SUM(D91+D104+D117) -> 71.5 | E130: =SUM(E117+E104+E91) -> 71.5 | F130: =SUM(F91+F104+F117) -> 0 | G130: =SUM(G91+G104+G117) -> 8 | H130: =SUM(F130:G130) -> 8
A131: =C2 -> DIEDERICKS | B131: =D2 -> B | C131: =SUM(C118+C105+C92) -> 5 | D131: =SUM(D92+D105+D118) -> 9.7 | E131: =SUM(E118+E105+E92) -> 14.7 | F131: =SUM(F92+F105+F118) -> 1 | G131: =SUM(G92+G105+G118) -> 2 | H131: =SUM(F131:G131) -> 3
A132: =E2 -> ANDERSON | B132: =F2 -> S | C132: =SUM(C119+C106+C93) -> 17.4 | D132: =SUM(D93+D106+D119) -> 61.4 | E132: =SUM(E119+E106+E93) -> 78.8 | F132: =SUM(F93+F106+F119) -> 1 | G132: =SUM(G93+G106+G119) -> 8 | H132: =SUM(F132:G132) -> 9
A133: =G2 -> FERREIRA | B133: =H2 -> F | C133: =SUM(C120+C107+C94) -> 0 | D133: =SUM(D94+D107+D120) -> 19.2 | E133: =SUM(E120+E107+E94) -> 19.2 | F133: =SUM(F94+F107+F120) -> 0 | G133: =SUM(G94+G107+G120) -> 1 | H133: =SUM(F133:G133) -> 1
A134: =I2 -> VENTER | B134: =J2 -> J | C134: =SUM(C121+C108+C95) -> 0 | D134: =SUM(D95+D108+D121) -> 18.3 | E134: =SUM(E121+E108+E95) -> 18.3 | F134: =SUM(F95+F108+F121) -> 0 | G134: =SUM(G95+G108+G121) -> 3 | H134: =SUM(F134:G134) -> 3
A135: =K2 -> BEZUIDENHOUT | B135: =L2 -> A | C135: =SUM(C122+C109+C96) -> 0 | D135: =SUM(D96+D109+D122) -> 53.4 | E135: =SUM(E122+E109+E96) -> 53.4 | F135: =SUM(F96+F109+F122) -> 0 | G135: =SUM(G96+G109+G122) -> 6 | H135: =SUM(F135+G135) -> 6
A136: =M2 -> KRUGER | B136: =N2 -> S | C136: =SUM(C123+C110+C97) -> 3.6 | D136: =SUM(D97+D110+D123) -> 40.1 | E136: =SUM(E123+E110+E97) -> 43.7 | F136: =SUM(F97+F110+F123) -> 1 | G136: =SUM(G97+G110+G123) -> 5 | H136: =SUM(F136:G136) -> 6
A137: WEEK TOTAL | C137: =SUM(C130:C136) -> 26 | D137: =SUM(D130:D136) -> 273.6 | E137: =SUM(E130:E136) -> 299.6 | F137: =SUM(F130:F136) -> 3 | G137: =SUM(G130:G136) -> 33 | H137: =SUM(H130:H136) -> 36

Sheet NA DEV
A1: DAY 1 - TUE 5 OCT 2021
A2: Schickerling | B2: W | C2: WELZIG | D2: S | E2: Mostert | F2: T | G2: Bachran | H2: K | I2: Strappazon | J2: S | K2: Duvenhage | L2: R | M2: Smith | N2: D
A3: SPECIE | B3: KG | C3: SPECIE | D3: KG | E3: SPECIE | F3: KG | G3: SPECIE | H3: KG | I3: SPECIE | J3: KG | K3: SPECIE | L3: KG | M3: SPECIE | N3: KG
C4: BLUE RAY | D4: 3.5 | E4: BLUE RAY | F4: 3.3 | G4: BLUE RAY | H4: 8.7 | I4: SANDY | J4: 1.6 | K4: SANDY | L4: 1.1
C5: BLUE RAY | D5: 2.6 | E5: BLUE RAY | F5: 3.3 | G5: BLUE RAY | H5: 2.6 | K5: SANDY | L5: 1.4
E6: BLUE RAY | F6: 2.6
E7: BLUE RAY | F7: 2.4
B19: =SUM(B4:B18) -> 0 | D19: =SUM(D4:D18) -> 6.1 | F19: =SUM(F4:F18) -> 11.6 | H19: =SUM(H4:H18) -> 11.3 | J19: =SUM(J4:J18) -> 1.6 | L19: =SUM(L4:L18) -> 2.5 | N19: =SUM(N4:N18) -> 0 | O19: =SUM(A19:N19) -> 33.1
O23: =SUM(O19+O27) -> 33.1
B27: =SUM(B20:B26) -> 0 | D27: =SUM(D20:D26) -> 0 | F27: =SUM(F20:F26) -> 0 | H27: =SUM(H20:H26) -> 0 | J27: =SUM(J20:J26) -> 0 | L27: =SUM(L20:L26) -> 0 | N27: =SUM(N20:N26) -> 0 | O27: =SUM(A27:N27) -> 0
A30: DAY 2 - WED 6 OCT 2021
A31: =A2 -> Schickerling | B31: =B2 -> W | C31: =C2 -> WELZIG | D31: =D2 -> S | E31: =E2 -> Mostert | F31: =F2 -> T | G31: =G2 -> Bachran | H31: =H2 -> K | ... N31: =N2 -> D
A32: SPECIE | B32: KG | C32: SPECIE | D32: KG | E32: SPECIE | F32: KG | G32: SPECIE | H32: KG | I32: SPECIE | J32: KG | K32: SPECIE | L32: KG | M32: SPECIE | N32: KG
A33: STRIPED CATSHARK | B33: 5.6 | C33: SANDY | D33: 2.6 | E33: BLUE RAY | F33: 2.6 | G33: BLUE RAY | H33: 1.4 | I33: STRIPED CATSHARK | J33: 4.2 | K33: BLUE RAY | L33: 2.1 | M33: BLUE RAY | N33: 10.8
A34: BLUE RAY | B34: 13.2 | C34: BLUE RAY | D34: 10.8 | E34: BLUE RAY | F34: 3.3 | G34: BLUE RAY | H34: 2.5 | I34: BLUE RAY | J34: 1.5 | K34: BLUE RAY | L34: 1.2 | M34: BLUE RAY | N34: 11.4
A35: BLUE RAY | B35: 7.7 | C35: BLUE RAY | D35: 2.8 | E35: BLUE RAY | F35: 3.5 | G35: SANDSHARK | H35: 2.7 | I35: BLUE RAY | J35: 14.6 | K35: BLUE RAY | L35: 7.3
C36: BLUE RAY | D36: 10.2 | E36: BLUE RAY | F36: 2.3 | G36: SANDSHARK | H36: 2.7 | I36: BLUE RAY | J36: 2.6 | K36: BLUE RAY | L36: 1.3
C37: BLUE RAY | D37: 10.2 | E37: BLUE RAY | F37: 2.6 | G37: BLUE RAY | H37: 2.5 | I37: BLUE RAY | J37: 11.4 | K37: BLUE RAY | L37: 1.7
C38: BLUE RAY | D38: 10.8 | G38: BLUE RAY | H38: 2 | I38: BLUE RAY | J38: 3.3 | K38: BLUE RAY | L38: 2.6
C39: BLUE RAY | D39: 9.7 | G39: BLUE RAY | H39: 3.3 | K39: BLUE RAY | L39: 1.4
C40: BLUE RAY | D40: 12.6 | G40: BLUE RAY | H40: 3.3 | K40: SANDY | L40: 1.1
C41: BLUE RAY | D41: 11.4 | K41: BLUE RAY | L41: 1.7
K42: BLUE RAY | L42: 7.7
K43: BLUE RAY | L43: 1.5
K44: SANDY | L44: 1.3
K45: BLUE RAY | L45: 2
K46: SANDY | L46: 1.8
K47: BLUE RAY | L47: 4.8
B48: =SUM(B33:B47) -> 26.5 | D48: =SUM(D33:D47) -> 81.1 | F48: =SUM(F33:F47) -> 14.3 | H48: =SUM(H33:H47) -> 20.4 | J48: =SUM(J33:J47) -> 37.6 | L48: =SUM(L33:L47) -> 39.5 | N48: =SUM(N33:N47) -> 22.2 | O48: =SUM(A48:N48) -> 241.6
O52: =SUM(O48+O56) -> 241.6
B56: =SUM(B49:B55) -> 0 | D56: =SUM(D49:D55) -> 0 | F56: =SUM(F49:F55) -> 0 | H56: =SUM(H49:H55) -> 0 | J56: =SUM(J49:J55) -> 0 | L56: =SUM(L49:L55) -> 0 | N56: =SUM(N49:N55) -> 0 | O56: =SUM(A56:N56) -> 0
A59: DAY 3 - THU 7 OCT 2021
A60: =A2 -> Schickerling | B60: =B2 -> W | C60: =C2 -> WELZIG | D60: =D2 -> S | E60: =E2 -> Mostert | F60: =F2 -> T | G60: =G2 -> Bachran | H60: =H2 -> K | ... N60: =N2 -> D
A61: SPECIE | B61: KG | C61: SPECIE | D61: KG | E61: SPECIE | F61: KG | G61: SPECIE | H61: KG | I61: SPECIE | J61: KG | K61: SPECIE | L61: KG | M61: SPECIE | N61: KG
A62: SANDY | B62: 1.7 | C62: EAGLE | D62: 13.5 | E62: SANDY | F62: 1.8 | G62: BLUE RAY | H62: 1.4 | I62: DIAMOND | J62: 3.6 | K62: SANDY | L62: 3.1 | M62: SANDY | N62: 1
C63: BLUE RAY | D63: 1 | G63: BLUE RAY | H63: 14.6
C64: SANDY | D64: 1.7
C65: SANDY | D65: 1.2
B77: =SUM(B62:B76) -> 1.7 | D77: =SUM(D62:D76) -> 17.4 | F77: =SUM(F62:F76) -> 1.8 | H77: =SUM(H62:H76) -> 16 | J77: =SUM(J62:J76) -> 3.6 | L77: =SUM(L62:L76) -> 3.1 | N77: =SUM(N62:N76) -> 1 | O77: =SUM(A77:N77) -> 44.6
O81: =SUM(O77+O85) -> 44.6
B85: =SUM(B78:B84) -> 0 | D85: =SUM(D78:D84) -> 0 | F85: =SUM(F78:F84) -> 0 | H85: =SUM(H78:H84) -> 0 | J85: =SUM(J78:J84) -> 0 | L85: =SUM(L78:L84) -> 0 | N85: =SUM(N78:N84) -> 0 | O85: =SUM(A85:N85) -> 0
A88: DAY 1 - TUE 5 OCT 2021
A89: ANGLER | C89: MASS | D89: MASS | E89: POINTS | F89: AMOUNT | G89: AMOUNT
A90: NAME | B90: INI | C90: EDIBLE | D90: NON-ED | E90: ACC | F90: EDIBLE | G90: NON-ED
A91: =A2 -> Schickerling | B91: =B2 -> W | C91: =SUM(B27) -> 0 | D91: =SUM(B19) -> 0 | E91: =SUM(D91+C91) -> 0 | F91: =COUNTA(A20:A26) -> 0 | G91: =COUNTA(A4:A18) -> 0
A92: =C2 -> WELZIG | B92: =D2 -> S | C92: =SUM(D27) -> 0 | D92: =SUM(D19) -> 6.1 | E92: =SUM(D92+C92) -> 6.1 | F92: =COUNTA(C20:C26) -> 0 | G92: =COUNTA(C4:C18) -> 2
A93: =E2 -> Mostert | B93: =F2 -> T | C93: =SUM(F27) -> 0 | D93: =SUM(F19) -> 11.6 | E93: =SUM(D93+C93) -> 11.6 | F93: =COUNTA(E20:E26) -> 0 | G93: =COUNTA(E4:E18) -> 4
A94: =G2 -> Bachran | B94: =H2 -> K | C94: =SUM(H27) -> 0 | D94: =SUM(H19) -> 11.3 | E94: =SUM(D94+C94) -> 11.3 | F94: =COUNTA(G20:G26) -> 0 | G94: =COUNTA(G4:G18) -> 2
A95: =I2 -> Strappazon | B95: =J2 -> S | C95: =SUM(J27) -> 0 | D95: =SUM(J19) -> 1.6 | E95: =SUM(D95+C95) -> 1.6 | F95: =COUNTA(I20:I26) -> 0 | G95: =COUNTA(I4:I18) -> 1
A96: =K2 -> Duvenhage | B96: =L2 -> R | C96: =SUM(L27) -> 0 | D96: =SUM(L19) -> 2.5 | E96: =SUM(D96+C96) -> 2.5 | F96: =COUNTA(K20:K26) -> 0 | G96: =COUNTA(K4:K18) -> 2
A97: =M2 -> Smith | B97: =N2 -> D | C97: =SUM(N27) -> 0 | D97: =SUM(N19) -> 0 | E97: =SUM(D97+C97) -> 0 | F97: =COUNTA(M20:M26) -> 0 | G97: =COUNTA(M4:M18) -> 0
A98: DAY TOTAL | C98: =SUM(C91:C97) -> 0 | D98: =SUM(D91:D97) -> 33.1 | E98: =SUM(E91:E97) -> 33.1 | F98: =SUM(F91:F97) -> 0 | G98: =SUM(G91:G97) -> 11
A101: DAY 2 - WED 6 OCT 2021
A102: ANGLER | C102: MASS | D102: MASS | E102: POINTS | F102: AMOUNT | G102: AMOUNT
A103: NAME | B103: INI | C103: EDIBLE | D103: NON-ED | E103: ACC | F103: EDIBLE | G103: NON-ED
A104: =A2 -> Schickerling | B104: =B2 -> W | C104: =SUM(B56) -> 0 | D104: =SUM(B48) -> 26.5 | E104: =SUM(D104+C104) -> 26.5 | F104: =COUNTA(A49:A56) -> 0 | G104: =COUNTA(A33:A47) -> 3
A105: =C2 -> WELZIG | B105: =D2 -> S | C105: =SUM(D56) -> 0 | D105: =SUM(D48) -> 81.1 | E105: =SUM(D105+C105) -> 81.1 | F105: =COUNTA(C49:C56) -> 0 | G105: =COUNTA(C33:C47) -> 9
A106: =E2 -> Mostert | B106: =F2 -> T | C106: =SUM(F56) -> 0 | D106: =SUM(F48) -> 14.3 | E106: =SUM(D106+C106) -> 14.3 | F106: =COUNTA(E49:E56) -> 0 | G106: =COUNTA(E33:E47) -> 5
A107: =G2 -> Bachran | B107: =H2 -> K | C107: =SUM(H56) -> 0 | D107: =SUM(H48) -> 20.4 | E107: =SUM(D107+C107) -> 20.4 | F107: =COUNTA(G49:G56) -> 0 | G107: =COUNTA(G33:G47) -> 8
A108: =I2 -> Strappazon | B108: =J2 -> S | C108: =SUM(J56) -> 0 | D108: =SUM(J48) -> 37.6 | E108: =SUM(D108+C108) -> 37.6 | F108: =COUNTA(I49:I56) -> 0 | G108: =COUNTA(I33:I47) -> 6
A109: =K2 -> Duvenhage | B109: =L2 -> R | C109: =SUM(L56) -> 0 | D109: =SUM(L48) -> 39.5 | E109: =SUM(D109+C109) -> 39.5 | F109: =COUNTA(K49:K56) -> 0 | G109: =COUNTA(K33:K48) -> 15
A110: =M2 -> Smith | B110: =N2 -> D | C110: =SUM(N56) -> 0 | D110: =SUM(N48) -> 22.2 | E110: =SUM(D110+C110) -> 22.2 | F110: =COUNTA(M49:M56) -> 0 | G110: =COUNTA(M33:M47) -> 2
A111: DAY TOTAL | C111: =SUM(C104:C110) -> 0 | D111: =SUM(D104:D110) -> 241.6 | E111: =SUM(E104:E110) -> 241.6 | F111: =SUM(F104:F110) -> 0 | G111: =SUM(G104:G110) -> 48
A114: DAY 3 - THU 7 OCT 2021
A115: ANGLER | C115: MASS | D115: MASS | E115: POINTS | F115: AMOUNT | G115: AMOUNT
A116: NAME | B116: INI | C116: EDIBLE | D116: NON-ED | E116: ACC | F116: EDIBLE | G116: NON-ED
A117: =A2 -> Schickerling | B117: =B2 -> W | C117: =SUM(B85) -> 0 | D117: =SUM(B77) -> 1.7 | E117: =SUM(D117+C117) -> 1.7 | F117: =COUNTA(A78:A84) -> 0 | G117: =COUNTA(A62:A76) -> 1
A118: =C2 -> WELZIG | B118: =D2 -> S | C118: =SUM(D85) -> 0 | D118: =SUM(D77) -> 17.4 | E118: =SUM(D118+C118) -> 17.4 | F118: =COUNTA(C78:C84) -> 0 | G118: =COUNTA(C62:C76) -> 4
A119: =E2 -> Mostert | B119: =F2 -> T | C119: =SUM(F85) -> 0 | D119: =SUM(F77) -> 1.8 | E119: =SUM(D119+C119) -> 1.8 | F119: =COUNTA(E78:E84) -> 0 | G119: =COUNTA(E62:E76) -> 1
A120: =G2 -> Bachran | B120: =H2 -> K | C120: =SUM(H85) -> 0 | D120: =SUM(H77) -> 16 | E120: =SUM(D120+C120) -> 16 | F120: =COUNTA(G78:G84) -> 0 | G120: =COUNTA(G62:G76) -> 2
A121: =I2 -> Strappazon | B121: =J2 -> S | C121: =SUM(J85) -> 0 | D121: =SUM(J77) -> 3.6 | E121: =SUM(D121+C121) -> 3.6 | F121: =COUNTA(I78:I84) -> 0 | G121: =COUNTA(I62:I76) -> 1
A122: =K2 -> Duvenhage | B122: =L2 -> R | C122: =SUM(L85) -> 0 | D122: =SUM(L77) -> 3.1 | E122: =SUM(D122+C122) -> 3.1 | F122: =COUNTA(K78:K84) -> 0 | G122: =COUNTA(K62:K76) -> 1
A123: =M2 -> Smith | B123: =N2 -> D | C123: =SUM(N85) -> 0 | D123: =SUM(N77) -> 1 | E123: =SUM(D123+C123) -> 1 | F123: =COUNTA(M78:M84) -> 0 | G123: =COUNTA(M62:M76) -> 1
A124: DAY TOTAL | C124: =SUM(C117:C123) -> 0 | D124: =SUM(D117:D123) -> 44.6 | E124: =SUM(E117:E123) -> 44.6 | F124: =SUM(F117:F123) -> 0 | G124: =SUM(G117:G123) -> 11
A127: POINTS ACCUMULATED - TUE 5 OCT to THU 7 OCT 2021
A128: ANGLER | C128: MASS | D128: MASS | E128: POINTS | F128: AMOUNT | G128: AMOUNT | H128: TOTAL
A129: NAME | B129: INI | C129: EDIBLE | D129: NON-ED | E129: ACC | F129: EDIBLE | G129: NON-ED | H129: FISH
A130: =A2 -> Schickerling | B130: =B2 -> W | C130: =SUM(C117+C104+C91) -> 0 | D130: =SUM(D91+D104+D117) -> 28.2 | E130: =SUM(E117+E104+E91) -> 28.2 | F130: =SUM(F91+F104+F117) -> 0 | G130: =SUM(G91+G104+G117) -> 4 | H130: =SUM(F130:G130) -> 4
A131: =C2 -> WELZIG | B131: =D2 -> S | C131: =SUM(C118+C105+C92) -> 0 | D131: =SUM(D92+D105+D118) -> 104.6 | E131: =SUM(E118+E105+E92) -> 104.6 | F131: =SUM(F92+F105+F118) -> 0 | G131: =SUM(G92+G105+G118) -> 15 | H131: =SUM(F131:G131) -> 15
A132: =E2 -> Mostert | B132: =F2 -> T | C132: =SUM(C119+C106+C93) -> 0 | D132: =SUM(D93+D106+D119) -> 27.7 | E132: =SUM(E119+E106+E93) -> 27.7 | F132: =SUM(F93+F106+F119) -> 0 | G132: =SUM(G93+G106+G119) -> 10 | H132: =SUM(F132:G132) -> 10
A133: =G2 -> Bachran | B133: =H2 -> K | C133: =SUM(C120+C107+C94) -> 0 | D133: =SUM(D94+D107+D120) -> 47.7 | E133: =SUM(E120+E107+E94) -> 47.7 | F133: =SUM(F94+F107+F120) -> 0 | G133: =SUM(G94+G107+G120) -> 12 | H133: =SUM(F133:G133) -> 12
A134: =I2 -> Strappazon | B134: =J2 -> S | C134: =SUM(C121+C108+C95) -> 0 | D134: =SUM(D95+D108+D121) -> 42.8 | E134: =SUM(E121+E108+E95) -> 42.8 | F134: =SUM(F95+F108+F121) -> 0 | G134: =SUM(G95+G108+G121) -> 8 | H134: =SUM(F134:G134) -> 8
A135: =K2 -> Duvenhage | B135: =L2 -> R | C135: =SUM(C122+C109+C96) -> 0 | D135: =SUM(D96+D109+D122) -> 45.1 | E135: =SUM(E122+E109+E96) -> 45.1 | F135: =SUM(F96+F109+F122) -> 0 | G135: =SUM(G96+G109+G122) -> 18 | H135: =SUM(F135+G135) -> 18
A136: =M2 -> Smith | B136: =N2 -> D | C136: =SUM(C123+C110+C97) -> 0 | D136: =SUM(D97+D110+D123) -> 23.2 | E136: =SUM(E123+E110+E97) -> 23.2 | F136: =SUM(F97+F110+F123) -> 0 | G136: =SUM(G97+G110+G123) -> 3 | H136: =SUM(F136:G136) -> 3
A137: WEEK TOTAL | C137: =SUM(C130:C136) -> 0 | D137: =SUM(D130:D136) -> 319.3 | E137: =SUM(E130:E136) -> 319.3 | F137: =SUM(F130:F136) -> 0 | G137: =SUM(G130:G136) -> 70 | H137: =SUM(H130:H136) -> 70

Sheet NA LAD
A1: DAY 1 - TUE 5 OCT 2021
A2: Downing | B2: N | C2: Mynhardt | D2: K | E2: Langenstrassen | F2: A | G2: Ferreira | H2: B | I2: Kruger | J2: M | K2: Heath | L2: J | M2: M | N2: N
A3: SPECIE | B3: KG | C3: SPECIE | D3: KG | E3: SPECIE | F3: KG | G3: SPECIE | H3: KG | I3: SPECIE | J3: KG | K3: SPECIE | L3: KG | M3: SPECIE | N3: KG
A4: BLUE RAY | B4: 2.5 | C4: BLUE RAY | D4: 13.2 | E4: BLUE RAY | F4: 5.7 | G4: BLUE RAY | H4: 6.9 | I4: BLUE RAY | J4: 4.1 | K4: BLUE RAY | L4: 8.7
A5: SANDY | B5: 1.9
B19: =SUM(B4:B18) -> 4.4 | D19: =SUM(D4:D18) -> 13.2 | F19: =SUM(F4:F18) -> 5.7 | H19: =SUM(H4:H18) -> 6.9 | J19: =SUM(J4:J18) -> 4.1 | L19: =SUM(L4:L18) -> 8.7 | N19: =SUM(N4:N18) -> 0 | O19: =SUM(A19:N19) -> 43
O23: =SUM(O19+O27) -> 43
B27: =SUM(B20:B26) -> 0 | D27: =SUM(D20:D26) -> 0 | F27: =SUM(F20:F26) -> 0 | H27: =SUM(H20:H26) -> 0 | J27: =SUM(J20:J26) -> 0 | L27: =SUM(L20:L26) -> 0 | N27: =SUM(N20:N26) -> 0 | O27: =SUM(A27:N27) -> 0
A30: DAY 2 - WED 6 OCT 2021
A31: =A2 -> Downing | B31: =B2 -> N | C31: =C2 -> Mynhardt | D31: =D2 -> K | E31: =E2 -> Langenstrassen | F31: =F2 -> A | G31: =G2 -> Ferreira | H31: =H2 -> B | ... N31: =N2 -> N
A32: SPECIE | B32: KG | C32: SPECIE | D32: KG | E32: SPECIE | F32: KG | G32: SPECIE | H32: KG | I32: SPECIE | J32: KG | K32: SPECIE | L32: KG | M32: SPECIE | N32: KG
A33: BLUE RAY | B33: 9.7 | C33: EAGLE | D33: 2.1 | E33: BLUE RAY | F33: 12.6 | G33: BLUE RAY | H33: 2.6 | I33: BLUE RAY | J33: 9.7 | K33: BLUE RAY | L33: 4.4
A34: BLUE RAY | B34: 12.6 | E34: BLUE RAY | F34: 13.9 | K34: SANDY | L34: 2.8
K35: BLUE RAY | L35: 3
K36: BLUE RAY | L36: 3.3
B48: =SUM(B33:B47) -> 22.3 | D48: =SUM(D33:D47) -> 2.1 | F48: =SUM(F33:F47) -> 26.5 | H48: =SUM(H33:H47) -> 2.6 | J48: =SUM(J33:J47) -> 9.7 | L48: =SUM(L33:L47) -> 13.5 | N48: =SUM(N33:N47) -> 0 | O48: =SUM(A48:N48) -> 76.7
O52: =SUM(O48+O56) -> 76.7
B56: =SUM(B49:B55) -> 0 | D56: =SUM(D49:D55) -> 0 | F56: =SUM(F49:F55) -> 0 | H56: =SUM(H49:H55) -> 0 | J56: =SUM(J49:J55) -> 0 | L56: =SUM(L49:L55) -> 0 | N56: =SUM(N49:N55) -> 0 | O56: =SUM(A56:N56) -> 0
A59: DAY 3 - THU 7 OCT 2021
A60: =A2 -> Downing | B60: =B2 -> N | C60: =C2 -> Mynhardt | D60: =D2 -> K | E60: =E2 -> Langenstrassen | F60: =F2 -> A | G60: =G2 -> Ferreira | H60: =H2 -> B | ... N60: =N2 -> N
A61: SPECIE | B61: KG | C61: SPECIE | D61: KG | E61: SPECIE | F61: KG | G61: SPECIE | H61: KG | I61: SPECIE | J61: KG | K61: SPECIE | L61: KG | M61: SPECIE | N61: KG
C62: BLUE RAY | D62: 1.7 | E62: EAGLE | F62: 1.6 | K62: BLUE RAY | L62: 6.1
E63: BRONZIE | F63: 2.8 | K63: BLUE RAY | L63: 5.4
K64: SANDY | L64: 1.3
B77: =SUM(B62:B76) -> 0 | D77: =SUM(D62:D76) -> 1.7 | F77: =SUM(F62:F76) -> 4.4 | H77: =SUM(H62:H76) -> 0 | J77: =SUM(J62:J76) -> 0 | L77: =SUM(L62:L76) -> 12.8 | N77: =SUM(N62:N76) -> 0 | O77: =SUM(A77:N77) -> 18.9
O81: =SUM(O77+O85) -> 18.9
B85: =SUM(B78:B84) -> 0 | D85: =SUM(D78:D84) -> 0 | F85: =SUM(F78:F84) -> 0 | H85: =SUM(H78:H84) -> 0 | J85: =SUM(J78:J84) -> 0 | L85: =SUM(L78:L84) -> 0 | N85: =SUM(N78:N84) -> 0 | O85: =SUM(A85:N85) -> 0
A88: DAY 1 - TUE 5 OCT 2021
A89: ANGLER | C89: MASS | D89: MASS | E89: POINTS | F89: AMOUNT | G89: AMOUNT
A90: NAME | B90: INI | C90: EDIBLE | D90: NON-ED | E90: ACC | F90: EDIBLE | G90: NON-ED
A91: =A2 -> Downing | B91: =B2 -> N | C91: =SUM(B27) -> 0 | D91: =SUM(B19) -> 4.4 | E91: =SUM(D91+C91) -> 4.4 | F91: =COUNTA(A20:A26) -> 0 | G91: =COUNTA(A4:A18) -> 2
A92: =C2 -> Mynhardt | B92: =D2 -> K | C92: =SUM(D27) -> 0 | D92: =SUM(D19) -> 13.2 | E92: =SUM(D92+C92) -> 13.2 | F92: =COUNTA(C20:C26) -> 0 | G92: =COUNTA(C4:C18) -> 1
A93: =E2 -> Langenstrassen | B93: =F2 -> A | C93: =SUM(F27) -> 0 | D93: =SUM(F19) -> 5.7 | E93: =SUM(D93+C93) -> 5.7 | F93: =COUNTA(E20:E26) -> 0 | G93: =COUNTA(E4:E18) -> 1
A94: =G2 -> Ferreira | B94: =H2 -> B | C94: =SUM(H27) -> 0 | D94: =SUM(H19) -> 6.9 | E94: =SUM(D94+C94) -> 6.9 | F94: =COUNTA(G20:G26) -> 0 | G94: =COUNTA(G4:G18) -> 1
A95: =I2 -> Kruger | B95: =J2 -> M | C95: =SUM(J27) -> 0 | D95: =SUM(J19) -> 4.1 | E95: =SUM(D95+C95) -> 4.1 | F95: =COUNTA(I20:I26) -> 0 | G95: =COUNTA(I4:I18) -> 1
A96: =K2 -> Heath | B96: =L2 -> J | C96: =SUM(L27) -> 0 | D96: =SUM(L19) -> 8.7 | E96: =SUM(D96+C96) -> 8.7 | F96: =COUNTA(K20:K26) -> 0 | G96: =COUNTA(K4:K18) -> 1
A97: =M2 -> M | B97: =N2 -> N | C97: =SUM(N27) -> 0 | D97: =SUM(N19) -> 0 | E97: =SUM(D97+C97) -> 0 | F97: =COUNTA(M20:M26) -> 0 | G97: =COUNTA(M4:M18) -> 0
A98: DAY TOTAL | C98: =SUM(C91:C97) -> 0 | D98: =SUM(D91:D97) -> 43 | E98: =SUM(E91:E97) -> 43 | F98: =SUM(F91:F97) -> 0 | G98: =SUM(G91:G97) -> 7
A101: DAY 2 - WED 6 OCT 2021
A102: ANGLER | C102: MASS | D102: MASS | E102: POINTS | F102: AMOUNT | G102: AMOUNT
A103: NAME | B103: INI | C103: EDIBLE | D103: NON-ED | E103: ACC | F103: EDIBLE | G103: NON-ED
A104: =A2 -> Downing | B104: =B2 -> N | C104: =SUM(B56) -> 0 | D104: =SUM(B48) -> 22.3 | E104: =SUM(D104+C104) -> 22.3 | F104: =COUNTA(A49:A56) -> 0 | G104: =COUNTA(A33:A47) -> 2
A105: =C2 -> Mynhardt | B105: =D2 -> K | C105: =SUM(D56) -> 0 | D105: =SUM(D48) -> 2.1 | E105: =SUM(D105+C105) -> 2.1 | F105: =COUNTA(C49:C56) -> 0 | G105: =COUNTA(C33:C47) -> 1
A106: =E2 -> Langenstrassen | B106: =F2 -> A | C106: =SUM(F56) -> 0 | D106: =SUM(F48) -> 26.5 | E106: =SUM(D106+C106) -> 26.5 | F106: =COUNTA(E49:E56) -> 0 | G106: =COUNTA(E33:E47) -> 2
A107: =G2 -> Ferreira | B107: =H2 -> B | C107: =SUM(H56) -> 0 | D107: =SUM(H48) -> 2.6 | E107: =SUM(D107+C107) -> 2.6 | F107: =COUNTA(G49:G56) -> 0 | G107: =COUNTA(G33:G47) -> 1
A108: =I2 -> Kruger | B108: =J2 -> M | C108: =SUM(J56) -> 0 | D108: =SUM(J48) -> 9.7 | E108: =SUM(D108+C108) -> 9.7 | F108: =COUNTA(I49:I56) -> 0 | G108: =COUNTA(I33:I47) -> 1
A109: =K2 -> Heath | B109: =L2 -> J | C109: =SUM(L56) -> 0 | D109: =SUM(L48) -> 13.5 | E109: =SUM(D109+C109) -> 13.5 | F109: =COUNTA(K49:K56) -> 0 | G109: =COUNTA(K33:K48) -> 4
A110: =M2 -> M | B110: =N2 -> N | C110: =SUM(N56) -> 0 | D110: =SUM(N48) -> 0 | E110: =SUM(D110+C110) -> 0 | F110: =COUNTA(M49:M56) -> 0 | G110: =COUNTA(M33:M47) -> 0
A111: DAY TOTAL | C111: =SUM(C104:C110) -> 0 | D111: =SUM(D104:D110) -> 76.7 | E111: =SUM(E104:E110) -> 76.7 | F111: =SUM(F104:F110) -> 0 | G111: =SUM(G104:G110) -> 11
A114: DAY 3 - THU 7 OCT 2021
A115: ANGLER | C115: MASS | D115: MASS | E115: POINTS | F115: AMOUNT | G115: AMOUNT
A116: NAME | B116: INI | C116: EDIBLE | D116: NON-ED | E116: ACC | F116: EDIBLE | G116: NON-ED
A117: =A2 -> Downing | B117: =B2 -> N | C117: =SUM(B85) -> 0 | D117: =SUM(B77) -> 0 | E117: =SUM(D117+C117) -> 0 | F117: =COUNTA(A78:A84) -> 0 | G117: =COUNTA(A62:A76) -> 0
A118: =C2 -> Mynhardt | B118: =D2 -> K | C118: =SUM(D85) -> 0 | D118: =SUM(D77) -> 1.7 | E118: =SUM(D118+C118) -> 1.7 | F118: =COUNTA(C78:C84) -> 0 | G118: =COUNTA(C62:C76) -> 1
A119: =E2 -> Langenstrassen | B119: =F2 -> A | C119: =SUM(F85) -> 0 | D119: =SUM(F77) -> 4.4 | E119: =SUM(D119+C119) -> 4.4 | F119: =COUNTA(E78:E84) -> 0 | G119: =COUNTA(E62:E76) -> 2
A120: =G2 -> Ferreira | B120: =H2 -> B | C120: =SUM(H85) -> 0 | D120: =SUM(H77) -> 0 | E120: =SUM(D120+C120) -> 0 | F120: =COUNTA(G78:G84) -> 0 | G120: =COUNTA(G62:G76) -> 0
A121: =I2 -> Kruger | B121: =J2 -> M | C121: =SUM(J85) -> 0 | D121: =SUM(J77) -> 0 | E121: =SUM(D121+C121) -> 0 | F121: =COUNTA(I78:I84) -> 0 | G121: =COUNTA(I62:I76) -> 0
A122: =K2 -> Heath | B122: =L2 -> J | C122: =SUM(L85) -> 0 | D122: =SUM(L77) -> 12.8 | E122: =SUM(D122+C122) -> 12.8 | F122: =COUNTA(K78:K84) -> 0 | G122: =COUNTA(K62:K76) -> 3
A123: =M2 -> M | B123: =N2 -> N | C123: =SUM(N85) -> 0 | D123: =SUM(N77) -> 0 | E123: =SUM(D123+C123) -> 0 | F123: =COUNTA(M78:M84) -> 0 | G123: =COUNTA(M62:M76) -> 0
A124: DAY TOTAL | C124: =SUM(C117:C123) -> 0 | D124: =SUM(D117:D123) -> 18.9 | E124: =SUM(E117:E123) -> 18.9 | F124: =SUM(F117:F123) -> 0 | G124: =SUM(G117:G123) -> 6
A127: POINTS ACCUMULATED - TUE 5 OCT to THU 7 OCT 2021
A128: ANGLER | C128: MASS | D128: MASS | E128: POINTS | F128: AMOUNT | G128: AMOUNT | H128: TOTAL
A129: NAME | B129: INI | C129: EDIBLE | D129: NON-ED | E129: ACC | F129: EDIBLE | G129: NON-ED | H129: FISH
A130: =A2 -> Downing | B130: =B2 -> N | C130: =SUM(C117+C104+C91) -> 0 | D130: =SUM(D91+D104+D117) -> 26.7 | E130: =SUM(E117+E104+E91) -> 26.7 | F130: =SUM(F91+F104+F117) -> 0 | G130: =SUM(G91+G104+G117) -> 4 | H130: =SUM(F130:G130) -> 4
A131: =C2 -> Mynhardt | B131: =D2 -> K | C131: =SUM(C118+C105+C92) -> 0 | D131: =SUM(D92+D105+D118) -> 17 | E131: =SUM(E118+E105+E92) -> 17 | F131: =SUM(F92+F105+F118) -> 0 | G131: =SUM(G92+G105+G118) -> 3 | H131: =SUM(F131:G131) -> 3
A132: =E2 -> Langenstrassen | B132: =F2 -> A | C132: =SUM(C119+C106+C93) -> 0 | D132: =SUM(D93+D106+D119) -> 36.6 | E132: =SUM(E119+E106+E93) -> 36.6 | F132: =SUM(F93+F106+F119) -> 0 | G132: =SUM(G93+G106+G119) -> 5 | H132: =SUM(F132:G132) -> 5
A133: =G2 -> Ferreira | B133: =H2 -> B | C133: =SUM(C120+C107+C94) -> 0 | D133: =SUM(D94+D107+D120) -> 9.5 | E133: =SUM(E120+E107+E94) -> 9.5 | F133: =SUM(F94+F107+F120) -> 0 | G133: =SUM(G94+G107+G120) -> 2 | H133: =SUM(F133:G133) -> 2
A134: =I2 -> Kruger | B134: =J2 -> M | C134: =SUM(C121+C108+C95) -> 0 | D134: =SUM(D95+D108+D121) -> 13.8 | E134: =SUM(E121+E108+E95) -> 13.8 | F134: =SUM(F95+F108+F121) -> 0 | G134: =SUM(G95+G108+G121) -> 2 | H134: =SUM(F134:G134) -> 2
A135: =K2 -> Heath | B135: =L2 -> J | C135: =SUM(C122+C109+C96) -> 0 | D135: =SUM(D96+D109+D122) -> 35 | E135: =SUM(E122+E109+E96) -> 35 | F135: =SUM(F96+F109+F122) -> 0 | G135: =SUM(G96+G109+G122) -> 8 | H135: =SUM(F135+G135) -> 8
A136: =M2 -> M | B136: =N2 -> N | C136: =SUM(C123+C110+C97) -> 0 | D136: =SUM(D97+D110+D123) -> 0 | E136: =SUM(E123+E110+E97) -> 0 | F136: =SUM(F97+F110+F123) -> 0 | G136: =SUM(G97+G110+G123) -> 0 | H136: =SUM(F136:G136) -> 0
A137: WEEK TOTAL | C137: =SUM(C130:C136) -> 0 | D137: =SUM(D130:D136) -> 138.6 | E137: =SUM(E130:E136) -> 138.6 | F137: =SUM(F130:F136) -> 0 | G137: =SUM(G130:G136) -> 24 | H137: =SUM(H130:H136) -> 24

Sheet TEAM
A1: 2021 GUS KOLLNER ACCUMULATED TEAM STANDINGS
A2: TEAM | C2: MASS | D2: MASS | E2: POINTS | F2: AMOUNT | G2: AMOUNT | H2: TOTAL
C3: EDIBLE | D3: NON-ED | E3: ACC | F3: EDIBLE | G3: NON-ED | H3: FISH
A4: 1st | B4: SA A | C4: =+'SA A'!C137 -> 18.5 | D4: =+'SA A'!D137 -> 647 | E4: =+'SA A'!E137 -> 665.5 | F4: =+'SA A'!F137 -> 2 | G4: =+'SA A'!G137 -> 72 | H4: =+'SA A'!H137 -> 74
A5: 2nd | B5: NAM B | C5: ='NA B'!C137 -> 0 | D5: ='NA B'!D137 -> 357 | E5: ='NA B'!E137 -> 357 | F5: ='NA B'!F137 -> 0 | G5: ='NA B'!G137 -> 56 | H5: ='NA B'!H137 -> 56
A6: 3rd | B6: NAM VETERANS | C6: ='NA VET'!C137 -> 2.4 | D6: ='NA VET'!D137 -> 325 | E6: ='NA VET'!E137 -> 327.4 | F6: ='NA VET'!F137 -> 2 | G6: ='NA VET'!G137 -> 52 | H6: ='NA VET'!H137 -> 54
A7: 4th | B7: NAM DEVELOPMENT | C7: ='NA DEV'!C137 -> 0 | D7: ='NA DEV'!D137 -> 319.3 | E7: ='NA DEV'!E137 -> 319.3 | F7: ='NA DEV'!F137 -> 0 | G7: ='NA DEV'!G137 -> 70 | H7: ='NA DEV'!H137 -> 70
A8: 5th | B8: NAM MASTERS | C8: ='NA MAS'!C137 -> 26 | D8: ='NA MAS'!D137 -> 273.6 | E8: ='NA MAS'!E137 -> 299.6 | F8: ='NA MAS'!F137 -> 3 | G8: ='NA MAS'!G137 -> 33 | H8: ='NA MAS'!H137 -> 36
A9: 6th | B9: SA INLAND | C9: ='SA INL'!C137 -> 4 | D9: ='SA INL'!D137 -> 276.5 | E9: ='SA INL'!E137 -> 280.5 | F9: ='SA INL'!F137 -> 2 | G9: ='SA INL'!G137 -> 57 | H9: ='SA INL'!H137 -> 59
A10: 7th | B10: SA DEVELOPMENT | C10: ='SA DEV'!C137 -> 7.2 | D10: ='SA DEV'!D137 -> 260.2 | E10: ='SA DEV'!E137 -> 267.4 | F10: ='SA DEV'!F137 -> 2 | G10: ='SA DEV'!G137 -> 54 | H10: ='SA DEV'!H137 -> 56
A11: 8th | B11: SA MASTERS | C11: ='SA MAS'!C137 -> 0 | D11: ='SA MAS'!D137 -> 228.2 | E11: ='SA MAS'!E137 -> 228.2 | F11: ='SA MAS'!F137 -> 0 | G11: ='SA MAS'!G137 -> 52 | H11: ='SA MAS'!H137 -> 52
A12: 9th | B12: SA B | C12: ='SA B'!C137 -> 5.4 | D12: ='SA B'!D137 -> 195.1 | E12: ='SA B'!E137 -> 200.5 | F12: ='SA B'!F137 -> 1 | G12: ='SA B'!G137 -> 36 | H12: ='SA B'!H137 -> 37
A13: 10th | B13: NAM A | C13: ='NA A'!C137 -> 6.2 | D13: ='NA A'!D137 -> 191.9 | E13: ='NA A'!E137 -> 198.1 | F13: ='NA A'!F137 -> 2 | G13: ='NA A'!G137 -> 38 | H13: ='NA A'!H137 -> 40
A14: 11th | B14: NAM LADIES | C14: ='NA LAD'!C137 -> 0 | D14: ='NA LAD'!D137 -> 138.6 | E14: ='NA LAD'!E137 -> 138.6 | F14: ='NA LAD'!F137 -> 0 | G14: ='NA LAD'!G137 -> 24 | H14: ='NA LAD'!H137 -> 24
A15: 12th | B15: SA LADIES | C15: ='SA LAD'!C137 -> 0 | D15: ='SA LAD'!D137 -> 134.5 | E15: ='SA LAD'!E137 -> 134.5 | F15: ='SA LAD'!F137 -> 0 | G15: ='SA LAD'!G137 -> 31 | H15: ='SA LAD'!H137 -> 31
A16: TOTALS | C16: =SUM(C4:C15) -> 69.7 | D16: =SUM(D4:D15) -> 3346.9 | E16: =SUM(E4:E15) -> 3416.6 | F16: =SUM(F4:F15) -> 14 | G16: =SUM(G4:G15) -> 575 | H16: =SUM(H4:H15) -> 589

Sheet IND
A1: 2021 GUS KOLLNER ACCUMULATED INDIVIDUAL STANDINGS
A2: POS | B2: NAME | C2: INI | D2: TEAM | E2: POINTS
A3: 1 | B3: ='SA A'!A134 -> VAN BREDA | C3: ='SA A'!B134 -> D | D3: SA A | E3: ='SA A'!E134 -> 185.2
A4: 2 | B4: ='NA B'!A133 -> VAN AARDE | C4: ='NA B'!B133 -> P | D4: NAM B | E4: ='NA B'!E133 -> 120
A5: 3 | B5: ='NA DEV'!A131 -> WELZIG | C5: ='NA DEV'!B131 -> S | D5: NAM DEVELOPMENT | E5: ='NA DEV'!E131 -> 104.6
A6: 4 | B6: ='SA A'!A132 -> FURNISS | C6: ='SA A'!B132 -> M | D6: SA A | E6: ='SA A'!E132 -> 102.1
A7: 5 | B7: ='SA A'!A130 -> VAN HEERDEN | C7: ='SA A'!B130 -> A | D7: SA A | E7: ='SA A'!E130 -> 88.8
A8: 6 | B8: ='SA A'!A135 -> LYNCH | C8: ='SA A'!B135 -> M | D8: SA A | E8: ='SA A'!E135 -> 87.2
A9: 7 | B9: ='NA VET'!A130 -> VAN DEN HEUVEL | C9: ='NA VET'!B130 -> S | D9: NAM VETERANS | E9: ='NA VET'!E130 -> 81.1
A10: 8 | B10: ='SA INL'!A130 -> THERON | C10: ='SA INL'!B130 -> JB | D10: SA INLAND | E10: ='SA INL'!E130 -> 79.3
A11: 9 | B11: ='NA MAS'!A132 -> ANDERSON | C11: ='NA MAS'!B132 -> S | D11: NAM MASTERS | E11: ='NA MAS'!E132 -> 78.8
A12: 10 | B12: ='NA B'!A131 -> KOTZE | C12: ='NA B'!B131 -> J | D12: NAM B | E12: ='NA B'!E131 -> 78.5
A13: 11 | B13: ='SA A'!A133 -> PEINKE | C13: ='SA A'!B133 -> D | D13: SA A | E13: ='SA A'!E133 -> 76.5
A14: 12 | B14: ='NA MAS'!A130 -> AGENBACH | C14: ='NA MAS'!B130 -> J | D14: NAM MASTERS | E14: ='NA MAS'!E130 -> 71.5
A15: 13 | B15: ='SA A'!A136 -> RAPSON | C15: ='SA A'!B136 -> W | D15: SA A | E15: ='SA A'!E136 -> 71
A16: 14 | B16: ='SA B'!A130 -> VAN EMMENES | C16: ='SA B'!B130 -> D | D16: SA B | E16: ='SA B'!E130 -> 70.7
A17: 15 | B17: ='SA MAS'!A132 -> HYMAN | C17: ='SA MAS'!B132 -> M | D17: SA MASTERS | E17: ='SA MAS'!E132 -> 60.6
A18: 16 | B18: ='SA B'!A136 -> LOTRIET | C18: ='SA B'!B136 -> J | D18: SA B | E18: ='SA B'!E136 -> 59.1
A19: 17 | B19: ='NA VET'!A132 -> VAN ZYL | C19: ='NA VET'!B132 -> R | D19: NAM VETERANS | E19: ='NA VET'!E132 -> 58.2
A20: 18 | B20: ='NA B'!A135 -> HERMANN | C20: ='NA B'!B135 -> J | D20: NAM B | E20: ='NA B'!E135 -> 57.1
A21: 19 | B21: ='SA DEV'!A136 -> BESTER | C21: ='SA DEV'!B136 -> M | D21: SA DEVELOPMENT | E21: ='SA DEV'!E136 -> 55.5
A22: 20 | B22: ='SA INL'!A135 -> JACOBS | C22: ='SA INL'!B135 -> G | D22: SA INLAND | E22: ='SA INL'!E135 -> 55.1
A23: 21 | B23: ='SA A'!A131 -> KURZ | C23: ='SA A'!B131 -> D | D23: SA A | E23: ='SA A'!E131 -> 54.7
A24: 22 | B24: ='SA INL'!A136 -> DASRATH | C24: ='SA INL'!B136 -> D | D24: SA INLAND | E24: ='SA INL'!E136 -> 53.7
A25: 23 | B25: ='NA MAS'!A135 -> BEZUIDENHOUT | C25: ='NA MAS'!B135 -> A | D25: NAM MASTERS | E25: ='NA MAS'!E135 -> 53.4
A26: 24 | B26: ='NA VET'!A134 -> JANSEN VAN VUUREN | C26: ='NA VET'!B134 -> M | D26: NAM VETERANS | E26: ='NA VET'!E134 -> 52.2
A27: 25 | B27: ='SA DEV'!A132 -> ESTERHUIZEN | C27: ='SA DEV'!B132 -> B | D27: SA DEVELOPMENT | E27: ='SA DEV'!E132 -> 51.8
A28: 26 | B28: ='SA MAS'!A136 -> VAN ZYL | C28: ='SA MAS'!B136 -> J | D28: SA MASTERS | E28: ='SA MAS'!E136 -> 49.7
A29: 27 | B29: ='NA DEV'!A133 -> Bachran | C29: ='NA DEV'!B133 -> K | D29: NAM DEVELOPMENT | E29: ='NA DEV'!E133 -> 47.7
A30: 28 | B30: ='NA VET'!A135 -> HUGO | C30: ='NA VET'!B135 -> M | D30: NAM VETERANS | E30: ='NA VET'!E135 -> 46.6
A31: 29 | B31: ='SA INL'!A131 -> BARNARD | C31: ='SA INL'!B131 -> W | D31: SA INLAND | E31: ='SA INL'!E131 -> 46.1
A32: 30 | B32: ='SA DEV'!A131 -> VAN NIEKERK | C32: ='SA DEV'!B131 -> A | D32: SA DEVELOPMENT | E32: ='SA DEV'!E131 -> 45.5
A33: 31 | B33: ='NA A'!A130 -> LANGENSTRASSEN | C33: ='NA A'!B130 -> A | D33: NAM A | E33: ='NA A'!E130 -> 45.2
A34: 32 | B34: ='NA DEV'!A135 -> Duvenhage | C34: ='NA DEV'!B135 -> R | D34: NAM DEVELOPMENT | E34: ='NA DEV'!E135 -> 45.1
A35: 33 | B35: ='NA MAS'!A136 -> KRUGER | C35: ='NA MAS'!B136 -> S | D35: NAM MASTERS | E35: ='NA MAS'!E136 -> 43.7
A36: 34 | B36: ='NA DEV'!A134 -> Strappazon | C36: ='NA DEV'!B134 -> S | D36: NAM DEVELOPMENT | E36: ='NA DEV'!E134 -> 42.8
A37: 35 | B37: ='SA DEV'!A135 -> GOVENDER | C37: ='SA DEV'!B135 -> K | D37: SA DEVELOPMENT | E37: ='SA DEV'!E135 -> 41.8
A38: 36 | B38: ='NA B'!A134 -> POTGIETER | C38: ='NA B'!B134 -> T | D38: NAM B | E38: ='NA B'!E134 -> 41.7
A39: 37 | B39: ='SA DEV'!A133 -> ENGELBRECHT | C39: ='SA DEV'!B133 -> G | D39: SA DEVELOPMENT | E39: ='SA DEV'!E133 -> 40.2
A40: 38 | B40: ='NA VET'!A133 -> DOLL | C40: ='NA VET'!B133 -> H | D40: NAM VETERANS | E40: ='NA VET'!E133 -> 39.4
A41: 39 | B41: ='SA LAD'!A130 -> VAN DER POEL | C41: ='SA LAD'!B130 -> A | D41: SA LADIES | E41: ='SA LAD'!E130 -> 38.5
A42: 40 | B42: ='NA A'!A135 -> ROETS | C42: ='NA A'!B135 -> H | D42: NAM A | E42: ='NA A'!E135 -> 38.2
A43: 41 | B43: ='NA LAD'!A132 -> Langenstrassen | C43: ='NA LAD'!B132 -> A | D43: NAM LADIES | E43: ='NA LAD'!E132 -> 36.6
A44: 42 | B44: ='NA A'!A133 -> FENAUX | C44: ='NA A'!B133 -> L | D44: NAM A | E44: ='NA A'!E133 -> 36.4
A45: 43 | B45: ='SA LAD'!A134 -> BREET | C45: ='SA LAD'!B134 -> S | D45: SA LADIES | E45: ='SA LAD'!E134 -> 35.8
A46: 44 | B46: ='SA MAS'!A131 -> MARTIN | C46: ='SA MAS'!B131 -> R | D46: SA MASTERS | E46: ='SA MAS'!E131 -> 35.4
A47: 45 | B47: ='NA LAD'!A135 -> Heath | C47: ='NA LAD'!B135 -> J | D47: NAM LADIES | E47: ='NA LAD'!E135 -> 35
A48: 46 | B48: ='NA A'!A136 -> VILJOEN | C48: ='NA A'!B136 -> L | D48: NAM A | E48: ='NA A'!E136 -> 32.3
A49: 47 | B49: ='SA B'!A131 -> VERSTER | C49: ='SA B'!B131 -> D | D49: SA B | E49: ='SA B'!E131 -> 30.7
A50: 48 | B50: ='NA DEV'!A130 -> Schickerling | C50: ='NA DEV'!B130 -> W | D50: NAM DEVELOPMENT | E50: ='NA DEV'!E130 -> 28.2
A51: 49 | B51: ='NA DEV'!A132 -> Mostert | C51: ='NA DEV'!B132 -> T | D51: NAM DEVELOPMENT | E51: ='NA DEV'!E132 -> 27.7
A52: 50 | B52: ='NA LAD'!A130 -> Downing | C52: ='NA LAD'!B130 -> N | D52: NAM LADIES | E52: ='NA LAD'!E130 -> 26.7
A53: 51 | B53: ='NA VET'!A131 -> SWANEPOEL | C53: ='NA VET'!B131 -> S | D53: NAM VETERANS | E53: ='NA VET'!E131 -> 26.1
A54: 52 | B54: ='NA B'!A136 -> VAN NIEKERK | C54: ='NA B'!B136 -> J | D54: NAM B | E54: ='NA B'!E136 -> 25.1
A55: 53 | B55: ='NA VET'!A136 -> KRUAER | C55: ='NA VET'!B136 -> G | D55: NAM VETERANS | E55: ='NA VET'!E136 -> 23.8
A56: 54 | B56: ='NA DEV'!A136 -> Smith | C56: ='NA DEV'!B136 -> D | D56: NAM DEVELOPMENT | E56: ='NA DEV'!E136 -> 23.2
A57: 55 | B57: ='SA MAS'!A133 -> PEINKE | C57: ='SA MAS'!B133 -> L | D57: SA MASTERS | E57: ='SA MAS'!E133 -> 23.2
A58: 56 | B58: ='SA B'!A132 -> REYNOLDS | C58: ='SA B'!B132 -> N | D58: SA B | E58: ='SA B'!E132 -> 22.1
A59: 57 | B59: ='SA MAS'!A134 -> MC FARLANE | C59: ='SA MAS'!B134 -> B | D59: SA MASTERS | E59: ='SA MAS'!E134 -> 21.8
A60: 58 | B60: ='SA INL'!A134 -> OLIVIER | C60: ='SA INL'!B134 -> T | D60: SA INLAND | E60: ='SA INL'!E134 -> 20.1
A61: 59 | B61: ='SA MAS'!A130 -> PIENAAR | C61: ='SA MAS'!B130 -> F | D61: SA MASTERS | E61: ='SA MAS'!E130 -> 19.9
A62: 60 | B62: ='NA B'!A130 -> VAN RIET | C62: ='NA B'!B130 -> W | D62: NAM B | E62: ='NA B'!E130 -> 19.9
A63: 61 | B63: ='SA LAD'!A133 -> VISSER | C63: ='SA LAD'!B133 -> A | D63: SA LADIES | E63: ='SA LAD'!E133 -> 19.6
A64: 62 | B64: ='NA MAS'!A133 -> FERREIRA | C64: ='NA MAS'!B133 -> F | D64: NAM MASTERS | E64: ='NA MAS'!E133 -> 19.2
A65: 63 | B65: ='NA MAS'!A134 -> VENTER | C65: ='NA MAS'!B134 -> J | D65: NAM MASTERS | E65: ='NA MAS'!E134 -> 18.3
A66: 64 | B66: ='SA DEV'!A134 -> COCHIUS | C66: ='SA DEV'!B134 -> R | D66: SA DEVELOPMENT | E66: ='SA DEV'!E134 -> 18
A67: 65 | B67: ='SA MAS'!A135 -> MELLET | C67: ='SA MAS'!B135 -> A | D67: SA MASTERS | E67: ='SA MAS'!E135 -> 17.6
A68: 66 | B68: ='NA LAD'!A131 -> Mynhardt | C68: ='NA LAD'!B131 -> K | D68: NAM LADIES | E68: ='NA LAD'!E131 -> 17
A69: 67 | B69: ='NA A'!A132 -> POTGIETER | C69: ='NA A'!B132 -> C | D69: NAM A | E69: ='NA A'!E132 -> 16.1
A70: 68 | B70: ='NA A'!A134 -> VENTER | C70: ='NA A'!B134 -> M | D70: NAM A | E70: ='NA A'!E134 -> 15.4
A71: 69 | B71: ='NA MAS'!A131 -> DIEDERICKS | C71: ='NA MAS'!B131 -> B | D71: NAM MASTERS | E71: ='NA MAS'!E131 -> 14.7
A72: 70 | B72: ='NA B'!A132 -> VAN RENSBURG | C72: ='NA B'!B132 -> G | D72: NAM B | E72: ='NA B'!E132 -> 14.7
A73: 71 | B73: ='SA DEV'!A130 -> ABRAHAMS | C73: ='SA DEV'!B130 -> S | D73: SA DEVELOPMENT | E73: ='SA DEV'!E130 -> 14.6
A74: 72 | B74: ='NA A'!A131 -> CORDIER | C74: ='NA A'!B131 -> W | D74: NAM A | E74: ='NA A'!E131 -> 14.5
A75: 73 | B75: ='SA INL'!A133 -> VAN ZYL | C75: ='SA INL'!B133 -> D | D75: SA INLAND | E75: ='SA INL'!E133 -> 14.2
A76: 74 | B76: ='SA LAD'!A135 -> BOTHA | C76: ='SA LAD'!B135 -> S | D76: SA LADIES | E76: ='SA LAD'!E135 -> 14.1
A77: 75 | B77: ='NA LAD'!A134 -> Kruger | C77: ='NA LAD'!B134 -> M | D77: NAM LADIES | E77: ='NA LAD'!E134 -> 13.8
A78: 76 | B78: ='SA INL'!A132 -> GOVENDER | C78: ='SA INL'!B132 -> J | D78: SA INLAND | E78: ='SA INL'!E132 -> 12
A79: 77 | B79: ='SA LAD'!A136 -> DE VILLERS | C79: ='SA LAD'!B136 -> L | D79: SA LADIES | E79: ='SA LAD'!E136 -> 11.9
A80: 78 | B80: ='SA B'!A135 -> ESPACH | C80: ='SA B'!B135 -> H | D80: SA B | E80: ='SA B'!E135 -> 10
A81: 79 | B81: ='SA LAD'!A132 -> VENTER | C81: ='SA LAD'!B132 -> W | D81: SA LADIES | E81: ='SA LAD'!E132 -> 9.6
A82: 80 | B82: ='NA LAD'!A133 -> Ferreira | C82: ='NA LAD'!B133 -> B | D82: NAM LADIES | E82: ='NA LAD'!E133 -> 9.5
A83: 81 | B83: ='SA B'!A134 -> TERBLANCHE | C83: ='SA B'!B134 -> E | D83: SA B | E83: ='SA B'!E134 -> 6.8
A84: 82 | B84: ='SA LAD'!A131 -> JONCK | C84: ='SA LAD'!B131 -> M | D84: SA LADIES | E84: ='SA LAD'!E131 -> 5
A85: 83 | B85: ='SA B'!A133 -> BUSSE | C85: ='SA B'!B133 -> C | D85: SA B | E85: ='SA B'!E133 -> 1.1

Sheet PGIV
A1: 2021 GUS KOLLNER PRIZE GIVING
E3: QTY | F3: KG
D4: EDIBLE | E4: =TEAM!F16 -> 14 | F4: =TEAM!C16 -> 69.7
D5: NON-EDIBLE | E5: =TEAM!G16 -> 575 | F5: =TEAM!D16 -> 3346.9
D6: TOTAL | E6: =SUM(E4:E5) -> 589 | F6: =SUM(F4:F5) -> 3416.6
D8: SPECIE | E8: KG | F8: ANGLER | G8: TEAM
A9: HEAVIEST NON-EDIBLE | D9: RAGGIE | E9: 160.7 | F9: D. VAN BREDA | G9: SA A
A10: HEAVIEST EDIBLE | D10: KOB | E10: 17.4 | F10: W. RAPSON | G10: SA A
D11: KOB | E11: 17.4 | F11: S. ANDERSON | G11: NAM MASTERS
A13: TOP ANGLERS
A14: POS | B14: NAME | D14: TEAM | E14: PTS
A15: 3 | B15: =IND!C5 -> S | C15: =IND!B5 -> WELZIG | D15: =IND!D5 -> NAM DEVELOPMENT | E15: =IND!E5 -> 104.6
A16: 2 | B16: =IND!C4 -> P | C16: =IND!B4 -> VAN AARDE | D16: =IND!D4 -> NAM B | E16: =IND!E4 -> 120
A17: 1 | B17: =IND!C3 -> D | C17: =IND!B3 -> VAN BREDA | D17: =IND!D3 -> SA A | E17: =IND!E3 -> 185.2
B19: TOP TEAMS
B20: POS | C20: TEAM | D20: PTS | I20: ACTUAL PTS | J20: WINNERS PTS
B21: 12 | C21: =TEAM!B15 -> SA LADIES | D21: 129.5 | I21: =TEAM!E15 -> 134.5 | J21: =I21-5 -> 129.5
B22: 11 | C22: =TEAM!B14 -> NAM LADIES | D22: 138.6 | I22: =TEAM!E14 -> 138.6 | J22: =I22-0 -> 138.6
B23: 10 | C23: =TEAM!B13 -> NAM A | D23: 183.6 | I23: =TEAM!E13 -> 198.1 | J23: =I23-14.5 -> 183.6
B24: 9 | C24: =TEAM!B12 -> SA B | D24: 199.4 | I24: =TEAM!E12 -> 200.5 | J24: =I24-1.1 -> 199.4
B25: 8 | C25: =TEAM!B11 -> SA MASTERS | D25: 210.6 | I25: =TEAM!E11 -> 228.2 | J25: =I25-17.6 -> 210.6
B26: 7 | C26: =TEAM!B10 -> SA DEVELOPMENT | D26: 252.8 | I26: =TEAM!E10 -> 267.4 | J26: =I26-14.6 -> 252.8
B27: 6 | C27: =TEAM!B9 -> SA INLAND | D27: 268.5 | I27: =TEAM!E9 -> 280.5 | J27: =I27-12 -> 268.5
B28: 5 | C28: =TEAM!B8 -> NAM MASTERS | D28: 284.9 | I28: =TEAM!E8 -> 299.6 | J28: =I28-14.7 -> 284.9
B29: 4 | C29: =TEAM!B7 -> NAM DEVELOPMENT | D29: 296.1 | I29: =TEAM!E7 -> 319.3 | J29: =I29-23.2 -> 296.1
B30: 3 | C30: =TEAM!B6 -> NAM VETERANS | D30: 303.6 | I30: =TEAM!E6 -> 327.4 | J30: =I30-23.8 -> 303.6
B31: 2 | C31: =TEAM!B5 -> NAM B | D31: 342.3 | I31: =TEAM!E5 -> 357 | J31: =I31-14.7 -> 342.3
B32: 1 | C32: =TEAM!B4 -> SA A | D32: 610.8 | I32: =TEAM!E4 -> 665.5 | J32: =I32-54.7 -> 610.8
C34: TOP DIVISIONAL TEAM
C35: DIVISION | D35: WINNER
C36: SENIOR A | D36: SA A
C37: SENIOR B | D37: NAM B
C38: MASTERS | D38: NAM MASTERS
C39: LADIES | D39: NAM LADIES
C40: INLAND / VETERANS | D40: NAM VETERANS
C41: DEVELOPMENT | D41: NAM DEVELOPMENT

Sheet ED-NED
A1: EDIBLE
A2: KOB | B2: 17.4 | C2: W. RAPSON | D2: SA A
A3: KOB | B3: 17.4 | C3: S. ANDERSON | D3: NAM MASTERS
A5: NON ED
A6: RAGGIE | B6: 160.7 | C6: D. VAN BREDA | D6: SA A
