Workbook

Sheet SA A
A1: DAY 1 - TUE 5 OCT 2021
A2: VAN HEERDEN | B2: A | C2: KURZ | D2: D | E2: FURNISS | F2: M | G2: PEINKE | H2: D | I2: VAN BREDA | J2: D | K2: LYNCH | L2: M | M2: RAPSON | N2: W
A3: SPECIE | B3: KG | C3: SPECIE | D3: KG | E3: SPECIE | F3: KG | G3: SPECIE | H3: KG | I3: SPECIE | J3: KG | K3: SPECIE | L3: KG | M3: SPECIE | N3: KG
A4: SOUPFIN | B4: 1.8 | C4: SOUPFIN | D4: 2.7 | G4: SPEARNOSE | H4: 1.7 | I4: BLUE RAY | J4: 1 | K4: BLUE RAY | L4: 2
A5: SANDY | B5: 1.6 | C5: ST JOSEPH | D5: 4.6 | G5: BLUE RAY | H5: 16 | I5: BLUE RAY | J5: 2.3
C6: BLUE RAY | D6: 2.8 | G6: SOUPFIN | H6: 2.9
G7: SOUPFIN | H7: 1.5
B19: =SUM(B4:B18) -> 3.4 | D19: =SUM(D4:D18) -> 10.1 | F19: =SUM(F4:F18) -> 0 | H19: =SUM(H4:H18) -> 22.1 | J19: =SUM(J4:J18) -> 3.3 | L19: =SUM(L4:L18) -> 2 | N19: =SUM(N4:N18) -> 0 | O19: =SUM(A19:N19) -> 40.9
M20: KOB | N20: 17.4
O23: =SUM(O19+O27) -> 58.3
B27: =SUM(B20:B26) -> 0 | D27: =SUM(D20:D26) -> 0 | F27: =SUM(F20:F26) -> 0 | H27: =SUM(H20:H26) -> 0 | J27: =SUM(J20:J26) -> 0 | L27: =SUM(L20:L26) -> 0 | N27: =SUM(N20:N26) -> 17.4 | O27: =SUM(A27:N27) -> 17.4
A30: DAY 2 - WED 6 OCT 2021
A31: =A2 -> VAN HEERDEN | B31: =B2 -> A | C31: =C2 -> KURZ | D31: =D2 -> D | E31: =E2 -> FURNISS | F31: =F2 -> M | G31: =G2 -> PEINKE | H31: =H2 -> D | ... N31: =N2 -> W
A32: SPECIE | B32: KG | C32: SPECIE | D32: KG | E32: SPECIE | F32: KG | G32: SPECIE | H32: KG | I32: SPECIE | J32: KG | K32: SPECIE | L32: KG | M32: SPECIE | N32: KG
A33: BLUE RAY | B33: 2.8 | C33: BLUE RAY | D33: 5.7 | E33: BLUE RAY | F33: 3 | G33: BLUE RAY | H33: 10.2 | I33: SPEARNOSE | J33: 15.4 | K33: BLUE RAY | L33: 13.2 | M33: BLUE RAY | N33: 7.7
A34: BLUE RAY | B34: 9.7 | C34: EAGLE | D34: 2.4 | E34: BLUE RAY | F34: 13.2 | G34: BLUE RAY | H34: 3 | I34: RAGGIE | J34: 160.7 | K34: EAGLE | L34: 2.5 | M34: BLUE RAY | N34: 1.5
A35: BLUE RAY | B35: 2.8 | C35: BLUE RAY | D35: 10.2 | E35: SANDY | F35: 1.6 | G35: BLUE RAY | H35: 2.5 | I35: BLUE RAY | J35: 4.7 | K35: EAGLE | L35: 2.5 | M35: BLUE RAY | N35: 6.9
A36: BLUE RAY | B36: 9.7 | C36: BLUE RAY | D36: 13.2 | E36: BLUE RAY | F36: 1.2 | G36: SANDY | H36: 2.2 | K36: SANTER | L36: 1.3 | M36: DIAMOND | N36: 19.1
A37: BLUE RAY | B37: 15.3 | C37: BLUE RAY | D37: 7.7 | E37: BLUE RAY | F37: 1.7 | G37: BLUE RAY | H37: 17.5 | K37: BLUE RAY | L37: 13.2 | M37: BLUE RAY | N37: 10.8
A38: BLUE RAY | B38: 10.2 | E38: BLUE RAY | F38: 14.6 | G38: BLUE RAY | H38: 12 | K38: BLUE RAY | L38: 9.7 | M38: EAGLE | N38: 3
A39: BLUE RAY | B39: 10.2 | E39: BLUE RAY | F39: 2.8 | K39: STRIPED CATSHARK | L39: 3.9
A40: BLUE RAY | B40: 12.6 | E40: BLUE RAY | F40: 20.8 | K40: BLUE RAY | L40: 11.4
E41: BLUE RAY | F41: 9.7 | K41: BLUE RAY | L41: 12
E42: BLUE RAY | F42: 12 | K42: BLUE RAY | L42: 10.8
E43: BLUE RAY | F43: 7.7 | K43: BLUE RAY | L43: 2.3
B48: =SUM(B33:B47) -> 73.3 | D48: =SUM(D33:D47) -> 39.2 | F48: =SUM(F33:F47) -> 88.3 | H48: =SUM(H33:H47) -> 47.4 | J48: =SUM(J33:J47) -> 180.8 | L48: =SUM(L33:L47) -> 82.8 | N48: =SUM(N33:N47) -> 49 | O48: =SUM(A48:N48) -> 560.8
I49: GRUNTER | J49: 1.1
O52: =SUM(O48+O56) -> 561.9
B56: =SUM(B49:B55) -> 0 | D56: =SUM(D49:D55) -> 0 | F56: =SUM(F49:F55) -> 0 | H56: =SUM(H49:H55) -> 0 | J56: =SUM(J49:J55) -> 1.1 | L56: =SUM(L49:L55) -> 0 | N56: =SUM(N49:N55) -> 0 | O56: =SUM(A56:N56) -> 1.1
A59: DAY 3 - THU 7 OCT 2021
A60: =A2 -> VAN HEERDEN | B60: =B2 -> A | C60: =C2 -> KURZ | D60: =D2 -> D | E60: =E2 -> FURNISS | F60: =F2 -> M | G60: =G2 -> PEINKE | H60: =H2 -> D | ... N60: =N2 -> W
A61: SPECIE | B61: KG | C61: SPECIE | D61: KG | E61: SPECIE | F61: KG | G61: SPECIE | H61: KG | I61: SPECIE | J61: KG | K61: SPECIE | L61: KG | M61: SPECIE | N61: KG
A62: EAGLE | B62: 12.1 | C62: ST JOSEPH | D62: 5.4 | E62: BLUE RAY | F62: 4.4 | G62: BRONZIE | H62: 2.7 | K62: EAGLE | L62: 2.4 | M62: ST JOSEPH | N62: 4.6
E63: EAGLE | F63: 7.1 | G63: BRONZIE | H63: 2.1
E64: BISCUIT | F64: 2.3 | G64: BRONZIE | H64: 2.2
B77: =SUM(B62:B76) -> 12.1 | D77: =SUM(D62:D76) -> 5.4 | F77: =SUM(F62:F76) -> 13.8 | H77: =SUM(H62:H76) -> 7 | J77: =SUM(J62:J76) -> 0 | L77: =SUM(L62:L76) -> 2.4 | N77: =SUM(N62:N76) -> 4.6 | O77: =SUM(A77:N77) -> 45.3
O81: =SUM(O77+O85) -> 45.3
B85: =SUM(B78:B84) -> 0 | D85: =SUM(D78:D84) -> 0 | F85: =SUM(F78:F84) -> 0 | H85: =SUM(H78:H84) -> 0 | J85: =SUM(J78:J84) -> 0 | L85: =SUM(L78:L84) -> 0 | N85: =SUM(N78:N84) -> 0 | O85: =SUM(A85:N85) -> 0
A88: DAY 1 - TUE 5 OCT 2021
A89: ANGLER | C89: MASS | D89: MASS | E89: POINTS | F89: AMOUNT | G89: AMOUNT
...

Sheet SA B
A1: DAY 1 - TUE 5 OCT 2021
A2: VAN EMMENES | B2: D | C2: VERSTER | D2: D | E2: REYNOLDS | F2: N | G2: BUSSE | H2: C | I2: TERBLANCHE | J2: E | K2: ESPACH | L2: H | M2: LOTRIET | N2: J
A3: SPECIE | B3: KG | C3: SPECIE | D3: KG | E3: SPECIE | F3: KG | G3: SPECIE | H3: KG | I3: SPECIE | J3: KG | K3: SPECIE | L3: KG | M3: SPECIE | N3: KG
C4: BLUE RAY | D4: 6.1 | E4: BLUE RAY | F4: 1.5 | M4: BLUE RAY | N4: 1.4
C5: BLUE RAY | D5: 1.5
C6: BLUE RAY | D6: 1.3
C7: BLUE RAY | D7: 3.8
C8: BLUE RAY | D8: 1
C9: BLUE RAY | D9: 3.7
B19: =SUM(B4:B18) -> 0 | D19: =SUM(D4:D18) -> 17.4 | F19: =SUM(F4:F18) -> 1.5 | H19: =SUM(H4:H18) -> 0 | J19: =SUM(J4:J18) -> 0 | L19: =SUM(L4:L18) -> 0 | N19: =SUM(N4:N18) -> 1.4 | O19: =SUM(A19:N19) -> 20.3
O23: =SUM(O19+O27) -> 20.3
B27: =SUM(B20:B26) -> 0 | D27: =SUM(D20:D26) -> 0 | F27: =SUM(F20:F26) -> 0 | H27: =SUM(H20:H26) -> 0 | J27: =SUM(J20:J26) -> 0 | L27: =SUM(L20:L26) -> 0 | N27: =SUM(N20:N26) -> 0 | O27: =SUM(A27:N27) -> 0
A30: DAY 2 - WED 6 OCT 2021
A31: =A2 -> VAN EMMENES | B31: =B2 -> D | C31: =C2 -> VERSTER | D31: =D2 -> D | E31: =E2 -> REYNOLDS | F31: =F2 -> N | G31: =G2 -> BUSSE | H31: =H2 -> C | ... N31: =N2 -> J
A32: SPECIE | B32: KG | C32: SPECIE | D32: KG | E32: SPECIE | F32: KG | G32: SPECIE | H32: KG | I32: SPECIE | J32: KG | K32: SPECIE | L32: KG | M32: SPECIE | N32: KG
A33: BLUE RAY | B33: 9.7 | C33: BLUE RAY | D33: 3.5 | E33: BLUE RAY | F33: 2.6 | K33: BLUE RAY | L33: 2.6 | M33: SPEARNOSE | N33: 23.4
A34: BLUE RAY | B34: 11.4 | C34: BLUE RAY | D34: 8.2 | E34: BLUE RAY | F34: 1.8 | K34: BLUE RAY | L34: 2.6 | M34: DIAMOND | N34: 12.7
A35: BLUE RAY | B35: 12.6 | C35: SANDSHARK | D35: 1.6 | E35: BLUE RAY | F35: 1.5 | K35: DUSKY | L35: 4.8 | M35: SANDY | N35: 3
A36: BLUE RAY | B36: 12 | E36: SANDY | F36: 1.3 | M36: BLUE RAY | N36: 13.2
A37: BLUE RAY | B37: 12.6 | E37: STRIPED CATSHARK | F37: 4.6
A38: BLUE RAY | B38: 10.2 | E38: BLUE RAY | F38: 2.8
E39: EAGLE | F39: 1.8
E40: BLUE RAY | F40: 2
B48: =SUM(B33:B47) -> 68.5 | D48: =SUM(D33:D47) -> 13.3 | F48: =SUM(F33:F47) -> 18.4 | H48: =SUM(H33:H47) -> 0 | J48: =SUM(J33:J47) -> 0 | L48: =SUM(L33:L47) -> 10 | N48: =SUM(N33:N47) -> 52.3 | O48: =SUM(A48:N48) -> 162.5
M49: KOB | N49: 5.4
O52: =SUM(O48+O56) -> 167.9
B56: =SUM(B49:B55) -> 0 | D56: =SUM(D49:D55) -> 0 | F56: =SUM(F49:F55) -> 0 | H56: =SUM(H49:H55) -> 0 | J56: =SUM(J49:J55) -> 0 | L56: =SUM(L49:L55) -> 0 | N56: =SUM(N49:N55) -> 5.4 | O56: =SUM(A56:N56) -> 5.4
A59: DAY 3 - THU 7 OCT 2021
A60: =A2 -> VAN EMMENES | B60: =B2 -> D | C60: =C2 -> VERSTER | D60: =D2 -> D | E60: =E2 -> REYNOLDS | F60: =F2 -> N | G60: =G2 -> BUSSE | H60: =H2 -> C | ... N60: =N2 -> J
A61: SPECIE | B61: KG | C61: SPECIE | D61: KG | E61: SPECIE | F61: KG | G61: SPECIE | H61: KG | I61: SPECIE | J61: KG | K61: SPECIE | L61: KG | M61: SPECIE | N61: KG
A62: BRONZIE | B62: 2.2 | E62: BRONZIE | F62: 2.2 | G62: SANDY | H62: 1.1 | I62: ST JOSEPH | J62: 6.8
B77: =SUM(B62:B76) -> 2.2 | D77: =SUM(D62:D76) -> 0 | F77: =SUM(F62:F76) -> 2.2 | H77: =SUM(H62:H76) -> 1.1 | J77: =SUM(J62:J76) -> 6.8 | L77: =SUM(L62:L76) -> 0 | N77: =SUM(N62:N76) -> 0 | O77: =SUM(A77:N77) -> 12.3
O81: =SUM(O77+O85) -> 12.3
B85: =SUM(B78:B84) -> 0 | D85: =SUM(D78:D84) -> 0 | F85: =SUM(F78:F84) -> 0 | H85: =SUM(H78:H84) -> 0 | J85: =SUM(J78:J84) -> 0 | L85: =SUM(L78:L84) -> 0 | N85: =SUM(N78:N84) -> 0 | O85: =SUM(A85:N85) -> 0
A88: DAY 1 - TUE 5 OCT 2021
A89: ANGLER | C89: MASS | D89: MASS | E89: POINTS | F89: AMOUNT | G89: AMOUNT
A90: NAME | B90: INI | C90: EDIBLE | D90: NON-ED | E90: ACC | F90: EDIBLE | G90: NON-ED
A91: =A2 -> VAN EMMENES | B91: =B2 -> D | C91: =SUM(B27) -> 0 | D91: =SUM(B19) -> 0 | E91: =SUM(D91+C91) -> 0 | F91: =COUNTA(A20:A26) -> 0 | G91: =COUNTA(A4:A18) -> 0
A92: =C2 -> VERSTER | B92: =D2 -> D | C92: =SUM(D27) -> 0 | D92: =SUM(D19) -> 17.4 | E92: =SUM(D92+C92) -> 17.4 | F92: =COUNTA(C20:C26) -> 0 | G92: =COUNTA(C4:C18) -> 6
A93: =E2 -> REYNOLDS | B93: =F2 -> N | C93: =SUM(F27) -> 0 | D93: =SUM(F19) -> 1.5 | E93: =SUM(D93+C93) -> 1.5 | F93: =COUNTA(E20:E26) -> 0 | G93: =COUNTA(E4:E18) -> 1
...

Sheet SA INL
A1: DAY 1 - TUE 5 OCT 2021
A2: THERON | B2: JB | C2: BARNARD | D2: W | E2: GOVENDER | F2: J | G2: VAN ZYL | H2: D | I2: OLIVIER | J2: T | K2: JACOBS | L2: G | M2: DASRATH | N2: D
A3: SPECIE | B3: KG | C3: SPECIE | D3: KG | E3: SPECIE | F3: KG | G3: SPECIE | H3: KG | I3: SPECIE | J3: KG | K3: SPECIE | L3: KG | M3: SPECIE | N3: KG
A4: BLUE RAY | B4: 4.1 | C4: BLUE RAY | D4: 3 | G4: BLUE RAY | H4: 3.3 | I4: BLUE RAY | J4: 4 | K4: BLUE RAY | L4: 1.3 | M4: BLUE RAY | N4: 2.6
A5: BLUE RAY | B5: 2 | C5: BLUE RAY | D5: 1.5 | I5: EAGLE | J5: 1 | K5: BLUE RAY | L5: 2.8 | M5: BLUE RAY | N5: 3.5
A6: BLUE RAY | B6: 2.8 | C6: BLUE RAY | D6: 2.4 | K6: BLUE RAY | L6: 1.7 | M6: BLUE RAY | N6: 1.5
A7: BLUE RAY | B7: 2.4 | C7: BLUE RAY | D7: 2.3
C8: ST JOSEPH | D8: 5.1
C9: BLUE RAY | D9: 3.7
C10: BLUE RAY | D10: 2.3
B19: =SUM(B4:B18) -> 11.3 | D19: =SUM(D4:D18) -> 20.3 | F19: =SUM(F4:F18) -> 0 | H19: =SUM(H4:H18) -> 3.3 | J19: =SUM(J4:J18) -> 5 | L19: =SUM(L4:L18) -> 5.8 | N19: =SUM(N4:N18) -> 7.6 | O19: =SUM(A19:N19) -> 53.3
M20: BLACKTAIL | N20: 1
O23: =SUM(O19+O27) -> 54.3
B27: =SUM(B20:B26) -> 0 | D27: =SUM(D20:D26) -> 0 | F27: =SUM(F20:F26) -> 0 | H27: =SUM(H20:H26) -> 0 | J27: =SUM(J20:J26) -> 0 | L27: =SUM(L20:L26) -> 0 | N27: =SUM(N20:N26) -> 1 | O27: =SUM(A27:N27) -> 1
A30: DAY 2 - WED 6 OCT 2021
A31: =A2 -> THERON | B31: =B2 -> JB | C31: =C2 -> BARNARD | D31: =D2 -> W | E31: =E2 -> GOVENDER | F31: =F2 -> J | G31: =G2 -> VAN ZYL | H31: =H2 -> D | ... N31: =N2 -> D
A32: SPECIE | B32: KG | C32: SPECIE | D32: KG | E32: SPECIE | F32: KG | G32: SPECIE | H32: KG | I32: SPECIE | J32: KG | K32: SPECIE | L32: KG | M32: SPECIE | N32: KG
A33: BLUE RAY | B33: 2.8 | C33: BLUE RAY | D33: 2.6 | E33: BLUE RAY | F33: 9.2 | G33: BLUE RAY | H33: 2.1 | I33: SANDY | J33: 2.5 | K33: SANDY | L33: 4.1 | M33: BLUE RAY | N33: 13.2
A34: DIAMOND | B34: 9.9 | C34: BLUE RAY | D34: 2.5 | E34: BLUE RAY | F34: 2.8 | G34: BLUE RAY | H34: 2 | I34: BLUE RAY | J34: 2 | K34: BLUE RAY | L34: 13.2 | M34: BLUE RAY | N34: 2.8
A35: BLUE RAY | B35: 13.2 | C35: BLUE RAY | D35: 10.2 | G35: SANDY | H35: 1.1 | I35: BLUE RAY | J35: 3.3 | K35: BLUE RAY | L35: 12 | M35: BLUE RAY | N35: 2.1
A36: BLUE RAY | B36: 15.3 | C36: BLUE RAY | D36: 3.7 | G36: BLUE RAY | H36: 1.4 | K36: BLUE RAY | L36: 14.6 | M36: BLUE RAY | N36: 2.5
A37: BLUE RAY | B37: 16 | G37: BLUE RAY | H37: 1.8 | K37: BLUE RAY | L37: 2.6 | M37: EAGLE | N37: 20
A38: BLUE RAY | B38: 10.8 | G38: BLUE RAY | H38: 2.5 | K38: BLUE RAY | L38: 2.8 | M38: BLUE RAY | N38: 2
M39: SANDY | N39: 2.5
B48: =SUM(B33:B47) -> 68 | D48: =SUM(D33:D47) -> 19 | F48: =SUM(F33:F47) -> 12 | H48: =SUM(H33:H47) -> 10.9 | J48: =SUM(J33:J47) -> 7.8 | L48: =SUM(L33:L47) -> 49.3 | N48: =SUM(N33:N47) -> 45.1 | O48: =SUM(A48:N48) -> 212.1
C49: BAARDMAN | D49: 3
O52: =SUM(O48+O56) -> 215.1
B56: =SUM(B49:B55) -> 0 | D56: =SUM(D49:D55) -> 3 | F56: =SUM(F49:F55) -> 0 | H56: =SUM(H49:H55) -> 0 | J56: =SUM(J49:J55) -> 0 | L56: =SUM(L49:L55) -> 0 | N56: =SUM(N49:N55) -> 0 | O56: =SUM(A56:N56) -> 3
A59: DAY 3 - THU 7 OCT 2021
A60: =A2 -> THERON | B60: =B2 -> JB | C60: =C2 -> BARNARD | D60: =D2 -> W | E60: =E2 -> GOVENDER | F60: =F2 -> J | G60: =G2 -> VAN ZYL | H60: =H2 -> D | ... N60: =N2 -> D
A61: SPECIE | B61: KG | C61: SPECIE | D61: KG | E61: SPECIE | F61: KG | G61: SPECIE | H61: KG | I61: SPECIE | J61: KG | K61: SPECIE | L61: KG | M61: SPECIE | N61: KG
C62: BLUE RAY | D62: 2.4 | I62: BLUE RAY | J62: 7.3
C63: SANDY | D63: 1.4
B77: =SUM(B62:B76) -> 0 | D77: =SUM(D62:D76) -> 3.8 | F77: =SUM(F62:F76) -> 0 | H77: =SUM(H62:H76) -> 0 | J77: =SUM(J62:J76) -> 7.3 | L77: =SUM(L62:L76) -> 0 | N77: =SUM(N62:N76) -> 0 | O77: =SUM(A77:N77) -> 11.1
O81: =SUM(O77+O85) -> 11.1
B85: =SUM(B78:B84) -> 0 | D85: =SUM(D78:D84) -> 0 | F85: =SUM(F78:F84) -> 0 | H85: =SUM(H78:H84) -> 0 | J85: =SUM(J78:J84) -> 0 | L85: =SUM(L78:L84) -> 0 | N85: =SUM(N78:N84) -> 0 | O85: =SUM(A85:N85) -> 0
A88: DAY 1 - TUE 5 OCT 2021
A89: ANGLER | C89: MASS | D89: MASS | E89: POINTS | F89: AMOUNT | G89: AMOUNT
A90: NAME | B90: INI | C90: EDIBLE | D90: NON-ED | E90: ACC | F90: EDIBLE | G90: NON-ED
A91: =A2 -> THERON | B91: =B2 -> JB | C91: =SUM(B27) -> 0 | D91: =SUM(B19) -> 11.3 | E91: =SUM(D91+C91) -> 11.3 | F91: =COUNTA(A20:A26) -> 0 | G91: =COUNTA(A4:A18) -> 4
...

Sheet SA MAS
A1: DAY 1 - TUE 5 OCT 2021
A2: PIENAAR | B2: F | C2: MARTIN | D2: R | E2: HYMAN | F2: M | G2: PEINKE | H2: L | I2: MC FARLANE | J2: B | K2: MELLET | L2: A | M2: VAN ZYL | N2: J
A3: SPECIE | B3: KG | C3: SPECIE | D3: KG | E3: SPECIE | F3: KG | G3: SPECIE | H3: KG | I3: SPECIE | J3: KG | K3: SPECIE | L3: KG | M3: SPECIE | N3: KG
A4: SANDY | B4: 1.2 | C4: BLUE RAY | D4: 2.8 | E4: BLUE RAY | F4: 1.8 | G4: BLUE RAY | H4: 1.3 | I4: BLUE RAY | J4: 2.8 | K4: SANDY | L4: 1.8 | M4: BLUE RAY | N4: 1.2
E5: BLUE RAY | F5: 3.3 | G5: SANDY | H5: 1.4 | M5: BLUE RAY | N5: 2.8
E6: BLUE RAY | F6: 2.1 | G6: SANDY | H6: 1.4 | M6: BLUE RAY | N6: 8.2
E7: BLUE RAY | F7: 2.1 | G7: SANDY | H7: 1.6
E8: BLUE RAY | F8: 7.7
B19: =SUM(B4:B18) -> 1.2 | D19: =SUM(D4:D18) -> 2.8 | F19: =SUM(F4:F18) -> 17 | H19: =SUM(H4:H18) -> 5.7 | J19: =SUM(J4:J18) -> 2.8 | L19: =SUM(L4:L18) -> 1.8 | N19: =SUM(N4:N18) -> 12.2 | O19: =SUM(A19:N19) -> 43.5
O23: =SUM(O19+O27) -> 43.5
B27: =SUM(B20:B26) -> 0 | D27: =SUM(D20:D26) -> 0 | F27: =SUM(F20:F26) -> 0 | H27: =SUM(H20:H26) -> 0 | J27: =SUM(J20:J26) -> 0 | L27: =SUM(L20:L26) -> 0 | N27: =SUM(N20:N26) -> 0 | O27: =SUM(A27:N27) -> 0
A30: DAY 2 - WED 6 OCT 2021
A31: =A2 -> PIENAAR | B31: =B2 -> F | C31: =C2 -> MARTIN | D31: =D2 -> R | E31: =E2 -> HYMAN | F31: =F2 -> M | G31: =G2 -> PEINKE | H31: =H2 -> L | ... N31: =N2 -> J
A32: SPECIE | B32: KG | C32: SPECIE | D32: KG | E32: SPECIE | F32: KG | G32: SPECIE | H32: KG | I32: SPECIE | J32: KG | K32: SPECIE | L32: KG | M32: SPECIE | N32: KG
A33: BLUE RAY | B33: 6.1 | C33: BLUE RAY | D33: 10.2 | E33: BLUE RAY | F33: 3.5 | G33: BLUE RAY | H33: 2.4 | I33: BLUE RAY | J33: 2 | K33: SANDY | L33: 3 | M33: SMOOTH HOUND | N33: 10.3
A34: BLUE RAY | B34: 12.6 | C34: BLUE RAY | D34: 13.2 | E34: BLUE RAY | F34: 3 | G34: BLUE RAY | H34: 2.5 | I34: BLUE RAY | J34: 2.5 | K34: BLUE RAY | L34: 2.6 | M34: BLUE RAY | N34: 10.8
C35: BLUE RAY | D35: 9.2 | E35: BLUE RAY | F35: 3 | G35: BLUE RAY | H35: 2.6 | I35: BLUE RAY | J35: 3.5 | K35: EAGLE | L35: 8 | M35: BLUE RAY | N35: 10.8
E36: BLUE RAY | F36: 3 | G36: SANDY | H36: 3 | I36: BLUE RAY | J36: 9.7 | K36: SANDY | L36: 2.2 | M36: BLUE RAY | N36: 3
E37: BLUE RAY | F37: 3 | G37: BLUE RAY | H37: 2.6 | M37: BLUE RAY | N37: 2.6
E38: BLUE RAY | F38: 2.3 | G38: BLUE RAY | H38: 2
E39: BLUE RAY | F39: 6.1 | G39: SANDY | H39: 2.4
E40: BLUE RAY | F40: 7.7
E41: BLUE RAY | F41: 2.3
E42: BLUE RAY | F42: 9.7
B48: =SUM(B33:B47) -> 18.7 | D48: =SUM(D33:D47) -> 32.6 | F48: =SUM(F33:F47) -> 43.6 | H48: =SUM(H33:H47) -> 17.5 | J48: =SUM(J33:J47) -> 17.7 | L48: =SUM(L33:L47) -> 15.8 | N48: =SUM(N33:N47) -> 37.5 | O48: =SUM(A48:N48) -> 183.4
O52: =SUM(O48+O56) -> 183.4
B56: =SUM(B49:B55) -> 0 | D56: =SUM(D49:D55) -> 0 | F56: =SUM(F49:F55) -> 0 | H56: =SUM(H49:H55) -> 0 | J56: =SUM(J49:J55) -> 0 | L56: =SUM(L49:L55) -> 0 | N56: =SUM(N49:N55) -> 0 | O56: =SUM(A56:N56) -> 0
A59: DAY 3 - THU 7 OCT 2021
A60: =A2 -> PIENAAR | B60: =B2 -> F | C60: =C2 -> MARTIN | D60: =D2 -> R | E60: =E2 -> HYMAN | F60: =F2 -> M | G60: =G2 -> PEINKE | H60: =H2 -> L | ... N60: =N2 -> J
A61: SPECIE | B61: KG | C61: SPECIE | D61: KG | E61: SPECIE | F61: KG | G61: SPECIE | H61: KG | I61: SPECIE | J61: KG | K61: SPECIE | L61: KG | M61: SPECIE | N61: KG
I62: BLUE RAY | J62: 1.3
B77: =SUM(B62:B76) -> 0 | D77: =SUM(D62:D76) -> 0 | F77: =SUM(F62:F76) -> 0 | H77: =SUM(H62:H76) -> 0 | J77: =SUM(J62:J76) -> 1.3 | L77: =SUM(L62:L76) -> 0 | N77: =SUM(N62:N76) -> 0 | O77: =SUM(A77:N77) -> 1.3
O81: =SUM(O77+O85) -> 1.3
B85: =SUM(B78:B84) -> 0 | D85: =SUM(D78:D84) -> 0 | F85: =SUM(F78:F84) -> 0 | H85: =SUM(H78:H84) -> 0 | J85: =SUM(J78:J84) -> 0 | L85: =SUM(L78:L84) -> 0 | N85: =SUM(N78:N84) -> 0 | O85: =SUM(A85:N85) -> 0
A88: DAY 1 - TUE 5 OCT 2021
A89: ANGLER | C89: MASS | D89: MASS | E89: POINTS | F89: AMOUNT | G89: AMOUNT
A90: NAME | B90: INI | C90: EDIBLE | D90: NON-ED | E90: ACC | F90: EDIBLE | G90: NON-ED
A91: =A2 -> PIENAAR | B91: =B2 -> F | C91: =SUM(B27) -> 0 | D91: =SUM(B19) -> 1.2 | E91: =SUM(D91+C91) -> 1.2 | F91: =COUNTA(A20:A26) -> 0 | G91: =COUNTA(A4:A18) -> 1
A92: =C2 -> MARTIN | B92: =D2 -> R | C92: =SUM(D27) -> 0 | D92: =SUM(D19) -> 2.8 | E92: =SUM(D92+C92) -> 2.8 | F92: =COUNTA(C20:C26) -> 0 | G92: =COUNTA(C4:C18) -> 1
A93: =E2 -> HYMAN | B93: =F2 -> M | C93: =SUM(F27) -> 0 | D93: =SUM(F19) -> 17 | E93: =SUM(D93+C93) -> 17 | F93: =COUNTA(E20:E26) -> 0 | G93: =COUNTA(E4:E18) -> 5
...

Sheet SA DEV
A1: DAY 1 - TUE 5 OCT 2021
A2: ABRAHAMS | B2: S | C2: VAN NIEKERK | D2: A | E2: ESTERHUIZEN | F2: B | G2: ENGELBRECHT | H2: G | I2: COCHIUS | J2: R | K2: GOVENDER | L2: K | M2: BESTER | N2: M
A3: SPECIE | B3: KG | C3: SPECIE | D3: KG | E3: SPECIE | F3: KG | G3: SPECIE | H3: KG | I3: SPECIE | J3: KG | K3: SPECIE | L3: KG | M3: SPECIE | N3: KG
A4: SANDY | B4: 1.4 | E4: BLUE RAY | F4: 7.3 | G4: BLUE RAY | H4: 8.7 | K4: BLUE RAY | L4: 3 | M4: BLUE RAY | N4: 2.8
A5: BLUE RAY | B5: 1.3 | K5: BLUE RAY | L5: 2.6 | M5: BLUE RAY | N5: 3
A6: BLUE RAY | B6: 2.4 | K6: SANDY | L6: 1.4
A7: BLUE RAY | B7: 3 | K7: SANDY | L7: 2.2
A8: BLUE RAY | B8: 2.2 | K8: BLUE RAY | L8: 2.1
A9: BLUE RAY | B9: 2
B19: =SUM(B4:B18) -> 12.3 | D19: =SUM(D4:D18) -> 0 | F19: =SUM(F4:F18) -> 7.3 | H19: =SUM(H4:H18) -> 8.7 | J19: =SUM(J4:J18) -> 0 | L19: =SUM(L4:L18) -> 11.3 | N19: =SUM(N4:N18) -> 5.8 | O19: =SUM(A19:N19) -> 45.4
M20: BAARDMAN | N20: 5.4
O23: =SUM(O19+O27) -> 50.8
B27: =SUM(B20:B26) -> 0 | D27: =SUM(D20:D26) -> 0 | F27: =SUM(F20:F26) -> 0 | H27: =SUM(H20:H26) -> 0 | J27: =SUM(J20:J26) -> 0 | L27: =SUM(L20:L26) -> 0 | N27: =SUM(N20:N26) -> 5.4 | O27: =SUM(A27:N27) -> 5.4
A30: DAY 2 - WED 6 OCT 2021
A31: =A2 -> ABRAHAMS | B31: =B2 -> S | C31: =C2 -> VAN NIEKERK | D31: =D2 -> A | E31: =E2 -> ESTERHUIZEN | F31: =F2 -> B | G31: =G2 -> ENGELBRECHT | H31: =H2 -> G | ... N31: =N2 -> M
A32: SPECIE | B32: KG | C32: SPECIE | D32: KG | E32: SPECIE | F32: KG | G32: SPECIE | H32: KG | I32: SPECIE | J32: KG | K32: SPECIE | L32: KG | M32: SPECIE | N32: KG
A33: BLUE RAY | B33: 2.3 | C33: BLUE RAY | D33: 2.6 | E33: BLUE RAY | F33: 2.8 | G33: SANDY | H33: 2.2 | I33: BLUE RAY | J33: 1.5 | K33: BLUE RAY | L33: 13.9 | M33: BLUE RAY | N33: 2.8
C34: BLUE RAY | D34: 11.4 | E34: BLUE RAY | F34: 13.2 | G34: BLUE RAY | H34: 2.6 | I34: BLUE RAY | J34: 8.2 | K34: BLUE RAY | L34: 11.4 | M34: BLUE RAY | N34: 2.5
C35: BLUE RAY | D35: 10.2 | E35: BLUE RAY | F35: 13.2 | G35: BLUE RAY | H35: 11.4 | I35: BLUE RAY | J35: 2.6 | K35: BLUE RAY | L35: 1.8 | M35: BLUE RAY | N35: 7.3
C36: BLUE RAY | D36: 2 | E36: BLUE RAY | F36: 3.3 | G36: BLUE RAY | H36: 15.3 | I36: BLUE RAY | J36: 3.3 | K36: BLUE RAY | L36: 1.8 | M36: BLUE RAY | N36: 10.2
C37: SANDY | D37: 3.5 | E37: BLUE RAY | F37: 12 | M37: BLUE RAY | N37: 2.1
C38: BLUE RAY | D38: 10.2 | M38: BLUE RAY | N38: 2.6
C39: BLUE RAY | D39: 3.8
B48: =SUM(B33:B47) -> 2.3 | D48: =SUM(D33:D47) -> 43.7 | F48: =SUM(F33:F47) -> 44.5 | H48: =SUM(H33:H47) -> 31.5 | J48: =SUM(J33:J47) -> 15.6 | L48: =SUM(L33:L47) -> 28.9 | N48: =SUM(N33:N47) -> 27.5 | O48: =SUM(A48:N48) -> 194
C49: KOB | D49: 1.8
O52: =SUM(O48+O56) -> 195.8
B56: =SUM(B49:B55) -> 0 | D56: =SUM(D49:D55) -> 1.8 | F56: =SUM(F49:F55) -> 0 | H56: =SUM(H49:H55) -> 0 | J56: =SUM(J49:J55) -> 0 | L56: =SUM(L49:L55) -> 0 | N56: =SUM(N49:N55) -> 0 | O56: =SUM(A56:N56) -> 1.8
A59: DAY 3 - THU 7 OCT 2021
A60: =A2 -> ABRAHAMS | B60: =B2 -> S | C60: =C2 -> VAN NIEKERK | D60: =D2 -> A | E60: =E2 -> ESTERHUIZEN | F60: =F2 -> B | G60: =G2 -> ENGELBRECHT | H60: =H2 -> G | ... N60: =N2 -> M
A61: SPECIE | B61: KG | C61: SPECIE | D61: KG | E61: SPECIE | F61: KG | G61: SPECIE | H61: KG | I61: SPECIE | J61: KG | K61: SPECIE | L61: KG | M61: SPECIE | N61: KG
I62: ST JOSEPH | J62: 2.4 | K62: SANDY | L62: 1.6 | M62: BLUE RAY | N62: 2.1
M63: BLUE RAY | N63: 3
M64: SANDY | N64: 1.3
M65: ST JOSEPH | N65: 5.8
M66: SANDY | N66: 1.6
M67: EAGLE | N67: 3
B77: =SUM(B62:B76) -> 0 | D77: =SUM(D62:D76) -> 0 | F77: =SUM(F62:F76) -> 0 | H77: =SUM(H62:H76) -> 0 | J77: =SUM(J62:J76) -> 2.4 | L77: =SUM(L62:L76) -> 1.6 | N77: =SUM(N62:N76) -> 16.8 | O77: =SUM(A77:N77) -> 20.8
O81: =SUM(O77+O85) -> 20.8
B85: =SUM(B78:B84) -> 0 | D85: =SUM(D78:D84) -> 0 | F85: =SUM(F78:F84) -> 0 | H85: =SUM(H78:H84) -> 0 | J85: =SUM(J78:J84) -> 0 | L85: =SUM(L78:L84) -> 0 | N85: =SUM(N78:N84) -> 0 | O85: =SUM(A85:N85) -> 0
A88: DAY 1 - TUE 5 OCT 2021
...

Sheet SA LAD
A1: DAY 1 - TUE 5 OCT 2021
A2: VAN DER POEL | B2: A | C2: JONCK | D2: M | E2: VENTER | F2: W | G2: VISSER | H2: A | I2: BREET | J2: S | K2: BOTHA | L2: S | M2: DE VILLERS | N2: L
A3: SPECIE | B3: KG | C3: SPECIE | D3: KG | E3: SPECIE | F3: KG | G3: SPECIE | H3: KG | I3: SPECIE | J3: KG | K3: SPECIE | L3: KG | M3: SPECIE | N3: KG
A4: THORNTAIL | B4: 3.2 | C4: BLUE RAY | D4: 5 | E4: BLUE RAY | F4: 2 | G4: BLUE RAY | H4: 4.1
A5: BLUE RAY | B5: 2 | G5: SANDY | H5: 2.2
A6: BLUE RAY | B6: 2.8 | G6: SANDY | H6: 1.8
B19: =SUM(B4:B18) -> 8 | D19: =SUM(D4:D18) -> 5 | F19: =SUM(F4:F18) -> 2 | H19: =SUM(H4:H18) -> 8.1 | J19: =SUM(J4:J18) -> 0 | L19: =SUM(L4:L18) -> 0 | N19: =SUM(N4:N18) -> 0 | O19: =SUM(A19:N19) -> 23.1
O23: =SUM(O19+O27) -> 23.1
B27: =SUM(B20:B26) -> 0 | D27: =SUM(D20:D26) -> 0 | F27: =SUM(F20:F26) -> 0 | H27: =SUM(H20:H26) -> 0 | J27: =SUM(J20:J26) -> 0 | L27: =SUM(L20:L26) -> 0 | N27: =SUM(N20:N26) -> 0 | O27: =SUM(A27:N27) -> 0
A30: DAY 2 - WED 6 OCT 2021
A31: =A2 -> VAN DER POEL | B31: =B2 -> A | C31: =C2 -> JONCK | D31: =D2 -> M | E31: =E2 -> VENTER | F31: =F2 -> W | G31: =G2 -> VISSER | H31: =H2 -> A | ... N31: =N2 -> L
A32: SPECIE | B32: KG | C32: SPECIE | D32: KG | E32: SPECIE | F32: KG | G32: SPECIE | H32: KG | I32: SPECIE | J32: KG | K32: SPECIE | L32: KG | M32: SPECIE | N32: KG
A33: BLUE RAY | B33: 2.3 | E33: SANDY | F33: 1.3 | G33: SANDY | H33: 2.2 | I33: SANDY | J33: 2.4 | K33: BLUE RAY | L33: 3.3 | M33: BLUE RAY | N33: 6.9
A34: SMOOTH HOUND | B34: 17.5 | E34: BLUE RAY | F34: 3 | G34: SANDY | H34: 2.8 | I34: BLUE RAY | J34: 13.9 | K34: BLUE RAY | L34: 10.8 | M34: BLUE RAY | N34: 2.8
A35: DUSKY | B35: 7.3 | E35: BLUE RAY | F35: 3.3 | I35: BLUE RAY | J35: 12.6 | M35: BLUE RAY | N35: 2.2
I36: BLUE RAY | J36: 1.1
B48: =SUM(B33:B47) -> 27.1 | D48: =SUM(D33:D47) -> 0 | F48: =SUM(F33:F47) -> 7.6 | H48: =SUM(H33:H47) -> 5 | J48: =SUM(J33:J47) -> 30 | L48: =SUM(L33:L47) -> 14.1 | N48: =SUM(N33:N47) -> 11.9 | O48: =SUM(A48:N48) -> 95.7
O52: =SUM(O48+O56) -> 95.7
B56: =SUM(B49:B55) -> 0 | D56: =SUM(D49:D55) -> 0 | F56: =SUM(F49:F55) -> 0 | H56: =SUM(H49:H55) -> 0 | J56: =SUM(J49:J55) -> 0 | L56: =SUM(L49:L55) -> 0 | N56: =SUM(N49:N55) -> 0 | O56: =SUM(A56:N56) -> 0
A59: DAY 3 - THU 7 OCT 2021
A60: =A2 -> VAN DER POEL | B60: =B2 -> A | C60: =C2 -> JONCK | D60: =D2 -> M | E60: =E2 -> VENTER | F60: =F2 -> W | G60: =G2 -> VISSER | H60: =H2 -> A | ... N60: =N2 -> L
A61: SPECIE | B61: KG | C61: SPECIE | D61: KG | E61: SPECIE | F61: KG | G61: SPECIE | H61: KG | I61: SPECIE | J61: KG | K61: SPECIE | L61: KG | M61: SPECIE | N61: KG
A62: SANDY | B62: 2.2 | G62: BLUE RAY | H62: 5.4 | I62: SANDY | J62: 1.2
A63: BARBEL | B63: 1.2 | G63: SANDY | H63: 1.1 | I63: ST JOSEPH | J63: 4.6
B77: =SUM(B62:B76) -> 3.4 | D77: =SUM(D62:D76) -> 0 | F77: =SUM(F62:F76) -> 0 | H77: =SUM(H62:H76) -> 6.5 | J77: =SUM(J62:J76) -> 5.8 | L77: =SUM(L62:L76) -> 0 | N77: =SUM(N62:N76) -> 0 | O77: =SUM(A77:N77) -> 15.7
O81: =SUM(O77+O85) -> 15.7
B85: =SUM(B78:B84) -> 0 | D85: =SUM(D78:D84) -> 0 | F85: =SUM(F78:F84) -> 0 | H85: =SUM(H78:H84) -> 0 | J85: =SUM(J78:J84) -> 0 | L85: =SUM(L78:L84) -> 0 | N85: =SUM(N78:N84) -> 0 | O85: =SUM(A85:N85) -> 0
A88: DAY 1 - TUE 5 OCT 2021
A89: ANGLER | C89: MASS | D89: MASS | E89: POINTS | F89: AMOUNT | G89: AMOUNT
A90: NAME | B90: INI | C90: EDIBLE | D90: NON-ED | E90: ACC | F90: EDIBLE | G90: NON-ED
A91: =A2 -> VAN DER POEL | B91: =B2 -> A | C91: =SUM(B27) -> 0 | D91: =SUM(B19) -> 8 | E91: =SUM(D91+C91) -> 8 | F91: =COUNTA(A20:A26) -> 0 | G91: =COUNTA(A4:A18) -> 3
A92: =C2 -> JONCK | B92: =D2 -> M | C92: =SUM(D27) -> 0 | D92: =SUM(D19) -> 5 | E92: =SUM(D92+C92) -> 5 | F92: =COUNTA(C20:C26) -> 0 | G92: =COUNTA(C4:C18) -> 1
A93: =E2 -> VENTER | B93: =F2 -> W | C93: =SUM(F27) -> 0 | D93: =SUM(F19) -> 2 | E93: =SUM(D93+C93) -> 2 | F93: =COUNTA(E20:E26) -> 0 | G93: =COUNTA(E4:E18) -> 1
A94: =G2 -> VISSER | B94: =H2 -> A | C94: =SUM(H27) -> 0 | D94: =SUM(H19) -> 8.1 | E94: =SUM(D94+C94) -> 8.1 | F94: =COUNTA(G20:G26) -> 0 | G94: =COUNTA(G4:G18) -> 3
A95: =I2 -> BREET | B95: =J2 -> S | C95: =SUM(J27) -> 0 | D95: =SUM(J19) -> 0 | E95: =SUM(D95+C95) -> 0 | F95: =COUNTA(I20:I26) -> 0 | G95: =COUNTA(I4:I18) -> 0
A96: =K2 -> BOTHA | B96: =L2 -> S | C96: =SUM(L27) -> 0 | D96: =SUM(L19) -> 0 | E96: =SUM(D96+C96) -> 0 | F96: =COUNTA(K20:K26) -> 0 | G96: =COUNTA(K4:K18) -> 0
A97: =M2 -> DE VILLERS | B97: =N2 -> L | C97: =SUM(N27) -> 0 | D97: =SUM(N19) -> 0 | E97: =SUM(D97+C97) -> 0 | F97: =COUNTA(M20:M26) -> 0 | G97: =COUNTA(M4:M18) -> 0
A98: DAY TOTAL | C98: =SUM(C91:C97) -> 0 | D98: =SUM(D91:D97) -> 23.1 | E98: =SUM(E91:E97) -> 23.1 | F98: =SUM(F91:F97) -> 0 | G98: =SUM(G91:G97) -> 8
A101: DAY 2 - WED 6 OCT 2021
A102: ANGLER | C102: MASS | D102: MASS | E102: POINTS | F102: AMOUNT | G102: AMOUNT
...

Sheet NA A
A1: DAY 1 - TUE 5 OCT 2021
A2: LANGENSTRASSEN | B2: A | C2: CORDIER | D2: W | E2: POTGIETER | F2: C | G2: FENAUX | H2: L | I2: VENTER | J2: M | K2: ROETS | L2: H | M2: VILJOEN | N2: L
A3: SPECIE | B3: KG | C3: SPECIE | D3: KG | E3: SPECIE | F3: KG | G3: SPECIE | H3: KG | I3: SPECIE | J3: KG | K3: SPECIE | L3: KG | M3: SPECIE | N3: KG
A4: BLUE RAY | B4: 2.2 | C4: BRONZIE | D4: 2.2 | E4: BLUE RAY | F4: 2.8 | G4: SANDY | H4: 2.2
A5: ST JOSEPH | B5: 4.1 | C5: ST JOSEPH | D5: 5.6 | E5: BLUE RAY | F5: 2.8 | G5: MARBLE RAY | H5: 2.4
A6: BLUE RAY | B6: 2.5
A7: BLUE RAY | B7: 1.5
B19: =SUM(B4:B18) -> 10.3 | D19: =SUM(D4:D18) -> 7.8 | F19: =SUM(F4:F18) -> 5.6 | H19: =SUM(H4:H18) -> 4.6 | J19: =SUM(J4:J18) -> 0 | L19: =SUM(L4:L18) -> 0 | N19: =SUM(N4:N18) -> 0 | O19: =SUM(A19:N19) -> 28.3
K20: KOB | L20: 3.7
O23: =SUM(O19+O27) -> 32
B27: =SUM(B20:B26) -> 0 | D27: =SUM(D20:D26) -> 0 | F27: =SUM(F20:F26) -> 0 | H27: =SUM(H20:H26) -> 0 | J27: =SUM(J20:J26) -> 0 | L27: =SUM(L20:L26) -> 3.7 | N27: =SUM(N20:N26) -> 0 | O27: =SUM(A27:N27) -> 3.7
A30: DAY 2 - WED 6 OCT 2021
A31: =A2 -> LANGENSTRASSEN | B31: =B2 -> A | C31: =C2 -> CORDIER | D31: =D2 -> W | E31: =E2 -> POTGIETER | F31: =F2 -> C | G31: =G2 -> FENAUX | H31: =H2 -> L | ... N31: =N2 -> L
A32: SPECIE | B32: KG | C32: SPECIE | D32: KG | E32: SPECIE | F32: KG | G32: SPECIE | H32: KG | I32: SPECIE | J32: KG | K32: SPECIE | L32: KG | M32: SPECIE | N32: KG
A33: BLUE RAY | B33: 1.5 | C33: BLUE RAY | D33: 4.1 | E33: STRIPED CATSHARK | F33: 4.6 | G33: BLUE RAY | H33: 10.2 | I33: BLUE RAY | J33: 2 | K33: SANDY | L33: 2.9 | M33: BLUE RAY | N33: 17.5
A34: BLUE RAY | B34: 2.1 | C34: BLUE RAY | D34: 2.6 | E34: EAGLE | F34: 1.4 | G34: BLUE RAY | H34: 3 | I34: BLUE RAY | J34: 2.6 | K34: DIAMOND | L34: 9.3 | M34: BLUE RAY | N34: 9.7
A35: BLUE RAY | B35: 10.2 | E35: BLUE RAY | F35: 2 | G35: BLUE RAY | H35: 12.6 | I35: BLUE RAY | J35: 10.8 | K35: STRIPED CATSHARK | L35: 5.4 | M35: STRIPED CATSHARK | N35: 5.1
A36: BLUE RAY | B36: 9.7 | E36: BLUE RAY | F36: 2.5 | G36: BLUE RAY | H36: 3.5 | K36: BLUE RAY | L36: 2.6
A37: BLUE RAY | B37: 11.4 | K37: BLUE RAY | L37: 2
K38: BLUE RAY | L38: 2.6
K39: BLUE RAY | L39: 9.7
B48: =SUM(B33:B47) -> 34.9 | D48: =SUM(D33:D47) -> 6.7 | F48: =SUM(F33:F47) -> 10.5 | H48: =SUM(H33:H47) -> 29.3 | J48: =SUM(J33:J47) -> 15.4 | L48: =SUM(L33:L47) -> 34.5 | N48: =SUM(N33:N47) -> 32.3 | O48: =SUM(A48:N48) -> 163.6
G49: KOB | H49: 2.5
O52: =SUM(O48+O56) -> 166.1
B56: =SUM(B49:B55) -> 0 | D56: =SUM(D49:D55) -> 0 | F56: =SUM(F49:F55) -> 0 | H56: =SUM(H49:H55) -> 2.5 | J56: =SUM(J49:J55) -> 0 | L56: =SUM(L49:L55) -> 0 | N56: =SUM(N49:N55) -> 0 | O56: =SUM(A56:N56) -> 2.5
A59: DAY 3 - THU 7 OCT 2021
A60: =A2 -> LANGENSTRASSEN | B60: =B2 -> A | C60: =C2 -> CORDIER | D60: =D2 -> W | E60: =E2 -> POTGIETER | F60: =F2 -> C | G60: =G2 -> FENAUX | H60: =H2 -> L | ... N60: =N2 -> L
A61: SPECIE | B61: KG | C61: SPECIE | D61: KG | E61: SPECIE | F61: KG | G61: SPECIE | H61: KG | I61: SPECIE | J61: KG | K61: SPECIE | L61: KG | M61: SPECIE | N61: KG
B77: =SUM(B62:B76) -> 0 | D77: =SUM(D62:D76) -> 0 | F77: =SUM(F62:F76) -> 0 | H77: =SUM(H62:H76) -> 0 | J77: =SUM(J62:J76) -> 0 | L77: =SUM(L62:L76) -> 0 | N77: =SUM(N62:N76) -> 0 | O77: =SUM(A77:N77) -> 0
O81: =SUM(O77+O85) -> 0
B85: =SUM(B78:B84) -> 0 | D85: =SUM(D78:D84) -> 0 | F85: =SUM(F78:F84) -> 0 | H85: =SUM(H78:H84) -> 0 | J85: =SUM(J78:J84) -> 0 | L85: =SUM(L78:L84) -> 0 | N85: =SUM(N78:N84) -> 0 | O85: =SUM(A85:N85) -> 0
A88: DAY 1 - TUE 5 OCT 2021
A89: ANGLER | C89: MASS | D89: MASS | E89: POINTS | F89: AMOUNT | G89: AMOUNT
A90: NAME | B90: INI | C90: EDIBLE | D90: NON-ED | E90: ACC | F90: EDIBLE | G90: NON-ED
A91: =A2 -> LANGENSTRASSEN | B91: =B2 -> A | C91: =SUM(B27) -> 0 | D91: =SUM(B19) -> 10.3 | E91: =SUM(D91+C91) -> 10.3 | F91: =COUNTA(A20:A26) -> 0 | G91: =COUNTA(A4:A18) -> 4
A92: =C2 -> CORDIER | B92: =D2 -> W | C92: =SUM(D27) -> 0 | D92: =SUM(D19) -> 7.8 | E92: =SUM(D92+C92) -> 7.8 | F92: =COUNTA(C20:C26) -> 0 | G92: =COUNTA(C4:C18) -> 2
A93: =E2 -> POTGIETER | B93: =F2 -> C | C93: =SUM(F27) -> 0 | D93: =SUM(F19) -> 5.6 | E93: =SUM(D93+C93) -> 5.6 | F93: =COUNTA(E20:E26) -> 0 | G93: =COUNTA(E4:E18) -> 2
A94: =G2 -> FENAUX | B94: =H2 -> L | C94: =SUM(H27) -> 0 | D94: =SUM(H19) -> 4.6 | E94: =SUM(D94+C94) -> 4.6 | F94: =COUNTA(G20:G26) -> 0 | G94: =COUNTA(G4:G18) -> 2
A95: =I2 -> VENTER | B95: =J2 -> M | C95: =SUM(J27) -> 0 | D95: =SUM(J19) -> 0 | E95: =SUM(D95+C95) -> 0 | F95: =COUNTA(I20:I26) -> 0 | G95: =COUNTA(I4:I18) -> 0
A96: =K2 -> ROETS | B96: =L2 -> H | C96: =SUM(L27) -> 3.7 | D96: =SUM(L19) -> 0 | E96: =SUM(D96+C96) -> 3.7 | F96: =COUNTA(K20:K26) -> 1 | G96: =COUNTA(K4:K18) -> 0
...

Sheet NA B
A1: DAY 1 - TUE 5 OCT 2021
A2: VAN RIET | B2: W | C2: KOTZE | D2: J | E2: VAN RENSBURG | F2: G | G2: VAN AARDE | H2: P | I2: POTGIETER | J2: T | K2: HERMANN | L2: J | M2: VAN NIEKERK | N2: J
A3: SPECIE | B3: KG | C3: SPECIE | D3: KG | E3: SPECIE | F3: KG | G3: SPECIE | H3: KG | I3: SPECIE | J3: KG | K3: SPECIE | L3: KG | M3: SPECIE | N3: KG
A4: BLUE RAY | B4: 2.5 | C4: BLUE RAY | D4: 3.3 | E4: BLUE RAY | F4: 2.4 | G4: SOUPFIN | H4: 2.7 | I4: BLUE RAY | J4: 8.7 | K4: RAGGIE | L4: 21.7 | M4: BLUE RAY | N4: 1.5
C5: BLUE RAY | D5: 3.3 | E5: BLUE RAY | F5: 2.6 | G5: ST JOSEPH | H5: 5.6 | K5: BLUE RAY | L5: 2.5
C6: BLUE RAY | D6: 8.2 | E6: BLUE RAY | F6: 2.6 | G6: BLUE RAY | H6: 5 | K6: BLUE RAY | L6: 3.5
C7: BLUE RAY | D7: 3.5 | G7: BLUE RAY | H7: 3 | K7: ST JOSEPH | L7: 3.6
C8: BLUE RAY | D8: 2.8
B19: =SUM(B4:B18) -> 2.5 | D19: =SUM(D4:D18) -> 21.1 | F19: =SUM(F4:F18) -> 7.6 | H19: =SUM(H4:H18) -> 16.3 | J19: =SUM(J4:J18) -> 8.7 | L19: =SUM(L4:L18) -> 31.3 | N19: =SUM(N4:N18) -> 1.5 | O19: =SUM(A19:N19) -> 89
O23: =SUM(O19+O27) -> 89
B27: =SUM(B20:B26) -> 0 | D27: =SUM(D20:D26) -> 0 | F27: =SUM(F20:F26) -> 0 | H27: =SUM(H20:H26) -> 0 | J27: =SUM(J20:J26) -> 0 | L27: =SUM(L20:L26) -> 0 | N27: =SUM(N20:N26) -> 0 | O27: =SUM(A27:N27) -> 0
A30: DAY 2 - WED 6 OCT 2021
A31: =A2 -> VAN RIET | B31: =B2 -> W | C31: =C2 -> KOTZE | D31: =D2 -> J | E31: =E2 -> VAN RENSBURG | F31: =F2 -> G | G31: =G2 -> VAN AARDE | H31: =H2 -> P | ... N31: =N2 -> J
A32: SPECIE | B32: KG | C32: SPECIE | D32: KG | E32: SPECIE | F32: KG | G32: SPECIE | H32: KG | I32: SPECIE | J32: KG | K32: SPECIE | L32: KG | M32: SPECIE | N32: KG
A33: SANDY | B33: 2.4 | C33: SANDY | D33: 2.2 | E33: BLUE RAY | F33: 4.1 | G33: BLUE RAY | H33: 3 | I33: STRIPED CATSHARK | J33: 5.6 | K33: BLUE RAY | L33: 16.8 | M33: BLUE RAY | N33: 2.3
A34: BLUE RAY | B34: 2.6 | C34: BLUE RAY | D34: 3.5 | G34: BLUE RAY | H34: 1.7 | I34: BLUE RAY | J34: 1.7 | K34: DIAMOND | L34: 9 | M34: BLUE RAY | N34: 17.5
A35: BLUE RAY | B35: 9.7 | C35: BLUE RAY | D35: 3 | G35: BLUE RAY | H35: 2.1 | I35: BLUE RAY | J35: 3.7 | M35: BLUE RAY | N35: 2.3
C36: BLUE RAY | D36: 10.8 | G36: BLUE RAY | H36: 2.8 | I36: BLUE RAY | J36: 10.2
C37: DUCKBILL | D37: 9.1 | G37: BLUE RAY | H37: 5.4 | I37: BLUE RAY | J37: 9.2
C38: BLUE RAY | D38: 16 | G38: BLUE RAY | H38: 1.4 | I38: EAGLE | J38: 1.2
G39: BLUE RAY | H39: 10.8
G40: BLUE RAY | H40: 17.5
G41: BLUE RAY | H41: 47.7
B48: =SUM(B33:B47) -> 14.7 | D48: =SUM(D33:D47) -> 44.6 | F48: =SUM(F33:F47) -> 4.1 | H48: =SUM(H33:H47) -> 92.4 | J48: =SUM(J33:J47) -> 31.6 | L48: =SUM(L33:L47) -> 25.8 | N48: =SUM(N33:N47) -> 22.1 | O48: =SUM(A48:N48) -> 235.3
O52: =SUM(O48+O56) -> 235.3
B56: =SUM(B49:B55) -> 0 | D56: =SUM(D49:D55) -> 0 | F56: =SUM(F49:F55) -> 0 | H56: =SUM(H49:H55) -> 0 | J56: =SUM(J49:J55) -> 0 | L56: =SUM(L49:L55) -> 0 | N56: =SUM(N49:N55) -> 0 | O56: =SUM(A56:N56) -> 0
A59: DAY 3 - THU 7 OCT 2021
A60: =A2 -> VAN RIET | B60: =B2 -> W | C60: =C2 -> KOTZE | D60: =D2 -> J | E60: =E2 -> VAN RENSBURG | F60: =F2 -> G | G60: =G2 -> VAN AARDE | H60: =H2 -> P | ... N60: =N2 -> J
A61: SPECIE | B61: KG | C61: SPECIE | D61: KG | E61: SPECIE | F61: KG | G61: SPECIE | H61: KG | I61: SPECIE | J61: KG | K61: SPECIE | L61: KG | M61: SPECIE | N61: KG
A62: BRONZIE | B62: 2.7 | C62: BLUE RAY | D62: 10.2 | E62: BRONZIE | F62: 3 | G62: RAGGIE | H62: 11.3 | I62: SANDY | J62: 1.4 | M62: SANDY | N62: 1.5
C63: BLUE RAY | D63: 2.6
B77: =SUM(B62:B76) -> 2.7 | D77: =SUM(D62:D76) -> 12.8 | F77: =SUM(F62:F76) -> 3 | H77: =SUM(H62:H76) -> 11.3 | J77: =SUM(J62:J76) -> 1.4 | L77: =SUM(L62:L76) -> 0 | N77: =SUM(N62:N76) -> 1.5 | O77: =SUM(A77:N77) -> 32.7
O81: =SUM(O77+O85) -> 32.7
B85: =SUM(B78:B84) -> 0 | D85: =SUM(D78:D84) -> 0 | F85: =SUM(F78:F84) -> 0 | H85: =SUM(H78:H84) -> 0 | J85: =SUM(J78:J84) -> 0 | L85: =SUM(L78:L84) -> 0 | N85: =SUM(N78:N84) -> 0 | O85: =SUM(A85:N85) -> 0
A88: DAY 1 - TUE 5 OCT 2021
A89: ANGLER | C89: MASS | D89: MASS | E89: POINTS | F89: AMOUNT | G89: AMOUNT
A90: NAME | B90: INI | C90: EDIBLE | D90: NON-ED | E90: ACC | F90: EDIBLE | G90: NON-ED
A91: =A2 -> VAN RIET | B91: =B2 -> W | C91: =SUM(B27) -> 0 | D91: =SUM(B19) -> 2.5 | E91: =SUM(D91+C91) -> 2.5 | F91: =COUNTA(A20:A26) -> 0 | G91: =COUNTA(A4:A18) -> 1
A92: =C2 -> KOTZE | B92: =D2 -> J | C92: =SUM(D27) -> 0 | D92: =SUM(D19) -> 21.1 | E92: =SUM(D92+C92) -> 21.1 | F92: =COUNTA(C20:C26) -> 0 | G92: =COUNTA(C4:C18) -> 5
A93: =E2 -> VAN RENSBURG | B93: =F2 -> G | C93: =SUM(F27) -> 0 | D93: =SUM(F19) -> 7.6 | E93: =SUM(D93+C93) -> 7.6 | F93: =COUNTA(E20:E26) -> 0 | G93: =COUNTA(E4:E18) -> 3
...

Sheet NA VET
A1: DAY 1 - TUE 5 OCT 2021
A2: VAN DEN HEUVEL | B2: S | C2: SWANEPOEL | D2: S | E2: VAN ZYL | F2: R | G2: DOLL | H2: H | I2: JANSEN VAN VUUREN | J2: M | K2: HUGO | L2: M | M2: KRUAER | N2: G
A3: SPECIE | B3: KG | C3: SPECIE | D3: KG | E3: SPECIE | F3: KG | G3: SPECIE | H3: KG | I3: SPECIE | J3: KG | K3: SPECIE | L3: KG | M3: SPECIE | N3: KG
A4: BLUE RAY | B4: 2.5 | C4: BLUE RAY | D4: 2.2 | E4: BLUE RAY | F4: 2.1 | G4: SPEARNOSE | H4: 1.5 | I4: BLUE RAY | J4: 9.2 | K4: BLUE RAY | L4: 2.8
A5: BLUE RAY | B5: 3.8 | C5: BLUE RAY | D5: 1.1 | E5: BLUE RAY | F5: 3.3 | G5: BLUE RAY | H5: 3.5 | I5: SANDY | J5: 2.1 | K5: BLUE RAY | L5: 3.5
E6: BLUE RAY | F6: 2.1 | G6: BLUE RAY | H6: 2.6 | K6: BLUE RAY | L6: 7.3
E7: BLUE RAY | F7: 2.6
E8: BLUE RAY | F8: 1.8
E9: BLUE RAY | F9: 3.5
E10: BLUE RAY | F10: 12
B19: =SUM(B4:B18) -> 6.3 | D19: =SUM(D4:D18) -> 3.3 | F19: =SUM(F4:F18) -> 27.4 | H19: =SUM(H4:H18) -> 7.6 | J19: =SUM(J4:J18) -> 11.3 | L19: =SUM(L4:L18) -> 13.6 | N19: =SUM(N4:N18) -> 0 | O19: =SUM(A19:N19) -> 69.5
M20: ELF | N20: 1
O23: =SUM(O19+O27) -> 70.5
B27: =SUM(B20:B26) -> 0 | D27: =SUM(D20:D26) -> 0 | F27: =SUM(F20:F26) -> 0 | H27: =SUM(H20:H26) -> 0 | J27: =SUM(J20:J26) -> 0 | L27: =SUM(L20:L26) -> 0 | N27: =SUM(N20:N26) -> 1 | O27: =SUM(A27:N27) -> 1
A30: DAY 2 - WED 6 OCT 2021
A31: =A2 -> VAN DEN HEUVEL | B31: =B2 -> S | C31: =C2 -> SWANEPOEL | D31: =D2 -> S | E31: =E2 -> VAN ZYL | F31: =F2 -> R | G31: =G2 -> DOLL | H31: =H2 -> H | ... N31: =N2 -> G
A32: SPECIE | B32: KG | C32: SPECIE | D32: KG | E32: SPECIE | F32: KG | G32: SPECIE | H32: KG | I32: SPECIE | J32: KG | K32: SPECIE | L32: KG | M32: SPECIE | N32: KG
A33: EAGLE | B33: 2.8 | C33: ST JOSEPH | D33: 4.9 | E33: EAGLE | F33: 8 | G33: BLUE RAY | H33: 2.6 | I33: BLUE RAY | J33: 1.8 | K33: BLUE RAY | L33: 9.7 | M33: BLUE RAY | N33: 12
A34: BLUE RAY | B34: 3 | C34: BLUE RAY | D34: 1.5 | E34: BLUE RAY | F34: 11.4 | G34: BLUE RAY | H34: 3 | I34: BLUE RAY | J34: 2 | K34: BLUE RAY | L34: 14.6 | M34: BLUE RAY | N34: 10.8
A35: RAGGIE | B35: 55.3 | C35: BLUE RAY | D35: 2.8 | E35: BLUE RAY | F35: 11.4 | G35: BLUE RAY | H35: 2.1 | I35: BLUE RAY | J35: 13.2 | K35: BLUE RAY | L35: 2.8
A36: BLUE RAY | B36: 10.2 | C36: BLUE RAY | D36: 10.2 | G36: BLUE RAY | H36: 10.2 | I36: BLUE RAY | J36: 2.1 | K36: BLUE RAY | L36: 2
G37: BLUE RAY | H37: 13.9 | I37: BLUE RAY | J37: 9.7 | K37: BLUE RAY | L37: 2.6
I38: BLUE RAY | J38: 2.3
B48: =SUM(B33:B47) -> 71.3 | D48: =SUM(D33:D47) -> 19.4 | F48: =SUM(F33:F47) -> 30.8 | H48: =SUM(H33:H47) -> 31.8 | J48: =SUM(J33:J47) -> 31.1 | L48: =SUM(L33:L47) -> 31.7 | N48: =SUM(N33:N47) -> 22.8 | O48: =SUM(A48:N48) -> 238.9
C49: KOB | D49: 1.4
O52: =SUM(O48+O56) -> 240.3
B56: =SUM(B49:B55) -> 0 | D56: =SUM(D49:D55) -> 1.4 | F56: =SUM(F49:F55) -> 0 | H56: =SUM(H49:H55) -> 0 | J56: =SUM(J49:J55) -> 0 | L56: =SUM(L49:L55) -> 0 | N56: =SUM(N49:N55) -> 0 | O56: =SUM(A56:N56) -> 1.4
A59: DAY 3 - THU 7 OCT 2021
A60: =A2 -> VAN DEN HEUVEL | B60: =B2 -> S | C60: =C2 -> SWANEPOEL | D60: =D2 -> S | E60: =E2 -> VAN ZYL | F60: =F2 -> R | G60: =G2 -> DOLL | H60: =H2 -> H | ... N60: =N2 -> G
A61: SPECIE | B61: KG | C61: SPECIE | D61: KG | E61: SPECIE | F61: KG | G61: SPECIE | H61: KG | I61: SPECIE | J61: KG | K61: SPECIE | L61: KG | M61: SPECIE | N61: KG
A62: SOUPFIN | B62: 3.5 | C62: BLUE RAY | D62: 2 | I62: SMOOTH HOUND | J62: 9.8 | K62: BLUE RAY | L62: 1.3
B77: =SUM(B62:B76) -> 3.5 | D77: =SUM(D62:D76) -> 2 | F77: =SUM(F62:F76) -> 0 | H77: =SUM(H62:H76) -> 0 | J77: =SUM(J62:J76) -> 9.8 | L77: =SUM(L62:L76) -> 1.3 | N77: =SUM(N62:N76) -> 0 | O77: =SUM(A77:N77) -> 16.6
O81: =SUM(O77+O85) -> 16.6
B85: =SUM(B78:B84) -> 0 | D85: =SUM(D78:D84) -> 0 | F85: =SUM(F78:F84) -> 0 | H85: =SUM(H78:H84) -> 0 | J85: =SUM(J78:J84) -> 0 | L85: =SUM(L78:L84) -> 0 | N85: =SUM(N78:N84) -> 0 | O85: =SUM(A85:N85) -> 0
A88: DAY 1 - TUE 5 OCT 2021
A89: ANGLER | C89: MASS | D89: MASS | E89: POINTS | F89: AMOUNT | G89: AMOUNT
A90: NAME | B90: INI | C90: EDIBLE | D90: NON-ED | E90: ACC | F90: EDIBLE | G90: NON-ED
A91: =A2 -> VAN DEN HEUVEL | B91: =B2 -> S | C91: =SUM(B27) -> 0 | D91: =SUM(B19) -> 6.3 | E91: =SUM(D91+C91) -> 6.3 | F91: =COUNTA(A20:A26) -> 0 | G91: =COUNTA(A4:A18) -> 2
A92: =C2 -> SWANEPOEL | B92: =D2 -> S | C92: =SUM(D27) -> 0 | D92: =SUM(D19) -> 3.3 | E92: =SUM(D92+C92) -> 3.3 | F92: =COUNTA(C20:C26) -> 0 | G92: =COUNTA(C4:C18) -> 2
A93: =E2 -> VAN ZYL | B93: =F2 -> R | C93: =SUM(F27) -> 0 | D93: =SUM(F19) -> 27.4 | E93: =SUM(D93+C93) -> 27.4 | F93: =COUNTA(E20:E26) -> 0 | G93: =COUNTA(E4:E18) -> 7
...

Sheet NA MAS
A1: DAY 1 - TUE 5 OCT 2021
A2: AGENBACH | B2: J | C2: DIEDERICKS | D2: B | E2: ANDERSON | F2: S | G2: FERREIRA | H2: F | I2: VENTER | J2: J | K2: BEZUIDENHOUT | L2: A | M2: KRUGER | N2: S
A3: SPECIE | B3: KG | C3: SPECIE | D3: KG | E3: SPECIE | F3: KG | G3: SPECIE | H3: KG | I3: SPECIE | J3: KG | K3: SPECIE | L3: KG | M3: SPECIE | N3: KG
A4: ST JOSEPH | B4: 6.2 | E4: BRONZIE | F4: 2.7 | I4: SANDY | J4: 3 | M4: SANDY | N4: 1.9
A5: ST JOSEPH | B5: 7.1
A6: SANDY | B6: 1.1
B19: =SUM(B4:B18) -> 14.4 | D19: =SUM(D4:D18) -> 0 | F19: =SUM(F4:F18) -> 2.7 | H19: =SUM(H4:H18) -> 0 | J19: =SUM(J4:J18) -> 3 | L19: =SUM(L4:L18) -> 0 | N19: =SUM(N4:N18) -> 1.9 | O19: =SUM(A19:N19) -> 22
E20: KOB | F20: 17.4
O23: =SUM(O19+O27) -> 39.4
B27: =SUM(B20:B26) -> 0 | D27: =SUM(D20:D26) -> 0 | F27: =SUM(F20:F26) -> 17.4 | H27: =SUM(H20:H26) -> 0 | J27: =SUM(J20:J26) -> 0 | L27: =SUM(L20:L26) -> 0 | N27: =SUM(N20:N26) -> 0 | O27: =SUM(A27:N27) -> 17.4
A30: DAY 2 - WED 6 OCT 2021
A31: =A2 -> AGENBACH | B31: =B2 -> J | C31: =C2 -> DIEDERICKS | D31: =D2 -> B | E31: =E2 -> ANDERSON | F31: =F2 -> S | G31: =G2 -> FERREIRA | H31: =H2 -> F | ... N31: =N2 -> S
A32: SPECIE | B32: KG | C32: SPECIE | D32: KG | E32: SPECIE | F32: KG | G32: SPECIE | H32: KG | I32: SPECIE | J32: KG | K32: SPECIE | L32: KG | M32: SPECIE | N32: KG
A33: BLUE RAY | B33: 12.6 | C33: BLUE RAY | D33: 8.2 | E33: BLUE RAY | F33: 2.6 | G33: BLUE RAY | H33: 19.2 | I33: BLUE RAY | J33: 3.3 | K33: LEOPARD CATSHARK | L33: 1.2 | M33: SANDY | N33: 1.5
A34: BLUE RAY | B34: 9.7 | E34: BLUE RAY | F34: 10.8 | K34: BLUE RAY | L34: 16.8 | M34: BLUE RAY | N34: 13.9
A35: BLUE RAY | B35: 11.4 | E35: BLUE RAY | F35: 13.2 | K35: BLUE RAY | L35: 10.8 | M35: BLUE RAY | N35: 12.6
A36: BLUE RAY | B36: 10.8 | E36: BLUE RAY | F36: 11.4 | K36: BLUE RAY | L36: 3.3 | M36: BLUE RAY | N36: 10.2
A37: BLUE RAY | B37: 12.6 | E37: BLUE RAY | F37: 3.8 | K37: BLUE RAY | L37: 10.8
E38: BLUE RAY | F38: 14.6
E39: BLUE RAY | F39: 2.3
B48: =SUM(B33:B47) -> 57.1 | D48: =SUM(D33:D47) -> 8.2 | F48: =SUM(F33:F47) -> 58.7 | H48: =SUM(H33:H47) -> 19.2 | J48: =SUM(J33:J47) -> 3.3 | L48: =SUM(L33:L47) -> 42.9 | N48: =SUM(N33:N47) -> 38.2 | O48: =SUM(A48:N48) -> 227.6
C49: KOB | D49: 5
O52: =SUM(O48+O56) -> 232.6
B56: =SUM(B49:B55) -> 0 | D56: =SUM(D49:D55) -> 5 | F56: =SUM(F49:F55) -> 0 | H56: =SUM(H49:H55) -> 0 | J56: =SUM(J49:J55) -> 0 | L56: =SUM(L49:L55) -> 0 | N56: =SUM(N49:N55) -> 0 | O56: =SUM(A56:N56) -> 5
A59: DAY 3 - THU 7 OCT 2021
A60: =A2 -> AGENBACH | B60: =B2 -> J | C60: =C2 -> DIEDERICKS | D60: =D2 -> B | E60: =E2 -> ANDERSON | F60: =F2 -> S | G60: =G2 -> FERREIRA | H60: =H2 -> F | ... N60: =N2 -> S
A61: SPECIE | B61: KG | C61: SPECIE | D61: KG | E61: SPECIE | F61: KG | G61: SPECIE | H61: KG | I61: SPECIE | J61: KG | K61: SPECIE | L61: KG | M61: SPECIE | N61: KG
C62: BLUE RAY | D62: 1.5 | I62: BLUE RAY | J62: 12 | K62: EAGLE | L62: 10.5
B77: =SUM(B62:B76) -> 0 | D77: =SUM(D62:D76) -> 1.5 | F77: =SUM(F62:F76) -> 0 | H77: =SUM(H62:H76) -> 0 | J77: =SUM(J62:J76) -> 12 | L77: =SUM(L62:L76) -> 10.5 | N77: =SUM(N62:N76) -> 0 | O77: =SUM(A77:N77) -> 24
M78: KOB | N78: 3.6
O81: =SUM(O77+O85) -> 27.6
B85: =SUM(B78:B84) -> 0 | D85: =SUM(D78:D84) -> 0 | F85: =SUM(F78:F84) -> 0 | H85: =SUM(H78:H84) -> 0 | J85: =SUM(J78:J84) -> 0 | L85: =SUM(L78:L84) -> 0 | N85: =SUM(N78:N84) -> 3.6 | O85: =SUM(A85:N85) -> 3.6
A88: DAY 1 - TUE 5 OCT 2021
A89: ANGLER | C89: MASS | D89: MASS | E89: POINTS | F89: AMOUNT | G89: AMOUNT
A90: NAME | B90: INI | C90: EDIBLE | D90: NON-ED | E90: ACC | F90: EDIBLE | G90: NON-ED
A91: =A2 -> AGENBACH | B91: =B2 -> J | C91: =SUM(B27) -> 0 | D91: =SUM(B19) -> 14.4 | E91: =SUM(D91+C91) -> 14.4 | F91: =COUNTA(A20:A26) -> 0 | G91: =COUNTA(A4:A18) -> 3
A92: =C2 -> DIEDERICKS | B92: =D2 -> B | C92: =SUM(D27) -> 0 | D92: =SUM(D19) -> 0 | E92: =SUM(D92+C92) -> 0 | F92: =COUNTA(C20:C26) -> 0 | G92: =COUNTA(C4:C18) -> 0
A93: =E2 -> ANDERSON | B93: =F2 -> S | C93: =SUM(F27) -> 17.4 | D93: =SUM(F19) -> 2.7 | E93: =SUM(D93+C93) -> 20.1 | F93: =COUNTA(E20:E26) -> 1 | G93: =COUNTA(E4:E18) -> 1
A94: =G2 -> FERREIRA | B94: =H2 -> F | C94: =SUM(H27) -> 0 | D94: =SUM(H19) -> 0 | E94: =SUM(D94+C94) -> 0 | F94: =COUNTA(G20:G26) -> 0 | G94: =COUNTA(G4:G18) -> 0
A95: =I2 -> VENTER | B95: =J2 -> J | C95: =SUM(J27) -> 0 | D95: =SUM(J19) -> 3 | E95: =SUM(D95+C95) -> 3 | F95: =COUNTA(I20:I26) -> 0 | G95: =COUNTA(I4:I18) -> 1
...

Sheet NA DEV
A1: DAY 1 - TUE 5 OCT 2021
A2: Schickerling | B2: W | C2: WELZIG | D2: S | E2: Mostert | F2: T | G2: Bachran | H2: K | I2: Strappazon | J2: S | K2: Duvenhage | L2: R | M2: Smith | N2: D
A3: SPECIE | B3: KG | C3: SPECIE | D3: KG | E3: SPECIE | F3: KG | G3: SPECIE | H3: KG | I3: SPECIE | J3: KG | K3: SPECIE | L3: KG | M3: SPECIE | N3: KG
C4: BLUE RAY | D4: 3.5 | E4: BLUE RAY | F4: 3.3 | G4: BLUE RAY | H4: 8.7 | I4: SANDY | J4: 1.6 | K4: SANDY | L4: 1.1
C5: BLUE RAY | D5: 2.6 | E5: BLUE RAY | F5: 3.3 | G5: BLUE RAY | H5: 2.6 | K5: SANDY | L5: 1.4
E6: BLUE RAY | F6: 2.6
E7: BLUE RAY | F7: 2.4
B19: =SUM(B4:B18) -> 0 | D19: =SUM(D4:D18) -> 6.1 | F19: =SUM(F4:F18) -> 11.6 | H19: =SUM(H4:H18) -> 11.3 | J19: =SUM(J4:J18) -> 1.6 | L19: =SUM(L4:L18) -> 2.5 | N19: =SUM(N4:N18) -> 0 | O19: =SUM(A19:N19) -> 33.1
O23: =SUM(O19+O27) -> 33.1
B27: =SUM(B20:B26) -> 0 | D27: =SUM(D20:D26) -> 0 | F27: =SUM(F20:F26) -> 0 | H27: =SUM(H20:H26) -> 0 | J27: =SUM(J20:J26) -> 0 | L27: =SUM(L20:L26) -> 0 | N27: =SUM(N20:N26) -> 0 | O27: =SUM(A27:N27) -> 0
A30: DAY 2 - WED 6 OCT 2021
A31: =A2 -> Schickerling | B31: =B2 -> W | C31: =C2 -> WELZIG | D31: =D2 -> S | E31: =E2 -> Mostert | F31: =F2 -> T | G31: =G2 -> Bachran | H31: =H2 -> K | ... N31: =N2 -> D
A32: SPECIE | B32: KG | C32: SPECIE | D32: KG | E32: SPECIE | F32: KG | G32: SPECIE | H32: KG | I32: SPECIE | J32: KG | K32: SPECIE | L32: KG | M32: SPECIE | N32: KG
A33: STRIPED CATSHARK | B33: 5.6 | C33: SANDY | D33: 2.6 | E33: BLUE RAY | F33: 2.6 | G33: BLUE RAY | H33: 1.4 | I33: STRIPED CATSHARK | J33: 4.2 | K33: BLUE RAY | L33: 2.1 | M33: BLUE RAY | N33: 10.8
A34: BLUE RAY | B34: 13.2 | C34: BLUE RAY | D34: 10.8 | E34: BLUE RAY | F34: 3.3 | G34: BLUE RAY | H34: 2.5 | I34: BLUE RAY | J34: 1.5 | K34: BLUE RAY | L34: 1.2 | M34: BLUE RAY | N34: 11.4
A35: BLUE RAY | B35: 7.7 | C35: BLUE RAY | D35: 2.8 | E35: BLUE RAY | F35: 3.5 | G35: SANDSHARK | H35: 2.7 | I35: BLUE RAY | J35: 14.6 | K35: BLUE RAY | L35: 7.3
C36: BLUE RAY | D36: 10.2 | E36: BLUE RAY | F36: 2.3 | G36: SANDSHARK | H36: 2.7 | I36: BLUE RAY | J36: 2.6 | K36: BLUE RAY | L36: 1.3
C37: BLUE RAY | D37: 10.2 | E37: BLUE RAY | F37: 2.6 | G37: BLUE RAY | H37: 2.5 | I37: BLUE RAY | J37: 11.4 | K37: BLUE RAY | L37: 1.7
C38: BLUE RAY | D38: 10.8 | G38: BLUE RAY | H38: 2 | I38: BLUE RAY | J38: 3.3 | K38: BLUE RAY | L38: 2.6
C39: BLUE RAY | D39: 9.7 | G39: BLUE RAY | H39: 3.3 | K39: BLUE RAY | L39: 1.4
C40: BLUE RAY | D40: 12.6 | G40: BLUE RAY | H40: 3.3 | K40: SANDY | L40: 1.1
C41: BLUE RAY | D41: 11.4 | K41: BLUE RAY | L41: 1.7
K42: BLUE RAY | L42: 7.7
K43: BLUE RAY | L43: 1.5
K44: SANDY | L44: 1.3
K45: BLUE RAY | L45: 2
K46: SANDY | L46: 1.8
K47: BLUE RAY | L47: 4.8
B48: =SUM(B33:B47) -> 26.5 | D48: =SUM(D33:D47) -> 81.1 | F48: =SUM(F33:F47) -> 14.3 | H48: =SUM(H33:H47) -> 20.4 | J48: =SUM(J33:J47) -> 37.6 | L48: =SUM(L33:L47) -> 39.5 | N48: =SUM(N33:N47) -> 22.2 | O48: =SUM(A48:N48) -> 241.6
O52: =SUM(O48+O56) -> 241.6
B56: =SUM(B49:B55) -> 0 | D56: =SUM(D49:D55) -> 0 | F56: =SUM(F49:F55) -> 0 | H56: =SUM(H49:H55) -> 0 | J56: =SUM(J49:J55) -> 0 | L56: =SUM(L49:L55) -> 0 | N56: =SUM(N49:N55) -> 0 | O56: =SUM(A56:N56) -> 0
A59: DAY 3 - THU 7 OCT 2021
A60: =A2 -> Schickerling | B60: =B2 -> W | C60: =C2 -> WELZIG | D60: =D2 -> S | E60: =E2 -> Mostert | F60: =F2 -> T | G60: =G2 -> Bachran | H60: =H2 -> K | ... N60: =N2 -> D
A61: SPECIE | B61: KG | C61: SPECIE | D61: KG | E61: SPECIE | F61: KG | G61: SPECIE | H61: KG | I61: SPECIE | J61: KG | K61: SPECIE | L61: KG | M61: SPECIE | N61: KG
A62: SANDY | B62: 1.7 | C62: EAGLE | D62: 13.5 | E62: SANDY | F62: 1.8 | G62: BLUE RAY | H62: 1.4 | I62: DIAMOND | J62: 3.6 | K62: SANDY | L62: 3.1 | M62: SANDY | N62: 1
C63: BLUE RAY | D63: 1 | G63: BLUE RAY | H63: 14.6
C64: SANDY | D64: 1.7
C65: SANDY | D65: 1.2
B77: =SUM(B62:B76) -> 1.7 | D77: =SUM(D62:D76) -> 17.4 | F77: =SUM(F62:F76) -> 1.8 | H77: =SUM(H62:H76) -> 16 | J77: =SUM(J62:J76) -> 3.6 | L77: =SUM(L62:L76) -> 3.1 | N77: =SUM(N62:N76) -> 1 | O77: =SUM(A77:N77) -> 44.6
O81: =SUM(O77+O85) -> 44.6
...

Sheet NA LAD
A1: DAY 1 - TUE 5 OCT 2021
A2: Downing | B2: N | C2: Mynhardt | D2: K | E2: Langenstrassen | F2: A | G2: Ferreira | H2: B | I2: Kruger | J2: M | K2: Heath | L2: J | M2: M | N2: N
A3: SPECIE | B3: KG | C3: SPECIE | D3: KG | E3: SPECIE | F3: KG | G3: SPECIE | H3: KG | I3: SPECIE | J3: KG | K3: SPECIE | L3: KG | M3: SPECIE | N3: KG
A4: BLUE RAY | B4: 2.5 | C4: BLUE RAY | D4: 13.2 | E4: BLUE RAY | F4: 5.7 | G4: BLUE RAY | H4: 6.9 | I4: BLUE RAY | J4: 4.1 | K4: BLUE RAY | L4: 8.7
A5: SANDY | B5: 1.9
B19: =SUM(B4:B18) -> 4.4 | D19: =SUM(D4:D18) -> 13.2 | F19: =SUM(F4:F18) -> 5.7 | H19: =SUM(H4:H18) -> 6.9 | J19: =SUM(J4:J18) -> 4.1 | L19: =SUM(L4:L18) -> 8.7 | N19: =SUM(N4:N18) -> 0 | O19: =SUM(A19:N19) -> 43
O23: =SUM(O19+O27) -> 43
B27: =SUM(B20:B26) -> 0 | D27: =SUM(D20:D26) -> 0 | F27: =SUM(F20:F26) -> 0 | H27: =SUM(H20:H26) -> 0 | J27: =SUM(J20:J26) -> 0 | L27: =SUM(L20:L26) -> 0 | N27: =SUM(N20:N26) -> 0 | O27: =SUM(A27:N27) -> 0
A30: DAY 2 - WED 6 OCT 2021
A31: =A2 -> Downing | B31: =B2 -> N | C31: =C2 -> Mynhardt | D31: =D2 -> K | E31: =E2 -> Langenstrassen | F31: =F2 -> A | G31: =G2 -> Ferreira | H31: =H2 -> B | ... N31: =N2 -> N
A32: SPECIE | B32: KG | C32: SPECIE | D32: KG | E32: SPECIE | F32: KG | G32: SPECIE | H32: KG | I32: SPECIE | J32: KG | K32: SPECIE | L32: KG | M32: SPECIE | N32: KG
A33: BLUE RAY | B33: 9.7 | C33: EAGLE | D33: 2.1 | E33: BLUE RAY | F33: 12.6 | G33: BLUE RAY | H33: 2.6 | I33: BLUE RAY | J33: 9.7 | K33: BLUE RAY | L33: 4.4
A34: BLUE RAY | B34: 12.6 | E34: BLUE RAY | F34: 13.9 | K34: SANDY | L34: 2.8
K35: BLUE RAY | L35: 3
K36: BLUE RAY | L36: 3.3
B48: =SUM(B33:B47) -> 22.3 | D48: =SUM(D33:D47) -> 2.1 | F48: =SUM(F33:F47) -> 26.5 | H48: =SUM(H33:H47) -> 2.6 | J48: =SUM(J33:J47) -> 9.7 | L48: =SUM(L33:L47) -> 13.5 | N48: =SUM(N33:N47) -> 0 | O48: =SUM(A48:N48) -> 76.7
O52: =SUM(O48+O56) -> 76.7
B56: =SUM(B49:B55) -> 0 | D56: =SUM(D49:D55) -> 0 | F56: =SUM(F49:F55) -> 0 | H56: =SUM(H49:H55) -> 0 | J56: =SUM(J49:J55) -> 0 | L56: =SUM(L49:L55) -> 0 | N56: =SUM(N49:N55) -> 0 | O56: =SUM(A56:N56) -> 0
A59: DAY 3 - THU 7 OCT 2021
A60: =A2 -> Downing | B60: =B2 -> N | C60: =C2 -> Mynhardt | D60: =D2 -> K | E60: =E2 -> Langenstrassen | F60: =F2 -> A | G60: =G2 -> Ferreira | H60: =H2 -> B | ... N60: =N2 -> N
A61: SPECIE | B61: KG | C61: SPECIE | D61: KG | E61: SPECIE | F61: KG | G61: SPECIE | H61: KG | I61: SPECIE | J61: KG | K61: SPECIE | L61: KG | M61: SPECIE | N61: KG
C62: BLUE RAY | D62: 1.7 | E62: EAGLE | F62: 1.6 | K62: BLUE RAY | L62: 6.1
E63: BRONZIE | F63: 2.8 | K63: BLUE RAY | L63: 5.4
K64: SANDY | L64: 1.3
B77: =SUM(B62:B76) -> 0 | D77: =SUM(D62:D76) -> 1.7 | F77: =SUM(F62:F76) -> 4.4 | H77: =SUM(H62:H76) -> 0 | J77: =SUM(J62:J76) -> 0 | L77: =SUM(L62:L76) -> 12.8 | N77: =SUM(N62:N76) -> 0 | O77: =SUM(A77:N77) -> 18.9
O81: =SUM(O77+O85) -> 18.9
B85: =SUM(B78:B84) -> 0 | D85: =SUM(D78:D84) -> 0 | F85: =SUM(F78:F84) -> 0 | H85: =SUM(H78:H84) -> 0 | J85: =SUM(J78:J84) -> 0 | L85: =SUM(L78:L84) -> 0 | N85: =SUM(N78:N84) -> 0 | O85: =SUM(A85:N85) -> 0
A88: DAY 1 - TUE 5 OCT 2021
A89: ANGLER | C89: MASS | D89: MASS | E89: POINTS | F89: AMOUNT | G89: AMOUNT
A90: NAME | B90: INI | C90: EDIBLE | D90: NON-ED | E90: ACC | F90: EDIBLE | G90: NON-ED
A91: =A2 -> Downing | B91: =B2 -> N | C91: =SUM(B27) -> 0 | D91: =SUM(B19) -> 4.4 | E91: =SUM(D91+C91) -> 4.4 | F91: =COUNTA(A20:A26) -> 0 | G91: =COUNTA(A4:A18) -> 2
A92: =C2 -> Mynhardt | B92: =D2 -> K | C92: =SUM(D27) -> 0 | D92: =SUM(D19) -> 13.2 | E92: =SUM(D92+C92) -> 13.2 | F92: =COUNTA(C20:C26) -> 0 | G92: =COUNTA(C4:C18) -> 1
A93: =E2 -> Langenstrassen | B93: =F2 -> A | C93: =SUM(F27) -> 0 | D93: =SUM(F19) -> 5.7 | E93: =SUM(D93+C93) -> 5.7 | F93: =COUNTA(E20:E26) -> 0 | G93: =COUNTA(E4:E18) -> 1
A94: =G2 -> Ferreira | B94: =H2 -> B | C94: =SUM(H27) -> 0 | D94: =SUM(H19) -> 6.9 | E94: =SUM(D94+C94) -> 6.9 | F94: =COUNTA(G20:G26) -> 0 | G94: =COUNTA(G4:G18) -> 1
A95: =I2 -> Kruger | B95: =J2 -> M | C95: =SUM(J27) -> 0 | D95: =SUM(J19) -> 4.1 | E95: =SUM(D95+C95) -> 4.1 | F95: =COUNTA(I20:I26) -> 0 | G95: =COUNTA(I4:I18) -> 1
A96: =K2 -> Heath | B96: =L2 -> J | C96: =SUM(L27) -> 0 | D96: =SUM(L19) -> 8.7 | E96: =SUM(D96+C96) -> 8.7 | F96: =COUNTA(K20:K26) -> 0 | G96: =COUNTA(K4:K18) -> 1
A97: =M2 -> M | B97: =N2 -> N | C97: =SUM(N27) -> 0 | D97: =SUM(N19) -> 0 | E97: =SUM(D97+C97) -> 0 | F97: =COUNTA(M20:M26) -> 0 | G97: =COUNTA(M4:M18) -> 0
A98: DAY TOTAL | C98: =SUM(C91:C97) -> 0 | D98: =SUM(D91:D97) -> 43 | E98: =SUM(E91:E97) -> 43 | F98: =SUM(F91:F97) -> 0 | G98: =SUM(G91:G97) -> 7
A101: DAY 2 - WED 6 OCT 2021
A102: ANGLER | C102: MASS | D102: MASS | E102: POINTS | F102: AMOUNT | G102: AMOUNT
...

Sheet TEAM
A1: 2021 GUS KOLLNER ACCUMULATED TEAM STANDINGS
A2: TEAM | C2: MASS | D2: MASS | E2: POINTS | F2: AMOUNT | G2: AMOUNT | H2: TOTAL
C3: EDIBLE | D3: NON-ED | E3: ACC | F3: EDIBLE | G3: NON-ED | H3: FISH
A4: 1st | B4: SA A | C4: =+'SA A'!C137 -> 18.5 | D4: =+'SA A'!D137 -> 647 | E4: =+'SA A'!E137 -> 665.5 | F4: =+'SA A'!F137 -> 2 | G4: =+'SA A'!G137 -> 72 | H4: =+'SA A'!H137 -> 74
A5: 2nd | B5: NAM B | C5: ='NA B'!C137 -> 0 | D5: ='NA B'!D137 -> 357 | E5: ='NA B'!E137 -> 357 | F5: ='NA B'!F137 -> 0 | G5: ='NA B'!G137 -> 56 | H5: ='NA B'!H137 -> 56
A6: 3rd | B6: NAM VETERANS | C6: ='NA VET'!C137 -> 2.4 | D6: ='NA VET'!D137 -> 325 | E6: ='NA VET'!E137 -> 327.4 | F6: ='NA VET'!F137 -> 2 | G6: ='NA VET'!G137 -> 52 | H6: ='NA VET'!H137 -> 54
A7: 4th | B7: NAM DEVELOPMENT | C7: ='NA DEV'!C137 -> 0 | D7: ='NA DEV'!D137 -> 319.3 | E7: ='NA DEV'!E137 -> 319.3 | F7: ='NA DEV'!F137 -> 0 | G7: ='NA DEV'!G137 -> 70 | H7: ='NA DEV'!H137 -> 70
A8: 5th | B8: NAM MASTERS | C8: ='NA MAS'!C137 -> 26 | D8: ='NA MAS'!D137 -> 273.6 | E8: ='NA MAS'!E137 -> 299.6 | F8: ='NA MAS'!F137 -> 3 | G8: ='NA MAS'!G137 -> 33 | H8: ='NA MAS'!H137 -> 36
A9: 6th | B9: SA INLAND | C9: ='SA INL'!C137 -> 4 | D9: ='SA INL'!D137 -> 276.5 | E9: ='SA INL'!E137 -> 280.5 | F9: ='SA INL'!F137 -> 2 | G9: ='SA INL'!G137 -> 57 | H9: ='SA INL'!H137 -> 59
A10: 7th | B10: SA DEVELOPMENT | C10: ='SA DEV'!C137 -> 7.2 | D10: ='SA DEV'!D137 -> 260.2 | E10: ='SA DEV'!E137 -> 267.4 | F10: ='SA DEV'!F137 -> 2 | G10: ='SA DEV'!G137 -> 54 | H10: ='SA DEV'!H137 -> 56
A11: 8th | B11: SA MASTERS | C11: ='SA MAS'!C137 -> 0 | D11: ='SA MAS'!D137 -> 228.2 | E11: ='SA MAS'!E137 -> 228.2 | F11: ='SA MAS'!F137 -> 0 | G11: ='SA MAS'!G137 -> 52 | H11: ='SA MAS'!H137 -> 52
A12: 9th | B12: SA B | C12: ='SA B'!C137 -> 5.4 | D12: ='SA B'!D137 -> 195.1 | E12: ='SA B'!E137 -> 200.5 | F12: ='SA B'!F137 -> 1 | G12: ='SA B'!G137 -> 36 | H12: ='SA B'!H137 -> 37
A13: 10th | B13: NAM A | C13: ='NA A'!C137 -> 6.2 | D13: ='NA A'!D137 -> 191.9 | E13: ='NA A'!E137 -> 198.1 | F13: ='NA A'!F137 -> 2 | G13: ='NA A'!G137 -> 38 | H13: ='NA A'!H137 -> 40
A14: 11th | B14: NAM LADIES | C14: ='NA LAD'!C137 -> 0 | D14: ='NA LAD'!D137 -> 138.6 | E14: ='NA LAD'!E137 -> 138.6 | F14: ='NA LAD'!F137 -> 0 | G14: ='NA LAD'!G137 -> 24 | H14: ='NA LAD'!H137 -> 24
A15: 12th | B15: SA LADIES | C15: ='SA LAD'!C137 -> 0 | D15: ='SA LAD'!D137 -> 134.5 | E15: ='SA LAD'!E137 -> 134.5 | F15: ='SA LAD'!F137 -> 0 | G15: ='SA LAD'!G137 -> 31 | H15: ='SA LAD'!H137 -> 31
A16: TOTALS | C16: =SUM(C4:C15) -> 69.7 | D16: =SUM(D4:D15) -> 3346.9 | E16: =SUM(E4:E15) -> 3416.6 | F16: =SUM(F4:F15) -> 14 | G16: =SUM(G4:G15) -> 575 | H16: =SUM(H4:H15) -> 589

Sheet IND
A1: 2021 GUS KOLLNER ACCUMULATED INDIVIDUAL STANDINGS
A2: POS | B2: NAME | C2: INI | D2: TEAM | E2: POINTS
A3: 1 | B3: ='SA A'!A134 -> VAN BREDA | C3: ='SA A'!B134 -> D | D3: SA A | E3: ='SA A'!E134 -> 185.2
A4: 2 | B4: ='NA B'!A133 -> VAN AARDE | C4: ='NA B'!B133 -> P | D4: NAM B | E4: ='NA B'!E133 -> 120
A5: 3 | B5: ='NA DEV'!A131 -> WELZIG | C5: ='NA DEV'!B131 -> S | D5: NAM DEVELOPMENT | E5: ='NA DEV'!E131 -> 104.6
A6: 4 | B6: ='SA A'!A132 -> FURNISS | C6: ='SA A'!B132 -> M | D6: SA A | E6: ='SA A'!E132 -> 102.1
A7: 5 | B7: ='SA A'!A130 -> VAN HEERDEN | C7: ='SA A'!B130 -> A | D7: SA A | E7: ='SA A'!E130 -> 88.8
A8: 6 | B8: ='SA A'!A135 -> LYNCH | C8: ='SA A'!B135 -> M | D8: SA A | E8: ='SA A'!E135 -> 87.2
A9: 7 | B9: ='NA VET'!A130 -> VAN DEN HEUVEL | C9: ='NA VET'!B130 -> S | D9: NAM VETERANS | E9: ='NA VET'!E130 -> 81.1
A10: 8 | B10: ='SA INL'!A130 -> THERON | C10: ='SA INL'!B130 -> JB | D10: SA INLAND | E10: ='SA INL'!E130 -> 79.3
A11: 9 | B11: ='NA MAS'!A132 -> ANDERSON | C11: ='NA MAS'!B132 -> S | D11: NAM MASTERS | E11: ='NA MAS'!E132 -> 78.8
A12: 10 | B12: ='NA B'!A131 -> KOTZE | C12: ='NA B'!B131 -> J | D12: NAM B | E12: ='NA B'!E131 -> 78.5
A13: 11 | B13: ='SA A'!A133 -> PEINKE | C13: ='SA A'!B133 -> D | D13: SA A | E13: ='SA A'!E133 -> 76.5
A14: 12 | B14: ='NA MAS'!A130 -> AGENBACH | C14: ='NA MAS'!B130 -> J | D14: NAM MASTERS | E14: ='NA MAS'!E130 -> 71.5
A15: 13 | B15: ='SA A'!A136 -> RAPSON | C15: ='SA A'!B136 -> W | D15: SA A | E15: ='SA A'!E136 -> 71
A16: 14 | B16: ='SA B'!A130 -> VAN EMMENES | C16: ='SA B'!B130 -> D | D16: SA B | E16: ='SA B'!E130 -> 70.7
A17: 15 | B17: ='SA MAS'!A132 -> HYMAN | C17: ='SA MAS'!B132 -> M | D17: SA MASTERS | E17: ='SA MAS'!E132 -> 60.6
A18: 16 | B18: ='SA B'!A136 -> LOTRIET | C18: ='SA B'!B136 -> J | D18: SA B | E18: ='SA B'!E136 -> 59.1
A19: 17 | B19: ='NA VET'!A132 -> VAN ZYL | C19: ='NA VET'!B132 -> R | D19: NAM VETERANS | E19: ='NA VET'!E132 -> 58.2
A20: 18 | B20: ='NA B'!A135 -> HERMANN | C20: ='NA B'!B135 -> J | D20: NAM B | E20: ='NA B'!E135 -> 57.1
A21: 19 | B21: ='SA DEV'!A136 -> BESTER | C21: ='SA DEV'!B136 -> M | D21: SA DEVELOPMENT | E21: ='SA DEV'!E136 -> 55.5
A22: 20 | B22: ='SA INL'!A135 -> JACOBS | C22: ='SA INL'!B135 -> G | D22: SA INLAND | E22: ='SA INL'!E135 -> 55.1
A23: 21 | B23: ='SA A'!A131 -> KURZ | C23: ='SA A'!B131 -> D | D23: SA A | E23: ='SA A'!E131 -> 54.7
A24: 22 | B24: ='SA INL'!A136 -> DASRATH | C24: ='SA INL'!B136 -> D | D24: SA INLAND | E24: ='SA INL'!E136 -> 53.7
A25: 23 | B25: ='NA MAS'!A135 -> BEZUIDENHOUT | C25: ='NA MAS'!B135 -> A | D25: NAM MASTERS | E25: ='NA MAS'!E135 -> 53.4
A26: 24 | B26: ='NA VET'!A134 -> JANSEN VAN VUUREN | C26: ='NA VET'!B134 -> M | D26: NAM VETERANS | E26: ='NA VET'!E134 -> 52.2
A27: 25 | B27: ='SA DEV'!A132 -> ESTERHUIZEN | C27: ='SA DEV'!B132 -> B | D27: SA DEVELOPMENT | E27: ='SA DEV'!E132 -> 51.8
A28: 26 | B28: ='SA MAS'!A136 -> VAN ZYL | C28: ='SA MAS'!B136 -> J | D28: SA MASTERS | E28: ='SA MAS'!E136 -> 49.7
A29: 27 | B29: ='NA DEV'!A133 -> Bachran | C29: ='NA DEV'!B133 -> K | D29: NAM DEVELOPMENT | E29: ='NA DEV'!E133 -> 47.7
A30: 28 | B30: ='NA VET'!A135 -> HUGO | C30: ='NA VET'!B135 -> M | D30: NAM VETERANS | E30: ='NA VET'!E135 -> 46.6
A31: 29 | B31: ='SA INL'!A131 -> BARNARD | C31: ='SA INL'!B131 -> W | D31: SA INLAND | E31: ='SA INL'!E131 -> 46.1
A32: 30 | B32: ='SA DEV'!A131 -> VAN NIEKERK | C32: ='SA DEV'!B131 -> A | D32: SA DEVELOPMENT | E32: ='SA DEV'!E131 -> 45.5
A33: 31 | B33: ='NA A'!A130 -> LANGENSTRASSEN | C33: ='NA A'!B130 -> A | D33: NAM A | E33: ='NA A'!E130 -> 45.2
A34: 32 | B34: ='NA DEV'!A135 -> Duvenhage | C34: ='NA DEV'!B135 -> R | D34: NAM DEVELOPMENT | E34: ='NA DEV'!E135 -> 45.1
A35: 33 | B35: ='NA MAS'!A136 -> KRUGER | C35: ='NA MAS'!B136 -> S | D35: NAM MASTERS | E35: ='NA MAS'!E136 -> 43.7
A36: 34 | B36: ='NA DEV'!A134 -> Strappazon | C36: ='NA DEV'!B134 -> S | D36: NAM DEVELOPMENT | E36: ='NA DEV'!E134 -> 42.8
A37: 35 | B37: ='SA DEV'!A135 -> GOVENDER | C37: ='SA DEV'!B135 -> K | D37: SA DEVELOPMENT | E37: ='SA DEV'!E135 -> 41.8
A38: 36 | B38: ='NA B'!A134 -> POTGIETER | C38: ='NA B'!B134 -> T | D38: NAM B | E38: ='NA B'!E134 -> 41.7
A39: 37 | B39: ='SA DEV'!A133 -> ENGELBRECHT | C39: ='SA DEV'!B133 -> G | D39: SA DEVELOPMENT | E39: ='SA DEV'!E133 -> 40.2
A40: 38 | B40: ='NA VET'!A133 -> DOLL | C40: ='NA VET'!B133 -> H | D40: NAM VETERANS | E40: ='NA VET'!E133 -> 39.4
...

