Workbook
Name clubl5: #REF!
Name clubl5: #REF!
Name clubl5: #REF!
Name clubl5: #REF!
Name clubl5: #REF!
Name clubl5: #REF!
Name clubl5: #REF!
Name Clubs: [1]Lists!$A$2:$A$18
Name Clubs: Lists!$A$2:$A$18
Name Edibles: [1]Lists!$D$2:$D$21
Name Edibles: Lists!$F$2:$F$21
Name FIRSTL: [1]Yearlist!$A$2:$J$266
Name FORTHL: [1]Yearlist!$AH$2:$AQ$289
Name Individuals: [1]Individuals!$A$7:$K$447
Name Individuals: 'Pres A'!$A$7:$I$447
Name Individuals: 'Pres B'!$A$7:$I$448
Name Individuals: 'Pres Dev'!$A$7:$I$445
Name Individuals: 'Pres Ladies'!$A$7:$I$448
Name Individuals: 'Pres Master'!$A$7:$I$447
Name Individuals: 'Pres Vet'!$A$7:$I$448
Name Individuals: Individuals!$A$7:$I$447
Name Inedibles: [1]Lists!$E$2:$E$26
Name Inedibles: Lists!$I$3:$I$29
Name kgList: [1]Lists!$F$2:$Z$261
Name kgList: Lists!$J$2:$AE$261
Name Master: [1]MASTERLIST!$A$5:$E$800
Name Master: MASTERLIST!$A$5:$E$929
Name SECONDL: [1]Yearlist!$L$2:$U$255
Name Status: [1]Lists!$C$2:$C$9
Name Status: Lists!$C$2:$C$9
Name THIRDL: [1]Yearlist!$W$2:$AF$289

Sheet Lists
A1: Clubs | C1: Status | D1: Scientific Name | E1: Length to measure | F1: Edibles | G1: Scientific Name | H1: Length to measure | I1: Inedibles | K1: length | O1: KgList
A2: Atlantic Angling Club | B2: AAC | C2: Deseased | D2: Diplodus sargus capensis | E2: Fork length | F2: Blacktail | G2: Galeichthys ater | H2: Fork length | I2: Catfish - Sea Black | J2: cm | K2: Blacktail | L2: Galjoen | M2: Kob | N2: Steenbras West Coast | O2: Garrick | P2: Shad | Q2: Redfinger | R2: Shark Copper (Male) | S2: Shark Copper (Female) | T2: Shark Cow / Sevengill | U2: Shark Spotted Gully | V2: Shark Hound Smooth | W2: Shark Soupfin | X2: Guitarfish - Lesser | Y2: Elephantfish | Z2: Ray Blue (Male) | AA2: Ray Blue (Female) | AB2: Ray Bull / Eagle | AC2: Ray Diamond / ButterFly | AD2: Skate Spearnose | AE2: Green Eye Spurdog shark | AF2: Catfish - Sea Black
A3: Benguella | B3: BEN | C3: Ladies Grand Master | F3: Bluefin Gurnard | G3: Galeichthys feliceps | H3: Fork length | I3: Catfish - Sea White | J3: 1
A4: Henties Bay | B4: HEN | C4: Ladies Master | F4: Cape Gurnard | G4: Callorhinchus capensis | H4: Total length | I4: Elephantfish | J4: 2
A5: Mako | B5: MAKO | C5: Ladies Veteran | D5: Dichistius capensis | E5: Total length | F5: Galjoen | G5: Squalus chloroculus | I5: Green Eye Spurdog shark | J5: 3
A6: Namib Park | B6: NPAC | C6: Ladies Senoir | D6: Lichia amia | E6: Fork length | F6: Garrick | G6: Rhinobatos blochii | H6: Total length | I6: Guitarfish - Bluntnose | J6: 4
A7: Okahandja | B7: OKH | C7: Ladies U/21 | F7: Geelbek | G7: Rhinobatos leucospilus | H7: Total length | I7: Guitarfish - Greyspot | J7: 5
A8: Orca Angling Club | B8: ORCA | C8: Ladies U/16 | F8: Grunter - Spotted | G8: Rhinobatos annulatus | H8: Total length | I8: Guitarfish - Lesser | J8: 6
A9: Otjiwarongo | B9: OTJ | C9: Men Grandmasters | D9: Argyrosomus inodorus | E9: Total length | F9: Kob | G9: Dasyatis chrysonota chrysonota | H9: Disc width | I9: Ray Blue (Female) | J9: 7
A10: Penguin | B10: PEN | C10: Men Masters | F10: Lyre Gurnard | G10: Dasyatis chrysonota chrysonota | H10: Disc width | I10: Ray Blue (Male) | J10: 8
A11: Seagulls WHK | B11: SWHK | C11: Men Veterans | F11: Maasbanker | G11: Myliobatus aquila | H11: Disc width | I11: Ray Bull / Eagle | J11: 9
A12: Seagulls WVB | B12: SWVB | C12: Men Senior | F12: Redfinger | G12: Gymnura natalensis | H12: Disc width | I12: Ray Diamond / ButterFly | J12: 10
A13: Skeleton Coast | B13: SKUL | C13: Men U/21 | D13: Pomatomus saltatrix | E13: Fork length | F13: Shad | G13: Pteromylaeus bovinus | H13: Disc width | I13: Ray Duckbill | J13: 11
A14: Steenbras | B14: STEEN | C14: Men U/16 | F14: Steenbras Sand | G14: Carcharhinus brachyurus | H14: Pre-caudal length | I14: Shark Copper (Female) | J14: 12
A15: Walvis Bay | B15: WAL | D15: Lithognathus aureti | E15: Fork length | F15: Steenbras West Coast | G15: Carcharhinus brachyurus | H15: Pre-caudal length | I15: Shark Copper (Male) | J15: 13
A16: Welwitschia | B16: WEL | F16: Steenbras White | G16: Notorynchus cepedianus | H16: Pre-caudal length | I16: Shark Cow / Sevengill | J16: 14
F17: Strepie | G17: Mustelus mustelus | H17: Total length | I17: Shark Hound Smooth | J17: 15
F18: Striped Mullet | G18: Mustelus palumbes | H18: Total length | I18: Shark Hound Whitespotted | J18: 16
F19: Tuna Eastern Little | G19: Galeocerdo cuvier | H19: Pre-caudal length | I19: Shark Ragged Tooth | J19: 17
F20: White Stumpnose | G20: Galeorhinus galeus | H20: Pre-caudal length | I20: Shark Soupfin | J20: 18
F21: Yellowtail amberjack | G21: Triakis megalopterus | H21: Total length | I21: Shark Spotted Gully | J21: 19
G22: Dipturus doutrei | H22: Disc width | I22: Skate - Javelin | J22: 20
G23: Raja clavata | H23: Disc width | I23: Skate - Thornback | J23: 21
G24: Raja alba | H24: Disc width | I24: Skate Spearnose | J24: 23 | K24: 0.3 | Q24: 0
I25: Spiney dogfish Bluntnose | J25: 24 | K25: 0.4 | Q25: 0
I26: Spiney dogfish Spotted | J26: 25 | K26: 0.4 | Q26: 0
I27: Spinner shark - Long nose | J27: 26 | K27: 0.5 | Q27: 0
I28: Tresher Shark | J28: 27 | K28: 0.6 | Q28: 0
I29: Green Eye Spurdog shark | J29: 28 | K29: 0.6 | Q29: 0
J30: 29 | K30: 0.7 | Q30: 0
J31: 30 | K31: 0.84160148 | L31: 0.5 | Q31: 0 | AA31: 1.0179249
J32: 31 | K32: 0.9282937 | L32: 0.5 | Q32: 0 | AA32: 1.1324446
J33: 32 | K33: 1.0207335 | L33: 0.6 | N33: 0.7 | Q33: 0 | Z33: 0.95836376 | AA33: 1.2555905
J34: 33 | K34: 1.1191044 | L34: 0.7 | N34: 0.8 | Q34: 0 | Z34: 1.0570748 | AA34: 1.3729856
J35: 34 | K35: 1.22359 | L35: 0.7 | N35: 0.9 | Q35: 0 | Z35: 1.1557858 | AA35: 1.4918184
J36: 35 | K36: 1.3343735 | L36: 0.78195192 | N36: 0.9 | Q36: 0 | Z36: 1.2544969 | AA36: 1.680296
J37: 36 | K37: 1.4516383 | L37: 0.85379096 | N37: 1 | O37: 0.67361769 | Q37: 0 | W37: 1.0020532 | Z37: 1.3532079 | AA37: 1.8414706
J38: 37 | K38: 1.5755678 | L38: 0.92998754 | N38: 1.1 | O38: 0.7258366 | Q38: 0 | W38: 1.0678087 | Z38: 1.451919 | AA38: 2.0136313
J39: 38 | K39: 1.7063452 | L39: 1.0106774 | N39: 1.2 | O39: 0.78054773 | P39: 0.73085122 | Q39: 0 | W39: 1.1335641 | Z39: 1.6569162 | AA39: 2.1960132 | AB39: 0.9628367
J40: 39 | K40: 1.8441537 | L40: 1.0959969 | N40: 1.3 | O40: 0.83779974 | P40: 0.78967185 | Q40: 0 | W40: 1.1993196 | Z40: 1.7998651 | AA40: 2.389526 | AB40: 1.0424834
...

Sheet MASTERLIST
A1: Only complete Black areas on sheet
B2: MASTER ANGLERS LIST
A4: Number | B4: Club | C4: Name | D4: Surname | E4: Status | F4: DOB | G4: Date Today | H4: Age | J4: Gender | K4: ID Number | L4: Nationality
A5: N0001 | B5: Mako | C5: Philip | D5: Swartz | E5: =CONCATENATE(J5," ",I5) -> Men U/16 | F5: 40618 | G5: 44926 | H5: =INT(YEARFRAC(F5,G5)) -> 11 | I5: =IF(H5="","Senior",IF(H5>59.999,"Grand Masters",IF(H5>49.999,"Master",IF(H5>39.999,"Veteran",IF(H5>21.999,"Senior",IF(H5>16.999,"U/21","U/16")))))) -> U/16 | J5: Men | K5: 20110316 | L5: Nam
A6: N0002 | B6: Nam Pres Dev | C6: Marco | D6: Klein | E6: =CONCATENATE(J6," ",I6) -> Men Senior | F6: 30372 | G6: =$G$5 -> 44926 | H6: =INT(YEARFRAC(F6,G6)) -> 39 | I6: =IF(H6="","Senior",IF(H6>59.999,"Grand Masters",IF(H6>49.999,"Master",IF(H6>39.999,"Veteran",IF(H6>21.999,"Senior",IF(H6>16.999,"U/21","U/16")))))) -> Senior | J6: Men | K6: 83032510597 | L6: Nam
A7: N0003 | B7: Welwitschia | C7: Bertie | D7: Diedericks | E7: =CONCATENATE(J7," ",I7) -> Men Grand Masters | F7: 22219 | G7: =$G$5 -> 44926 | H7: =INT(YEARFRAC(F7,G7)) -> 62 | I7: =IF(H7="","Senior",IF(H7>59.999,"Grand Masters",IF(H7>49.999,"Master",IF(H7>39.999,"Veteran",IF(H7>21.999,"Senior",IF(H7>16.999,"U/21","U/16")))))) -> Grand Masters | J7: Men | K7: 6010300356 | L7: Nam
A8: N0004 | B8: Penguin | C8: Charles | D8: Bothma | E8: =CONCATENATE(J8," ",I8) -> Men Grand Masters | F8: 21920 | G8: =$G$5 -> 44926 | H8: =INT(YEARFRAC(F8,G8)) -> 62 | I8: =IF(H8="","Senior",IF(H8>59.999,"Grand Masters",IF(H8>49.999,"Master",IF(H8>39.999,"Veteran",IF(H8>21.999,"Senior",IF(H8>16.999,"U/21","U/16")))))) -> Grand Masters | J8: Men | K8: 60010501142 | L8: Nam
A9: N0005 | B9: Penguin | C9: Lesley | D9: Page | E9: =CONCATENATE(J9," ",I9) -> Men Master | F9: 24611 | G9: =$G$5 -> 44926 | H9: =INT(YEARFRAC(F9,G9)) -> 55 | I9: =IF(H9="","Senior",IF(H9>59.999,"Grand Masters",IF(H9>49.999,"Master",IF(H9>39.999,"Veteran",IF(H9>21.999,"Senior",IF(H9>16.999,"U/21","U/16")))))) -> Master | J9: Men | K9: 67051900234 | L9: Nam
A10: N0006 | B10: Penguin | C10: Nico | D10: Kotze | E10: =CONCATENATE(J10," ",I10) -> Men Veteran | F10: 27611 | G10: =$G$5 -> 44926 | H10: =INT(YEARFRAC(F10,G10)) -> 47 | I10: =IF(H10="","Senior",IF(H10>59.999,"Grand Masters",IF(H10>49.999,"Master",IF(H10>39.999,"Veteran",IF(H10>21.999,"Senior",IF(H10>16.999,"U/21","U/16")))))) -> Veteran | J10: Men | K10: 75080500042 | L10: Nam
A11: N0007 | B11: Orca Angling Club | C11: Brian | D11: Curtis | E11: =CONCATENATE(J11," ",I11) -> Men Senior | F11: 31732 | G11: =$G$5 -> 44926 | H11: =INT(YEARFRAC(F11,G11)) -> 36 | I11: =IF(H11="","Senior",IF(H11>59.999,"Grand Masters",IF(H11>49.999,"Master",IF(H11>39.999,"Veteran",IF(H11>21.999,"Senior",IF(H11>16.999,"U/21","U/16")))))) -> Senior | J11: Men | K11: 86111600125 | L11: Nam
A12: N0008 | B12: Namib Park | C12: Andre | D12: Coetzee | E12: =CONCATENATE(J12," ",I12) -> Men Grand Masters | F12: 21511 | G12: =$G$5 -> 44926 | H12: =INT(YEARFRAC(F12,G12)) -> 64 | I12: =IF(H12="","Senior",IF(H12>59.999,"Grand Masters",IF(H12>49.999,"Master",IF(H12>39.999,"Veteran",IF(H12>21.999,"Senior",IF(H12>16.999,"U/21","U/16")))))) -> Grand Masters | J12: Men | K12: 58112200165 | L12: Nam
A13: N0009 | B13: Penguin | C13: Henry | D13: Loubser | E13: =CONCATENATE(J13," ",I13) -> Men Grand Masters | F13: 22339 | G13: =$G$5 -> 44926 | H13: =INT(YEARFRAC(F13,G13)) -> 61 | I13: =IF(H13="","Senior",IF(H13>59.999,"Grand Masters",IF(H13>49.999,"Master",IF(H13>39.999,"Veteran",IF(H13>21.999,"Senior",IF(H13>16.999,"U/21","U/16")))))) -> Grand Masters | J13: Men | K13: 61022700219 | L13: Nam
A14: N0010 | B14: Namib Park | C14: Johan | D14: Hoon | E14: =CONCATENATE(J14," ",I14) -> Men Senior | F14: 30807 | G14: =$G$5 -> 44926 | H14: =INT(YEARFRAC(F14,G14)) -> 38 | I14: =IF(H14="","Senior",IF(H14>59.999,"Grand Masters",IF(H14>49.999,"Master",IF(H14>39.999,"Veteran",IF(H14>21.999,"Senior",IF(H14>16.999,"U/21","U/16")))))) -> Senior | J14: Men | K14: 84050510057 | L14: Nam
A15: N0011 | B15: Atlantic Angling Club | C15: Johan | D15: Mostert | E15: =CONCATENATE(J15," ",I15) -> Men Senior | F15: 30975 | G15: =$G$5 -> 44926 | H15: =INT(YEARFRAC(F15,G15)) -> 38 | I15: =IF(H15="","Senior",IF(H15>59.999,"Grand Masters",IF(H15>49.999,"Master",IF(H15>39.999,"Veteran",IF(H15>21.999,"Senior",IF(H15>16.999,"U/21","U/16")))))) -> Senior | J15: Men | K15: 84102010033 | L15: Nam
A16: N0012 | B16: xWelwitschia | C16: Walter | D16: Hankey | E16: =CONCATENATE(J16," ",I16) -> Men Master | F16: 23941 | G16: =$G$5 -> 44926 | H16: =INT(YEARFRAC(F16,G16)) -> 57 | I16: =IF(H16="","Senior",IF(H16>59.999,"Grand Masters",IF(H16>49.999,"Master",IF(H16>39.999,"Veteran",IF(H16>21.999,"Senior",IF(H16>16.999,"U/21","U/16")))))) -> Master | J16: Men | K16: 65071800039 | L16: Nam
A17: N0013 | B17: Namib Park | C17: Rodger | D17: Boon | E17: =CONCATENATE(J17," ",I17) -> Men Master | F17: 24486 | G17: =$G$5 -> 44926 | H17: =INT(YEARFRAC(F17,G17)) -> 55 | I17: =IF(H17="","Senior",IF(H17>59.999,"Grand Masters",IF(H17>49.999,"Master",IF(H17>39.999,"Veteran",IF(H17>21.999,"Senior",IF(H17>16.999,"U/21","U/16")))))) -> Master | J17: Men | K17: 67011410031 | L17: Nam
... A45: N0041 | B45: Walvis Bay | C45: Terence | D45: Clark | E45: =CONCATENATE(J45," ",I45) -> Men Grand Masters | F45: 22712 | G45: =$G$5 -> 44926 | H45: =INT(YEARFRAC(F45,G45)) -> 60 | I45: =IF(H45="","Senior",IF(H45>59.999,"Grand Masters",IF(H45>49.999,"Master",IF(H45>39.999,"Veteran",IF(H45>21.999,"Senior",IF(H45>16.999,"U/21","U/16")))))) -> Grand Masters | J45: Men | K45: 62030700864 | L45: Nam
A46: N0042 | B46: xBenguella | C46: Marcus | D46: Kirchner-Frankle | E46: =CONCATENATE(J46," ",I46) -> Men Senior | F46: 32651 | G46: =$G$5 -> 44926 | H46: =INT(YEARFRAC(F46,G46)) -> 33 | I46: =IF(H46="","Senior",IF(H46>59.999,"Grand Masters",IF(H46>49.999,"Master",IF(H46>39.999,"Veteran",IF(H46>21.999,"Senior",IF(H46>16.999,"U/21","U/16")))))) -> Senior | J46: Men
A47: N0043 | B47: Welwitschia | C47: Cecil | D47: Laubscher | E47: =CONCATENATE(J47," ",I47) -> Ladies Master | F47: 25790 | G47: =$G$5 -> 44926 | H47: =INT(YEARFRAC(F47,G47)) -> 52 | I47: =IF(H47="","Senior",IF(H47>59.999,"Grand Masters",IF(H47>49.999,"Master",IF(H47>39.999,"Veteran",IF(H47>21.999,"Senior",IF(H47>16.999,"U/21","U/16")))))) -> Master | J47: Ladies | K47: 70081000162 | L47: Nam
A48: N0044 | B48: Orca Angling Club | C48: Leon | D48: Krauze | E48: =CONCATENATE(J48," ",I48) -> Men Veteran | F48: 27461 | G48: =$G$5 -> 44926 | H48: =INT(YEARFRAC(F48,G48)) -> 47 | I48: =IF(H48="","Senior",IF(H48>59.999,"Grand Masters",IF(H48>49.999,"Master",IF(H48>39.999,"Veteran",IF(H48>21.999,"Senior",IF(H48>16.999,"U/21","U/16")))))) -> Veteran | J48: Men | K48: 75030810390 | L48: Nam
A49: N0045 | B49: Seagull Angling Club | C49: Chrisjan | D49: Potgieter | E49: =CONCATENATE(J49," ",I49) -> Men Senior | F49: 30490 | G49: =$G$5 -> 44926 | H49: =INT(YEARFRAC(F49,G49)) -> 39 | I49: =IF(H49="","Senior",IF(H49>59.999,"Grand Masters",IF(H49>49.999,"Master",IF(H49>39.999,"Veteran",IF(H49>21.999,"Senior",IF(H49>16.999,"U/21","U/16")))))) -> Senior | J49: Men | K49: 83062610476 | L49: Nam
A50: N0046 | B50: Penguin | C50: Marius | D50: Kruger | E50: =CONCATENATE(J50," ",I50) -> Men Veteran | F50: 27652 | G50: =$G$5 -> 44926 | H50: =INT(YEARFRAC(F50,G50)) -> 47 | I50: =IF(H50="","Senior",IF(H50>59.999,"Grand Masters",IF(H50>49.999,"Master",IF(H50>39.999,"Veteran",IF(H50>21.999,"Senior",IF(H50>16.999,"U/21","U/16")))))) -> Veteran | J50: Men | K50: 75091510613 | L50: Nam
A51: N0047 | B51: xSkeleton Coast | C51: Jaco | D51: Smit | E51: =CONCATENATE(J51," ",I51) -> Men Senior | F51: 31089 | G51: =$G$5 -> 44926 | H51: =INT(YEARFRAC(F51,G51)) -> 37 | I51: =IF(H51="","Senior",IF(H51>59.999,"Grand Masters",IF(H51>49.999,"Master",IF(H51>39.999,"Veteran",IF(H51>21.999,"Senior",IF(H51>16.999,"U/21","U/16")))))) -> Senior | J51: Men
A52: N0048 | B52: Penguin | C52: Morne | D52: Burger | E52: =CONCATENATE(J52," ",I52) -> Men Veteran | F52: 27577 | G52: =$G$5 -> 44926 | H52: =INT(YEARFRAC(F52,G52)) -> 47 | I52: =IF(H52="","Senior",IF(H52>59.999,"Grand Masters",IF(H52>49.999,"Master",IF(H52>39.999,"Veteran",IF(H52>21.999,"Senior",IF(H52>16.999,"U/21","U/16")))))) -> Veteran | J52: Men | K52: 75070200097 | L52: Nam
A53: N0049 | B53: xSeagulls WHK | C53: Gideon | D53: Scheepers | E53: =CONCATENATE(J53," ",I53) -> Men Master | F53: 25812 | G53: =$G$5 -> 44926 | H53: =INT(YEARFRAC(F53,G53)) -> 52 | I53: =IF(H53="","Senior",IF(H53>59.999,"Grand Masters",IF(H53>49.999,"Master",IF(H53>39.999,"Veteran",IF(H53>21.999,"Senior",IF(H53>16.999,"U/21","U/16")))))) -> Master | J53: Men | K53: 70090100115 | L53: Nam
A54: N0050 | B54: Seagull Angling Club | C54: Sean | D54: Van Den Heuvel | E54: =CONCATENATE(J54," ",I54) -> Men Veteran | F54: 28439 | G54: =$G$5 -> 44926 | H54: =INT(YEARFRAC(F54,G54)) -> 45 | I54: =IF(H54="","Senior",IF(H54>59.999,"Grand Masters",IF(H54>49.999,"Master",IF(H54>39.999,"Veteran",IF(H54>21.999,"Senior",IF(H54>16.999,"U/21","U/16")))))) -> Veteran | J54: Men | K54: 77111010566 | L54: Nam
A55: N0051 | B55: Penguin | C55: Bernard | D55: Pretorius | E55: =CONCATENATE(J55," ",I55) -> Men Master | F55: 24962 | G55: =$G$5 -> 44926 | H55: =INT(YEARFRAC(F55,G55)) -> 54 | I55: =IF(H55="","Senior",IF(H55>59.999,"Grand Masters",IF(H55>49.999,"Master",IF(H55>39.999,"Veteran",IF(H55>21.999,"Senior",IF(H55>16.999,"U/21","U/16")))))) -> Master | J55: Men | K55: 6805045042088 | L55: SA
A56: N0052 | B56: xAtlantic Angling Club | C56: Kai | D56: Metzger | E56: =CONCATENATE(J56," ",I56) -> Men Veteran | F56: 28585 | G56: =$G$5 -> 44926 | H56: =INT(YEARFRAC(F56,G56)) -> 44 | I56: =IF(H56="","Senior",IF(H56>59.999,"Grand Masters",IF(H56>49.999,"Master",IF(H56>39.999,"Veteran",IF(H56>21.999,"Senior",IF(H56>16.999,"U/21","U/16")))))) -> Veteran | J56: Men | K56: 78040510678 | L56: Nam
A57: N0053 | B57: Walvis Bay | C57: Stefan | D57: Du Preez | E57: =CONCATENATE(J57," ",I57) -> Men Master | F57: 24914 | G57: =$G$5 -> 44926 | H57: =INT(YEARFRAC(F57,G57)) -> 54 | I57: =IF(H57="","Senior",IF(H57>59.999,"Grand Masters",IF(H57>49.999,"Master",IF(H57>39.999,"Veteran",IF(H57>21.999,"Senior",IF(H57>16.999,"U/21","U/16")))))) -> Master | J57: Men | K57: 6803175151084 | L57: SA
A58: N0054 | B58: Steenbras | C58: Danie | D58: Klopper | E58: =CONCATENATE(J58," ",I58) -> Men Senior | F58: 32024 | G58: =$G$5 -> 44926 | H58: =INT(YEARFRAC(F58,G58)) -> 35 | I58: =IF(H58="","Senior",IF(H58>59.999,"Grand Masters",IF(H58>49.999,"Master",IF(H58>39.999,"Veteran",IF(H58>21.999,"Senior",IF(H58>16.999,"U/21","U/16")))))) -> Senior | J58: Men | K58: 87090400174 | L58: Nam
A59: N0055 | B59: xNamib Park | C59: Morne | D59: Von Bosch | E59: =CONCATENATE(J59," ",I59) -> Men Senior | F59: 34851 | G59: =$G$5 -> 44926 | H59: =INT(YEARFRAC(F59,G59)) -> 27 | I59: =IF(H59="","Senior",IF(H59>59.999,"Grand Masters",IF(H59>49.999,"Master",IF(H59>39.999,"Veteran",IF(H59>21.999,"Senior",IF(H59>16.999,"U/21","U/16")))))) -> Senior | J59: Men | K59: 95060100073 | L59: Nam
A60: N0056 | B60: Orca Angling Club | C60: Alec | D60: Landers | E60: =CONCATENATE(J60," ",I60) -> Men Senior | F60: 32459 | G60: =$G$5 -> 44926 | H60: =INT(YEARFRAC(F60,G60)) -> 34 | I60: =IF(H60="","Senior",IF(H60>59.999,"Grand Masters",IF(H60>49.999,"Master",IF(H60>39.999,"Veteran",IF(H60>21.999,"Senior",IF(H60>16.999,"U/21","U/16")))))) -> Senior | J60: Men | K60: 88111200021 | L60: Nam
A61: N0057 | B61: Mako | C61: Jeri | D61: Drake | E61: =CONCATENATE(J61," ",I61) -> Men Grand Masters | F61: 20458 | G61: =$G$5 -> 44926 | H61: =INT(YEARFRAC(F61,G61)) -> 66 | I61: =IF(H61="","Senior",IF(H61>59.999,"Grand Masters",IF(H61>49.999,"Master",IF(H61>39.999,"Veteran",IF(H61>21.999,"Senior",IF(H61>16.999,"U/21","U/16")))))) -> Grand Masters | J61: Men | K61: 56010410061 | L61: Brit
A62: N0058 | B62: xSkeleton Coast | C62: Jan | D62: Olivier | E62: =CONCATENATE(J62," ",I62) -> Men Master | F62: 25556 | G62: =$G$5 -> 44926 | H62: =INT(YEARFRAC(F62,G62)) -> 53 | I62: =IF(H62="","Senior",IF(H62>59.999,"Grand Masters",IF(H62>49.999,"Master",IF(H62>39.999,"Veteran",IF(H62>21.999,"Senior",IF(H62>16.999,"U/21","U/16")))))) -> Master | J62: Men | K62: 69121910049 | L62: Nam
A63: N0059 | B63: Welwitschia | C63: Hennie | D63: Du Plessis | E63: =CONCATENATE(J63," ",I63) -> Men Senior | F63: 31040 | G63: =$G$5 -> 44926 | H63: =INT(YEARFRAC(F63,G63)) -> 38 | I63: =IF(H63="","Senior",IF(H63>59.999,"Grand Masters",IF(H63>49.999,"Master",IF(H63>39.999,"Veteran",IF(H63>21.999,"Senior",IF(H63>16.999,"U/21","U/16")))))) -> Senior | J63: Men | K63: 84122410436 | L63: Nam
... A80: N0076 | B80: xOkahandja | C80: Eddie | D80: Cowley | E80: =CONCATENATE(J80," ",I80) -> Men Grand Masters | F80: 18620 | G80: =$G$5 -> 44926 | H80: =INT(YEARFRAC(F80,G80)) -> 72 | I80: =IF(H80="","Senior",IF(H80>59.999,"Grand Masters",IF(H80>49.999,"Master",IF(H80>39.999,"Veteran",IF(H80>21.999,"Senior",IF(H80>16.999,"U/21","U/16")))))) -> Grand Masters | J80: Men | K80: 50122300181 | L80: Nam
A81: N0077 | B81: xHenties Bay | C81: Wanda | D81: Langeveldt | E81: =CONCATENATE(J81," ",I81) -> Ladies Senior | F81: 34565 | G81: =$G$5 -> 44926 | H81: =INT(YEARFRAC(F81,G81)) -> 28 | I81: =IF(H81="","Senior",IF(H81>59.999,"Grand Masters",IF(H81>49.999,"Master",IF(H81>39.999,"Veteran",IF(H81>21.999,"Senior",IF(H81>16.999,"U/21","U/16")))))) -> Senior | J81: Ladies
A82: N0078 | B82: Seagull Angling Club | C82: Richard | D82: Kotze | E82: =CONCATENATE(J82," ",I82) -> Men Grand Masters | F82: 22431 | G82: =$G$5 -> 44926 | H82: =INT(YEARFRAC(F82,G82)) -> 61 | I82: =IF(H82="","Senior",IF(H82>59.999,"Grand Masters",IF(H82>49.999,"Master",IF(H82>39.999,"Veteran",IF(H82>21.999,"Senior",IF(H82>16.999,"U/21","U/16")))))) -> Grand Masters | J82: Men | K82: 61053010028 | L82: Nam
A83: N0079 | B83: xOkahandja | C83: Botha | D83: Jansen | E83: =CONCATENATE(J83," ",I83) -> Men Senior | F83: 30695 | G83: =$G$5 -> 44926 | H83: =INT(YEARFRAC(F83,G83)) -> 38 | I83: =IF(H83="","Senior",IF(H83>59.999,"Grand Masters",IF(H83>49.999,"Master",IF(H83>39.999,"Veteran",IF(H83>21.999,"Senior",IF(H83>16.999,"U/21","U/16")))))) -> Senior | J83: Men
A84: N0080 | B84: xPenguin | C84: Shane | D84: Milne | E84: =CONCATENATE(J84," ",I84) -> Men Veteran | F84: 26667 | G84: =$G$5 -> 44926 | H84: =INT(YEARFRAC(F84,G84)) -> 49 | I84: =IF(H84="","Senior",IF(H84>59.999,"Grand Masters",IF(H84>49.999,"Master",IF(H84>39.999,"Veteran",IF(H84>21.999,"Senior",IF(H84>16.999,"U/21","U/16")))))) -> Veteran | J84: Men
...

Sheet DATA ENTRY
A1: Competition | B1: Date | C1: Venue | D1: ID | E1: Name | F1: Surname | G1: Status | H1: Team | I1: Edibles | J1: Inedibles | K1: length | L1: kg | M1: Points
A2: =IF(D2="","",A1) -> Competition | B2: =IF(D2="","",B1) -> Date | C2: =IF(D2="","",C1) -> Venue | D2: SA8804 | E2: =IF(D2="","",VLOOKUP(D2,Master,3,FALSE)) -> Jean | F2: =IF(D2="","",VLOOKUP(D2,Master,4,FALSE)) -> Coetzee | G2: =IF(D2="","",VLOOKUP(D2,Master,5,FALSE)) -> Men Senior | H2: =IF(D2="","",VLOOKUP(D2,Master,2,FALSE)) -> SA Pres Inland | L2: =IF(K2="","",IF(I2="",ROUND(HLOOKUP(J2,kgList,K2,FALSE),1),ROUND(HLOOKUP(I2,kgList,K2,FALSE),1))) | M2: =IF(L2="","",IF(COUNTA(I2:J2)>1,"Edible or Inedible",IF(COUNTA(I2)=1,L2*1,IF(COUNTA(J2)=1,L2*1,"ERROR"))))
A3: =IF(D3="","",A2) -> Competition | B3: =IF(D3="","",B2) -> Date | C3: =IF(D3="","",C2) -> Venue | D3: SA5282 | E3: =IF(D3="","",VLOOKUP(D3,Master,3,FALSE)) -> Kunesh | F3: =IF(D3="","",VLOOKUP(D3,Master,4,FALSE)) -> Naidoo | G3: =IF(D3="","",VLOOKUP(D3,Master,5,FALSE)) -> Men Senior | H3: =IF(D3="","",VLOOKUP(D3,Master,2,FALSE)) -> SA Pres Inland | L3: =IF(K3="","",IF(I3="",ROUND(HLOOKUP(J3,kgList,K3,FALSE),1),ROUND(HLOOKUP(I3,kgList,K3,FALSE),1))) | M3: =IF(L3="","",IF(COUNTA(I3:J3)>1,"Edible or Inedible",IF(COUNTA(I3)=1,L3*1,IF(COUNTA(J3)=1,L3*1,"ERROR"))))
A4: =IF(D4="","",A3) -> Competition | B4: =IF(D4="","",B3) -> Date | C4: =IF(D4="","",C3) -> Venue | D4: N0020 | E4: =IF(D4="","",VLOOKUP(D4,Master,3,FALSE)) -> Morne | F4: =IF(D4="","",VLOOKUP(D4,Master,4,FALSE)) -> Horn | G4: =IF(D4="","",VLOOKUP(D4,Master,5,FALSE)) -> Men Veteran | H4: =IF(D4="","",VLOOKUP(D4,Master,2,FALSE)) -> Nam Pres Veterans | L4: =IF(K4="","",IF(I4="",ROUND(HLOOKUP(J4,kgList,K4,FALSE),1),ROUND(HLOOKUP(I4,kgList,K4,FALSE),1))) | M4: =IF(L4="","",IF(COUNTA(I4:J4)>1,"Edible or Inedible",IF(COUNTA(I4)=1,L4*1,IF(COUNTA(J4)=1,L4*1,"ERROR"))))
A5: =IF(D5="","",A4) -> Competition | B5: =IF(D5="","",B4) -> Date | C5: =IF(D5="","",C4) -> Venue | D5: N0067 | E5: =IF(D5="","",VLOOKUP(D5,Master,3,FALSE)) -> Louis | F5: =IF(D5="","",VLOOKUP(D5,Master,4,FALSE)) -> Potgieter | G5: =IF(D5="","",VLOOKUP(D5,Master,5,FALSE)) -> Men Veteran | H5: =IF(D5="","",VLOOKUP(D5,Master,2,FALSE)) -> Nam Pres Veterans | L5: =IF(K5="","",IF(I5="",ROUND(HLOOKUP(J5,kgList,K5,FALSE),1),ROUND(HLOOKUP(I5,kgList,K5,FALSE),1))) | M5: =IF(L5="","",IF(COUNTA(I5:J5)>1,"Edible or Inedible",IF(COUNTA(I5)=1,L5*1,IF(COUNTA(J5)=1,L5*1,"ERROR"))))
A6: =IF(D6="","",A5) -> Competition | B6: =IF(D6="","",B5) -> Date | C6: =IF(D6="","",C5) -> Venue | D6: N0069 | E6: =IF(D6="","",VLOOKUP(D6,Master,3,FALSE)) -> Maritz | F6: =IF(D6="","",VLOOKUP(D6,Master,4,FALSE)) -> Jansen van Vuuren | G6: =IF(D6="","",VLOOKUP(D6,Master,5,FALSE)) -> Men Veteran | H6: =IF(D6="","",VLOOKUP(D6,Master,2,FALSE)) -> Nam Pres Veterans | L6: =IF(K6="","",IF(I6="",ROUND(HLOOKUP(J6,kgList,K6,FALSE),1),ROUND(HLOOKUP(I6,kgList,K6,FALSE),1))) | M6: =IF(L6="","",IF(COUNTA(I6:J6)>1,"Edible or Inedible",IF(COUNTA(I6)=1,L6*1,IF(COUNTA(J6)=1,L6*1,"ERROR"))))
A7: =IF(D7="","",A6) -> Competition | B7: =IF(D7="","",B6) -> Date | C7: =IF(D7="","",C6) -> Venue | D7: N0255 | E7: =IF(D7="","",VLOOKUP(D7,Master,3,FALSE)) -> Heiko | F7: =IF(D7="","",VLOOKUP(D7,Master,4,FALSE)) -> Doll | G7: =IF(D7="","",VLOOKUP(D7,Master,5,FALSE)) -> Men Veteran | H7: =IF(D7="","",VLOOKUP(D7,Master,2,FALSE)) -> Nam Pres Veterans | L7: =IF(K7="","",IF(I7="",ROUND(HLOOKUP(J7,kgList,K7,FALSE),1),ROUND(HLOOKUP(I7,kgList,K7,FALSE),1))) | M7: =IF(L7="","",IF(COUNTA(I7:J7)>1,"Edible or Inedible",IF(COUNTA(I7)=1,L7*1,IF(COUNTA(J7)=1,L7*1,"ERROR"))))
A8: =IF(D8="","",A7) -> Competition | B8: =IF(D8="","",B7) -> Date | C8: =IF(D8="","",C7) -> Venue | D8: SA8804 | E8: =IF(D8="","",VLOOKUP(D8,Master,3,FALSE)) -> Jean | F8: =IF(D8="","",VLOOKUP(D8,Master,4,FALSE)) -> Coetzee | G8: =IF(D8="","",VLOOKUP(D8,Master,5,FALSE)) -> Men Senior | H8: =IF(D8="","",VLOOKUP(D8,Master,2,FALSE)) -> SA Pres Inland | I8: Kob | K8: 40 | L8: =IF(K8="","",IF(I8="",ROUND(HLOOKUP(J8,kgList,K8,FALSE),1),ROUND(HLOOKUP(I8,kgList,K8,FALSE),1))) -> 0.7 | M8: =IF(L8="","",IF(COUNTA(I8:J8)>1,"Edible or Inedible",IF(COUNTA(I8)=1,L8*1,IF(COUNTA(J8)=1,L8*1,"ERROR")))) -> 0.7
A9: =IF(D9="","",A8) -> Competition | B9: =IF(D9="","",B8) -> Date | C9: =IF(D9="","",C8) -> Venue | D9: SA8804 | E9: =IF(D9="","",VLOOKUP(D9,Master,3,FALSE)) -> Jean | F9: =IF(D9="","",VLOOKUP(D9,Master,4,FALSE)) -> Coetzee | G9: =IF(D9="","",VLOOKUP(D9,Master,5,FALSE)) -> Men Senior | H9: =IF(D9="","",VLOOKUP(D9,Master,2,FALSE)) -> SA Pres Inland | I9: Kob | K9: 49 | L9: =IF(K9="","",IF(I9="",ROUND(HLOOKUP(J9,kgList,K9,FALSE),1),ROUND(HLOOKUP(I9,kgList,K9,FALSE),1))) -> 1.2 | M9: =IF(L9="","",IF(COUNTA(I9:J9)>1,"Edible or Inedible",IF(COUNTA(I9)=1,L9*1,IF(COUNTA(J9)=1,L9*1,"ERROR")))) -> 1.2
A10: =IF(D10="","",A9) -> Competition | B10: =IF(D10="","",B9) -> Date | C10: =IF(D10="","",C9) -> Venue | D10: N0656 | E10: =IF(D10="","",VLOOKUP(D10,Master,3,FALSE)) -> Hannes | F10: =IF(D10="","",VLOOKUP(D10,Master,4,FALSE)) -> De Haast | G10: =IF(D10="","",VLOOKUP(D10,Master,5,FALSE)) -> Men Senior | H10: =IF(D10="","",VLOOKUP(D10,Master,2,FALSE)) -> Nam Pres Veterans | L10: =IF(K10="","",IF(I10="",ROUND(HLOOKUP(J10,kgList,K10,FALSE),1),ROUND(HLOOKUP(I10,kgList,K10,FALSE),1))) | M10: =IF(L10="","",IF(COUNTA(I10:J10)>1,"Edible or Inedible",IF(COUNTA(I10)=1,L10*1,IF(COUNTA(J10)=1,L10*1,"ERROR"))))
A11: =IF(D11="","",A10) -> Competition | B11: =IF(D11="","",B10) -> Date | C11: =IF(D11="","",C10) -> Venue | D11: S11108 | E11: =IF(D11="","",VLOOKUP(D11,Master,3,FALSE)) -> Byron | F11: =IF(D11="","",VLOOKUP(D11,Master,4,FALSE)) -> Adams | G11: =IF(D11="","",VLOOKUP(D11,Master,5,FALSE)) -> Men Senior | H11: =IF(D11="","",VLOOKUP(D11,Master,2,FALSE)) -> SA Pres Dev | L11: =IF(K11="","",IF(I11="",ROUND(HLOOKUP(J11,kgList,K11,FALSE),1),ROUND(HLOOKUP(I11,kgList,K11,FALSE),1))) | M11: =IF(L11="","",IF(COUNTA(I11:J11)>1,"Edible or Inedible",IF(COUNTA(I11)=1,L11*1,IF(COUNTA(J11)=1,L11*1,"ERROR"))))
A12: =IF(D12="","",A11) -> Competition | B12: =IF(D12="","",B11) -> Date | C12: =IF(D12="","",C11) -> Venue | D12: SA9991 | E12: =IF(D12="","",VLOOKUP(D12,Master,3,FALSE)) -> Pietie | F12: =IF(D12="","",VLOOKUP(D12,Master,4,FALSE)) -> May | G12: =IF(D12="","",VLOOKUP(D12,Master,5,FALSE)) -> Men Senior | H12: =IF(D12="","",VLOOKUP(D12,Master,2,FALSE)) -> SA Pres Dev | L12: =IF(K12="","",IF(I12="",ROUND(HLOOKUP(J12,kgList,K12,FALSE),1),ROUND(HLOOKUP(I12,kgList,K12,FALSE),1))) | M12: =IF(L12="","",IF(COUNTA(I12:J12)>1,"Edible or Inedible",IF(COUNTA(I12)=1,L12*1,IF(COUNTA(J12)=1,L12*1,"ERROR"))))
A13: =IF(D13="","",A12) -> Competition | B13: =IF(D13="","",B12) -> Date | C13: =IF(D13="","",C12) -> Venue | D13: N0790 | E13: =IF(D13="","",VLOOKUP(D13,Master,3,FALSE)) -> Iwan | F13: =IF(D13="","",VLOOKUP(D13,Master,4,FALSE)) -> Kotze | G13: =IF(D13="","",VLOOKUP(D13,Master,5,FALSE)) -> Men Senior | H13: =IF(D13="","",VLOOKUP(D13,Master,2,FALSE)) -> Nam Pres Dev | L13: =IF(K13="","",IF(I13="",ROUND(HLOOKUP(J13,kgList,K13,FALSE),1),ROUND(HLOOKUP(I13,kgList,K13,FALSE),1))) | M13: =IF(L13="","",IF(COUNTA(I13:J13)>1,"Edible or Inedible",IF(COUNTA(I13)=1,L13*1,IF(COUNTA(J13)=1,L13*1,"ERROR"))))
A14: =IF(D14="","",A13) -> Competition | B14: =IF(D14="","",B13) -> Date | C14: =IF(D14="","",C13) -> Venue | D14: N0190 | E14: =IF(D14="","",VLOOKUP(D14,Master,3,FALSE)) -> Chris Junior | F14: =IF(D14="","",VLOOKUP(D14,Master,4,FALSE)) -> Orffer | G14: =IF(D14="","",VLOOKUP(D14,Master,5,FALSE)) -> Men Senior | H14: =IF(D14="","",VLOOKUP(D14,Master,2,FALSE)) -> Nam Pres Dev | L14: =IF(K14="","",IF(I14="",ROUND(HLOOKUP(J14,kgList,K14,FALSE),1),ROUND(HLOOKUP(I14,kgList,K14,FALSE),1))) | M14: =IF(L14="","",IF(COUNTA(I14:J14)>1,"Edible or Inedible",IF(COUNTA(I14)=1,L14*1,IF(COUNTA(J14)=1,L14*1,"ERROR"))))
A15: =IF(D15="","",A14) -> Competition | B15: =IF(D15="","",B14) -> Date | C15: =IF(D15="","",C14) -> Venue | D15: N0190 | E15: =IF(D15="","",VLOOKUP(D15,Master,3,FALSE)) -> Chris Junior | F15: =IF(D15="","",VLOOKUP(D15,Master,4,FALSE)) -> Orffer | G15: =IF(D15="","",VLOOKUP(D15,Master,5,FALSE)) -> Men Senior | H15: =IF(D15="","",VLOOKUP(D15,Master,2,FALSE)) -> Nam Pres Dev | L15: =IF(K15="","",IF(I15="",ROUND(HLOOKUP(J15,kgList,K15,FALSE),1),ROUND(HLOOKUP(I15,kgList,K15,FALSE),1))) | M15: =IF(L15="","",IF(COUNTA(I15:J15)>1,"Edible or Inedible",IF(COUNTA(I15)=1,L15*1,IF(COUNTA(J15)=1,L15*1,"ERROR"))))
A16: =IF(D16="","",A15) -> Competition | B16: =IF(D16="","",B15) -> Date | C16: =IF(D16="","",C15) -> Venue | D16: SA9923 | E16: =IF(D16="","",VLOOKUP(D16,Master,3,FALSE)) -> Chris | F16: =IF(D16="","",VLOOKUP(D16,Master,4,FALSE)) -> Barnard | G16: =IF(D16="","",VLOOKUP(D16,Master,5,FALSE)) -> Men Senior | H16: =IF(D16="","",VLOOKUP(D16,Master,2,FALSE)) -> SA Pres Dev | I16: Kob | K16: 84 | L16: =IF(K16="","",IF(I16="",ROUND(HLOOKUP(J16,kgList,K16,FALSE),1),ROUND(HLOOKUP(I16,kgList,K16,FALSE),1))) -> 6.2 | M16: =IF(L16="","",IF(COUNTA(I16:J16)>1,"Edible or Inedible",IF(COUNTA(I16)=1,L16*1,IF(COUNTA(J16)=1,L16*1,"ERROR")))) -> 6.2
A17: =IF(D17="","",A16) -> Competition | B17: =IF(D17="","",B16) -> Date | C17: =IF(D17="","",C16) -> Venue | D17: N0790 | E17: =IF(D17="","",VLOOKUP(D17,Master,3,FALSE)) -> Iwan | F17: =IF(D17="","",VLOOKUP(D17,Master,4,FALSE)) -> Kotze | G17: =IF(D17="","",VLOOKUP(D17,Master,5,FALSE)) -> Men Senior | H17: =IF(D17="","",VLOOKUP(D17,Master,2,FALSE)) -> Nam Pres Dev | L17: =IF(K17="","",IF(I17="",ROUND(HLOOKUP(J17,kgList,K17,FALSE),1),ROUND(HLOOKUP(I17,kgList,K17,FALSE),1))) | M17: =IF(L17="","",IF(COUNTA(I17:J17)>1,"Edible or Inedible",IF(COUNTA(I17)=1,L17*1,IF(COUNTA(J17)=1,L17*1,"ERROR"))))
A18: =IF(D18="","",A17) -> Competition | B18: =IF(D18="","",B17) -> Date | C18: =IF(D18="","",C17) -> Venue | D18: N0002 | E18: =IF(D18="","",VLOOKUP(D18,Master,3,FALSE)) -> Marco | F18: =IF(D18="","",VLOOKUP(D18,Master,4,FALSE)) -> Klein | G18: =IF(D18="","",VLOOKUP(D18,Master,5,FALSE)) -> Men Senior | H18: =IF(D18="","",VLOOKUP(D18,Master,2,FALSE)) -> Nam Pres Dev | L18: =IF(K18="","",IF(I18="",ROUND(HLOOKUP(J18,kgList,K18,FALSE),1),ROUND(HLOOKUP(I18,kgList,K18,FALSE),1))) | M18: =IF(L18="","",IF(COUNTA(I18:J18)>1,"Edible or Inedible",IF(COUNTA(I18)=1,L18*1,IF(COUNTA(J18)=1,L18*1,"ERROR"))))
A19: =IF(D19="","",A18) -> Competition | B19: =IF(D19="","",B18) -> Date | C19: =IF(D19="","",C18) -> Venue | D19: N0300 | E19: =IF(D19="","",VLOOKUP(D19,Master,3,FALSE)) -> Danie | F19: =IF(D19="","",VLOOKUP(D19,Master,4,FALSE)) -> Smith | G19: =IF(D19="","",VLOOKUP(D19,Master,5,FALSE)) -> Men Veteran | H19: =IF(D19="","",VLOOKUP(D19,Master,2,FALSE)) -> Nam Pres Dev | L19: =IF(K19="","",IF(I19="",ROUND(HLOOKUP(J19,kgList,K19,FALSE),1),ROUND(HLOOKUP(I19,kgList,K19,FALSE),1))) | M19: =IF(L19="","",IF(COUNTA(I19:J19)>1,"Edible or Inedible",IF(COUNTA(I19)=1,L19*1,IF(COUNTA(J19)=1,L19*1,"ERROR"))))
A20: =IF(D20="","",A19) -> Competition | B20: =IF(D20="","",B19) -> Date | C20: =IF(D20="","",C19) -> Venue | D20: S11102 | E20: =IF(D20="","",VLOOKUP(D20,Master,3,FALSE)) -> Grant | F20: =IF(D20="","",VLOOKUP(D20,Master,4,FALSE)) -> Thyssen | G20: =IF(D20="","",VLOOKUP(D20,Master,5,FALSE)) -> Men Senior | H20: =IF(D20="","",VLOOKUP(D20,Master,2,FALSE)) -> SA Pres Dev | L20: =IF(K20="","",IF(I20="",ROUND(HLOOKUP(J20,kgList,K20,FALSE),1),ROUND(HLOOKUP(I20,kgList,K20,FALSE),1))) | M20: =IF(L20="","",IF(COUNTA(I20:J20)>1,"Edible or Inedible",IF(COUNTA(I20)=1,L20*1,IF(COUNTA(J20)=1,L20*1,"ERROR"))))
A21: =IF(D21="","",A20) -> Competition | B21: =IF(D21="","",B20) -> Date | C21: =IF(D21="","",C20) -> Venue | D21: SA2187 | E21: =IF(D21="","",VLOOKUP(D21,Master,3,FALSE)) -> Dylan | F21: =IF(D21="","",VLOOKUP(D21,Master,4,FALSE)) -> Peinke | G21: =IF(D21="","",VLOOKUP(D21,Master,5,FALSE)) -> Men Senior | H21: =IF(D21="","",VLOOKUP(D21,Master,2,FALSE)) -> SA Pres A | I21: Kob | K21: 60 | L21: =IF(K21="","",IF(I21="",ROUND(HLOOKUP(J21,kgList,K21,FALSE),1),ROUND(HLOOKUP(I21,kgList,K21,FALSE),1))) -> 2.2 | M21: =IF(L21="","",IF(COUNTA(I21:J21)>1,"Edible or Inedible",IF(COUNTA(I21)=1,L21*1,IF(COUNTA(J21)=1,L21*1,"ERROR")))) -> 2.2
A22: =IF(D22="","",A21) -> Competition | B22: =IF(D22="","",B21) -> Date | C22: =IF(D22="","",C21) -> Venue | D22: SA0847 | E22: =IF(D22="","",VLOOKUP(D22,Master,3,FALSE)) -> Adriaan | F22: =IF(D22="","",VLOOKUP(D22,Master,4,FALSE)) -> Van Heerden | G22: =IF(D22="","",VLOOKUP(D22,Master,5,FALSE)) -> Men Senior | H22: =IF(D22="","",VLOOKUP(D22,Master,2,FALSE)) -> SA Pres A | L22: =IF(K22="","",IF(I22="",ROUND(HLOOKUP(J22,kgList,K22,FALSE),1),ROUND(HLOOKUP(I22,kgList,K22,FALSE),1))) | M22: =IF(L22="","",IF(COUNTA(I22:J22)>1,"Edible or Inedible",IF(COUNTA(I22)=1,L22*1,IF(COUNTA(J22)=1,L22*1,"ERROR"))))
A23: =IF(D23="","",A22) -> Competition | B23: =IF(D23="","",B22) -> Date | C23: =IF(D23="","",C22) -> Venue | D23: SA2187 | E23: =IF(D23="","",VLOOKUP(D23,Master,3,FALSE)) -> Dylan | F23: =IF(D23="","",VLOOKUP(D23,Master,4,FALSE)) -> Peinke | G23: =IF(D23="","",VLOOKUP(D23,Master,5,FALSE)) -> Men Senior | H23: =IF(D23="","",VLOOKUP(D23,Master,2,FALSE)) -> SA Pres A | L23: =IF(K23="","",IF(I23="",ROUND(HLOOKUP(J23,kgList,K23,FALSE),1),ROUND(HLOOKUP(I23,kgList,K23,FALSE),1))) | M23: =IF(L23="","",IF(COUNTA(I23:J23)>1,"Edible or Inedible",IF(COUNTA(I23)=1,L23*1,IF(COUNTA(J23)=1,L23*1,"ERROR"))))
A24: =IF(D24="","",A23) -> Competition | B24: =IF(D24="","",B23) -> Date | C24: =IF(D24="","",C23) -> Venue | D24: SA3368 | E24: =IF(D24="","",VLOOKUP(D24,Master,3,FALSE)) -> Mike | F24: =IF(D24="","",VLOOKUP(D24,Master,4,FALSE)) -> Karon | G24: =IF(D24="","",VLOOKUP(D24,Master,5,FALSE)) -> Men Senior | H24: =IF(D24="","",VLOOKUP(D24,Master,2,FALSE)) -> SA Pres A | L24: =IF(K24="","",IF(I24="",ROUND(HLOOKUP(J24,kgList,K24,FALSE),1),ROUND(HLOOKUP(I24,kgList,K24,FALSE),1))) | M24: =IF(L24="","",IF(COUNTA(I24:J24)>1,"Edible or Inedible",IF(COUNTA(I24)=1,L24*1,IF(COUNTA(J24)=1,L24*1,"ERROR"))))
A25: =IF(D25="","",A24) -> Competition | B25: =IF(D25="","",B24) -> Date | C25: =IF(D25="","",C24) -> Venue | D25: SA9639 | E25: =IF(D25="","",VLOOKUP(D25,Master,3,FALSE)) -> Wimpie | F25: =IF(D25="","",VLOOKUP(D25,Master,4,FALSE)) -> Kirsten | G25: =IF(D25="","",VLOOKUP(D25,Master,5,FALSE)) -> Men Senior | H25: =IF(D25="","",VLOOKUP(D25,Master,2,FALSE)) -> SA Pres A | L25: =IF(K25="","",IF(I25="",ROUND(HLOOKUP(J25,kgList,K25,FALSE),1),ROUND(HLOOKUP(I25,kgList,K25,FALSE),1))) | M25: =IF(L25="","",IF(COUNTA(I25:J25)>1,"Edible or Inedible",IF(COUNTA(I25)=1,L25*1,IF(COUNTA(J25)=1,L25*1,"ERROR"))))
A26: =IF(D26="","",A25) -> Competition | B26: =IF(D26="","",B25) -> Date | C26: =IF(D26="","",C25) -> Venue | D26: N0663 | E26: =IF(D26="","",VLOOKUP(D26,Master,3,FALSE)) -> Allen | F26: =IF(D26="","",VLOOKUP(D26,Master,4,FALSE)) -> Langenstrassen | G26: =IF(D26="","",VLOOKUP(D26,Master,5,FALSE)) -> Men Veteran | H26: =IF(D26="","",VLOOKUP(D26,Master,2,FALSE)) -> Nam Pres A | L26: =IF(K26="","",IF(I26="",ROUND(HLOOKUP(J26,kgList,K26,FALSE),1),ROUND(HLOOKUP(I26,kgList,K26,FALSE),1))) | M26: =IF(L26="","",IF(COUNTA(I26:J26)>1,"Edible or Inedible",IF(COUNTA(I26)=1,L26*1,IF(COUNTA(J26)=1,L26*1,"ERROR"))))
A27: =IF(D27="","",A26) -> Competition | B27: =IF(D27="","",B26) -> Date | C27: =IF(D27="","",C26) -> Venue | D27: N0145 | E27: =IF(D27="","",VLOOKUP(D27,Master,3,FALSE)) -> Hennie | F27: =IF(D27="","",VLOOKUP(D27,Master,4,FALSE)) -> Roets | G27: =IF(D27="","",VLOOKUP(D27,Master,5,FALSE)) -> Men Veteran | H27: =IF(D27="","",VLOOKUP(D27,Master,2,FALSE)) -> Nam Pres A | L27: =IF(K27="","",IF(I27="",ROUND(HLOOKUP(J27,kgList,K27,FALSE),1),ROUND(HLOOKUP(I27,kgList,K27,FALSE),1))) | M27: =IF(L27="","",IF(COUNTA(I27:J27)>1,"Edible or Inedible",IF(COUNTA(I27)=1,L27*1,IF(COUNTA(J27)=1,L27*1,"ERROR"))))
A28: =IF(D28="","",A27) -> Competition | B28: =IF(D28="","",B27) -> Date | C28: =IF(D28="","",C27) -> Venue | D28: SA7239 | E28: =IF(D28="","",VLOOKUP(D28,Master,3,FALSE)) -> Wesley | F28: =IF(D28="","",VLOOKUP(D28,Master,4,FALSE)) -> Renken | G28: =IF(D28="","",VLOOKUP(D28,Master,5,FALSE)) -> Men Senior | H28: =IF(D28="","",VLOOKUP(D28,Master,2,FALSE)) -> SA Pres A | L28: =IF(K28="","",IF(I28="",ROUND(HLOOKUP(J28,kgList,K28,FALSE),1),ROUND(HLOOKUP(I28,kgList,K28,FALSE),1))) | M28: =IF(L28="","",IF(COUNTA(I28:J28)>1,"Edible or Inedible",IF(COUNTA(I28)=1,L28*1,IF(COUNTA(J28)=1,L28*1,"ERROR"))))
A29: =IF(D29="","",A28) -> Competition | B29: =IF(D29="","",B28) -> Date | C29: =IF(D29="","",C28) -> Venue | D29: N0145 | E29: =IF(D29="","",VLOOKUP(D29,Master,3,FALSE)) -> Hennie | F29: =IF(D29="","",VLOOKUP(D29,Master,4,FALSE)) -> Roets | G29: =IF(D29="","",VLOOKUP(D29,Master,5,FALSE)) -> Men Veteran | H29: =IF(D29="","",VLOOKUP(D29,Master,2,FALSE)) -> Nam Pres A | L29: =IF(K29="","",IF(I29="",ROUND(HLOOKUP(J29,kgList,K29,FALSE),1),ROUND(HLOOKUP(I29,kgList,K29,FALSE),1))) | M29: =IF(L29="","",IF(COUNTA(I29:J29)>1,"Edible or Inedible",IF(COUNTA(I29)=1,L29*1,IF(COUNTA(J29)=1,L29*1,"ERROR"))))
A30: =IF(D30="","",A29) -> Competition | B30: =IF(D30="","",B29) -> Date | C30: =IF(D30="","",C29) -> Venue | D30: N0195 | E30: =IF(D30="","",VLOOKUP(D30,Master,3,FALSE)) -> Louis | F30: =IF(D30="","",VLOOKUP(D30,Master,4,FALSE)) -> Fenaux | G30: =IF(D30="","",VLOOKUP(D30,Master,5,FALSE)) -> Men Veteran | H30: =IF(D30="","",VLOOKUP(D30,Master,2,FALSE)) -> Nam Pres A | L30: =IF(K30="","",IF(I30="",ROUND(HLOOKUP(J30,kgList,K30,FALSE),1),ROUND(HLOOKUP(I30,kgList,K30,FALSE),1))) | M30: =IF(L30="","",IF(COUNTA(I30:J30)>1,"Edible or Inedible",IF(COUNTA(I30)=1,L30*1,IF(COUNTA(J30)=1,L30*1,"ERROR"))))
A31: =IF(D31="","",A30) -> Competition | B31: =IF(D31="","",B30) -> Date | C31: =IF(D31="","",C30) -> Venue | D31: N0101 | E31: =IF(D31="","",VLOOKUP(D31,Master,3,FALSE)) -> Tertius | F31: =IF(D31="","",VLOOKUP(D31,Master,4,FALSE)) -> Potgieter | G31: =IF(D31="","",VLOOKUP(D31,Master,5,FALSE)) -> Men Senior | H31: =IF(D31="","",VLOOKUP(D31,Master,2,FALSE)) -> Nam Pres A | L31: =IF(K31="","",IF(I31="",ROUND(HLOOKUP(J31,kgList,K31,FALSE),1),ROUND(HLOOKUP(I31,kgList,K31,FALSE),1))) | M31: =IF(L31="","",IF(COUNTA(I31:J31)>1,"Edible or Inedible",IF(COUNTA(I31)=1,L31*1,IF(COUNTA(J31)=1,L31*1,"ERROR"))))
A32: =IF(D32="","",A31) -> Competition | B32: =IF(D32="","",B31) -> Date | C32: =IF(D32="","",C31) -> Venue | D32: N0663 | E32: =IF(D32="","",VLOOKUP(D32,Master,3,FALSE)) -> Allen | F32: =IF(D32="","",VLOOKUP(D32,Master,4,FALSE)) -> Langenstrassen | G32: =IF(D32="","",VLOOKUP(D32,Master,5,FALSE)) -> Men Veteran | H32: =IF(D32="","",VLOOKUP(D32,Master,2,FALSE)) -> Nam Pres A | L32: =IF(K32="","",IF(I32="",ROUND(HLOOKUP(J32,kgList,K32,FALSE),1),ROUND(HLOOKUP(I32,kgList,K32,FALSE),1))) | M32: =IF(L32="","",IF(COUNTA(I32:J32)>1,"Edible or Inedible",IF(COUNTA(I32)=1,L32*1,IF(COUNTA(J32)=1,L32*1,"ERROR"))))
A33: =IF(D33="","",A32) -> Competition | B33: =IF(D33="","",B32) -> Date | C33: =IF(D33="","",C32) -> Venue | D33: N0119 | E33: =IF(D33="","",VLOOKUP(D33,Master,3,FALSE)) -> Joe | F33: =IF(D33="","",VLOOKUP(D33,Master,4,FALSE)) -> Herman | G33: =IF(D33="","",VLOOKUP(D33,Master,5,FALSE)) -> Men Senior | H33: =IF(D33="","",VLOOKUP(D33,Master,2,FALSE)) -> Nam Pres A | J33: Shark Cow / Sevengill | K33: 140 | L33: =IF(K33="","",IF(I33="",ROUND(HLOOKUP(J33,kgList,K33,FALSE),1),ROUND(HLOOKUP(I33,kgList,K33,FALSE),1))) -> 36.1 | M33: =IF(L33="","",IF(COUNTA(I33:J33)>1,"Edible or Inedible",IF(COUNTA(I33)=1,L33*1,IF(COUNTA(J33)=1,L33*1,"ERROR")))) -> 36.1
A34: =IF(D34="","",A33) -> Competition | B34: =IF(D34="","",B33) -> Date | C34: =IF(D34="","",C33) -> Venue | D34: SA9639 | E34: =IF(D34="","",VLOOKUP(D34,Master,3,FALSE)) -> Wimpie | F34: =IF(D34="","",VLOOKUP(D34,Master,4,FALSE)) -> Kirsten | G34: =IF(D34="","",VLOOKUP(D34,Master,5,FALSE)) -> Men Senior | H34: =IF(D34="","",VLOOKUP(D34,Master,2,FALSE)) -> SA Pres A | J34: Shark Cow / Sevengill | K34: 132 | L34: =IF(K34="","",IF(I34="",ROUND(HLOOKUP(J34,kgList,K34,FALSE),1),ROUND(HLOOKUP(I34,kgList,K34,FALSE),1))) -> 29.8 | M34: =IF(L34="","",IF(COUNTA(I34:J34)>1,"Edible or Inedible",IF(COUNTA(I34)=1,L34*1,IF(COUNTA(J34)=1,L34*1,"ERROR")))) -> 29.8
A35: =IF(D35="","",A34) -> Competition | B35: =IF(D35="","",B34) -> Date | C35: =IF(D35="","",C34) -> Venue | D35: N0663 | E35: =IF(D35="","",VLOOKUP(D35,Master,3,FALSE)) -> Allen | F35: =IF(D35="","",VLOOKUP(D35,Master,4,FALSE)) -> Langenstrassen | G35: =IF(D35="","",VLOOKUP(D35,Master,5,FALSE)) -> Men Veteran | H35: =IF(D35="","",VLOOKUP(D35,Master,2,FALSE)) -> Nam Pres A | J35: Shark Spotted Gully | K35: 170 | L35: =IF(K35="","",IF(I35="",ROUND(HLOOKUP(J35,kgList,K35,FALSE),1),ROUND(HLOOKUP(I35,kgList,K35,FALSE),1))) -> 26.7 | M35: =IF(L35="","",IF(COUNTA(I35:J35)>1,"Edible or Inedible",IF(COUNTA(I35)=1,L35*1,IF(COUNTA(J35)=1,L35*1,"ERROR")))) -> 26.7
A36: =IF(D36="","",A35) -> Competition | B36: =IF(D36="","",B35) -> Date | C36: =IF(D36="","",C35) -> Venue | D36: SA9445 | E36: =IF(D36="","",VLOOKUP(D36,Master,3,FALSE)) -> Wesley | F36: =IF(D36="","",VLOOKUP(D36,Master,4,FALSE)) -> Peens | G36: =IF(D36="","",VLOOKUP(D36,Master,5,FALSE)) -> Men Senior | H36: =IF(D36="","",VLOOKUP(D36,Master,2,FALSE)) -> SA Pres B | I36: Kob | K36: 47 | L36: =IF(K36="","",IF(I36="",ROUND(HLOOKUP(J36,kgList,K36,FALSE),1),ROUND(HLOOKUP(I36,kgList,K36,FALSE),1))) -> 1.1 | M36: =IF(L36="","",IF(COUNTA(I36:J36)>1,"Edible or Inedible",IF(COUNTA(I36)=1,L36*1,IF(COUNTA(J36)=1,L36*1,"ERROR")))) -> 1.1
A37: =IF(D37="","",A36) -> Competition | B37: =IF(D37="","",B36) -> Date | C37: =IF(D37="","",C36) -> Venue | D37: N0761 | E37: =IF(D37="","",VLOOKUP(D37,Master,3,FALSE)) -> Stefano | F37: =IF(D37="","",VLOOKUP(D37,Master,4,FALSE)) -> Strappazzon | G37: =IF(D37="","",VLOOKUP(D37,Master,5,FALSE)) -> Men Veteran | H37: =IF(D37="","",VLOOKUP(D37,Master,2,FALSE)) -> Nam Pres B | I37: Kob | K37: 54 | L37: =IF(K37="","",IF(I37="",ROUND(HLOOKUP(J37,kgList,K37,FALSE),1),ROUND(HLOOKUP(I37,kgList,K37,FALSE),1))) -> 1.6 | M37: =IF(L37="","",IF(COUNTA(I37:J37)>1,"Edible or Inedible",IF(COUNTA(I37)=1,L37*1,IF(COUNTA(J37)=1,L37*1,"ERROR")))) -> 1.6
A38: =IF(D38="","",A37) -> Competition | B38: =IF(D38="","",B37) -> Date | C38: =IF(D38="","",C37) -> Venue | D38: N0783 | E38: =IF(D38="","",VLOOKUP(D38,Master,3,FALSE)) -> Johan | F38: =IF(D38="","",VLOOKUP(D38,Master,4,FALSE)) -> Van Niekerk | G38: =IF(D38="","",VLOOKUP(D38,Master,5,FALSE)) -> Men Senior | H38: =IF(D38="","",VLOOKUP(D38,Master,2,FALSE)) -> Nam Pres B | I38: Kob | K38: 62 | L38: =IF(K38="","",IF(I38="",ROUND(HLOOKUP(J38,kgList,K38,FALSE),1),ROUND(HLOOKUP(I38,kgList,K38,FALSE),1))) -> 2.5 | M38: =IF(L38="","",IF(COUNTA(I38:J38)>1,"Edible or Inedible",IF(COUNTA(I38)=1,L38*1,IF(COUNTA(J38)=1,L38*1,"ERROR")))) -> 2.5
A39: =IF(D39="","",A38) -> Competition | B39: =IF(D39="","",B38) -> Date | C39: =IF(D39="","",C38) -> Venue | D39: SA9445 | E39: =IF(D39="","",VLOOKUP(D39,Master,3,FALSE)) -> Wesley | F39: =IF(D39="","",VLOOKUP(D39,Master,4,FALSE)) -> Peens | G39: =IF(D39="","",VLOOKUP(D39,Master,5,FALSE)) -> Men Senior | H39: =IF(D39="","",VLOOKUP(D39,Master,2,FALSE)) -> SA Pres B | I39: Kob | K39: 79 | L39: =IF(K39="","",IF(I39="",ROUND(HLOOKUP(J39,kgList,K39,FALSE),1),ROUND(HLOOKUP(I39,kgList,K39,FALSE),1))) -> 5.2 | M39: =IF(L39="","",IF(COUNTA(I39:J39)>1,"Edible or Inedible",IF(COUNTA(I39)=1,L39*1,IF(COUNTA(J39)=1,L39*1,"ERROR")))) -> 5.2
A40: =IF(D40="","",A39) -> Competition | B40: =IF(D40="","",B39) -> Date | C40: =IF(D40="","",C39) -> Venue | D40: SA9637 | E40: =IF(D40="","",VLOOKUP(D40,Master,3,FALSE)) -> Deon | F40: =IF(D40="","",VLOOKUP(D40,Master,4,FALSE)) -> Verster | G40: =IF(D40="","",VLOOKUP(D40,Master,5,FALSE)) -> Men Senior | H40: =IF(D40="","",VLOOKUP(D40,Master,2,FALSE)) -> SA Pres B | I40: Kob | K40: 92 | L40: =IF(K40="","",IF(I40="",ROUND(HLOOKUP(J40,kgList,K40,FALSE),1),ROUND(HLOOKUP(I40,kgList,K40,FALSE),1))) -> 8.2 | M40: =IF(L40="","",IF(COUNTA(I40:J40)>1,"Edible or Inedible",IF(COUNTA(I40)=1,L40*1,IF(COUNTA(J40)=1,L40*1,"ERROR")))) -> 8.2
...

Sheet Individuals
D2: INDIVIDUALS | F2: Gus Day 3
A3: Competition | B3: (Multiple Items)
E5: Values
A6: ID | B6: Name | C6: Surname | D6: Team | E6: Count of Edibles | F6: Count of Inedibles | G6: Sum of kg | H6: Sum of Points
A7: N0867 | B7: Andre | C7: Bezuidehout | D7: Nam Pres Masters | F7: 11 | G7: 161.4 | H7: 161.4
A8: N0026 | B8: Johan | C8: Agenbag | D8: Nam Pres Masters | E8: 2 | F8: 10 | G8: 150 | H8: 150
A9: N0118 | B9: Olaf | C9: Coetzee | D9: Nam Pres Dev | F9: 5 | G9: 101.7 | H9: 101.7
A10: SA0863 | B10: JB | C10: Theron | D10: SA Pres Inland | F10: 6 | G10: 98.1 | H10: 98.1
A11: N0095 | B11: Simen | C11: Andersen | D11: Nam Pres Masters | F11: 8 | G11: 97.2 | H11: 97.2
A12: N0100 | B12: Werner | C12: Van Riet | D12: Nam Pres Veterans | E12: 1 | F12: 4 | G12: 92.3 | H12: 92.3
A13: SA0748 | B13: Whitey | C13: Van Zyl | D13: SA Pres Masters | F13: 9 | G13: 89.3 | H13: 89.3
A14: SA0035 | B14: Johan | C14: La Grange | D14: SA Pres Masters | F14: 6 | G14: 89.3 | H14: 89.3
A15: N0610 | B15: Martinus | C15: Venter | D15: Nam Pres A | F15: 7 | G15: 87.9 | H15: 87.9
A16: SA3368 | B16: Mike | C16: Karon | D16: SA Pres A | F16: 6 | G16: 84.6 | H16: 84.6
A17: N0234 | B17: Henning | C17: Du Plessis | D17: Nam Pres Masters | F17: 9 | G17: 75.96 | H17: 75.96
A18: N0101 | B18: Tertius | C18: Potgieter | D18: Nam Pres A | F18: 4 | G18: 75.8 | H18: 75.8
A19: SA9692 | B19: Josh | C19: Timm | D19: SA Pres A | F19: 6 | G19: 75.2 | H19: 75.2
A20: SA0757 | B20: John | C20: Loomes | D20: SA Pres Masters | F20: 6 | G20: 70.6 | H20: 70.6
A21: SA2568 | B21: Niel | C21: Van Der Linde | D21: SA Pres A | F21: 5 | G21: 69.3 | H21: 69.3
A22: SA2187 | B22: Dylan | C22: Peinke | D22: SA Pres A | E22: 1 | F22: 4 | G22: 68.2 | H22: 68.2
A23: SA0847 | B23: Adriaan | C23: Van Heerden | D23: SA Pres A | F23: 5 | G23: 64.7 | H23: 64.7
A24: N0020 | B24: Morne | C24: Horn | D24: Nam Pres Veterans | F24: 3 | G24: 64.2 | H24: 64.2
A25: N0119 | B25: Joe | C25: Herman | D25: Nam Pres A | E25: 2 | F25: 3 | G25: 58.4 | H25: 58.4
A26: N0656 | B26: Hannes | C26: De Haast | D26: Nam Pres Veterans | F26: 6 | G26: 56.6 | H26: 56.6
A27: N0399 | B27: Org | C27: Van Rensburg | D27: Nam Pres B | F27: 4 | G27: 56.3 | H27: 56.3
A28: SA9639 | B28: Wimpie | C28: Kirsten | D28: SA Pres A | E28: 1 | F28: 2 | G28: 55.4 | H28: 55.4
A29: SA9445 | B29: Wesley | C29: Peens | D29: SA Pres B | E29: 2 | F29: 4 | G29: 53.9 | H29: 53.9
A30: SA7239 | B30: Wesley | C30: Renken | D30: SA Pres A | F30: 4 | G30: 52.5 | H30: 52.5
A31: N0396 | B31: Raymond | C31: Duvenhage | D31: Nam Pres B | E31: 1 | F31: 2 | G31: 51.6 | H31: 51.6
A32: N0219 | B32: Nadia | C32: Steenkamp | D32: Nam Pres Ladies | F32: 3 | G32: 47.9 | H32: 47.9
A33: N0730 | B33: Wikus | C33: Viljoen | D33: Nam Pres A | F33: 3 | G33: 46 | H33: 46
A34: N0814 | B34: Clinton | C34: Barnhard | D34: Nam Pres Dev | F34: 3 | G34: 45.8 | H34: 45.8
A35: N0014 | B35: Willem | C35: Steyn | D35: Nam Pres Veterans | F35: 4 | G35: 45.7 | H35: 45.7
A36: N0200 | B36: Abriana | C36: Koberzig | D36: Nam Pres Ladies | E36: 1 | F36: 3 | G36: 45.2 | H36: 45.2
A37: SA5924 | B37: Steyn | C37: Van Zyl | D37: SA Pres Inland | E37: 1 | F37: 3 | G37: 45.1 | H37: 45.1
A38: SA9991 | B38: Pietie | C38: May | D38: SA Pres Dev | E38: 1 | F38: 2 | G38: 44.9 | H38: 44.9
A39: SA9637 | B39: Deon | C39: Verster | D39: SA Pres B | E39: 1 | F39: 3 | G39: 44.5 | H39: 44.5
A40: SA9923 | B40: Chris | C40: Barnard | D40: SA Pres Dev | E40: 1 | F40: 3 | G40: 43.9 | H40: 43.9
A41: SA0294 | B41: Maarten | C41: Molenaar | D41: SA Pres Masters | E41: 4 | F41: 3 | G41: 43.8 | H41: 43.8
A42: N0622 | B42: Flippie | C42: Scheepers | D42: Nam Pres B | F42: 2 | G42: 43.5 | H42: 43.5
...

Sheet Individuals Season
G1: Total 2015 | L1: Firts Leg | Q1: Second Leg | V1: Third Leg | AA1: Fourth Leg | AF1: Fith Leg
A3: Rankling | B3: ID | C3: Name | D3: Surname | E3: Status | F3: Team | G3: Count of Edibles | H3: Count of Inedibles | I3: Sum of kg | J3: Sum of Points | K3: League Points | L3: Count of Edibles | M3: Count of Inedibles | N3: Sum of kg | O3: Sum of Points | P3: League Points | Q3: Count of Edibles | R3: Count of Inedibles | S3: Sum of kg | T3: Sum of Points | U3: League Points | V3: Count of Edibles | W3: Count of Inedibles | X3: Sum of kg | Y3: Sum of Points | Z3: League Points | AA3: Count of Edibles | AB3: Count of Inedibles | AC3: Sum of kg | AD3: Sum of Points | AE3: League Points | AF3: Count of Edibles | AG3: Count of Inedibles | AH3: Sum of kg | AI3: Sum of Points | AJ3: League Points
A4: 1 | B4: N0022 | C4: Warren | D4: Deysel | E4: Senior Men | F4: Mako | G4: =SUM(V4,Q4,L4,AA4,AF4) -> 10 | H4: =SUM(W4,R4,M4,AB4,AG4) -> 13 | I4: =SUM(X4,S4,N4,AC4,AH4) -> 220.27832 | J4: =SUM(Y4,T4,O4,AD4,AI4) -> 220.27832 | K4: =SUM(Z4,,P4,AE4,AJ4) -> 1195 | L4: 0 | M4: 4 | N4: 57.194964 | O4: 57.194964 | P4: 300 | Q4: 0 | R4: 0 | S4: 0 | T4: 0 | U4: 59 | W4: 2 | X4: 23.600799 | Y4: 23.600799 | Z4: 296 | AB4: 6 | AC4: 121.39874 | AD4: 121.39874 | AE4: 300 | AF4: 10 | AG4: 1 | AH4: 18.083818 | AI4: 18.083818 | AJ4: 299
A5: 2 | B5: N0081 | C5: John-John | D5: Warrington | E5: Senior Men | F5: Mako | G5: =SUM(V5,Q5,L5,AA5,AF5) -> 5 | H5: =SUM(W5,R5,M5,AB5,AG5) -> 4 | I5: =SUM(X5,S5,N5,AC5,AH5) -> 78.188938 | J5: =SUM(Y5,T5,O5,AD5,AI5) -> 78.188938 | K5: =SUM(Z5,U5,AE5,AJ5) -> 1150 | L5: 0 | M5: 0 | N5: 0 | O5: 0 | P5: 57 | Q5: 0 | R5: 1 | S5: 22.70997 | T5: 22.70997 | U5: 288 | W5: 2 | X5: 30.384109 | Y5: 30.384109 | Z5: 297 | AB5: 1 | AC5: 19.477886 | AD5: 19.477886 | AE5: 280 | AF5: 5 | AH5: 5.6169728 | AI5: 5.6169728 | AJ5: 285
A6: 3 | B6: N0496 | C6: Rudi | D6: Swartz | E6: Senior Men | F6: Mako | G6: =SUM(V6,Q6,L6,AA6,AF6) -> 10 | H6: =SUM(W6,R6,M6,AB6,AG6) -> 4 | I6: =SUM(X6,S6,N6,AC6,AH6) -> 50.988985 | J6: =SUM(Y6,T6,O6,AD6,AI6) -> 50.988985 | K6: =SUM(,U6,P6,AE6,AJ6) -> 1143 | L6: 0 | M6: 1 | N6: 8.328804 | O6: 8.328804 | P6: 284 | Q6: 0 | R6: 1 | S6: 4.6867215 | T6: 4.6867215 | U6: 277 | V6: 2 | X6: 1.453791 | Y6: 1.453791 | Z6: 243 | AB6: 2 | AC6: 26.073112 | AD6: 26.073112 | AE6: 287 | AF6: 8 | AH6: 10.446556 | AI6: 10.446556 | AJ6: 295
A7: 4 | B7: N0007 | C7: Brian | D7: Curtis | E7: Senior Men | F7: Orca Angling Club | G7: =SUM(V7,Q7,L7,AA7,AF7) -> 3 | H7: =SUM(W7,R7,M7,AB7,AG7) -> 5 | I7: =SUM(X7,S7,N7,AC7,AH7) -> 110.23739 | J7: =SUM(Y7,T7,O7,AD7,AI7) -> 110.23739 | K7: =SUM(,U7,P7,AE7,AJ7) -> 1131 | L7: 0 | M7: 1 | N7: 2.3811997 | O7: 2.3811997 | P7: 271 | Q7: 0 | R7: 1 | S7: 68.917626 | T7: 68.917626 | U7: 292 | V7: 1 | X7: 0.6 | Y7: 0.6 | Z7: 208 | AB7: 2 | AC7: 33.238568 | AD7: 33.238568 | AE7: 289 | AF7: 2 | AG7: 1 | AH7: 5.1 | AI7: 5.1 | AJ7: 279
A8: 5 | B8: N0019 | C8: Johan | D8: Visser | E8: Senior Men | F8: Mako | G8: =SUM(V8,Q8,L8,AA8,AF8) -> 9 | H8: =SUM(W8,R8,M8,AB8,AG8) -> 4 | I8: =SUM(X8,S8,N8,AC8,AH8) -> 48.686968 | J8: =SUM(Y8,T8,O8,AD8,AI8) -> 48.686968 | K8: =SUM(Z8,U8,P8,AE8,) -> 1121 | L8: 0 | M8: 2 | N8: 14.784014 | O8: 14.784014 | P8: 292 | Q8: 0 | R8: 1 | S8: 3.0171066 | T8: 3.0171066 | U8: 269 | V8: 5 | X8: 3.3837785 | Y8: 3.3837785 | Z8: 274 | AB8: 1 | AC8: 24.137542 | AD8: 24.137542 | AE8: 286 | AF8: 4 | AH8: 3.3645271 | AI8: 3.3645271 | AJ8: 264
A9: 6 | B9: N0263 | C9: Morne | D9: Human | E9: Senior Men | F9: Orca Angling Club | G9: =SUM(V9,Q9,L9,AA9,AF9) -> 4 | H9: =SUM(W9,R9,M9,AB9,AG9) -> 9 | I9: =SUM(X9,S9,N9,AC9,AH9) -> 128.70819 | J9: =SUM(Y9,T9,O9,AD9,AI9) -> 128.70819 | K9: =SUM(Z9,P9,AE9,AJ9) -> 1116 | L9: 0 | M9: 2 | N9: 6.2705089 | O9: 6.2705089 | P9: 280 | Q9: 0 | R9: 0 | S9: 0 | T9: 0 | U9: 59 | W9: 4 | X9: 96.708544 | Y9: 96.708544 | Z9: 299 | AB9: 3 | AC9: 23.429135 | AD9: 23.429135 | AE9: 284 | AF9: 4 | AH9: 2.3 | AI9: 2.3 | AJ9: 253
A10: 7 | B10: N0017 | C10: Riaan | D10: Tap | E10: Senior Men | F10: Mako | G10: =SUM(V10,Q10,L10,AA10,AF10) -> 1 | H10: =SUM(W10,R10,M10,AB10,AG10) -> 5 | I10: =SUM(X10,S10,N10,AC10,AH10) -> 191.91158 | J10: =SUM(Y10,T10,O10,AD10,AI10) -> 191.91158 | K10: =SUM(U10,P10,AE10,AJ10) -> 1090 | L10: 0 | M10: 1 | N10: 7.4215755 | O10: 7.4215755 | P10: 282 | Q10: 0 | R10: 1 | S10: 92.806451 | T10: 92.806451 | U10: 297 | V10: 0 | W10: 0 | X10: 0 | Y10: 0 | Z10: 0 | AB10: 3 | AC10: 90.752753 | AD10: 90.752753 | AE10: 297 | AF10: 1 | AH10: 0.93079926 | AI10: 0.93079926 | AJ10: 214
A11: 8 | B11: N0006 | C11: Nico | D11: Kotze | E11: Senior Men | F11: Namib Park | G11: =SUM(V11,Q11,L11,AA11,AF11) -> 4 | H11: =SUM(W11,R11,M11,AB11,AG11) -> 6 | I11: =SUM(X11,S11,N11,AC11,AH11) -> 183.60323 | J11: =SUM(Y11,T11,O11,AD11,AI11) -> 183.60323 | K11: =SUM(Z11,U11,AE11,AJ11) -> 1082 | L11: 0 | M11: 0 | N11: 0 | O11: 0 | P11: 57 | Q11: 0 | R11: 2 | S11: 134.77864 | T11: 134.77864 | U11: 300 | V11: 2 | X11: 2.1863098 | Y11: 2.1863098 | Z11: 254 | AB11: 4 | AC11: 45.006095 | AD11: 45.006095 | AE11: 292 | AF11: 2 | AH11: 1.6321785 | AI11: 1.6321785 | AJ11: 236
A12: 9 | B12: N0035 | C12: Johan | D12: van Wyk | E12: Senior Men | F12: Mako | G12: =SUM(V12,Q12,L12,AA12,AF12) -> 2 | H12: =SUM(W12,R12,M12,AB12,AG12) -> 7 | I12: =SUM(X12,S12,N12,AC12,AH12) -> 87.911092 | J12: =SUM(Y12,T12,O12,AD12,AI12) -> 87.911092 | K12: =SUM(Z12,P12,AE12,AJ12) -> 1075 | L12: 0 | M12: 2 | N12: 17.058806 | O12: 17.058806 | P12: 295 | Q12: 0 | R12: 0 | S12: 0 | T12: 0 | U12: 59 | V12: 1 | X12: 0.92998754 | Y12: 0.92998754 | Z12: 217 | AB12: 4 | AC12: 66.001796 | AD12: 66.001796 | AE12: 296 | AF12: 1 | AG12: 1 | AH12: 3.9205017 | AI12: 3.9205017 | AJ12: 267
A13: 10 | B13: N0068 | C13: Chris | D13: Feyerabend | E13: Senior Men | F13: Otjiwarongo | G13: =SUM(V13,Q13,L13,AA13,AF13) -> 8 | H13: =SUM(W13,R13,M13,AB13,AG13) -> 4 | I13: =SUM(X13,S13,N13,AC13,AH13) -> 17.602535 | J13: =SUM(Y13,T13,O13,AD13,AI13) -> 17.602535 | K13: =SUM(Z13,P13,AE13,AJ13) -> 1066 | L13: 1 | M13: 0 | N13: 0.7 | O13: 0.7 | P13: 247 | Q13: 0 | R13: 0 | S13: 0 | T13: 0 | U13: 59 | W13: 2 | X13: 9.3 | Y13: 9.3 | Z13: 282 | AA13: 1 | AB13: 2 | AC13: 2.013312 | AD13: 2.013312 | AE13: 252 | AF13: 6 | AH13: 5.5892234 | AI13: 5.5892234 | AJ13: 285
A14: 11 | B14: N0018 | C14: Garreth | D14: Wolfaardt | E14: Senior Men | F14: Orca Angling Club | G14: =SUM(V14,Q14,L14,AA14,AF14) -> 1 | H14: =SUM(W14,R14,M14,AB14,AG14) -> 3 | I14: =SUM(X14,S14,N14,AC14,AH14) -> 26.568949 | J14: =SUM(Y14,T14,O14,AD14,AI14) -> 26.568949 | K14: =SUM(Z14,U14,P14,AJ14) -> 1063 | L14: 0 | M14: 1 | N14: 5.639463 | O14: 5.639463 | P14: 278 | Q14: 0 | R14: 1 | S14: 10.101273 | T14: 10.101273 | U14: 283 | W14: 1 | X14: 9.8330964 | Y14: 9.8330964 | Z14: 284 | AC14: 0 | AD14: 0 | AE14: 59 | AF14: 1 | AH14: 0.9951162 | AI14: 0.9951162 | AJ14: 218
A15: 12 | B15: N0119 | C15: Joe | D15: Herrmann | E15: Senior Men | F15: Orca Angling Club | G15: =SUM(V15,Q15,L15,AA15,AF15) -> 3 | H15: =SUM(W15,R15,M15,AB15,AG15) -> 5 | I15: =SUM(X15,S15,N15,AC15,AH15) -> 58.840545 | J15: =SUM(Y15,T15,O15,AD15,AI15) -> 61.63378 | K15: =SUM(Z15,U15,AE15,AJ15) -> 1060 | L15: 0 | M15: 0 | N15: 0 | O15: 0 | P15: 57 | Q15: 0 | R15: 1 | S15: 0 | T15: 2.7932356 | U15: 267 | V15: 1 | X15: 0.5 | Y15: 0.5 | Z15: 204 | AB15: 2 | AC15: 45.900218 | AD15: 45.900218 | AE15: 293 | AF15: 2 | AG15: 2 | AH15: 12.440326 | AI15: 12.440326 | AJ15: 296
A16: 13 | B16: N0004 | C16: Charles | D16: Bothma | E16: Masters Men | F16: Namib Park | G16: =SUM(V16,Q16,L16,AA16,AF16) -> 5 | H16: =SUM(W16,R16,M16,AB16,AG16) -> 4 | I16: =SUM(X16,S16,N16,AC16,AH16) -> 76.957164 | J16: =SUM(Y16,T16,O16,AD16,AI16) -> 76.957164 | K16: =SUM(Z16,U16,P16,AE16,) -> 1056 | L16: 2 | M16: 0 | N16: 1.6951162 | O16: 1.6951162 | P16: 262 | Q16: 0 | R16: 1 | S16: 8.5673309 | T16: 8.5673309 | U16: 282 | V16: 1 | X16: 0.93079926 | Y16: 0.93079926 | Z16: 217 | AA16: 2 | AB16: 3 | AC16: 65.763918 | AD16: 65.763918 | AE16: 295 | AH16: 0 | AI16: 0 | AJ16: 49
A17: 14 | B17: N0023 | C17: Jörg | D17: Walter | E17: Masters Men | F17: Atlantic Angling Club | G17: =SUM(V17,Q17,L17,AA17,AF17) -> 11 | H17: =SUM(W17,R17,M17,AB17,AG17) -> 1 | I17: =SUM(X17,S17,N17,AC17,AH17) -> 15.288376 | J17: =SUM(Y17,T17,O17,AD17,AI17) -> 15.288376 | K17: =SUM(Z17,U17,P17,AE17,) -> 1053 | L17: 1 | M17: 0 | N17: 0.6 | O17: 0.6 | P17: 239 | Q17: 4 | R17: 0 | S17: 5.5513738 | T17: 5.5513738 | U17: 279 | V17: 5 | X17: 3.3644684 | Y17: 3.3644684 | Z17: 274 | AA17: 1 | AB17: 1 | AC17: 5.7725339 | AD17: 5.7725339 | AE17: 261 | AH17: 0 | AI17: 0 | AJ17: 49
A18: 15 | B18: N0024 | C18: Andrew | D18: v/d Westhuizen | E18: Senior Men | F18: Mako | G18: =SUM(V18,Q18,L18,AA18,AF18) -> 6 | H18: =SUM(W18,R18,M18,AB18,AG18) -> 1 | I18: =SUM(X18,S18,N18,AC18,AH18) -> 13.718626 | J18: =SUM(Y18,T18,O18,AD18,AI18) -> 13.718626 | K18: =SUM(Z18,P18,AE18,AJ18) -> 1037 | L18: 1 | M18: 0 | N18: 3.5660549 | O18: 3.5660549 | P18: 276 | Q18: 0 | R18: 0 | S18: 0 | T18: 0 | U18: 59 | V18: 2 | X18: 1.6860826 | Y18: 1.6860826 | Z18: 246 | AB18: 1 | AC18: 6.2166832 | AD18: 6.2166832 | AE18: 263 | AF18: 3 | AH18: 2.2498049 | AI18: 2.2498049 | AJ18: 252
A19: 16 | B19: N0208 | C19: Adri | D19: Roets | E19: Veterans Men | F19: Atlantic Angling Club | G19: =SUM(V19,Q19,L19,AA19,AF19) -> 10 | H19: =SUM(W19,R19,M19,AB19,AG19) -> 0 | I19: =SUM(X19,S19,N19,AC19,AH19) -> 7.2247986 | J19: =SUM(Y19,T19,O19,AD19,AI19) -> 7.2247986 | K19: =SUM(Z19,U19,P19,AE19,) -> 1025 | L19: 3 | M19: 0 | N19: 3.0441537 | O19: 3.0441537 | P19: 275 | Q19: 2 | R19: 0 | S19: 1 | T19: 1 | U19: 251 | V19: 4 | X19: 2.5299875 | Y19: 2.5299875 | Z19: 259 | AA19: 1 | AC19: 0.65065738 | AD19: 0.65065738 | AE19: 240 | AH19: 0 | AI19: 0 | AJ19: 49
A20: 17 | B20: N0010 | C20: Desiree | D20: Klemp | E20: Ladies | F20: Orca Angling Club | G20: =SUM(V20,Q20,L20,AA20,AF20) -> 6 | H20: =SUM(W20,R20,M20,AB20,AG20) -> 1 | I20: =SUM(X20,S20,N20,AC20,AH20) -> 14.631998 | J20: =SUM(Y20,T20,O20,AD20,AI20) -> 14.631998 | K20: =SUM(Z20,U20,P20,AJ20) -> 1012 | L20: 0 | M20: 1 | N20: 10.936881 | O20: 10.936881 | P20: 288 | Q20: 1 | R20: 0 | S20: 0.6 | T20: 0.6 | U20: 245 | V20: 3 | X20: 1.5 | Y20: 1.5 | Z20: 243 | AC20: 0 | AD20: 0 | AE20: 59 | AF20: 2 | AH20: 1.5951162 | AI20: 1.5951162 | AJ20: 236
A21: 18 | B21: N0044 | C21: Leon | D21: Krauze | E21: Senior Men | F21: Henties Bay | G21: =SUM(V21,Q21,L21,AA21,AF21) -> 5 | H21: =SUM(W21,R21,M21,AB21,AG21) -> 2 | I21: =SUM(X21,S21,N21,AC21,AH21) -> 44.842316 | J21: =SUM(Y21,T21,O21,AD21,AI21) -> 44.842316 | K21: =SUM(Z21,U21,AE21,AJ21) -> 1012 | L21: 0 | M21: 0 | N21: 0 | O21: 0 | P21: 57 | Q21: 1 | R21: 1 | S21: 0.6 | T21: 0.6 | U21: 245 | V21: 1 | X21: 0.5 | Y21: 0.5 | Z21: 204 | AB21: 1 | AC21: 39.307704 | AD21: 39.307704 | AE21: 290 | AF21: 3 | AH21: 4.4346123 | AI21: 4.4346123 | AJ21: 273
A22: 19 | B22: N0031 | C22: Emil | D22: Prinsloo | E22: Senior Men | F22: Penguin | G22: =SUM(V22,Q22,L22,AA22,AF22) -> 2 | H22: =SUM(W22,R22,M22,AB22,AG22) -> 2 | I22: =SUM(X22,S22,N22,AC22,AH22) -> 162.27862 | J22: =SUM(Y22,T22,O22,AD22,AI22) -> 162.27862 | K22: =SUM(Z22,U22,AE22,AJ22) -> 1011 | L22: 0 | M22: 0 | N22: 0 | O22: 0 | P22: 57 | Q22: 0 | R22: 1 | S22: 66.41815 | T22: 66.41815 | U22: 291 | V22: 1 | X22: 0.5 | Y22: 0.5 | Z22: 204 | AB22: 1 | AC22: 94.365357 | AD22: 94.365357 | AE22: 298 | AF22: 1 | AH22: 0.9951162 | AI22: 0.9951162 | AJ22: 218
