Workbook
Name clubl5: Clubs!$B$6:$E$19
Name clubl5: #REF!
Name Clubs: [1]Lists!$A$2:$A$18
Name Clubs: [1]Lists!$A$2:$A$18
Name Clubs: Lists!$A$2:$A$18
Name Edibles: [1]Lists!$F$2:$F$21
Name Edibles: [1]Lists!$F$2:$F$21
Name Edibles: Lists!$G$2:$G$21
Name Fish: #REF!
Name Individuals: #REF!
Name Inedibles: [1]Lists!$I$2:$I$26
Name Inedibles: [1]Lists!$I$2:$I$26
Name Inedibles: Lists!$K$2:$K$26
Name kgList: [1]Lists!$J$2:$AF$261
Name kgList: [1]Lists!$J$2:$AF$261
Name kgList: Lists!$L$2:$AH$261
Name Master: [1]MASTERLIST!$A$5:$E$1000
Name Master: [1]MASTERLIST!$A$5:$E$1000
Name Master: MASTERLIST!$A$5:$E$995
Name Shark: #REF!
Name Status: Lists!$C$2:$C$9

Sheet Nominations (2)
A1: ALL NOMINATIONS
F2: 2021-2023 | N2: 2022 Best 4 | R2: 2021 Best 4 | V2: 2020 Best 1 | Z2: Day 1 | AB2: Day 2 | AD2: Total | AF2: 1
A3: ID | B3: Club | C3: Name | D3: Surname | E3: Status | F3: Edibles | G3: Inedibles | H3: Total Fish | I3: Kg Total | J3: Kg (50/30/20) | K3: Ave Weight / Fish | L3: League Points Total 2700 Points Max | M3: League Points (50/30/20) 930 Points Max | N3: Edibles | O3: Inedibles | P3: Kg | Q3: Best 4 | R3: Edibles | S3: Inedibles | T3: Kg | U3: Best 4 | V3: Edibles | W3: Inedibles | X3: Kg | Y3: Best 1 | Z3: No Fish | AA3: Weight | AB3: No Fish | AC3: Weight | AD3: No Fish | AE3: Weight
A4: N0657 | B4: Okahandja | C4: Johan Spyker | D4: Kotze | E4: Men Veteran | F4: 3 | G4: 40 | H4: 43 | I4: 600.7 | J4: 181.21 | Z4: =_xlfn.XLOOKUP(A4,'2024-NAT-01'!B:B,'2024-NAT-01'!F:F,0,0)+_xlfn.XLOOKUP(A4,'2024-NAT-01'!B:B,'2024-NAT-01'!G:G,0,0) -> 2 | AA4: =_xlfn.XLOOKUP(A4,'2024-NAT-01'!B:B,'2024-NAT-01'!H:H,0,0) -> 33.2 | AB4: =_xlfn.XLOOKUP(A4,'2024-NAT-02'!B:B,'2024-NAT-02'!F:F,0,0)+_xlfn.XLOOKUP(A4,'2024-NAT-02'!B:B,'2024-NAT-02'!G:G,0,0) -> 1 | AC4: =_xlfn.XLOOKUP(A4,'2024-NAT-02'!B:B,'2024-NAT-02'!H:H,0,0) -> 16.2 | AD4: =H4+Z4+AB4 -> 46 | AE4: =J4+AA4+AC4 -> 230.61
A5: N0002 | B5: Mako X | C5: Marco | D5: Klein | E5: Men Veteran | F5: 2 | G5: 13 | H5: 15 | I5: 182.9 | J5: 53.09 | K5: =I5/H5 -> 12.193333 | L5: =U5+Y5+Q5 -> 2042 | M5: =(U5*0.3)+(Y5*0.2)+(Q5*0.5) -> 759.1 | N5: 0 | O5: 6 | P5: 102.4 | Q5: 837 | R5: 1 | S5: 6 | T5: 59.6 | U5: 996 | V5: 0 | W5: 3 | X5: 6.8 | Y5: 209 | Z5: =_xlfn.XLOOKUP(A5,'2024-NAT-01'!B:B,'2024-NAT-01'!F:F,0,0)+_xlfn.XLOOKUP('Nominations (2)'!A5,'2024-NAT-01'!B:B,'2024-NAT-01'!G:G,0,0) -> 7 | AA5: =_xlfn.XLOOKUP(A5,'2024-NAT-01'!B:B,'2024-NAT-01'!H:H,0,0) -> 107.3 | AB5: =_xlfn.XLOOKUP(A5,'2024-NAT-02'!B:B,'2024-NAT-02'!F:F,0,0)+_xlfn.XLOOKUP('Nominations (2)'!A5,'2024-NAT-02'!B:B,'2024-NAT-02'!G:G,0,0) -> 2 | AC5: =_xlfn.XLOOKUP(A5,'2024-NAT-02'!B:B,'2024-NAT-02'!H:H,0,0) -> 42.2 | AD5: =H5+Z5+AB5 -> 24 | AE5: =J5+AA5+AC5 -> 202.59
A6: N0119 | B6: Orca Angling Club | C6: Joe | D6: Herman | E6: Men Senior | F6: 2 | G6: 39 | H6: 41 | I6: 551.3 | J6: 179.47 | Z6: =_xlfn.XLOOKUP(A6,'2024-NAT-01'!B:B,'2024-NAT-01'!F:F,0,0)+_xlfn.XLOOKUP(A6,'2024-NAT-01'!B:B,'2024-NAT-01'!G:G,0,0) -> 12 | AA6: =_xlfn.XLOOKUP(A6,'2024-NAT-01'!B:B,'2024-NAT-01'!H:H,0,0) -> 76.6 | AB6: =_xlfn.XLOOKUP(A6,'2024-NAT-02'!B:B,'2024-NAT-02'!F:F,0,0)+_xlfn.XLOOKUP(A6,'2024-NAT-02'!B:B,'2024-NAT-02'!G:G,0,0) -> 3 | AC6: =_xlfn.XLOOKUP(A6,'2024-NAT-02'!B:B,'2024-NAT-02'!H:H,0,0) -> 31.9 | AD6: =H6+Z6+AB6 -> 56 | AE6: =J6+AA6+AC6 -> 287.97
A7: N0007 | B7: Orca Angling Club | C7: Brian | D7: Curtis | E7: Men Senior | F7: 0 | G7: 34 | H7: 34 | I7: 482.7 | J7: 157.21 | K7: =I7/H7 -> 14.197059 | L7: =U7+Y7+Q7 -> 1418 | M7: =(U7*0.3)+(Y7*0.2)+(Q7*0.5) -> 569.2 | N7: 2 | O7: 10 | P7: 130.6 | Q7: 856 | R7: 0 | S7: 3 | T7: 62.6 | U7: 288 | V7: 0 | W7: 4 | X7: 31.8 | Y7: 274 | Z7: =_xlfn.XLOOKUP(A7,'2024-NAT-01'!B:B,'2024-NAT-01'!F:F,0,0)+_xlfn.XLOOKUP(A7,'2024-NAT-01'!B:B,'2024-NAT-01'!G:G,0,0) -> 10 | AA7: =_xlfn.XLOOKUP(A7,'2024-NAT-01'!B:B,'2024-NAT-01'!H:H,0,0) -> 51.6 | AB7: =_xlfn.XLOOKUP(A7,'2024-NAT-02'!B:B,'2024-NAT-02'!F:F,0,0)+_xlfn.XLOOKUP(A7,'2024-NAT-02'!B:B,'2024-NAT-02'!G:G,0,0) -> 2 | AC7: =_xlfn.XLOOKUP(A7,'2024-NAT-02'!B:B,'2024-NAT-02'!H:H,0,0) -> 8.6 | AD7: =H7+Z7+AB7 -> 46 | AE7: =J7+AA7+AC7 -> 217.41
A8: N0580 | B8: Walvis Bay | C8: Martin | D8: Cordier | E8: Men Veteran | F8: 4 | G8: 39 | H8: 43 | I8: 482.5 | J8: 151.4 | Z8: =_xlfn.XLOOKUP(A8,'2024-NAT-01'!B:B,'2024-NAT-01'!F:F,0,0)+_xlfn.XLOOKUP(A8,'2024-NAT-01'!B:B,'2024-NAT-01'!G:G,0,0) -> 7 | AA8: =_xlfn.XLOOKUP(A8,'2024-NAT-01'!B:B,'2024-NAT-01'!H:H,0,0) -> 27.4 | AB8: =_xlfn.XLOOKUP(A8,'2024-NAT-02'!B:B,'2024-NAT-02'!F:F,0,0)+_xlfn.XLOOKUP(A8,'2024-NAT-02'!B:B,'2024-NAT-02'!G:G,0,0) -> 1 | AC8: =_xlfn.XLOOKUP(A8,'2024-NAT-02'!B:B,'2024-NAT-02'!H:H,0,0) -> 8.6 | AD8: =H8+Z8+AB8 -> 51 | AE8: =J8+AA8+AC8 -> 187.4
A9: N0006 | B9: Penguin X | C9: Nico | D9: Kotze | E9: Men Veteran | F9: 6 | G9: 13 | H9: 19 | I9: 105 | J9: 24.47 | K9: =I9/H9 -> 5.5263158 | L9: =U9+Y9+Q9 -> 2502 | M9: =(U9*0.3)+(Y9*0.2)+(Q9*0.5) -> 953.3 | N9: 0 | O9: 19 | P9: 283 | Q9: 1163 | R9: 0 | S9: 8 | T9: 91.8 | U9: 1040 | V9: 0 | W9: 10 | X9: 114.5 | Y9: 299 | Z9: =_xlfn.XLOOKUP(A9,'2024-NAT-01'!B:B,'2024-NAT-01'!F:F,0,0)+_xlfn.XLOOKUP('Nominations (2)'!A9,'2024-NAT-01'!B:B,'2024-NAT-01'!G:G,0,0) -> 0 | AA9: =_xlfn.XLOOKUP(A9,'2024-NAT-01'!B:B,'2024-NAT-01'!H:H,0,0) -> 0 | AB9: =_xlfn.XLOOKUP(A9,'2024-NAT-02'!B:B,'2024-NAT-02'!F:F,0,0)+_xlfn.XLOOKUP(A9,'2024-NAT-02'!B:B,'2024-NAT-02'!G:G,0,0) -> 0 | AC9: =_xlfn.XLOOKUP(A9,'2024-NAT-02'!B:B,'2024-NAT-02'!H:H,0,0) -> 0 | AD9: =H9+Z9+AB9 -> 19 | AE9: =J9+AA9+AC9 -> 24.47
A10: N0709 | B10: Henties Bay | C10: Tiaan | D10: Fourie | E10: Men Senior | F10: 2 | G10: 33 | H10: 35 | I10: 468.4 | J10: 127.55 | Z10: =_xlfn.XLOOKUP(A10,'2024-NAT-01'!B:B,'2024-NAT-01'!F:F,0,0)+_xlfn.XLOOKUP(A10,'2024-NAT-01'!B:B,'2024-NAT-01'!G:G,0,0) -> 5 | AA10: =_xlfn.XLOOKUP(A10,'2024-NAT-01'!B:B,'2024-NAT-01'!H:H,0,0) -> 25.7 | AB10: =_xlfn.XLOOKUP(A10,'2024-NAT-02'!B:B,'2024-NAT-02'!F:F,0,0)+_xlfn.XLOOKUP(A10,'2024-NAT-02'!B:B,'2024-NAT-02'!G:G,0,0) -> 0 | AC10: =_xlfn.XLOOKUP(A10,'2024-NAT-02'!B:B,'2024-NAT-02'!H:H,0,0) -> 0 | AD10: =H10+Z10+AB10 -> 40 | AE10: =J10+AA10+AC10 -> 153.25
A11: N0588 | B11: Henties Bay | C11: Lourens | D11: Fourie | E11: Men Master | F11: 0 | G11: 30 | H11: 30 | I11: 311.5 | J11: 85.42 | Z11: =_xlfn.XLOOKUP(A11,'2024-NAT-01'!B:B,'2024-NAT-01'!F:F,0,0)+_xlfn.XLOOKUP(A11,'2024-NAT-01'!B:B,'2024-NAT-01'!G:G,0,0) -> 8 | AA11: =_xlfn.XLOOKUP(A11,'2024-NAT-01'!B:B,'2024-NAT-01'!H:H,0,0) -> 122.8 | AB11: =_xlfn.XLOOKUP(A11,'2024-NAT-02'!B:B,'2024-NAT-02'!F:F,0,0)+_xlfn.XLOOKUP(A11,'2024-NAT-02'!B:B,'2024-NAT-02'!G:G,0,0) -> 1 | AC11: =_xlfn.XLOOKUP(A11,'2024-NAT-02'!B:B,'2024-NAT-02'!H:H,0,0) -> 88.2 | AD11: =H11+Z11+AB11 -> 39 | AE11: =J11+AA11+AC11 -> 296.42
A12: N0696 | B12: Penguin | C12: Stefan | D12: Snyman | E12: Men U/16 | F12: 1 | G12: 5 | H12: 6 | I12: 64 | J12: 20.01 | Z12: =_xlfn.XLOOKUP(A12,'2024-NAT-01'!B:B,'2024-NAT-01'!F:F,0,0)+_xlfn.XLOOKUP(A12,'2024-NAT-01'!B:B,'2024-NAT-01'!G:G,0,0) -> 13 | AA12: =_xlfn.XLOOKUP(A12,'2024-NAT-01'!B:B,'2024-NAT-01'!H:H,0,0) -> 166.6 | AB12: =_xlfn.XLOOKUP(A12,'2024-NAT-02'!B:B,'2024-NAT-02'!F:F,0,0)+_xlfn.XLOOKUP(A12,'2024-NAT-02'!B:B,'2024-NAT-02'!G:G,0,0) -> 4 | AC12: =_xlfn.XLOOKUP(A12,'2024-NAT-02'!B:B,'2024-NAT-02'!H:H,0,0) -> 51.5 | AD12: =H12+Z12+AB12 -> 23 | AE12: =J12+AA12+AC12 -> 238.11
A13: N0010 | B13: xNamib Park | C13: Johan | D13: Hoon | E13: Men Veteran | F13: 0 | G13: 0 | H13: 0 | I13: 0 | J13: 0 | K13: =I13/H13 -> #DIV/0! | L13: =U13+Y13+Q13 -> 1522 | M13: =(U13*0.3)+(Y13*0.2)+(Q13*0.5) -> 588.1 | N13: 1 | O13: 5 | P13: 75.5 | Q13: 775 | R13: 0 | S13: 3 | T13: 18.8 | U13: 512 | V13: 0 | W13: 4 | X13: 26.8 | Y13: 235 | Z13: =_xlfn.XLOOKUP(A13,'2024-NAT-01'!B:B,'2024-NAT-01'!F:F,0,0)+_xlfn.XLOOKUP('Nominations (2)'!A13,'2024-NAT-01'!B:B,'2024-NAT-01'!G:G,0,0) -> 0 | AA13: =_xlfn.XLOOKUP(A13,'2024-NAT-01'!B:B,'2024-NAT-01'!H:H,0,0) -> 0 | AB13: =_xlfn.XLOOKUP(A13,'2024-NAT-02'!B:B,'2024-NAT-02'!F:F,0,0)+_xlfn.XLOOKUP(A13,'2024-NAT-02'!B:B,'2024-NAT-02'!G:G,0,0) -> 0 | AC13: =_xlfn.XLOOKUP(A13,'2024-NAT-02'!B:B,'2024-NAT-02'!H:H,0,0) -> 0 | AD13: =H13+Z13+AB13 -> 0 | AE13: =J13+AA13+AC13 -> 0
A14: N0011 | B14: Atlantic Angling Club X | C14: Johan | D14: Mostert | E14: Men Veteran | F14: 1 | G14: 3 | H14: 4 | I14: 39 | J14: 13.02 | K14: =I14/H14 -> 9.75 | L14: =U14+Y14+Q14 -> 1480 | M14: =(U14*0.3)+(Y14*0.2)+(Q14*0.5) -> 487 | N14: 0 | O14: 2 | P14: 15.6 | Q14: 355 | R14: 0 | S14: 8 | T14: 144.6 | U14: 845 | V14: 0 | W14: 5 | X14: 54.1 | Y14: 280 | Z14: =_xlfn.XLOOKUP(A14,'2024-NAT-01'!B:B,'2024-NAT-01'!F:F,0,0)+_xlfn.XLOOKUP('Nominations (2)'!A14,'2024-NAT-01'!B:B,'2024-NAT-01'!G:G,0,0) -> 0 | AA14: =_xlfn.XLOOKUP(A14,'2024-NAT-01'!B:B,'2024-NAT-01'!H:H,0,0) -> 0 | AB14: =_xlfn.XLOOKUP(A14,'2024-NAT-02'!B:B,'2024-NAT-02'!F:F,0,0)+_xlfn.XLOOKUP(A14,'2024-NAT-02'!B:B,'2024-NAT-02'!G:G,0,0) -> 0 | AC14: =_xlfn.XLOOKUP(A14,'2024-NAT-02'!B:B,'2024-NAT-02'!H:H,0,0) -> 0 | AD14: =H14+Z14+AB14 -> 4 | AE14: =J14+AA14+AC14 -> 13.02
A15: N0012 | B15: xWelwitschia | C15: Walter | D15: Hankey | E15: Men Master | F15: 0 | G15: 0 | H15: 0 | I15: 0 | J15: 0 | K15: =I15/H15 -> #DIV/0! | L15: =U15+Y15+Q15 -> 2278 | M15: =(U15*0.3)+(Y15*0.2)+(Q15*0.5) -> 830.5 | N15: 0 | O15: 11 | P15: 140 | Q15: 874 | R15: 0 | S15: 19 | T15: 216.6 | U15: 1127 | V15: 0 | W15: 6 | X15: 50.2 | Y15: 277 | Z15: =_xlfn.XLOOKUP(A15,'2024-NAT-01'!B:B,'2024-NAT-01'!F:F,0,0)+_xlfn.XLOOKUP('Nominations (2)'!A15,'2024-NAT-01'!B:B,'2024-NAT-01'!G:G,0,0) -> 0 | AA15: =_xlfn.XLOOKUP(A15,'2024-NAT-01'!B:B,'2024-NAT-01'!H:H,0,0) -> 0 | AB15: =_xlfn.XLOOKUP(A15,'2024-NAT-02'!B:B,'2024-NAT-02'!F:F,0,0)+_xlfn.XLOOKUP(A15,'2024-NAT-02'!B:B,'2024-NAT-02'!G:G,0,0) -> 0 | AC15: =_xlfn.XLOOKUP(A15,'2024-NAT-02'!B:B,'2024-NAT-02'!H:H,0,0) -> 0 | AD15: =H15+Z15+AB15 -> 0 | AE15: =J15+AA15+AC15 -> 0
A16: N0013 | B16: Namib Park X | C16: Rodger | D16: Boon | E16: Men Master | F16: 2 | G16: 5 | H16: 7 | I16: 59 | J16: 12.85 | K16: =I16/H16 -> 8.4285714 | L16: =U16+Y16+Q16 -> 1402 | M16: =(U16*0.3)+(Y16*0.2)+(Q16*0.5) -> 515.6 | N16: 0 | O16: 3 | P16: 35.2 | Q16: 475 | R16: 3 | S16: 5 | T16: 48.6 | U16: 927 | V16: 0 | W16: 0 | X16: 0 | Y16: 0 | Z16: =_xlfn.XLOOKUP(A16,'2024-NAT-01'!B:B,'2024-NAT-01'!F:F,0,0)+_xlfn.XLOOKUP('Nominations (2)'!A16,'2024-NAT-01'!B:B,'2024-NAT-01'!G:G,0,0) -> 3 | AA16: =_xlfn.XLOOKUP(A16,'2024-NAT-01'!B:B,'2024-NAT-01'!H:H,0,0) -> 8.4 | AB16: =_xlfn.XLOOKUP(A16,'2024-NAT-02'!B:B,'2024-NAT-02'!F:F,0,0)+_xlfn.XLOOKUP(A16,'2024-NAT-02'!B:B,'2024-NAT-02'!G:G,0,0) -> 0 | AC16: =_xlfn.XLOOKUP(A16,'2024-NAT-02'!B:B,'2024-NAT-02'!H:H,0,0) -> 0 | AD16: =H16+Z16+AB16 -> 10 | AE16: =J16+AA16+AC16 -> 21.25
A17: N0259 | B17: Penguin | C17: Henri | D17: Snyman | E17: Men Master | F17: 3 | G17: 27 | H17: 30 | I17: 312.9 | J17: 95.45 | Z17: =_xlfn.XLOOKUP(A17,'2024-NAT-01'!B:B,'2024-NAT-01'!F:F,0,0)+_xlfn.XLOOKUP(A17,'2024-NAT-01'!B:B,'2024-NAT-01'!G:G,0,0) -> 18 | AA17: =_xlfn.XLOOKUP(A17,'2024-NAT-01'!B:B,'2024-NAT-01'!H:H,0,0) -> 86.3 | AB17: =_xlfn.XLOOKUP(A17,'2024-NAT-02'!B:B,'2024-NAT-02'!F:F,0,0)+_xlfn.XLOOKUP(A17,'2024-NAT-02'!B:B,'2024-NAT-02'!G:G,0,0) -> 2 | AC17: =_xlfn.XLOOKUP(A17,'2024-NAT-02'!B:B,'2024-NAT-02'!H:H,0,0) -> 24.6 | AD17: =H17+Z17+AB17 -> 50 | AE17: =J17+AA17+AC17 -> 206.35
A18: N0573 | B18: Otjiwarongo | C18: Rinus | D18: Van Der Westhuizen | E18: Men Veteran | F18: 0 | G18: 28 | H18: 28 | I18: 407.9 | J18: 117.02 | Z18: =_xlfn.XLOOKUP(A18,'2024-NAT-01'!B:B,'2024-NAT-01'!F:F,0,0)+_xlfn.XLOOKUP(A18,'2024-NAT-01'!B:B,'2024-NAT-01'!G:G,0,0) -> 9 | AA18: =_xlfn.XLOOKUP(A18,'2024-NAT-01'!B:B,'2024-NAT-01'!H:H,0,0) -> 46.3 | AB18: =_xlfn.XLOOKUP(A18,'2024-NAT-02'!B:B,'2024-NAT-02'!F:F,0,0)+_xlfn.XLOOKUP(A18,'2024-NAT-02'!B:B,'2024-NAT-02'!G:G,0,0) -> 1 | AC18: =_xlfn.XLOOKUP(A18,'2024-NAT-02'!B:B,'2024-NAT-02'!H:H,0,0) -> 3 | AD18: =H18+Z18+AB18 -> 38 | AE18: =J18+AA18+AC18 -> 166.32
A19: N0016 | B19: Welwitschia X | C19: Johan | D19: Diedericks | E19: Men Veteran | F19: 1 | G19: 3 | H19: 4 | I19: 58.6 | J19: 12.53 | K19: =I19/H19 -> 14.65 | L19: =U19+Y19+Q19 -> 2264 | M19: =(U19*0.3)+(Y19*0.2)+(Q19*0.5) -> 886.2 | N19: 0 | O19: 9 | P19: 138.8 | Q19: 1171 | R19: 0 | S19: 11 | T19: 110.2 | U19: 821 | V19: 0 | W19: 3 | X19: 47.7 | Y19: 272 | Z19: =_xlfn.XLOOKUP(A19,'2024-NAT-01'!B:B,'2024-NAT-01'!F:F,0,0)+_xlfn.XLOOKUP('Nominations (2)'!A19,'2024-NAT-01'!B:B,'2024-NAT-01'!G:G,0,0) -> 5 | AA19: =_xlfn.XLOOKUP(A19,'2024-NAT-01'!B:B,'2024-NAT-01'!H:H,0,0) -> 66.9 | AB19: =_xlfn.XLOOKUP(A19,'2024-NAT-02'!B:B,'2024-NAT-02'!F:F,0,0)+_xlfn.XLOOKUP(A19,'2024-NAT-02'!B:B,'2024-NAT-02'!G:G,0,0) -> 0 | AC19: =_xlfn.XLOOKUP(A19,'2024-NAT-02'!B:B,'2024-NAT-02'!H:H,0,0) -> 0 | AD19: =H19+Z19+AB19 -> 9 | AE19: =J19+AA19+AC19 -> 79.43
A20: N0017 | B20: Mako X | C20: Riaan | D20: Tap | E20: Men Veteran | F20: 1 | G20: 12 | H20: 13 | I20: 114.6 | J20: 26.8 | K20: =I20/H20 -> 8.8153846 | L20: =U20+Y20+Q20 -> 1606 | M20: =(U20*0.3)+(Y20*0.2)+(Q20*0.5) -> 592.1 | N20: 1 | O20: 6 | P20: 59.1 | Q20: 681 | R20: 0 | S20: 3 | T20: 38.4 | U20: 666 | V20: 0 | W20: 2 | X20: 34.4 | Y20: 259 | Z20: =_xlfn.XLOOKUP(A20,'2024-NAT-01'!B:B,'2024-NAT-01'!F:F,0,0)+_xlfn.XLOOKUP('Nominations (2)'!A20,'2024-NAT-01'!B:B,'2024-NAT-01'!G:G,0,0) -> 0 | AA20: =_xlfn.XLOOKUP(A20,'2024-NAT-01'!B:B,'2024-NAT-01'!H:H,0,0) -> 0 | AB20: =_xlfn.XLOOKUP(A20,'2024-NAT-02'!B:B,'2024-NAT-02'!F:F,0,0)+_xlfn.XLOOKUP(A20,'2024-NAT-02'!B:B,'2024-NAT-02'!G:G,0,0) -> 0 | AC20: =_xlfn.XLOOKUP(A20,'2024-NAT-02'!B:B,'2024-NAT-02'!H:H,0,0) -> 0 | AD20: =H20+Z20+AB20 -> 13 | AE20: =J20+AA20+AC20 -> 26.8
A21: N0018 | B21: Orca Angling Club X | C21: Garreth | D21: Wolfaardt | E21: Men Veteran | F21: 0 | G21: 11 | H21: 11 | I21: 83.8 | J21: 28.62 | K21: =I21/H21 -> 7.6181818 | L21: =U21+Y21+Q21 -> 479 | M21: =(U21*0.3)+(Y21*0.2)+(Q21*0.5) -> 147.7 | N21: 0 | O21: 0 | P21: 0 | Q21: 20 | R21: 0 | S21: 5 | T21: 37.3 | U21: 459 | V21: 0 | W21: 0 | X21: 0 | Y21: 0 | Z21: =_xlfn.XLOOKUP(A21,'2024-NAT-01'!B:B,'2024-NAT-01'!F:F,0,0)+_xlfn.XLOOKUP('Nominations (2)'!A21,'2024-NAT-01'!B:B,'2024-NAT-01'!G:G,0,0) -> 0 | AA21: =_xlfn.XLOOKUP(A21,'2024-NAT-01'!B:B,'2024-NAT-01'!H:H,0,0) -> 0 | AB21: =_xlfn.XLOOKUP(A21,'2024-NAT-02'!B:B,'2024-NAT-02'!F:F,0,0)+_xlfn.XLOOKUP(A21,'2024-NAT-02'!B:B,'2024-NAT-02'!G:G,0,0) -> 0 | AC21: =_xlfn.XLOOKUP(A21,'2024-NAT-02'!B:B,'2024-NAT-02'!H:H,0,0) -> 0 | AD21: =H21+Z21+AB21 -> 11 | AE21: =J21+AA21+AC21 -> 28.62
A22: N0254 | B22: Penguin | C22: Grant | D22: Knight | E22: Men Veteran | F22: 0 | G22: 28 | H22: 28 | I22: 373.8 | J22: 116.83 | Z22: =_xlfn.XLOOKUP(A22,'2024-NAT-01'!B:B,'2024-NAT-01'!F:F,0,0)+_xlfn.XLOOKUP(A22,'2024-NAT-01'!B:B,'2024-NAT-01'!G:G,0,0) -> 10 | AA22: =_xlfn.XLOOKUP(A22,'2024-NAT-01'!B:B,'2024-NAT-01'!H:H,0,0) -> 269.4 | AB22: =_xlfn.XLOOKUP(A22,'2024-NAT-02'!B:B,'2024-NAT-02'!F:F,0,0)+_xlfn.XLOOKUP(A22,'2024-NAT-02'!B:B,'2024-NAT-02'!G:G,0,0) -> 4 | AC22: =_xlfn.XLOOKUP(A22,'2024-NAT-02'!B:B,'2024-NAT-02'!H:H,0,0) -> 29.5 | AD22: =H22+Z22+AB22 -> 42 | AE22: =J22+AA22+AC22 -> 415.73
A23: N0622 | B23: Walvis Bay | C23: Flippie | D23: Scheepers | E23: Men Veteran | F23: 4 | G23: 26 | H23: 30 | I23: 346.5 | J23: 109.13 | Z23: =_xlfn.XLOOKUP(A23,'2024-NAT-01'!B:B,'2024-NAT-01'!F:F,0,0)+_xlfn.XLOOKUP(A23,'2024-NAT-01'!B:B,'2024-NAT-01'!G:G,0,0) -> 9 | AA23: =_xlfn.XLOOKUP(A23,'2024-NAT-01'!B:B,'2024-NAT-01'!H:H,0,0) -> 98.1 | AB23: =_xlfn.XLOOKUP(A23,'2024-NAT-02'!B:B,'2024-NAT-02'!F:F,0,0)+_xlfn.XLOOKUP(A23,'2024-NAT-02'!B:B,'2024-NAT-02'!G:G,0,0) -> 2 | AC23: =_xlfn.XLOOKUP(A23,'2024-NAT-02'!B:B,'2024-NAT-02'!H:H,0,0) -> 9.5 | AD23: =H23+Z23+AB23 -> 41 | AE23: =J23+AA23+AC23 -> 216.73
A24: N0021 | B24: Penguin X | C24: Hanjo | D24: Doll | E24: Men Senior | F24: 0 | G24: 0 | H24: 0 | I24: 0 | J24: 0 | K24: =I24/H24 -> #DIV/0! | L24: =U24+Y24+Q24 -> 1970 | M24: =(U24*0.3)+(Y24*0.2)+(Q24*0.5) -> 750.8 | N24: 1 | O24: 7 | P24: 39.5 | Q24: 905 | R24: 3 | S24: 3 | T24: 27.2 | U24: 853 | V24: 0 | W24: 2 | X24: 7.3 | Y24: 212 | Z24: =_xlfn.XLOOKUP(A24,'2024-NAT-01'!B:B,'2024-NAT-01'!F:F,0,0)+_xlfn.XLOOKUP('Nominations (2)'!A24,'2024-NAT-01'!B:B,'2024-NAT-01'!G:G,0,0) -> 0 | AA24: =_xlfn.XLOOKUP(A24,'2024-NAT-01'!B:B,'2024-NAT-01'!H:H,0,0) -> 0 | AB24: =_xlfn.XLOOKUP(A24,'2024-NAT-02'!B:B,'2024-NAT-02'!F:F,0,0)+_xlfn.XLOOKUP(A24,'2024-NAT-02'!B:B,'2024-NAT-02'!G:G,0,0) -> 0 | AC24: =_xlfn.XLOOKUP(A24,'2024-NAT-02'!B:B,'2024-NAT-02'!H:H,0,0) -> 0 | AD24: =H24+Z24+AB24 -> 0 | AE24: =J24+AA24+AC24 -> 0
A25: N0022 | B25: Penguin X | C25: Warren | D25: Deysel | E25: Men Veteran | F25: 5 | G25: 17 | H25: 22 | I25: 229.1 | J25: 114.55 | K25: =I25/H25 -> 10.413636 | L25: =U25+Y25+Q25 -> 2421 | M25: =(U25*0.3)+(Y25*0.2)+(Q25*0.5) -> 918.5 | N25: 0 | O25: 12 | P25: 108.1 | Q25: 1107 | R25: 1 | S25: 7 | T25: 66.5 | U25: 1022 | V25: 0 | W25: 8 | X25: 80.7 | Y25: 292 | Z25: =_xlfn.XLOOKUP(A25,'2024-NAT-01'!B:B,'2024-NAT-01'!F:F,0,0)+_xlfn.XLOOKUP('Nominations (2)'!A25,'2024-NAT-01'!B:B,'2024-NAT-01'!G:G,0,0) -> 22 | AA25: =_xlfn.XLOOKUP(A25,'2024-NAT-01'!B:B,'2024-NAT-01'!H:H,0,0) -> 144.9 | AB25: =_xlfn.XLOOKUP(A25,'2024-NAT-02'!B:B,'2024-NAT-02'!F:F,0,0)+_xlfn.XLOOKUP(A25,'2024-NAT-02'!B:B,'2024-NAT-02'!G:G,0,0) -> 3 | AC25: =_xlfn.XLOOKUP(A25,'2024-NAT-02'!B:B,'2024-NAT-02'!H:H,0,0) -> 18.9 | AD25: =H25+Z25+AB25 -> 47 | AE25: =J25+AA25+AC25 -> 278.35
A26: N0774 | B26: Walvis Bay | C26: Francois Jnr | D26: Wolfaardt | E26: Men U/21 | F26: 2 | G26: 17 | H26: 19 | I26: 257.5 | J26: 90.06 | Z26: =_xlfn.XLOOKUP(A26,'2024-NAT-01'!B:B,'2024-NAT-01'!F:F,0,0)+_xlfn.XLOOKUP(A26,'2024-NAT-01'!B:B,'2024-NAT-01'!G:G,0,0) -> 11 | AA26: =_xlfn.XLOOKUP(A26,'2024-NAT-01'!B:B,'2024-NAT-01'!H:H,0,0) -> 68 | AB26: =_xlfn.XLOOKUP(A26,'2024-NAT-02'!B:B,'2024-NAT-02'!F:F,0,0)+_xlfn.XLOOKUP(A26,'2024-NAT-02'!B:B,'2024-NAT-02'!G:G,0,0) -> 3 | AC26: =_xlfn.XLOOKUP(A26,'2024-NAT-02'!B:B,'2024-NAT-02'!H:H,0,0) -> 18.5 | AD26: =H26+Z26+AB26 -> 33 | AE26: =J26+AA26+AC26 -> 176.56
A27: N0024 | B27: Mako X | C27: Andrew | D27: Van Der Westhuizen | E27: Men Veteran | F27: 0 | G27: 6 | H27: 6 | I27: 131.8 | J27: 26.36 | K27: =I27/H27 -> 21.966667 | L27: =U27+Y27+Q27 -> 2196 | M27: =(U27*0.3)+(Y27*0.2)+(Q27*0.5) -> 806.7 | N27: 0 | O27: 17 | P27: 245.1 | Q27: 871 | R27: 1 | S27: 14 | T27: 157.2 | U27: 1062 | V27: 0 | W27: 4 | X27: 42.1 | Y27: 263 | Z27: =_xlfn.XLOOKUP(A27,'2024-NAT-01'!B:B,'2024-NAT-01'!F:F,0,0)+_xlfn.XLOOKUP('Nominations (2)'!A27,'2024-NAT-01'!B:B,'2024-NAT-01'!G:G,0,0) -> 0 | AA27: =_xlfn.XLOOKUP(A27,'2024-NAT-01'!B:B,'2024-NAT-01'!H:H,0,0) -> 0 | AB27: =_xlfn.XLOOKUP(A27,'2024-NAT-02'!B:B,'2024-NAT-02'!F:F,0,0)+_xlfn.XLOOKUP(A27,'2024-NAT-02'!B:B,'2024-NAT-02'!G:G,0,0) -> 0 | AC27: =_xlfn.XLOOKUP(A27,'2024-NAT-02'!B:B,'2024-NAT-02'!H:H,0,0) -> 0 | AD27: =H27+Z27+AB27 -> 6 | AE27: =J27+AA27+AC27 -> 26.36
A28: N0371 | B28: Penguin | C28: Henno | D28: Snyman | E28: Men Master | F28: 1 | G28: 25 | H28: 26 | I28: 294.3 | J28: 103.93 | Z28: =_xlfn.XLOOKUP(A28,'2024-NAT-01'!B:B,'2024-NAT-01'!F:F,0,0)+_xlfn.XLOOKUP(A28,'2024-NAT-01'!B:B,'2024-NAT-01'!G:G,0,0) -> 12 | AA28: =_xlfn.XLOOKUP(A28,'2024-NAT-01'!B:B,'2024-NAT-01'!H:H,0,0) -> 59.2 | AB28: =_xlfn.XLOOKUP(A28,'2024-NAT-02'!B:B,'2024-NAT-02'!F:F,0,0)+_xlfn.XLOOKUP(A28,'2024-NAT-02'!B:B,'2024-NAT-02'!G:G,0,0) -> 3 | AC28: =_xlfn.XLOOKUP(A28,'2024-NAT-02'!B:B,'2024-NAT-02'!H:H,0,0) -> 14.7 | AD28: =H28+Z28+AB28 -> 41 | AE28: =J28+AA28+AC28 -> 177.83
A29: N0045 | B29: Seagull Angling Club | C29: Chrisjan | D29: Potgieter | E29: Men Veteran | F29: 0 | G29: 27 | H29: 27 | I29: 325.3 | J29: 101.83 | K29: =I29/H29 -> 12.048148 | L29: =U29+Y29+Q29 -> 1366 | M29: =(U29*0.3)+(Y29*0.2)+(Q29*0.5) -> 554.9 | N29: 0 | O29: 9 | P29: 107.6 | Q29: 845 | R29: 0 | S29: 2 | T29: 21 | U29: 282 | V29: 0 | W29: 1 | X29: 12 | Y29: 239 | Z29: =_xlfn.XLOOKUP(A29,'2024-NAT-01'!B:B,'2024-NAT-01'!F:F,0,0)+_xlfn.XLOOKUP(A29,'2024-NAT-01'!B:B,'2024-NAT-01'!G:G,0,0) -> 6 | AA29: =_xlfn.XLOOKUP(A29,'2024-NAT-01'!B:B,'2024-NAT-01'!H:H,0,0) -> 61.7 | AB29: =_xlfn.XLOOKUP(A29,'2024-NAT-02'!B:B,'2024-NAT-02'!F:F,0,0)+_xlfn.XLOOKUP(A29,'2024-NAT-02'!B:B,'2024-NAT-02'!G:G,0,0) -> 0 | AC29: =_xlfn.XLOOKUP(A29,'2024-NAT-02'!B:B,'2024-NAT-02'!H:H,0,0) -> 0 | AD29: =H29+Z29+AB29 -> 33 | AE29: =J29+AA29+AC29 -> 163.53
A30: N0027 | B30: xSkeleton Coast | C30: Andre | D30: Theart | E30: Men Grand Masters | F30: 0 | G30: 0 | H30: 0 | I30: 0 | J30: 0 | K30: =I30/H30 -> #DIV/0! | L30: =U30+Y30+Q30 -> 182 | M30: =(U30*0.3)+(Y30*0.2)+(Q30*0.5) -> 91 | N30: 0 | O30: 2 | P30: 9.1 | Q30: 182 | R30: 0 | S30: 0 | T30: 0 | U30: 0 | V30: 0 | W30: 0 | X30: 0 | Y30: 0 | Z30: =_xlfn.XLOOKUP(A30,'2024-NAT-01'!B:B,'2024-NAT-01'!F:F,0,0)+_xlfn.XLOOKUP('Nominations (2)'!A30,'2024-NAT-01'!B:B,'2024-NAT-01'!G:G,0,0) -> 0 | AA30: =_xlfn.XLOOKUP(A30,'2024-NAT-01'!B:B,'2024-NAT-01'!H:H,0,0) -> 0 | AB30: =_xlfn.XLOOKUP(A30,'2024-NAT-02'!B:B,'2024-NAT-02'!F:F,0,0)+_xlfn.XLOOKUP(A30,'2024-NAT-02'!B:B,'2024-NAT-02'!G:G,0,0) -> 0 | AC30: =_xlfn.XLOOKUP(A30,'2024-NAT-02'!B:B,'2024-NAT-02'!H:H,0,0) -> 0 | AD30: =H30+Z30+AB30 -> 0 | AE30: =J30+AA30+AC30 -> 0
A31: N0028 | B31: xAtlantic Angling Club | C31: George | D31: Coetzee | E31: Men Master | F31: 0 | G31: 0 | H31: 0 | I31: 0 | J31: 0 | K31: =I31/H31 -> #DIV/0! | L31: =U31+Y31+Q31 -> 0 | M31: =(U31*0.3)+(Y31*0.2)+(Q31*0.5) -> 0 | N31: 0 | O31: 0 | P31: 0 | Q31: 0 | R31: 0 | S31: 0 | T31: 0 | U31: 0 | V31: 0 | W31: 0 | X31: 0 | Y31: 0 | Z31: =_xlfn.XLOOKUP(A31,'2024-NAT-01'!B:B,'2024-NAT-01'!F:F,0,0)+_xlfn.XLOOKUP('Nominations (2)'!A31,'2024-NAT-01'!B:B,'2024-NAT-01'!G:G,0,0) -> 0 | AA31: =_xlfn.XLOOKUP(A31,'2024-NAT-01'!B:B,'2024-NAT-01'!H:H,0,0) -> 0 | AB31: =_xlfn.XLOOKUP(A31,'2024-NAT-02'!B:B,'2024-NAT-02'!F:F,0,0)+_xlfn.XLOOKUP(A31,'2024-NAT-02'!B:B,'2024-NAT-02'!G:G,0,0) -> 0 | AC31: =_xlfn.XLOOKUP(A31,'2024-NAT-02'!B:B,'2024-NAT-02'!H:H,0,0) -> 0 | AD31: =H31+Z31+AB31 -> 0 | AE31: =J31+AA31+AC31 -> 0
A32: N0029 | B32: xNamib Park | C32: Carel | D32: De Jager | E32: Men Veteran | F32: 0 | G32: 0 | H32: 0 | I32: 0 | J32: 0 | K32: =I32/H32 -> #DIV/0! | L32: =U32+Y32+Q32 -> 1473 | M32: =(U32*0.3)+(Y32*0.2)+(Q32*0.5) -> 578.4 | N32: 1 | O32: 9 | P32: 99.5 | Q32: 805 | R32: 1 | S32: 2 | T32: 6.5 | U32: 423 | V32: 0 | W32: 4 | X32: 32.3 | Y32: 245 | Z32: =_xlfn.XLOOKUP(A32,'2024-NAT-01'!B:B,'2024-NAT-01'!F:F,0,0)+_xlfn.XLOOKUP('Nominations (2)'!A32,'2024-NAT-01'!B:B,'2024-NAT-01'!G:G,0,0) -> 0 | AA32: =_xlfn.XLOOKUP(A32,'2024-NAT-01'!B:B,'2024-NAT-01'!H:H,0,0) -> 0 | AB32: =_xlfn.XLOOKUP(A32,'2024-NAT-02'!B:B,'2024-NAT-02'!F:F,0,0)+_xlfn.XLOOKUP(A32,'2024-NAT-02'!B:B,'2024-NAT-02'!G:G,0,0) -> 0 | AC32: =_xlfn.XLOOKUP(A32,'2024-NAT-02'!B:B,'2024-NAT-02'!H:H,0,0) -> 0 | AD32: =H32+Z32+AB32 -> 0 | AE32: =J32+AA32+AC32 -> 0
A33: N0730 | B33: Steenbras | C33: Wikus | D33: Viljoen | E33: Men Veteran | F33: 0 | G33: 22 | H33: 22 | I33: 328.5 | J33: 91.09 | Z33: =_xlfn.XLOOKUP(A33,'2024-NAT-01'!B:B,'2024-NAT-01'!F:F,0,0)+_xlfn.XLOOKUP(A33,'2024-NAT-01'!B:B,'2024-NAT-01'!G:G,0,0) -> 6 | AA33: =_xlfn.XLOOKUP(A33,'2024-NAT-01'!B:B,'2024-NAT-01'!H:H,0,0) -> 31.8 | AB33: =_xlfn.XLOOKUP(A33,'2024-NAT-02'!B:B,'2024-NAT-02'!F:F,0,0)+_xlfn.XLOOKUP(A33,'2024-NAT-02'!B:B,'2024-NAT-02'!G:G,0,0) -> 1 | AC33: =_xlfn.XLOOKUP(A33,'2024-NAT-02'!B:B,'2024-NAT-02'!H:H,0,0) -> 7.4 | AD33: =H33+Z33+AB33 -> 29 | AE33: =J33+AA33+AC33 -> 130.29
A34: N0031 | B34: Henties Bay X | C34: Emil | D34: Prinsloo | E34: Men Veteran | F34: 0 | G34: 32 | H34: 32 | I34: 393.3 | J34: 103.67 | K34: =I34/H34 -> 12.290625 | L34: =U34+Y34+Q34 -> 2223 | M34: =(U34*0.3)+(Y34*0.2)+(Q34*0.5) -> 866.7 | N34: 1 | O34: 15 | P34: 163.3 | Q34: 1148 | R34: 0 | S34: 10 | T34: 100.3 | U34: 777 | V34: 0 | W34: 6 | X34: 112.8 | Y34: 298 | Z34: =_xlfn.XLOOKUP(A34,'2024-NAT-01'!B:B,'2024-NAT-01'!F:F,0,0)+_xlfn.XLOOKUP('Nominations (2)'!A34,'2024-NAT-01'!B:B,'2024-NAT-01'!G:G,0,0) -> 0 | AA34: =_xlfn.XLOOKUP(A34,'2024-NAT-01'!B:B,'2024-NAT-01'!H:H,0,0) -> 0 | AB34: =_xlfn.XLOOKUP(A34,'2024-NAT-02'!B:B,'2024-NAT-02'!F:F,0,0)+_xlfn.XLOOKUP(A34,'2024-NAT-02'!B:B,'2024-NAT-02'!G:G,0,0) -> 0 | AC34: =_xlfn.XLOOKUP(A34,'2024-NAT-02'!B:B,'2024-NAT-02'!H:H,0,0) -> 0 | AD34: =H34+Z34+AB34 -> 32 | AE34: =J34+AA34+AC34 -> 103.67
A35: N0032 | B35: Seagull Angling Club X | C35: Jaco | D35: Mertens | E35: Men Senior | F35: 0 | G35: 11 | H35: 11 | I35: 131.1 | J35: 36.31 | K35: =I35/H35 -> 11.918182 | L35: =U35+Y35+Q35 -> 793 | M35: =(U35*0.3)+(Y35*0.2)+(Q35*0.5) -> 355.1 | N35: 3 | O35: 2 | P35: 7.6 | Q35: 586 | R35: 2 | S35: 0 | T35: 2.2 | U35: 207 | V35: 0 | W35: 0 | X35: 0 | Y35: 0 | Z35: =_xlfn.XLOOKUP(A35,'2024-NAT-01'!B:B,'2024-NAT-01'!F:F,0,0)+_xlfn.XLOOKUP('Nominations (2)'!A35,'2024-NAT-01'!B:B,'2024-NAT-01'!G:G,0,0) -> 0 | AA35: =_xlfn.XLOOKUP(A35,'2024-NAT-01'!B:B,'2024-NAT-01'!H:H,0,0) -> 0 | AB35: =_xlfn.XLOOKUP(A35,'2024-NAT-02'!B:B,'2024-NAT-02'!F:F,0,0)+_xlfn.XLOOKUP(A35,'2024-NAT-02'!B:B,'2024-NAT-02'!G:G,0,0) -> 0 | AC35: =_xlfn.XLOOKUP(A35,'2024-NAT-02'!B:B,'2024-NAT-02'!H:H,0,0) -> 0 | AD35: =H35+Z35+AB35 -> 11 | AE35: =J35+AA35+AC35 -> 36.31
A36: N0033 | B36: Henties Bay X | C36: Kobus | D36: Nel | E36: Men Master | F36: 5 | G36: 4 | H36: 9 | I36: 34.6 | J36: 11.26 | K36: =I36/H36 -> 3.8444444 | L36: =U36+Y36+Q36 -> 491 | M36: =(U36*0.3)+(Y36*0.2)+(Q36*0.5) -> 195.9 | N36: 0 | O36: 7 | P36: 34.7 | Q36: 253 | R36: 0 | S36: 1 | T36: 17 | U36: 218 | V36: 0 | W36: 0 | X36: 0 | Y36: 20 | Z36: =_xlfn.XLOOKUP(A36,'2024-NAT-01'!B:B,'2024-NAT-01'!F:F,0,0)+_xlfn.XLOOKUP('Nominations (2)'!A36,'2024-NAT-01'!B:B,'2024-NAT-01'!G:G,0,0) -> 0 | AA36: =_xlfn.XLOOKUP(A36,'2024-NAT-01'!B:B,'2024-NAT-01'!H:H,0,0) -> 0 | AB36: =_xlfn.XLOOKUP(A36,'2024-NAT-02'!B:B,'2024-NAT-02'!F:F,0,0)+_xlfn.XLOOKUP(A36,'2024-NAT-02'!B:B,'2024-NAT-02'!G:G,0,0) -> 0 | AC36: =_xlfn.XLOOKUP(A36,'2024-NAT-02'!B:B,'2024-NAT-02'!H:H,0,0) -> 0 | AD36: =H36+Z36+AB36 -> 9 | AE36: =J36+AA36+AC36 -> 11.26
A37: N0034 | B37: xOrca Angling Club | C37: Leandre | D37: Horn | E37: Ladies Senior | F37: 0 | G37: 1 | H37: 1 | I37: 17.4 | J37: 3.48 | K37: =I37/H37 -> 17.4 | L37: =U37+Y37+Q37 -> 1434 | M37: =(U37*0.3)+(Y37*0.2)+(Q37*0.5) -> 471.3 | N37: 1 | O37: 3 | P37: 34.8 | Q37: 342 | R37: 1 | S37: 5 | T37: 27 | U37: 819 | V37: 0 | W37: 4 | X37: 48.6 | Y37: 273 | Z37: =_xlfn.XLOOKUP(A37,'2024-NAT-01'!B:B,'2024-NAT-01'!F:F,0,0)+_xlfn.XLOOKUP('Nominations (2)'!A37,'2024-NAT-01'!B:B,'2024-NAT-01'!G:G,0,0) -> 0 | AA37: =_xlfn.XLOOKUP(A37,'2024-NAT-01'!B:B,'2024-NAT-01'!H:H,0,0) -> 0 | AB37: =_xlfn.XLOOKUP(A37,'2024-NAT-02'!B:B,'2024-NAT-02'!F:F,0,0)+_xlfn.XLOOKUP(A37,'2024-NAT-02'!B:B,'2024-NAT-02'!G:G,0,0) -> 0 | AC37: =_xlfn.XLOOKUP(A37,'2024-NAT-02'!B:B,'2024-NAT-02'!H:H,0,0) -> 0 | AD37: =H37+Z37+AB37 -> 1 | AE37: =J37+AA37+AC37 -> 3.48
A38: N0035 | B38: Mako X | C38: Johan | D38: Van Wyk | E38: Men Veteran | F38: 4 | G38: 19 | H38: 23 | I38: 231.3 | J38: 60.78 | K38: =I38/H38 -> 10.056522 | L38: =U38+Y38+Q38 -> 1500 | M38: =(U38*0.3)+(Y38*0.2)+(Q38*0.5) -> 602.2 | N38: 2 | O38: 4 | P38: 28.8 | Q38: 761 | R38: 2 | S38: 3 | T38: 22.4 | U38: 739 | V38: 0 | W38: 0 | X38: 0 | Y38: 0 | Z38: =_xlfn.XLOOKUP(A38,'2024-NAT-01'!B:B,'2024-NAT-01'!F:F,0,0)+_xlfn.XLOOKUP('Nominations (2)'!A38,'2024-NAT-01'!B:B,'2024-NAT-01'!G:G,0,0) -> 0 | AA38: =_xlfn.XLOOKUP(A38,'2024-NAT-01'!B:B,'2024-NAT-01'!H:H,0,0) -> 0 | AB38: =_xlfn.XLOOKUP(A38,'2024-NAT-02'!B:B,'2024-NAT-02'!F:F,0,0)+_xlfn.XLOOKUP(A38,'2024-NAT-02'!B:B,'2024-NAT-02'!G:G,0,0) -> 0 | AC38: =_xlfn.XLOOKUP(A38,'2024-NAT-02'!B:B,'2024-NAT-02'!H:H,0,0) -> 0 | AD38: =H38+Z38+AB38 -> 23 | AE38: =J38+AA38+AC38 -> 60.78
A39: N0036 | B39: Mako X | C39: Gunther | D39: Doll | E39: Men Senior | F39: 0 | G39: 5 | H39: 5 | I39: 54.5 | J39: 10.9 | K39: =I39/H39 -> 10.9 | L39: =U39+Y39+Q39 -> 1973 | M39: =(U39*0.3)+(Y39*0.2)+(Q39*0.5) -> 678.1 | N39: 0 | O39: 10 | P39: 112 | Q39: 577 | R39: 0 | S39: 12 | T39: 158.9 | U39: 1104 | V39: 0 | W39: 4 | X39: 50.2 | Y39: 292 | Z39: =_xlfn.XLOOKUP(A39,'2024-NAT-01'!B:B,'2024-NAT-01'!F:F,0,0)+_xlfn.XLOOKUP('Nominations (2)'!A39,'2024-NAT-01'!B:B,'2024-NAT-01'!G:G,0,0) -> 0 | AA39: =_xlfn.XLOOKUP(A39,'2024-NAT-01'!B:B,'2024-NAT-01'!H:H,0,0) -> 0 | AB39: =_xlfn.XLOOKUP(A39,'2024-NAT-02'!B:B,'2024-NAT-02'!F:F,0,0)+_xlfn.XLOOKUP(A39,'2024-NAT-02'!B:B,'2024-NAT-02'!G:G,0,0) -> 0 | AC39: =_xlfn.XLOOKUP(A39,'2024-NAT-02'!B:B,'2024-NAT-02'!H:H,0,0) -> 0 | AD39: =H39+Z39+AB39 -> 5 | AE39: =J39+AA39+AC39 -> 10.9
A40: N0044 | B40: Orca Angling Club | C40: Leon | D40: Krauze | E40: Men Veteran | F40: 3 | G40: 22 | H40: 25 | I40: 315 | J40: 78.21 | K40: =I40/H40 -> 12.6 | L40: =U40+Y40+Q40 -> 331 | M40: =(U40*0.3)+(Y40*0.2)+(Q40*0.5) -> 165.5 | N40: 1 | O40: 0 | P40: 2 | Q40: 331 | R40: 0 | S40: 0 | T40: 0 | U40: 0 | V40: 0 | W40: 0 | X40: 0 | Y40: 0 | Z40: =_xlfn.XLOOKUP(A40,'2024-NAT-01'!B:B,'2024-NAT-01'!F:F,0,0)+_xlfn.XLOOKUP(A40,'2024-NAT-01'!B:B,'2024-NAT-01'!G:G,0,0) -> 11 | AA40: =_xlfn.XLOOKUP(A40,'2024-NAT-01'!B:B,'2024-NAT-01'!H:H,0,0) -> 66 | AB40: =_xlfn.XLOOKUP(A40,'2024-NAT-02'!B:B,'2024-NAT-02'!F:F,0,0)+_xlfn.XLOOKUP(A40,'2024-NAT-02'!B:B,'2024-NAT-02'!G:G,0,0) -> 2 | AC40: =_xlfn.XLOOKUP(A40,'2024-NAT-02'!B:B,'2024-NAT-02'!H:H,0,0) -> 3.1 | AD40: =H40+Z40+AB40 -> 38 | AE40: =J40+AA40+AC40 -> 147.31
...

Sheet Lists
A1: Clubs | C1: Status | D1: Scientific Name | E1: Min Length | F1: Length to measure | G1: Edibles | H1: Scientific Name | I1: Min Length | J1: Length to measure | K1: Inedibles | M1: length | Q1: KgList
A2: Atlantic Angling Club | B2: AAC | C2: Deseased | D2: Diplodus sargus capensis | E2: 25 | F2: Fork length | G2: Blacktail | H2: Galeichthys ater | I2: 40 | J2: Fork length | K2: Catfish - Sea Black | L2: cm | M2: Blacktail | N2: Galjoen | O2: Kob | P2: Steenbras West Coast | Q2: Garrick | R2: Shad | S2: Redfinger | T2: Shark Copper (Male) | U2: Shark Copper (Female) | V2: Shark Cow / Sevengill | W2: Shark Spotted Gully | X2: Shark Hound Smooth | Y2: Shark Soupfin | Z2: Guitarfish - Lesser | AA2: Elephantfish | AB2: Ray Blue (Male) | AC2: Ray Blue (Female) | AD2: Ray Bull / Eagle | AE2: Ray Diamond / ButterFly | AF2: Skate Spearnose | AG2: Green Eye Spurdog shark | AH2: Catfish - Sea Black
A3: Benguella | B3: BEN | C3: Ladies Grand Master | G3: Bluefin Gurnard | H3: Galeichthys feliceps | J3: Fork length | K3: Catfish - Sea White | L3: 1
A4: Henties Bay | B4: HEN | C4: Ladies Master | G4: Cape Gurnard | H4: Callorhinchus capensis | I4: 50 | J4: Total length | K4: Elephantfish | L4: 2
A5: Mako | B5: MAKO | C5: Ladies Veteran | D5: Dichistius capensis | E5: 30 | F5: Total length | G5: Galjoen | H5: Squalus chloroculus | I5: 66 | K5: Green Eye Spurdog shark | L5: 3
A6: Namib Park | B6: NPAC | C6: Ladies Senoir | D6: Lichia amia | E6: 36 | F6: Fork length | G6: Garrick | H6: Rhinobatos blochii | J6: Total length | K6: Guitarfish - Bluntnose | L6: 4
A7: Okahandja | B7: OKH | C7: Ladies U/21 | G7: Geelbek | H7: Rhinobatos leucospilus | J7: Total length | K7: Guitarfish - Greyspot | L7: 5
A8: Orca Angling Club | B8: ORCA | C8: Ladies U/16 | G8: Grunter - Spotted | H8: Rhinobatos annulatus | I8: 65 | J8: Total length | K8: Guitarfish - Lesser | L8: 6
A9: Otjiwarongo | B9: OTJ | C9: Men Grandmasters | D9: Argyrosomus inodorus | E9: 40 | F9: Total length | G9: Kob | H9: Dasyatis chrysonota chrysonota | I9: 30 | J9: Disc width | K9: Ray Blue (Female) | L9: 7
A10: Penguin | B10: PEN | C10: Men Masters | G10: Lyre Gurnard | H10: Dasyatis chrysonota chrysonota | I10: 32 | J10: Disc width | K10: Ray Blue (Male) | L10: 8
A11: Seagulls WHK | B11: SWHK | C11: Men Veterans | G11: Maasbanker | H11: Myliobatus aquila | I11: 38 | J11: Disc width | K11: Ray Bull / Eagle | L11: 9
A12: Seagulls WVB | B12: SWVB | C12: Men Senior | G12: Redfinger | H12: Gymnura natalensis | I12: 48 | J12: Disc width | K12: Ray Diamond / ButterFly | L12: 10
A13: Skeleton Coast | B13: SKUL | C13: Men U/21 | D13: Pomatomus saltatrix | E13: 38 | F13: Fork length | G13: Shad | H13: Pteromylaeus bovinus | J13: Disc width | K13: Ray Duckbill | L13: 11
A14: Steenbras | B14: STEEN | C14: Men U/16 | G14: Steenbras Sand | H14: Carcharhinus brachyurus | I14: 44 | J14: Pre-caudal length | K14: Shark Copper (Female) | L14: 12
A15: Walvis Bay | B15: WAL | D15: Lithognathus aureti | E15: 40 | F15: Fork length | G15: Steenbras West Coast | H15: Carcharhinus brachyurus | I15: 44 | J15: Pre-caudal length | K15: Shark Copper (Male) | L15: 13
A16: Welwitschia | B16: WEL | G16: Steenbras White | H16: Notorynchus cepedianus | I16: 53 | J16: Pre-caudal length | K16: Shark Cow / Sevengill | L16: 14
G17: Strepie | H17: Mustelus mustelus | I17: 68 | J17: Total length | K17: Shark Hound Smooth | L17: 15
G18: Striped Mullet | H18: Mustelus palumbes | I18: 68 | J18: Total length | K18: Shark Hound Whitespotted | L18: 16
G19: Tuna Eastern Little | H19: Galeocerdo cuvier | J19: Pre-caudal length | K19: Shark Ragged Tooth | L19: 17
G20: White Stumpnose | H20: Galeorhinus galeus | I20: 36 | J20: Pre-caudal length | K20: Shark Soupfin | L20: 18
G21: Yellowtail amberjack | H21: Triakis megalopterus | I21: 65 | J21: Total length | K21: Shark Spotted Gully | L21: 19
H22: Dipturus doutrei | J22: Disc width | K22: Skate - Javelin | L22: 20
H23: Raja clavata | J23: Disc width | K23: Skate - Thornback | L23: 21
H24: Raja alba | I24: 50 | J24: Disc width | K24: Skate Spearnose | L24: 23 | M24: 0.3 | S24: 0
K25: Spiney dogfish Bluntnose | L25: 24 | M25: 0.4 | S25: 0
K26: Spiney dogfish Spotted | L26: 25 | M26: 0.4 | S26: 0
K27: Spinner shark - Long nose | L27: 26 | M27: 0.5 | S27: 0
K28: Tresher Shark | L28: 27 | M28: 0.6 | S28: 0
L29: 28 | M29: 0.6 | S29: 0
L30: 29 | M30: 0.7 | S30: 0
L31: 30 | M31: 0.84160148 | N31: 0.5 | S31: 0 | AC31: 1.0179249
L32: 31 | M32: 0.9282937 | N32: 0.5 | S32: 0 | AC32: 1.1324446
L33: 32 | M33: 1.0207335 | N33: 0.6 | P33: 0.7 | S33: 0 | AB33: 0.95836376 | AC33: 1.2555905
L34: 33 | M34: 1.1191044 | N34: 0.7 | P34: 0.8 | S34: 0 | AB34: 1.0570748 | AC34: 1.3729856
L35: 34 | M35: 1.22359 | N35: 0.7 | P35: 0.9 | S35: 0 | AB35: 1.1557858 | AC35: 1.4918184
L36: 35 | M36: 1.3343735 | N36: 0.78195192 | P36: 0.9 | S36: 0 | AB36: 1.2544969 | AC36: 1.680296
L37: 36 | M37: 1.4516383 | N37: 0.85379096 | P37: 1 | Q37: 0.67361769 | S37: 0 | Y37: 1.0020532 | AB37: 1.3532079 | AC37: 1.8414706
L38: 37 | M38: 1.5755678 | N38: 0.92998754 | P38: 1.1 | Q38: 0.7258366 | S38: 0 | Y38: 1.0678087 | AB38: 1.451919 | AC38: 2.0136313
L39: 38 | M39: 1.7063452 | N39: 1.0106774 | P39: 1.2 | Q39: 0.78054773 | R39: 0.73085122 | S39: 0 | Y39: 1.1335641 | AB39: 1.6569162 | AC39: 2.1960132 | AD39: 0.9628367
L40: 39 | M40: 1.8441537 | N40: 1.0959969 | P40: 1.3 | Q40: 0.83779974 | R40: 0.78967185 | S40: 0 | Y40: 1.1993196 | AB40: 1.7998651 | AC40: 2.389526 | AD40: 1.0424834
...

Sheet Sign
B1: Club | C1: Weigh Master | D1: Signature
B2: Atlantic Angling Club
B3: Benguella
B4: Henties Bay
B5: Mako
B6: Namib Park
B7: Okahandja
B8: Orca Angling Club
B9: Otjiwarongo
B10: Penguin
B11: Seagull Angling Club
B12: Steenbras
B13: Walvis Bay
... B18: Johan Kotze

Sheet MASTERLIST
A1: Only complete Black areas on sheet
B2: MASTER ANGLERS LIST
A4: Number | B4: Club | C4: Name | D4: Surname | E4: Status | F4: DOB | G4: Date Today | H4: Age | I4: Status | J4: Gender | K4: ID Number | L4: Nationality
A5: N0277 | B5: Seagull Angling Club | C5: Jonandre | D5: Mertens | E5: Men U/16 | F5: 42093 | G5: 45657 | H5: =INT(YEARFRAC(F5,G5)) -> 9 | I5: =IF(H5="","Senior",IF(H5>59.999,"Grand Masters",IF(H5>49.999,"Master",IF(H5>39.999,"Veteran",IF(H5>21.999,"Senior",IF(H5>16.999,"U/21","U/16")))))) -> U/16 | J5: Men | K5: 20110316 | L5: Nam
A6: N0302 | B6: Welwitschia | C6: Wian | D6: De Klerk | E6: Men Senior | F6: 30435 | G6: =$G$5 -> 45657 | H6: 10 | I6: U/16 | J6: Ladies | K6: 83032510597 | L6: Nam
A7: N0517 | B7: Atlantic Angling Club | C7: Luigi | D7: Strappazzon | E7: Men U/16 | F7: 41731 | G7: =$G$5 -> 45657 | H7: =INT(YEARFRAC(F7,G7)) -> 10 | I7: =IF(H7="","Senior",IF(H7>59.999,"Grand Masters",IF(H7>49.999,"Master",IF(H7>39.999,"Veteran",IF(H7>21.999,"Senior",IF(H7>16.999,"U/21","U/16")))))) -> U/16 | J7: Men | K7: 6010300356 | L7: Nam
A8: N0658 | B8: Otjiwarongo | C8: Franco | D8: Feyerabend | E8: Men U/16 | F8: 41669 | G8: =$G$5 -> 45657 | H8: =INT(YEARFRAC(F8,G8)) -> 10 | I8: =IF(H8="","Senior",IF(H8>59.999,"Grand Masters",IF(H8>49.999,"Master",IF(H8>39.999,"Veteran",IF(H8>21.999,"Senior",IF(H8>16.999,"U/21","U/16")))))) -> U/16 | J8: Men | K8: 60010501142 | L8: Nam
A9: N0320 | B9: xSeagull Angling Club | C9: Tristan | D9: Van Den Heuvel | E9: Men U/16 | F9: 41337 | G9: =$G$5 -> 45657 | H9: =INT(YEARFRAC(F9,G9)) -> 11 | I9: =IF(H9="","Senior",IF(H9>59.999,"Grand Masters",IF(H9>49.999,"Master",IF(H9>39.999,"Veteran",IF(H9>21.999,"Senior",IF(H9>16.999,"U/21","U/16")))))) -> U/16 | J9: Men | K9: 67051900234 | L9: Nam
A10: N0386 | B10: Steenbras | C10: Robert Jnr | D10: Dickman | E10: Men U/16 | F10: 41627 | G10: =$G$5 -> 45657 | H10: =INT(YEARFRAC(F10,G10)) -> 11 | I10: =IF(H10="","Senior",IF(H10>59.999,"Grand Masters",IF(H10>49.999,"Master",IF(H10>39.999,"Veteran",IF(H10>21.999,"Senior",IF(H10>16.999,"U/21","U/16")))))) -> U/16 | J10: Men | K10: 75080500042 | L10: Nam
A11: N0589 | B11: Steenbras | C11: Luan | D11: Hansen | E11: Men U/16 | F11: 41529 | G11: =$G$5 -> 45657 | H11: =INT(YEARFRAC(F11,G11)) -> 11 | I11: =IF(H11="","Men Senior",IF(H11>59.999,"Grand Masters",IF(H11>49.999,"Master",IF(H11>39.999,"Veteran",IF(H11>21.999,"Senior",IF(H11>16.999,"U/21","U/16")))))) -> U/16 | J11: Men | K11: 86111600125 | L11: Nam
A12: N0699 | B12: Steenbras | C12: Megan | D12: Durant | E12: Ladies U/16 | F12: 41594 | G12: =$G$5 -> 45657 | H12: =INT(YEARFRAC(F12,G12)) -> 11 | I12: =IF(H12="","Senior",IF(H12>59.999,"Grand Masters",IF(H12>49.999,"Master",IF(H12>39.999,"Veteran",IF(H12>21.999,"Senior",IF(H12>16.999,"U/21","U/16")))))) -> U/16 | J12: Ladies | K12: 58112200165 | L12: Nam
A13: N0262 | B13: Seagull Angling Club | C13: Ewald J. | D13: Potgieter | E13: Men U/16 | F13: 41008 | G13: =$G$5 -> 45657 | H13: =INT(YEARFRAC(F13,G13)) -> 12 | I13: =IF(H13="","Senior",IF(H13>59.999,"Grand Masters",IF(H13>49.999,"Master",IF(H13>39.999,"Veteran",IF(H13>21.999,"Senior",IF(H13>16.999,"U/21","U/16")))))) -> U/16 | J13: Men | K13: 61022700219 | L13: Nam
A14: N0364 | B14: xPenguin | C14: Neil | D14: Pretorius | E14: Men U/16 | F14: 40917 | G14: =$G$5 -> 45657 | H14: =INT(YEARFRAC(F14,G14)) -> 12 | I14: =IF(H14="","Senior",IF(H14>59.999,"Grand Masters",IF(H14>49.999,"Master",IF(H14>39.999,"Veteran",IF(H14>21.999,"Senior",IF(H14>16.999,"U/21","U/16")))))) -> U/16 | J14: Men | K14: 84050510057 | L14: Nam
A15: N0607 | B15: Steenbras | C15: Marna | D15: Viljoen | E15: Ladies U/16 | F15: 41001 | G15: =$G$5 -> 45657 | H15: =INT(YEARFRAC(F15,G15)) -> 12 | I15: =IF(H15="","Senior",IF(H15>59.999,"Grand Masters",IF(H15>49.999,"Master",IF(H15>39.999,"Veteran",IF(H15>21.999,"Senior",IF(H15>16.999,"U/21","U/16")))))) -> U/16 | J15: Ladies | K15: 84102010033 | L15: Nam
A16: N0618 | B16: Walvis Bay | C16: Miguel | D16: Strzelecki | E16: Men U/16 | F16: 41166 | G16: =$G$5 -> 45657 | H16: =INT(YEARFRAC(F16,G16)) -> 12 | I16: =IF(H16="","Senior",IF(H16>59.999,"Grand Masters",IF(H16>49.999,"Master",IF(H16>39.999,"Veteran",IF(H16>21.999,"Senior",IF(H16>16.999,"U/21","U/16")))))) -> U/16 | J16: Men | K16: 65071800039 | L16: Nam
A17: N0626 | B17: xWelwitschia | C17: Neil | D17: Pretorius | E17: Men U/16 | F17: 40917 | G17: =$G$5 -> 45657 | H17: =INT(YEARFRAC(F17,G17)) -> 12 | I17: =IF(H17="","Senior",IF(H17>59.999,"Grand Masters",IF(H17>49.999,"Master",IF(H17>39.999,"Veteran",IF(H17>21.999,"Senior",IF(H17>16.999,"U/21","U/16")))))) -> U/16 | J17: Men | K17: 67011410031 | L17: Nam
A18: N0001 | B18: Mako | C18: Philip | D18: Swartz | E18: Men U/16 | F18: 40618 | G18: 45657 | H18: =INT(YEARFRAC(F18,G18)) -> 13 | I18: =IF(H18="","Senior",IF(H18>59.999,"Grand Masters",IF(H18>49.999,"Master",IF(H18>39.999,"Veteran",IF(H18>21.999,"Senior",IF(H18>16.999,"U/21","U/16")))))) -> U/16 | J18: Men | K18: 80040210723 | L18: Nam
A19: N0270 | B19: Seagull Angling Club | C19: Christiaan | D19: Potgieter | E19: Men U/16 | F19: 40611 | G19: =$G$5 -> 45657 | H19: =INT(YEARFRAC(F19,G19)) -> 13 | I19: =IF(H19="","Senior",IF(H19>59.999,"Grand Masters",IF(H19>49.999,"Master",IF(H19>39.999,"Veteran",IF(H19>21.999,"Senior",IF(H19>16.999,"U/21","U/16")))))) -> U/16 | J19: Men | K19: 57111000857 | L19: Nam
A20: N0303 | B20: xOkahandja | C20: Jani-Mari | D20: Van Heerden | E20: Ladies U/16 | F20: 40802 | G20: =$G$5 -> 45657 | H20: =INT(YEARFRAC(F20,G20)) -> 13 | I20: =IF(H20="","Senior",IF(H20>59.999,"Grand Masters",IF(H20>49.999,"Master",IF(H20>39.999,"Veteran",IF(H20>21.999,"Senior",IF(H20>16.999,"U/21","U/16")))))) -> U/16 | J20: Ladies | K20: 8406211010 | L20: Nam
A21: N0330 | B21: xAtlantic Angling Club | C21: Enya | D21: Mac Gillicuddy | E21: Ladies U/16 | F21: 40779 | G21: =$G$5 -> 45657 | H21: =INT(YEARFRAC(F21,G21)) -> 13 | I21: =IF(H21="","Senior",IF(H21>59.999,"Grand Masters",IF(H21>49.999,"Master",IF(H21>39.999,"Veteran",IF(H21>21.999,"Senior",IF(H21>16.999,"U/21","U/16")))))) -> U/16 | J21: Ladies | K21: 80072910364 | L21: Nam
A22: N0398 | B22: xMako | C22: Jayden | D22: Warrington | E22: Men U/16 | F22: 40787 | G22: =$G$5 -> 45657 | H22: =INT(YEARFRAC(F22,G22)) -> 13 | I22: =IF(H22="","Senior",IF(H22>59.999,"Grand Masters",IF(H22>49.999,"Master",IF(H22>39.999,"Veteran",IF(H22>21.999,"Senior",IF(H22>16.999,"U/21","U/16")))))) -> U/16 | J22: Men | K22: 8007115166081 | L22: SA
A23: N0484 | B23: xMako | C23: Valentino Andre | D23: De Villiers | E23: Men U/16 | F23: 40887 | G23: =$G$5 -> 45657 | H23: =INT(YEARFRAC(F23,G23)) -> 13 | I23: =IF(H23="","Senior",IF(H23>59.999,"Grand Masters",IF(H23>49.999,"Master",IF(H23>39.999,"Veteran",IF(H23>21.999,"Senior",IF(H23>16.999,"U/21","U/16")))))) -> U/16 | J23: Men | K23: 83110110075 | L23: Nam
A24: N0848 | B24: xOtjiwarongo | C24: SW | D24: Van Wyk | E24: Men U/16 | F24: 40822 | G24: =$G$5 -> 45657 | H24: =INT(YEARFRAC(F24,G24)) -> 13 | I24: =IF(H24="","Senior",IF(H24>59.999,"Grand Masters",IF(H24>49.999,"Master",IF(H24>39.999,"Veteran",IF(H24>21.999,"Senior",IF(H24>16.999,"U/21","U/16")))))) -> U/16 | J24: Men | K24: 741112500052 | L24: Nam
A25: N0764 | B25: Welwitschia | C25: Janco | D25: Duvenhage | E25: Men U/16 | F25: 40246 | G25: =$G$5 -> 45657 | H25: =INT(YEARFRAC(F25,G25)) -> 14 | I25: =IF(H25="","Senior",IF(H25>59.999,"Grand Masters",IF(H25>49.999,"Master",IF(H25>39.999,"Veteran",IF(H25>21.999,"Senior",IF(H25>16.999,"U/21","U/16")))))) -> U/16 | J25: Men | K25: 88061400073 | L25: Nam
A26: N0839 | B26: xHenties Bay | C26: Dawid | D26: Du Toit | E26: Men U/16 | F26: 40247 | G26: =$G$5 -> 45657 | H26: =INT(YEARFRAC(F26,G26)) -> 14 | I26: =IF(H26="","Senior",IF(H26>59.999,"Grand Masters",IF(H26>49.999,"Master",IF(H26>39.999,"Veteran",IF(H26>21.999,"Senior",IF(H26>16.999,"U/21","U/16")))))) -> U/16 | J26: Men | K26: 79072810236 | L26: Nam
A27: N0844 | B27: Seagull Angling Club | C27: Heiko Jnr | D27: Doll | E27: Men U/16 | F27: 40312 | G27: =$G$5 -> 45657 | H27: =INT(YEARFRAC(F27,G27)) -> 14 | I27: =IF(H27="","Senior",IF(H27>59.999,"Grand Masters",IF(H27>49.999,"Master",IF(H27>39.999,"Veteran",IF(H27>21.999,"Senior",IF(H27>16.999,"U/21","U/16")))))) -> U/16 | J27: Men | K27: 58081800913 | L27: Nam
A28: N0847 | B28: Otjiwarongo | C28: Maritz JNR | D28: Jansen Van Vuuren | E28: Men U/16 | F28: 40532 | G28: =$G$5 -> 45657 | H28: =INT(YEARFRAC(F28,G28)) -> 14 | I28: =IF(H28="","Senior",IF(H28>59.999,"Grand Masters",IF(H28>49.999,"Master",IF(H28>39.999,"Veteran",IF(H28>21.999,"Senior",IF(H28>16.999,"U/21","U/16")))))) -> U/16 | J28: Men | K28: 78110710131 | L28: Nam
A29: N0238 | B29: Steenbras | C29: Jayden | D29: Hansen | E29: Men U/16 | F29: 40165 | G29: =$G$5 -> 45657 | H29: =INT(YEARFRAC(F29,G29)) -> 15 | I29: =IF(H29="","Senior",IF(H29>59.999,"Grand Masters",IF(H29>49.999,"Master",IF(H29>39.999,"Veteran",IF(H29>21.999,"Senior",IF(H29>16.999,"U/21","U/16")))))) -> U/16 | J29: Men | K29: 90041100816 | L29: Nam
A30: N0822 | B30: Steenbras | C30: L'wyk | D30: Viljoen | E30: Men U/16 | F30: 39972 | G30: =$G$5 -> 45657 | H30: =INT(YEARFRAC(F30,G30)) -> 15 | I30: =IF(H30="","Senior",IF(H30>59.999,"Grand Masters",IF(H30>49.999,"Master",IF(H30>39.999,"Veteran",IF(H30>21.999,"Senior",IF(H30>16.999,"U/21","U/16")))))) -> U/16 | J30: Men | K30: 68101800654 | L30: Nam
... A45: N0772 | B45: Walvis Bay | C45: Zillan | D45: Du Pisani | E45: Men U/16 | F45: 39115 | G45: =$G$5 -> 45657 | H45: =INT(YEARFRAC(F45,G45)) -> 17 | I45: =IF(H45="","Senior",IF(H45>59.999,"Grand Masters",IF(H45>49.999,"Master",IF(H45>39.999,"Veteran",IF(H45>21.999,"Senior",IF(H45>16.999,"U/21","U/16")))))) -> U/21 | J45: Ladies | K45: 62030700894 | L45: Nam
A46: N0136 | B46: xBenguella | C46: Stewert | D46: Reimann | E46: Men U/21 | F46: 38875 | G46: =$G$5 -> 45657 | H46: =INT(YEARFRAC(F46,G46)) -> 18 | I46: =IF(H46="","Senior",IF(H46>59.999,"Grand Masters",IF(H46>49.999,"Master",IF(H46>39.999,"Veteran",IF(H46>21.999,"Senior",IF(H46>16.999,"U/21","U/16")))))) -> U/21 | J46: Men
A47: N0206 | B47: xOtjiwarongo | C47: Michael | D47: Durand | E47: Men U/21 | F47: 38817 | G47: =$G$5 -> 45657 | H47: =INT(YEARFRAC(F47,G47)) -> 18 | I47: =IF(H47="","Senior",IF(H47>59.999,"Grand Masters",IF(H47>49.999,"Master",IF(H47>39.999,"Veteran",IF(H47>21.999,"Senior",IF(H47>16.999,"U/21","U/16")))))) -> U/21 | J47: Men | K47: 70081000162 | L47: Nam
A48: N0531 | B48: Mako | C48: Rudi(Jnr.) | D48: Swartz | E48: Men Seniors / U/21 | F48: 39066 | G48: =$G$5 -> 45657 | H48: =INT(YEARFRAC(F48,G48)) -> 18 | I48: =IF(H48="","Senior",IF(H48>59.999,"Grand Masters",IF(H48>49.999,"Master",IF(H48>39.999,"Veteran",IF(H48>21.999,"Senior",IF(H48>16.999,"U/21","U/16")))))) -> U/21 | J48: Men | K48: 75030810390 | L48: Nam
A49: N0603 | B49: Penguin | C49: Toy | D49: Page | E49: Men U/21 | F49: 38961 | G49: =$G$5 -> 45657 | H49: =INT(YEARFRAC(F49,G49)) -> 18 | I49: =IF(H49="","Senior",IF(H49>59.999,"Grand Masters",IF(H49>49.999,"Master",IF(H49>39.999,"Veteran",IF(H49>21.999,"Senior",IF(H49>16.999,"U/21","U/16")))))) -> U/21 | J49: Men | K49: 83062610476 | L49: Nam
A50: N0660 | B50: xOtjiwarongo | C50: Francois | D50: Van Solms | E50: Men U/21 | F50: 38890 | G50: =$G$5 -> 45657 | H50: =INT(YEARFRAC(F50,G50)) -> 18 | I50: =IF(H50="","Senior",IF(H50>59.999,"Grand Masters",IF(H50>49.999,"Master",IF(H50>39.999,"Veteran",IF(H50>21.999,"Senior",IF(H50>16.999,"U/21","U/16")))))) -> U/21 | J50: Men | K50: 75091510613 | L50: Nam
A51: N0674 | B51: xSkeleton Coast | C51: Janre | D51: Olivier | E51: Men U/21 | F51: 38827 | G51: =$G$5 -> 45657 | H51: =INT(YEARFRAC(F51,G51)) -> 18 | I51: =IF(H51="","Senior",IF(H51>59.999,"Grand Masters",IF(H51>49.999,"Master",IF(H51>39.999,"Veteran",IF(H51>21.999,"Senior",IF(H51>16.999,"U/21","U/16")))))) -> U/21 | J51: Men
A52: N0878 | B52: Walvis Bay | C52: Stefan | D52: Borruso | E52: Men U/21 | F52: 38758 | G52: =$G$5 -> 45657 | H52: =INT(YEARFRAC(F52,G52)) -> 18 | I52: =IF(H52="","Senior",IF(H52>59.999,"Grand Masters",IF(H52>49.999,"Master",IF(H52>39.999,"Veteran",IF(H52>21.999,"Senior",IF(H52>16.999,"U/21","U/16")))))) -> U/21 | J52: Men | K52: 75070200097 | L52: Nam
A53: N0141 | B53: Namib Park | C53: Tiaan | D53: Bornman | E53: Men U/21 | F53: 38441 | G53: =$G$5 -> 45657 | H53: =INT(YEARFRAC(F53,G53)) -> 19 | I53: =IF(H53="","Senior",IF(H53>59.999,"Grand Masters",IF(H53>49.999,"Master",IF(H53>39.999,"Veteran",IF(H53>21.999,"Senior",IF(H53>16.999,"U/21","U/16")))))) -> U/21 | J53: Men | K53: 70090100115 | L53: Nam
A54: N0178 | B54: Penguin | C54: Devon | D54: Burger | E54: Men U/21 | F54: 38698 | G54: =$G$5 -> 45657 | H54: =INT(YEARFRAC(F54,G54)) -> 19 | I54: =IF(H54="","Senior",IF(H54>59.999,"Grand Masters",IF(H54>49.999,"Master",IF(H54>39.999,"Veteran",IF(H54>21.999,"Senior",IF(H54>16.999,"U/21","U/16")))))) -> U/21 | J54: Men | K54: 77111010566 | L54: Nam
A55: N0343 | B55: Walvis Bay | C55: Xavier | D55: Mouton | E55: Men U/21 | F55: 38566 | G55: =$G$5 -> 45657 | H55: =INT(YEARFRAC(F55,G55)) -> 19 | I55: =IF(H55="","Senior",IF(H55>59.999,"Grand Masters",IF(H55>49.999,"Master",IF(H55>39.999,"Veteran",IF(H55>21.999,"Senior",IF(H55>16.999,"U/21","U/16")))))) -> U/21 | J55: Men | K55: 6805045042088 | L55: SA
...

Sheet DATA ENTRY
A1: Competition | B1: Date | C1: Venue | D1: ID | E1: Name | F1: Surname | G1: Status | H1: Team | I1: Edibles | J1: Inedibles | K1: length | L1: kg | M1: Points
A2: 2023-NAT-01 | B2: 45001 | C2: Day 1 | D2: N0583 | E2: =IF(D2="","",VLOOKUP(D2,Master,3,FALSE)) -> Karmen | F2: =IF(D2="","",VLOOKUP(D2,Master,4,FALSE)) -> Mynhardt | G2: =IF(D2="","",VLOOKUP(D2,Master,5,FALSE)) -> Ladies Master | H2: =IF(D2="","",VLOOKUP(D2,Master,2,FALSE)) -> Atlantic Angling Club | J2: Shark Soupfin | K2: 80 | L2: =IF(K2="","",IF(I2="",ROUND(HLOOKUP(J2,kgList,K2,FALSE),1),ROUND(HLOOKUP(I2,kgList,K2,FALSE),1))) -> 6.4 | M2: =IF(L2="","",IF(COUNTA(I2:J2)>1,"Edible or Inedible",IF(COUNTA(I2)=1,L2*1,IF(COUNTA(J2)=1,L2*1,"ERROR")))) -> 6.4
A3: =IF(D3="","",A2) -> 2023-NAT-01 | B3: =IF(D3="","",B2) -> 45001 | C3: =IF(D3="","",C2) -> Day 1 | D3: N0583 | E3: =IF(D3="","",VLOOKUP(D3,Master,3,FALSE)) -> Karmen | F3: =IF(D3="","",VLOOKUP(D3,Master,4,FALSE)) -> Mynhardt | G3: =IF(D3="","",VLOOKUP(D3,Master,5,FALSE)) -> Ladies Master | H3: =IF(D3="","",VLOOKUP(D3,Master,2,FALSE)) -> Atlantic Angling Club | J3: Guitarfish - Lesser | K3: 66 | L3: =IF(K3="","",IF(I3="",ROUND(HLOOKUP(J3,kgList,K3,FALSE),1),ROUND(HLOOKUP(I3,kgList,K3,FALSE),1))) -> 1 | M3: =IF(L3="","",IF(COUNTA(I3:J3)>1,"Edible or Inedible",IF(COUNTA(I3)=1,L3*1,IF(COUNTA(J3)=1,L3*1,"ERROR")))) -> 1
A4: =IF(D4="","",A3) -> 2023-NAT-01 | B4: =IF(D4="","",B3) -> 45001 | C4: =IF(D4="","",C3) -> Day 1 | D4: N0769 | E4: =IF(D4="","",VLOOKUP(D4,Master,3,FALSE)) -> Sven | F4: =IF(D4="","",VLOOKUP(D4,Master,4,FALSE)) -> Welzig | G4: =IF(D4="","",VLOOKUP(D4,Master,5,FALSE)) -> Men Seniors / U/21 | H4: =IF(D4="","",VLOOKUP(D4,Master,2,FALSE)) -> Mako | J4: Shark Copper (Female) | K4: 170 | L4: =IF(K4="","",IF(I4="",ROUND(HLOOKUP(J4,kgList,K4,FALSE),1),ROUND(HLOOKUP(I4,kgList,K4,FALSE),1))) -> 67.7 | M4: =IF(L4="","",IF(COUNTA(I4:J4)>1,"Edible or Inedible",IF(COUNTA(I4)=1,L4*1,IF(COUNTA(J4)=1,L4*1,"ERROR")))) -> 67.7
A5: =IF(D5="","",A4) -> 2023-NAT-01 | B5: =IF(D5="","",B4) -> 45001 | C5: =IF(D5="","",C4) -> Day 1 | D5: N0704 | E5: =IF(D5="","",VLOOKUP(D5,Master,3,FALSE)) -> Kay | F5: =IF(D5="","",VLOOKUP(D5,Master,4,FALSE)) -> Bachran | G5: =IF(D5="","",VLOOKUP(D5,Master,5,FALSE)) -> Men Senior / U/21 | H5: =IF(D5="","",VLOOKUP(D5,Master,2,FALSE)) -> Mako | J5: Guitarfish - Lesser | K5: 82 | L5: =IF(K5="","",IF(I5="",ROUND(HLOOKUP(J5,kgList,K5,FALSE),1),ROUND(HLOOKUP(I5,kgList,K5,FALSE),1))) -> 2 | M5: =IF(L5="","",IF(COUNTA(I5:J5)>1,"Edible or Inedible",IF(COUNTA(I5)=1,L5*1,IF(COUNTA(J5)=1,L5*1,"ERROR")))) -> 2
A6: =IF(D6="","",A5) -> 2023-NAT-01 | B6: =IF(D6="","",B5) -> 45001 | C6: =IF(D6="","",C5) -> Day 1 | D6: N0704 | E6: =IF(D6="","",VLOOKUP(D6,Master,3,FALSE)) -> Kay | F6: =IF(D6="","",VLOOKUP(D6,Master,4,FALSE)) -> Bachran | G6: =IF(D6="","",VLOOKUP(D6,Master,5,FALSE)) -> Men Senior / U/21 | H6: =IF(D6="","",VLOOKUP(D6,Master,2,FALSE)) -> Mako | J6: Ray Bull / Eagle | K6: 62 | L6: =IF(K6="","",IF(I6="",ROUND(HLOOKUP(J6,kgList,K6,FALSE),1),ROUND(HLOOKUP(I6,kgList,K6,FALSE),1))) -> 4.3 | M6: =IF(L6="","",IF(COUNTA(I6:J6)>1,"Edible or Inedible",IF(COUNTA(I6)=1,L6*1,IF(COUNTA(J6)=1,L6*1,"ERROR")))) -> 4.3
A7: =IF(D7="","",A6) -> 2023-NAT-01 | B7: =IF(D7="","",B6) -> 45001 | C7: =IF(D7="","",C6) -> Day 1 | D7: N0464 | E7: =IF(D7="","",VLOOKUP(D7,Master,3,FALSE)) -> Sarel | F7: =IF(D7="","",VLOOKUP(D7,Master,4,FALSE)) -> Mynhardt | G7: =IF(D7="","",VLOOKUP(D7,Master,5,FALSE)) -> Men Master | H7: =IF(D7="","",VLOOKUP(D7,Master,2,FALSE)) -> Atlantic Angling Club | J7: Ray Bull / Eagle | K7: 67 | L7: =IF(K7="","",IF(I7="",ROUND(HLOOKUP(J7,kgList,K7,FALSE),1),ROUND(HLOOKUP(I7,kgList,K7,FALSE),1))) -> 5.5 | M7: =IF(L7="","",IF(COUNTA(I7:J7)>1,"Edible or Inedible",IF(COUNTA(I7)=1,L7*1,IF(COUNTA(J7)=1,L7*1,"ERROR")))) -> 5.5
A8: =IF(D8="","",A7) -> 2023-NAT-01 | B8: =IF(D8="","",B7) -> 45001 | C8: =IF(D8="","",C7) -> Day 1 | D8: N0464 | E8: =IF(D8="","",VLOOKUP(D8,Master,3,FALSE)) -> Sarel | F8: =IF(D8="","",VLOOKUP(D8,Master,4,FALSE)) -> Mynhardt | G8: =IF(D8="","",VLOOKUP(D8,Master,5,FALSE)) -> Men Master | H8: =IF(D8="","",VLOOKUP(D8,Master,2,FALSE)) -> Atlantic Angling Club | J8: Shark Spotted Gully | K8: 107 | L8: =IF(K8="","",IF(I8="",ROUND(HLOOKUP(J8,kgList,K8,FALSE),1),ROUND(HLOOKUP(I8,kgList,K8,FALSE),1))) -> 5.5 | M8: =IF(L8="","",IF(COUNTA(I8:J8)>1,"Edible or Inedible",IF(COUNTA(I8)=1,L8*1,IF(COUNTA(J8)=1,L8*1,"ERROR")))) -> 5.5
A9: =IF(D9="","",A8) -> 2023-NAT-01 | B9: =IF(D9="","",B8) -> 45001 | C9: =IF(D9="","",C8) -> Day 1 | D9: N0234 | E9: =IF(D9="","",VLOOKUP(D9,Master,3,FALSE)) -> Henning | F9: =IF(D9="","",VLOOKUP(D9,Master,4,FALSE)) -> Du Plessis | G9: =IF(D9="","",VLOOKUP(D9,Master,5,FALSE)) -> Men Master | H9: =IF(D9="","",VLOOKUP(D9,Master,2,FALSE)) -> Atlantic Angling Club | J9: Ray Bull / Eagle | K9: 49 | L9: =IF(K9="","",IF(I9="",ROUND(HLOOKUP(J9,kgList,K9,FALSE),1),ROUND(HLOOKUP(I9,kgList,K9,FALSE),1))) -> 2.1 | M9: =IF(L9="","",IF(COUNTA(I9:J9)>1,"Edible or Inedible",IF(COUNTA(I9)=1,L9*1,IF(COUNTA(J9)=1,L9*1,"ERROR")))) -> 2.1
A10: =IF(D10="","",A9) -> 2023-NAT-01 | B10: =IF(D10="","",B9) -> 45001 | C10: =IF(D10="","",C9) -> Day 1 | D10: N0234 | E10: =IF(D10="","",VLOOKUP(D10,Master,3,FALSE)) -> Henning | F10: =IF(D10="","",VLOOKUP(D10,Master,4,FALSE)) -> Du Plessis | G10: =IF(D10="","",VLOOKUP(D10,Master,5,FALSE)) -> Men Master | H10: =IF(D10="","",VLOOKUP(D10,Master,2,FALSE)) -> Atlantic Angling Club | J10: Shark Spotted Gully | K10: 119 | L10: =IF(K10="","",IF(I10="",ROUND(HLOOKUP(J10,kgList,K10,FALSE),1),ROUND(HLOOKUP(I10,kgList,K10,FALSE),1))) -> 7.9 | M10: =IF(L10="","",IF(COUNTA(I10:J10)>1,"Edible or Inedible",IF(COUNTA(I10)=1,L10*1,IF(COUNTA(J10)=1,L10*1,"ERROR")))) -> 7.9
A11: =IF(D11="","",A10) -> 2023-NAT-01 | B11: =IF(D11="","",B10) -> 45001 | C11: =IF(D11="","",C10) -> Day 1 | D11: N0234 | E11: =IF(D11="","",VLOOKUP(D11,Master,3,FALSE)) -> Henning | F11: =IF(D11="","",VLOOKUP(D11,Master,4,FALSE)) -> Du Plessis | G11: =IF(D11="","",VLOOKUP(D11,Master,5,FALSE)) -> Men Master | H11: =IF(D11="","",VLOOKUP(D11,Master,2,FALSE)) -> Atlantic Angling Club | J11: Shark Spotted Gully | K11: 101 | L11: =IF(K11="","",IF(I11="",ROUND(HLOOKUP(J11,kgList,K11,FALSE),1),ROUND(HLOOKUP(I11,kgList,K11,FALSE),1))) -> 4.5 | M11: =IF(L11="","",IF(COUNTA(I11:J11)>1,"Edible or Inedible",IF(COUNTA(I11)=1,L11*1,IF(COUNTA(J11)=1,L11*1,"ERROR")))) -> 4.5
A12: =IF(D12="","",A11) -> 2023-NAT-01 | B12: =IF(D12="","",B11) -> 45001 | C12: =IF(D12="","",C11) -> Day 1 | D12: N0761 | E12: =IF(D12="","",VLOOKUP(D12,Master,3,FALSE)) -> Stefano | F12: =IF(D12="","",VLOOKUP(D12,Master,4,FALSE)) -> Strappazzon | G12: =IF(D12="","",VLOOKUP(D12,Master,5,FALSE)) -> Men Veteran | H12: =IF(D12="","",VLOOKUP(D12,Master,2,FALSE)) -> Atlantic Angling Club | J12: Ray Bull / Eagle | K12: 72 | L12: =IF(K12="","",IF(I12="",ROUND(HLOOKUP(J12,kgList,K12,FALSE),1),ROUND(HLOOKUP(I12,kgList,K12,FALSE),1))) -> 6.8 | M12: =IF(L12="","",IF(COUNTA(I12:J12)>1,"Edible or Inedible",IF(COUNTA(I12)=1,L12*1,IF(COUNTA(J12)=1,L12*1,"ERROR")))) -> 6.8
A13: =IF(D13="","",A12) -> 2023-NAT-01 | B13: =IF(D13="","",B12) -> 45001 | C13: =IF(D13="","",C12) -> Day 1 | D13: N0460 | E13: =IF(D13="","",VLOOKUP(D13,Master,3,FALSE)) -> Jaco | F13: =IF(D13="","",VLOOKUP(D13,Master,4,FALSE)) -> Venter | G13: =IF(D13="","",VLOOKUP(D13,Master,5,FALSE)) -> Men Master | H13: =IF(D13="","",VLOOKUP(D13,Master,2,FALSE)) -> Atlantic Angling Club | J13: Shark Spotted Gully | K13: 129 | L13: =IF(K13="","",IF(I13="",ROUND(HLOOKUP(J13,kgList,K13,FALSE),1),ROUND(HLOOKUP(I13,kgList,K13,FALSE),1))) -> 10.4 | M13: =IF(L13="","",IF(COUNTA(I13:J13)>1,"Edible or Inedible",IF(COUNTA(I13)=1,L13*1,IF(COUNTA(J13)=1,L13*1,"ERROR")))) -> 10.4
A14: =IF(D14="","",A13) -> 2023-NAT-01 | B14: =IF(D14="","",B13) -> 45001 | C14: =IF(D14="","",C13) -> Day 1 | D14: N0460 | E14: =IF(D14="","",VLOOKUP(D14,Master,3,FALSE)) -> Jaco | F14: =IF(D14="","",VLOOKUP(D14,Master,4,FALSE)) -> Venter | G14: =IF(D14="","",VLOOKUP(D14,Master,5,FALSE)) -> Men Master | H14: =IF(D14="","",VLOOKUP(D14,Master,2,FALSE)) -> Atlantic Angling Club | J14: Guitarfish - Lesser | K14: 82 | L14: =IF(K14="","",IF(I14="",ROUND(HLOOKUP(J14,kgList,K14,FALSE),1),ROUND(HLOOKUP(I14,kgList,K14,FALSE),1))) -> 2 | M14: =IF(L14="","",IF(COUNTA(I14:J14)>1,"Edible or Inedible",IF(COUNTA(I14)=1,L14*1,IF(COUNTA(J14)=1,L14*1,"ERROR")))) -> 2
A15: =IF(D15="","",A14) -> 2023-NAT-01 | B15: =IF(D15="","",B14) -> 45001 | C15: =IF(D15="","",C14) -> Day 1 | D15: N0628 | E15: =IF(D15="","",VLOOKUP(D15,Master,3,FALSE)) -> Ryan | F15: =IF(D15="","",VLOOKUP(D15,Master,4,FALSE)) -> Wolmarans | G15: =IF(D15="","",VLOOKUP(D15,Master,5,FALSE)) -> Men Senior | H15: =IF(D15="","",VLOOKUP(D15,Master,2,FALSE)) -> Walvis Bay | L15: =IF(K15="","",IF(I15="",ROUND(HLOOKUP(J15,kgList,K15,FALSE),1),ROUND(HLOOKUP(I15,kgList,K15,FALSE),1))) | M15: =IF(L15="","",IF(COUNTA(I15:J15)>1,"Edible or Inedible",IF(COUNTA(I15)=1,L15*1,IF(COUNTA(J15)=1,L15*1,"ERROR"))))
A16: =IF(D16="","",A15) -> 2023-NAT-01 | B16: =IF(D16="","",B15) -> 45001 | C16: =IF(D16="","",C15) -> Day 1 | D16: N0529 | E16: =IF(D16="","",VLOOKUP(D16,Master,3,FALSE)) -> Anthony | F16: =IF(D16="","",VLOOKUP(D16,Master,4,FALSE)) -> Botha | G16: =IF(D16="","",VLOOKUP(D16,Master,5,FALSE)) -> Men Senior | H16: =IF(D16="","",VLOOKUP(D16,Master,2,FALSE)) -> Benguella | J16: Shark Spotted Gully | K16: 102 | L16: =IF(K16="","",IF(I16="",ROUND(HLOOKUP(J16,kgList,K16,FALSE),1),ROUND(HLOOKUP(I16,kgList,K16,FALSE),1))) -> 4.6 | M16: =IF(L16="","",IF(COUNTA(I16:J16)>1,"Edible or Inedible",IF(COUNTA(I16)=1,L16*1,IF(COUNTA(J16)=1,L16*1,"ERROR")))) -> 4.6
A17: =IF(D17="","",A16) -> 2023-NAT-01 | B17: =IF(D17="","",B16) -> 45001 | C17: =IF(D17="","",C16) -> Day 1 | D17: N0529 | E17: =IF(D17="","",VLOOKUP(D17,Master,3,FALSE)) -> Anthony | F17: =IF(D17="","",VLOOKUP(D17,Master,4,FALSE)) -> Botha | G17: =IF(D17="","",VLOOKUP(D17,Master,5,FALSE)) -> Men Senior | H17: =IF(D17="","",VLOOKUP(D17,Master,2,FALSE)) -> Benguella | J17: Elephantfish | K17: 74 | L17: =IF(K17="","",IF(I17="",ROUND(HLOOKUP(J17,kgList,K17,FALSE),1),ROUND(HLOOKUP(I17,kgList,K17,FALSE),1))) -> 3.2 | M17: =IF(L17="","",IF(COUNTA(I17:J17)>1,"Edible or Inedible",IF(COUNTA(I17)=1,L17*1,IF(COUNTA(J17)=1,L17*1,"ERROR")))) -> 3.2
A18: =IF(D18="","",A17) -> 2023-NAT-01 | B18: =IF(D18="","",B17) -> 45001 | C18: =IF(D18="","",C17) -> Day 1 | D18: N0409 | E18: =IF(D18="","",VLOOKUP(D18,Master,3,FALSE)) -> Andre-Louis | F18: =IF(D18="","",VLOOKUP(D18,Master,4,FALSE)) -> Stipp | G18: =IF(D18="","",VLOOKUP(D18,Master,5,FALSE)) -> Men Senior | H18: =IF(D18="","",VLOOKUP(D18,Master,2,FALSE)) -> xBenguella | I18: Kob | K18: 64 | L18: =IF(K18="","",IF(I18="",ROUND(HLOOKUP(J18,kgList,K18,FALSE),1),ROUND(HLOOKUP(I18,kgList,K18,FALSE),1))) -> 2.7 | M18: =IF(L18="","",IF(COUNTA(I18:J18)>1,"Edible or Inedible",IF(COUNTA(I18)=1,L18*1,IF(COUNTA(J18)=1,L18*1,"ERROR")))) -> 2.7
A19: =IF(D19="","",A18) -> 2023-NAT-01 | B19: =IF(D19="","",B18) -> 45001 | C19: =IF(D19="","",C18) -> Day 1 | D19: N0409 | E19: =IF(D19="","",VLOOKUP(D19,Master,3,FALSE)) -> Andre-Louis | F19: =IF(D19="","",VLOOKUP(D19,Master,4,FALSE)) -> Stipp | G19: =IF(D19="","",VLOOKUP(D19,Master,5,FALSE)) -> Men Senior | H19: =IF(D19="","",VLOOKUP(D19,Master,2,FALSE)) -> xBenguella | I19: Kob | K19: 67 | L19: =IF(K19="","",IF(I19="",ROUND(HLOOKUP(J19,kgList,K19,FALSE),1),ROUND(HLOOKUP(I19,kgList,K19,FALSE),1))) -> 3.1 | M19: =IF(L19="","",IF(COUNTA(I19:J19)>1,"Edible or Inedible",IF(COUNTA(I19)=1,L19*1,IF(COUNTA(J19)=1,L19*1,"ERROR")))) -> 3.1
